{"text_format":"1","workbook":"xlsx","n_sheets":40,"sheets":["VzorPolozky","Identifikační údaje","Pokyny pro vyplnění","Rekapitulace stavby","01_SO O2 - Stav arch část","02_SO 02 - Silnoproud","03_SO 02 - VZT","04_SO 02 - akustika","05_S0 03 - Stav-arch část ","06_SO O3 - Silnoproud","07_SO 03 - VZT","08_SO 03 - Výtah","09_SO O4 - Stav arch část","10_SO 04 - Silnoproud","011_SO 04 - VZT","12_SO 04 - ZTI","13_SO 05 - Stav arch část","14_SO 05 - Silnoproud","15_SO 05 - VZT","16_SO 06 - Stav arch část","17_SO 06 - Silnoproud","18_SO 07 - Stav arch část","19_SO 07 - Silnoproud","20_SO 08 - Stav arch část","21_SO 08 - Silnoproud","22_SO 09 - Stav arch část","23_SO 09 - Silnoproud","24_SO 09 - VZT","25_SO 09 - Střecha","26_SO 10 - Stav arch část","27_SO 11 - Stav arch část","28_SO 11 - Silnoproud","29_SO 11 - VZT","30_SO 12 - Stav arch část","31_SO 12 - Silnoproud","32_SO 12 - ÚT","33_SO 12 - EPS","34_SO 12 - MaR","35_SO 12 - Slaboproud","36 - VRN"],"not_rendered":{"charts":0,"images":1,"macros":1,"external_links":2,"defined_names":78,"comments":0,"pivot_tables":0},"unopened":[],"bounds":{"document_bytes":16777216,"sheet_cells":100000,"rows_first":2000,"rows_last":500,"rows_between":2000,"halvings":0,"cell_chars":16384,"cell_head_chars":4096},"cells_cut":0,"cells_raw":0,"read":"whole","date_system":"1900"}

{"sheet":"VzorPolozky","index":0,"n_rows":6,"n_cols":7,"rows_kept":6,"cut":false,"hidden":true,"merged":[[0,0,0,6],[1,2,1,6],[2,2,2,6],[3,2,3,6]]}
["Položkový rozpočet "]
["S:"]
["O:"]
["R:"]
[]
["P.č.","Číslo položky","Název položky","MJ","množství","cena / MJ","celkem"]

{"sheet":"Identifikační údaje","index":1,"n_rows":33,"n_cols":5,"rows_kept":33,"cut":false,"hidden":false,"merged":[[32,0,32,6]]}
["Akce:","ČRo Brno – III. etapa rekonstrukce budovy Beethovenova 25/4"]
[]
["Místo plnění: ","Budova Českého rozhlasu Brno na adrese Beethovenova 25/4, 657 42 Brno"]
[]
["Datum vyplnění:"]
[]
["Zadavatel:","Český rozhlas",null,null,{"$f":"CONCATENATE(B7,\", \",B8)","v":"Český rozhlas, Vinohradská 12, 120 99 Praha 2"}]
[null,"Vinohradská 12, 120 99 Praha 2"]
["IČ:",45245053]
["DIČ:","CZ45245053"]
[]
["Projektant:","Ing. arch. Klement Miloš",null,null,{"$f":"CONCATENATE(B12,\", \",B13)","v":"Ing. arch. Klement Miloš, Nejedlého 381/19, 638 00 Brno - Lesná"}]
[null,"Nejedlého 381/19, 638 00 Brno - Lesná"]
["IČ:",15188736]
["DIČ:","CZ6101021344"]
[]
["Uchazeč:"]
[]
["Obchodní název",null,null,null,{"$f":"CONCATENATE(B19,\", \",B20,\", \",B22,\" \",B21)","v":", ,  "}]
["Ulice a č.p. "]
["Město "]
["PSČ "]
["IČ"]
["DIČ"]
[]
["Kontaktní osoba "]
["                telefon"]
["                e-mail "]
[]
[]
[]
["Poznámka :"]
["Ve všech listech tohoto souboru můžete měnit pouze buňky s modrým pozadím. Jedná se o tyto údaje : \n- údaje o firmě\n- jednotkové ceny položek zadané na maximálně dvě desetinná místa"]

{"sheet":"Pokyny pro vyplnění","index":2,"n_rows":96,"n_cols":4,"rows_kept":96,"cut":false,"hidden":false,"merged":[[3,2,3,9],[93,1,93,9],[95,1,95,9],[5,1,5,9],[11,1,11,9],[88,1,88,9],[90,1,90,9],[91,1,91,9],[79,1,79,9],[80,1,80,9],[82,1,82,9],[84,1,84,9],[85,1,85,9],[87,1,87,9],[66,1,66,9],[67,1,67,9],[71,1,71,9],[73,1,73,9],[76,1,76,9],[78,1,78,9],[64,1,64,9],[60,1,60,9],[61,1,61,9],[47,1,47,9],[49,1,49,9],[51,1,51,9],[52,1,52,9],[54,1,54,9],[63,1,63,9],[46,1,46,9],[31,1,31,9],[32,1,32,9],[33,1,33,9],[34,1,34,9],[35,1,35,9],[36,1,36,9],[38,1,38,9],[40,1,40,9],[41,1,41,9],[43,1,43,9],[44,1,44,9],[56,1,56,9],[57,1,57,9],[59,1,59,9],[22,1,22,9],[24,1,24,9],[26,1,26,9],[27,1,27,9],[29,1,29,9]]}
[-1]
[null,"POKYNY A PODMÍNKY PRO VYPLNĚNÍ TABULKY PRO VÝPOČET NABÍDKOVÉ CENY - VV"]
[null,null,null," "]
[null,"AKCE:",{"$f":"'Identifikační údaje'!B1","v":"ČRo Brno – III. etapa rekonstrukce budovy Beethovenova 25/4"}]
[]
[null,"Pozn.:"]
[null,null,"Tato tabulka pro výpočet nabídkové ceny nahrazuje výkaz výměr, jež byl zpracován jako součást "]
[null,"projektové dokumentace, zhotovené Ing. arch. Klementem Milošem Nejedlého 381/19, 638 00 Brno - Lesná,"]
[null," v prosinci 2017, pod zakázkovým číslem 12/2017, jež je přílohou zadávací dokumenatce této vřejné zakázky. "]
[]
[]
[null,"1. POKYNY K VYPLŇOVÁNÍ TABULKY"]
[]
[null,"Ve všech listech tohoto souboru můžete měnit pouze buňky s modrým pozadím. Jedná se o tyto údaje : "]
[]
[null,"¨- datum"]
[null," - údaje o uchazeči"]
[null," - jednotkové ceny položek zadané na maximálně dvě desetinná místa"]
[]
[null,"V titulním listu (identifikační údaje) stavby vyplňte údaje o Uchazeči (přenesou se do ostatních sestav i v jiných listech)"]
[]
[]
[null,"2. PODMÍNKY PRO ZPRACOVÁNÍ NABÍDKOVÉ CENY"]
[]
[null,"        Preambule"]
[]
[null,"Tento soupis stavebních prací, dodávek a služeb je sestaven jako podklad pro zpracování nabídek dodavatelů na veřejnou zakázku na stavební práce a obsahuje podmínky a požadavky zadavatele, za kterých má být zpracována nabídková cena dodavatelů. Účelem tohoto soupisu je zabezpečit obsahovou shodu všech nabídkových cen a usnadnit následné posouzení předložených cenových nabídek."]
[null,"Předpokládá se, že dodavatel před zpracováním cenové nabídky pečlivě prostuduje všechny pokyny a podmínky pro zpracování nabídkové ceny obsažené v zadávacích podmínkách a bude se jimi při zpracování nabídkové ceny řídit. Soupis stavebních prací, dodávek a služeb je sestaven v souladu s podmínkami vyhlášky Ministerstva pro místní rozvoj č.230/2012 Sb."]
[]
[null,"        Vymezení některých pojmů"]
[]
[null,"Pro účely zpracování nabídkové ceny se jsou použity některé pojmy, pod kterými se rozumí:"]
[null,"        Soupisem stavebních prací dodávek a služeb dokument, ve kterém jsou definovány zadavatelem požadované stavební práce, dodávky a služby v podrobnostech nezbytných pro zpracování cenové nabídky dodavatele. Soupis obsahuje i vymezení požadovaného množství stavebních prací, dodávek a služeb."]
[null,"Cenovou soustavou uspořádaný soubor informací o stavebních a montážních pracích, materiálech a výrobcích obsahující zatřídění položek, podrobný popis a měrnou jednotku, způsob měření a další technické a cenové podmínky pro možnost stanovení jednotkové ceny."]
[null,"        Ostatními náklady náklady dodavatele spojené se splněním povinností dodavatele vyplývajících z obchodních či jiných podmínek zadávací dokumentace. Patří do nich zejména náklady na vyhotovení dokumentace skutečného provedení stavby, náklady na geodetické zaměření dokončeného díla, náklady spojené s podmínkami pro publicitu projektu, náklady na dílenskou či výrobní dokumentaci apod."]
[null,"        Položkovým rozpočtem dokument odpovídající svým obsahem a strukturou soupisu stavebních prací, dodávek a služeb, předaného zadavatelem dodavateli ke zpracování nabídky, v němž dodavatel doplní k jednotlivým položkám stavebních prací, dodávek nebo služeb svoje nabídkové jednotkové ceny a stanoví i celkovou nabídkovou cenu příslušné položky a dále stanoví nabídkové ceny dle struktury soupisu až po celkovou nabídkovou cenu za veškeré stavební práce, dodávky nebo služby, které jsou obsahem soupisu stavebních prací, dodávek a služeb."]
[null,"        Vedlejšími náklady náklady na činností zhotovitele, které nejsou zahrnuty v položkách soupisu stavebních prací, dodávek nebo služeb, ale se zhotovením stav-by souvisí a jsou pro realizaci stavby nezbytné. Někdy se definují jako vedlejší rozpočtové náklady a zahrnují zejména náklady na vybudování, provoz a odstranění zařízení staveniště."]
[]
[null,"        Cenová soustava"]
[]
[null,"        Použitá cenová soustava"]
[null,"Soupisy stavebních prací, dodávek a služeb jsou zpracovány s použitím cenové soustavy zpracované společností RTS, a.s.. Položky z cenové soustavy mají uveden odkaz na cenovou soustavu včetně označení příslušného ceníku."]
[]
[null,"        Technické podmínky"]
[null,"Obsah jednotlivých položek, způsob měření a ostatní další podmínky definující obsah a použití jednotlivých položek jsou obsaženy v cenových a technických podmínkách příslušných ceníků (viz zařazení u položky), které jsou volně dostupné na elektronické adrese www.cenovasoustava.cz"]
[]
[null,"Individuální položky"]
[null,"Položky soupisu prací, které cenová soustava neobsahuje, jsou označeny popisem „vlastní“. Pro tyto položky jsou cenové a technické podmínky definovány jejich popisem, případně odkazem na konkrétní část příslušné dokumentace."]
[]
[null,"        Závaznost a změna soupisu"]
[]
[null,"        Závaznost soupisu"]
[null,"Poskytnuté soupisy jsou pro zpracování nabídkové ceny závazné. Je vyloučeno jakékoliv vyřazení položek ze soupisu, doplnění položek do soupisu, slučování položek a jakýkoliv zásah do popisu položky, množství měrných jednotek nebo jakkoliv měnit či upravovat jakýkoliv jiný údaj v soupisu."]
[]
[null,"        Zvláštní podmínky pro stanovení nabídkové ceny"]
[]
[null,"        Přeprava vybouraných hmot, suti a vytěžené zeminy"]
[null,"Pokud soupis obsahuje i některé technologické položky vztahující se k uložení vytěžené zeminy nebo vybouraných hmot, vodorovné přesuny zeminy nebo vybouraných hmot pak v takových případech zpracovatel soupisu předpokládá určitou přepravní vzdálenost. Pokud z technologického postupu dodavatele vyplývá jiná přepravní vzdálenost, je povinností dodavatele stanovit takovou jednotkovou cenu, aby celková cena položky odpovídala jeho konkrétním technologickým podmínkám a konkrétní přepravní vzdálenosti, při soupisem vymezeném množství měrných jednotek."]
[]
[null,"        Vnitrostaveništní přesun stavebního materiálu"]
[null,"Pokud soupis obsahuje i položky vztahující se ke vnitrostaveništnímu přesunu materiálů (položky označené jako přesun hmot), pak v takových případech je povinností dodavatele stanovit takovou jednotkovou cenu, aby celková cena položky odpovídala jeho konkrétním technologickým podmínkám a konkrétní přepravní vzdálenosti, při soupisem vymezeném množství měrných jednotek."]
[null,"Vnitrostaveništní přesun hmot prací PSV (pomocná stavební výroba) může být v soupisu stanoven procenticky z hodnoty ceny za provedení příslušných řemeslných prací, dodávek a služeb. V takovém případě není v soupisu uvedeno množství měrných jednotek. Dodavatel ocení celkovou cenu u takové položky přesunu hmot vždy konkrétní částkou v Kč, bez ohledu na to, jakým způsobem k jejímu výpočtu dospěl."]
[]
[null,"        Příplatky za ztížené podmínky prací"]
[null,"Pokud soupis položku příplatku za ztížené podmínky obsahuje, je dodavatel povinen ji ocenit bez ohledu na to, že tento příplatek dodavatel standardně neuplatňuje."]
[]
[null,"        Vedlejší a ostatní náklady"]
[null,"Tyto náklady jsou popsány v samostatném soupisu stavebních prací, dodávek a služeb s tím, že dodavatel je povinen v rámci těchto nákladů ocenit všechny definované náklady souhrnně pro celou stavbu."]
[]
[]
[]
[null,"3. SPECIFICKÉ PODMÍNKY PRO ZPRACOVÁNÍ NABÍDKOVÉ CENY"]
[]
[null,"Zde doplní zpracovatel soupisu  případná specifika týkající se konkrétní zakázky."]
[]
[]
[null,"4. ELEKTRONICKÁ PODOBA SOUPISU"]
[]
[null,"        Elektronická podoba soupisu"]
[null,"V souladu se zákonem jsou předložené soupisy zpracovány i v elektronické podobě.  Elektronickou podobou soupisu stavebních prací, dodávek a služeb je formát MS EXCEL."]
[null,"Popis formátu soupisu odpovídá svou strukturou vzorovému soupisu volně dostupnému na internetové adrese:"]
[]
[null,"www.stavebnionline.cz/soupis"]
[]
[null,"        Zpracování elektronické podoby soupisu"]
[null,"Předaný formát MS EXCEL je nepřístupným (uzamčeným) souborem, do kterého dodavatel doplňuje pouze jednotkové ceny ke všem položkám. Ostatní cenové údaje, jako celková cena položky, mezisoučty za stavební či funkční díly nebo součty celkové ceny stavebního objektu, jakož i cena stavby jsou výsledkem vložených matematických vzorců v příslušných pozicích souboru."]
[]
[null,"        Jiný formát soupisu"]
[null,"Pokud by kterýkoliv dodavatel měl problémy s předaným formátem, lze na požádání poskytnout soupis stavebních prací také ve formátu *.xml, což je standardní formát používaný pro přenosy dat. Dokumentace tohoto formátu je volně přístupná na webových stránkách MMR."]
[]
[null,"        Závěrečné ustanovení"]
[null,"Ostatní podmínky vztahující se ke zpracování nabídkové ceny jsou uvedeny v zadávací dokumentaci."]
[]
[null,"5. OBCHODNÍ NÁZVY MATERIÁLŮ A VÝROBKŮ"]
[]
[null,"         V případě, že položka tabulky pro výpočet nabídkové ceny obsahuje konkrétní obchodní označení výrobku či materiálu (referenční výrobek), je zhotovitel oprávněn jej nahradit výrobkem či materiálem stejných technických parametrů a jakosti."]

{"sheet":"Rekapitulace stavby","index":3,"n_rows":97,"n_cols":40,"rows_kept":97,"cut":false,"hidden":false,"merged":[[51,31,51,40],[52,2,52,6],[52,8,52,30],[52,31,52,40],[53,2,53,6],[53,8,53,30],[53,31,53,40],[95,2,95,6],[95,8,95,30],[95,31,95,40],[54,2,54,6],[54,8,54,30],[54,31,54,40],[63,2,63,6],[63,8,63,30],[63,31,63,40],[61,31,61,40],[62,2,62,6],[62,8,62,30],[62,31,62,40],[65,39,65,40],[66,2,66,6],[66,8,66,30],[66,31,66,40],[50,39,50,40],[93,2,93,6],[93,8,93,30],[93,31,93,40],[91,2,91,6],[91,8,91,30],[91,31,91,40],[92,2,92,6],[92,8,92,30],[92,31,92,40],[64,2,64,6],[64,8,64,30],[64,31,64,40],[90,2,90,6],[90,8,90,30],[90,31,90,40],[51,2,51,6],[51,8,51,30],[58,8,58,30],[57,31,57,40],[58,31,58,40],[60,31,60,40],[61,2,61,6],[61,8,61,30],[96,2,96,6],[96,8,96,30],[96,31,96,40],[3,9,3,39],[4,9,4,39],[12,3,12,34],[18,3,18,38],[21,35,21,39],[41,10,41,39],[43,37,43,38],[45,37,45,40],[48,1,48,5],[48,7,48,30],[48,31,48,40],[56,2,56,6],[56,8,56,30],[59,31,59,40],[59,2,59,6],[59,8,59,30],[55,31,55,40],[56,31,56,40],[57,2,57,6],[57,8,57,30],[58,2,58,6],[67,2,67,6],[67,8,67,30],[67,31,67,40],[68,2,68,6],[68,8,68,30],[68,31,68,40],[72,39,72,40],[73,2,73,6],[73,8,73,30],[73,31,73,40],[69,39,69,40],[70,2,70,6],[70,8,70,30],[70,31,70,40],[71,2,71,6],[71,8,71,30],[71,31,71,40],[77,2,77,6],[77,8,77,30],[77,31,77,40],[78,39,78,40],[79,2,79,6],[79,8,79,30],[79,31,79,40],[74,2,74,6],[74,8,74,30],[74,31,74,40],[75,39,75,40],[76,2,76,6],[76,8,76,30],[76,31,76,40],[82,2,82,6],[82,8,82,30],[82,31,82,40],[83,39,83,40],[84,2,84,6],[84,8,84,30],[84,31,84,40],[80,2,80,6],[80,8,80,30],[80,31,80,40],[81,2,81,6],[81,8,81,30],[81,31,81,40],[88,2,88,6],[88,8,88,30],[88,31,88,40],[94,2,94,6],[94,8,94,30],[94,31,94,40],[85,39,85,40],[86,2,86,6],[86,8,86,30],[86,31,86,40],[87,2,87,6],[87,8,87,30],[87,31,87,40],[89,38,89,40]]}
[]
[]
[null,null,"REKAPITULACE STAVBY"]
[null,null,"Kód:"]
[null,null,"Stavba:",null,null,null,null,null,null,{"$f":"'Identifikační údaje'!B1","v":"ČRo Brno – III. etapa rekonstrukce budovy Beethovenova 25/4"}]
[null,null,"KSO:",null,null,null,null,null,null,null,null,null,null,null,null,null,null,null,null,null,null,null,null,null,null,null,null,null,null,null,null,null,null,null,null,"CC-CZ:"]
[null,null,"Místo:",null,null,null,null,null,null,{"$f":"'Identifikační údaje'!B3","v":"Budova Českého rozhlasu Brno na adrese Beethovenova 25/4, 657 42 Brno"},null,null,null,null,null,null,null,null,null,null,null,null,null,null,null,null,null,null,null,null,null,null,null,null,null,"Datum:",null,null,{"$f":"'Identifikační údaje'!B5","v":"00:00:00"}]
[]
[null,null,"Zadavatel:",null,null,null,null,null,null,null,null,null,null,null,null,null,null,null,null,null,null,null,null,null,null,null,null,null,null,null,null,null,null,null,null,"IČ:",null,null,{"$f":"'Identifikační údaje'!B9","v":45245053}]
[null,null,null,{"$f":"'Identifikační údaje'!E7","v":"Český rozhlas, Vinohradská 12, 120 99 Praha 2"},null,null,null,null,null,null,null,null,null,null,null,null,null,null,null,null,null,null,null,null,null,null,null,null,null,null,null,null,null,null,null,"DIČ:",null,null,{"$f":"'Identifikační údaje'!B10","v":"CZ45245053"}]
[]
[null,null,"Uchazeč:",null,null,null,null,null,null,null,null,null,null,null,null,null,null,null,null,null,null,null,null,null,null,null,null,null,null,null,null,null,null,null,null,"IČ:",null,null,{"$f":"'Identifikační údaje'!B23","v":0}]
[null,null,null,{"$f":"'Identifikační údaje'!E19","v":", ,  "},null,null,null,null,null,null,null,null,null,null,null,null,null,null,null,null,null,null,null,null,null,null,null,null,null,null,null,null,null,null,null,"DIČ:",null,null,{"$f":"'Identifikační údaje'!B24","v":0}]
[]
[null,null,"Projektant:",null,null,null,null,null,null,null,null,null,null,null,null,null,null,null,null,null,null,null,null,null,null,null,null,null,null,null,null,null,null,null,null,"IČ:",null,null,{"$f":"'Identifikační údaje'!B14","v":15188736}]
[null,null,null,{"$f":"'Identifikační údaje'!E12","v":"Ing. arch. Klement Miloš, Nejedlého 381/19, 638 00 Brno - Lesná"},null,null,null,null,null,null,null,null,null,null,null,null,null,null,null,null,null,null,null,null,null,null,null,null,null,null,null,null,null,null,null,"DIČ:",null,null,{"$f":"'Identifikační údaje'!B15","v":"CZ6101021344"}]
[]
[null,null,"Poznámka:"]
[]
[]
[]
[null,null,"CENA ZA STAVBU CELKEM BEZ DPH",null,null,null,null,null,null,null,null,null,null,null,null,null,null,null,null,null,null,null,null,null,null,null,null,null,null,null,null,null,null,null,null,{"$f":"AN51+AF56+AF61+AN66+AN70+AN73+AN76+AN79+AN84+AN86+AM90+AF97","v":0}]
[]
[]
[]
[]
[]
[]
[]
[]
[]
[]
[]
[]
[]
[]
[]
[]
[null,"REKAPITULACE OBJEKTŮ STAVBY A SOUPISŮ PRACÍ"]
[]
[]
[null,"Stavba:",null,null,null,null,null,null,null,null,{"$f":"'Identifikační údaje'!B1","v":"ČRo Brno – III. etapa rekonstrukce budovy Beethovenova 25/4"}]
[]
[null,"Místo:",null,null,null,null,null,null,null,null,{"$f":"IF($J$7=\"\",\"\",$J$7)","v":"Budova Českého rozhlasu Brno na adrese Beethovenova 25/4, 657 42 Brno"},null,null,null,null,null,null,null,null,null,null,null,null,null,null,null,null,null,null,null,null,null,null,"Datum:",null,null,null,{"$f":"IF($AM$7=\"\",\"\",$AM$7)","v":"00:00:00"}]
[]
[null,"Zadavatel:",null,null,null,null,null,null,null,null,{"$f":"IF($D$10=\"\",\"\",$D$10)","v":"Český rozhlas, Vinohradská 12, 120 99 Praha 2"},null,null,null,null,null,null,null,null,null,null,null,null,null,null,null,null,null,null,null,null,null,null,"Projektant:",null,null,null,{"$f":"IF($D$16=\"\",\"\",$D$16)","v":"Ing. arch. Klement Miloš, Nejedlého 381/19, 638 00 Brno - Lesná"}]
[null,"Uchazeč:",null,null,null,null,null,null,null,null,{"$f":"IF($D$13=\"Vyplň údaj\",\"\",$D$13)","v":", ,  "}]
[]
[null,"Kód",null,null,null,null,null,"Objekt, Soupis prací",null,null,null,null,null,null,null,null,null,null,null,null,null,null,null,null,null,null,null,null,null,null,null,"Cena bez DPH [CZK]"]
[]
[null,"Objekt SO 02 (II. TSK) rekonstrukce prostoru celého mezipatra celkem",null,null,null,null,null,null,null,null,null,null,null,null,null,null,null,null,null,null,null,null,null,null,null,null,null,null,null,null,null,null,null,null,null,null,null,null,null,{"$f":"SUM(AF52:AO55)","v":0}]
[null,null,"01",null,null,null,null,null,"SO 02 - Stavebně - architektonická část",null,null,null,null,null,null,null,null,null,null,null,null,null,null,null,null,null,null,null,null,null,null,{"$f":"'01_SO O2 - Stav arch část'!D47:D47","v":0}]
[null,null,"02",null,null,null,null,null,"SO 02 - Silnoproudá elektroinstalace ",null,null,null,null,null,null,null,null,null,null,null,null,null,null,null,null,null,null,null,null,null,null,{"$f":"'02_SO 02 - Silnoproud'!H34:H34","v":0}]
[null,null,"03",null,null,null,null,null,"SO 02 - Vzduchotechnika a chlazení",null,null,null,null,null,null,null,null,null,null,null,null,null,null,null,null,null,null,null,null,null,null,{"$f":"'03_SO 02 - VZT'!H37:H37","v":0}]
[null,null,"04",null,null,null,null,null,"SO 02 - Akustika",null,null,null,null,null,null,null,null,null,null,null,null,null,null,null,null,null,null,null,null,null,null,{"$f":"'04_SO 02 - akustika'!I31:I31","v":0}]
[null,"Objekt SO 03 (III. TSK) Výtah a související schodiště celkem",null,null,null,null,null,null,null,null,null,null,null,null,null,null,null,null,null,null,null,null,null,null,null,null,null,null,null,null,null,{"$f":"SUM(AF57:AO60)","v":0}]
[null,null,"05",null,null,null,null,null,"SO 03 - Stavebně - architektonická část",null,null,null,null,null,null,null,null,null,null,null,null,null,null,null,null,null,null,null,null,null,null,{"$f":"'05_S0 03 - Stav-arch část '!D41","v":0}]
[null,null,"06",null,null,null,null,null,"SO 03 - Silnoproudá elektroinstalace ",null,null,null,null,null,null,null,null,null,null,null,null,null,null,null,null,null,null,null,null,null,null,{"$f":"'06_SO O3 - Silnoproud'!H35:H35","v":0}]
[null,null,"07",null,null,null,null,null,"SO 03 - Vzduchotechnika a chlazení",null,null,null,null,null,null,null,null,null,null,null,null,null,null,null,null,null,null,null,null,null,null,{"$f":"'07_SO 03 - VZT'!H43","v":0}]
[null,null,"08",null,null,null,null,null,"SO 03 - Výtah",null,null,null,null,null,null,null,null,null,null,null,null,null,null,null,null,null,null,null,null,null,null,{"$f":"'08_SO 03 - Výtah'!D48:D48","v":0}]
[null,"Objekt SO 04 (IV. TSK) Toalety ve všech patrech",null,null,null,null,null,null,null,null,null,null,null,null,null,null,null,null,null,null,null,null,null,null,null,null,null,null,null,null,null,{"$f":"SUM(AF62:AO65)","v":0}]
[null,null,"09",null,null,null,null,null,"SO 04 - Stavebně - architektonická část",null,null,null,null,null,null,null,null,null,null,null,null,null,null,null,null,null,null,null,null,null,null,{"$f":"'09_SO O4 - Stav arch část'!D44","v":0}]
[null,null,"10",null,null,null,null,null,"SO 04 - Silnoproudá elektroinstalace ",null,null,null,null,null,null,null,null,null,null,null,null,null,null,null,null,null,null,null,null,null,null,{"$f":"'10_SO 04 - Silnoproud'!H35","v":0}]
[null,null,"11",null,null,null,null,null,"SO 04 - Vzduchotechnika a chlazení",null,null,null,null,null,null,null,null,null,null,null,null,null,null,null,null,null,null,null,null,null,null,{"$f":"'011_SO 04 - VZT'!H35","v":0}]
[null,null,"12",null,null,null,null,null,"SO 04 - Zdravotně technické instalace",null,null,null,null,null,null,null,null,null,null,null,null,null,null,null,null,null,null,null,null,null,null,{"$f":"'12_SO 04 - ZTI'!I32","v":0}]
[null,"Objekt SO 05 (V. TSK) rekonstrukce prostoru 1. patra ",null,null,null,null,null,null,null,null,null,null,null,null,null,null,null,null,null,null,null,null,null,null,null,null,null,null,null,null,null,null,null,null,null,null,null,null,null,{"$f":"SUM(AF67:AO69)","v":0}]
[null,null,"13",null,null,null,null,null,"SO 05 - Stavebně - architektonická část",null,null,null,null,null,null,null,null,null,null,null,null,null,null,null,null,null,null,null,null,null,null,{"$f":"'13_SO 05 - Stav arch část'!D44:D44","v":0}]
[null,null,"14",null,null,null,null,null,"SO 05 - Silnoproudá elektroinstalace ",null,null,null,null,null,null,null,null,null,null,null,null,null,null,null,null,null,null,null,null,null,null,{"$f":"'14_SO 05 - Silnoproud'!H36:H36","v":0}]
[null,null,"15",null,null,null,null,null,"SO 05 - Vzduchotechnika a chlazení",null,null,null,null,null,null,null,null,null,null,null,null,null,null,null,null,null,null,null,null,null,null,{"$f":"'15_SO 05 - VZT'!H35:H35","v":0}]
[null,"Objekt SO 06 (VI. TSK) rekonstrukce prostoru 2. patra a serverovny ",null,null,null,null,null,null,null,null,null,null,null,null,null,null,null,null,null,null,null,null,null,null,null,null,null,null,null,null,null,null,null,null,null,null,null,null,null,{"$f":"SUM(AF71:AO72)","v":0}]
[null,null,"16",null,null,null,null,null,"SO 06 - Stavebně - architektonická část",null,null,null,null,null,null,null,null,null,null,null,null,null,null,null,null,null,null,null,null,null,null,{"$f":"'16_SO 06 - Stav arch část'!D44:D44","v":0}]
[null,null,"17",null,null,null,null,null,"SO 06 - Silnoproudá elektroinstalace ",null,null,null,null,null,null,null,null,null,null,null,null,null,null,null,null,null,null,null,null,null,null,{"$f":"'17_SO 06 - Silnoproud'!H35:H35","v":0}]
[null,"Objekt SO 07 (VII. TSK) rekonstrukce prostoru 3. patra ",null,null,null,null,null,null,null,null,null,null,null,null,null,null,null,null,null,null,null,null,null,null,null,null,null,null,null,null,null,null,null,null,null,null,null,null,null,{"$f":"SUM(AF74:AO75)","v":0}]
[null,null,"18",null,null,null,null,null,"SO 07 - Stavebně - architektonická část",null,null,null,null,null,null,null,null,null,null,null,null,null,null,null,null,null,null,null,null,null,null,{"$f":"'18_SO 07 - Stav arch část'!D44:D44","v":0}]
[null,null,"19",null,null,null,null,null,"SO 07 - Silnoproudá elektroinstalace ",null,null,null,null,null,null,null,null,null,null,null,null,null,null,null,null,null,null,null,null,null,null,{"$f":"'19_SO 07 - Silnoproud'!H35:H35","v":0}]
[null,"Objekt SO 08 (VIII. TSK) rekonstrukce prostoru 4. patra ",null,null,null,null,null,null,null,null,null,null,null,null,null,null,null,null,null,null,null,null,null,null,null,null,null,null,null,null,null,null,null,null,null,null,null,null,null,{"$f":"SUM(AF77:AO78)","v":0}]
[null,null,"20",null,null,null,null,null,"SO 08 - Stavebně - architektonická část",null,null,null,null,null,null,null,null,null,null,null,null,null,null,null,null,null,null,null,null,null,null,{"$f":"'20_SO 08 - Stav arch část'!D44:D44","v":0}]
[null,null,"21",null,null,null,null,null,"SO 08 - Silnoproudá elektroinstalace ",null,null,null,null,null,null,null,null,null,null,null,null,null,null,null,null,null,null,null,null,null,null,{"$f":"'21_SO 08 - Silnoproud'!H35:H35","v":0}]
[null,"Objekt SO 09 (IX. TSK) rekonstrukce prostoru 5. patra vč. střechy a 6. patra ",null,null,null,null,null,null,null,null,null,null,null,null,null,null,null,null,null,null,null,null,null,null,null,null,null,null,null,null,null,null,null,null,null,null,null,null,null,{"$f":"SUM(AF80:AO83)","v":0}]
[null,null,"22",null,null,null,null,null,"SO 09 - Stavebně - architektonická část",null,null,null,null,null,null,null,null,null,null,null,null,null,null,null,null,null,null,null,null,null,null,{"$f":"'22_SO 09 - Stav arch část'!D46:D46","v":0}]
[null,null,"23",null,null,null,null,null,"SO 09 - Silnoproudá elektroinstalace ",null,null,null,null,null,null,null,null,null,null,null,null,null,null,null,null,null,null,null,null,null,null,{"$f":"'23_SO 09 - Silnoproud'!H34:H34","v":0}]
[null,null,"24",null,null,null,null,null,"SO 09 - Vzduchotechnika a chlazení",null,null,null,null,null,null,null,null,null,null,null,null,null,null,null,null,null,null,null,null,null,null,{"$f":"'24_SO 09 - VZT'!H36:H36","v":0}]
[null,null,"25",null,null,null,null,null,"SO 09 - Střecha",null,null,null,null,null,null,null,null,null,null,null,null,null,null,null,null,null,null,null,null,null,null,{"$f":"'25_SO 09 - Střecha'!D41:D41","v":0}]
[null,"Objekt SO 10 (X. TSK) rekonstrukce světlíku vč. jeho nadstřešní části ",null,null,null,null,null,null,null,null,null,null,null,null,null,null,null,null,null,null,null,null,null,null,null,null,null,null,null,null,null,null,null,null,null,null,null,null,null,{"$f":"SUM(AF85)","v":0}]
[null,null,"26",null,null,null,null,null,"SO 10 - Stavebně - architektonická část",null,null,null,null,null,null,null,null,null,null,null,null,null,null,null,null,null,null,null,null,null,null,{"$f":"'26_SO 10 - Stav arch část'!D36:D36","v":0}]
[null,"Objekt SO 11 (XI. TSK) úpravy hlavního vstupu, recepce a vstupní haly v přízemí vč. schodiště  ",null,null,null,null,null,null,null,null,null,null,null,null,null,null,null,null,null,null,null,null,null,null,null,null,null,null,null,null,null,null,null,null,null,null,null,null,null,{"$f":"SUM(AF87:AO89)","v":0}]
[null,null,"27",null,null,null,null,null,"SO 11 - Stavebně - architektonická část",null,null,null,null,null,null,null,null,null,null,null,null,null,null,null,null,null,null,null,null,null,null,{"$f":"'27_SO 11 - Stav arch část'!D43:D43","v":0}]
[null,null,"28",null,null,null,null,null,"SO 11 - Silnoproudá elektroinstalace ",null,null,null,null,null,null,null,null,null,null,null,null,null,null,null,null,null,null,null,null,null,null,{"$f":"'28_SO 11 - Silnoproud'!H36:H36","v":0}]
[null,null,"29",null,null,null,null,null,"SO 11 - Vzduchotechnika a chlazení",null,null,null,null,null,null,null,null,null,null,null,null,null,null,null,null,null,null,null,null,null,null,{"$f":"'29_SO 11 - VZT'!H35:H35","v":0}]
[null,"Objekt SO 12 (XII. TSK) Páteřní rozvody silnoproudu v šachtách a napojení rozvaděčů, ústřední vytápění, EPS",null,null,null,null,null,null,null,null,null,null,null,null,null,null,null,null,null,null,null,null,null,null,null,null,null,null,null,null,null,null,null,null,null,null,null,null,{"$f":"SUM(AF91:AO96)","v":0}]
[null,null,"30",null,null,null,null,null,"SO 12 - Stavebně - architektonická část",null,null,null,null,null,null,null,null,null,null,null,null,null,null,null,null,null,null,null,null,null,null,{"$f":"'30_SO 12 - Stav arch část'!G32","v":0}]
[null,null,"31",null,null,null,null,null,"SO 12 - Silnoproudá elektroinstalace ",null,null,null,null,null,null,null,null,null,null,null,null,null,null,null,null,null,null,null,null,null,null,{"$f":"'31_SO 12 - Silnoproud'!H33:H33","v":0}]
[null,null,"32",null,null,null,null,null,"SO 12 - Ústřední vytápění",null,null,null,null,null,null,null,null,null,null,null,null,null,null,null,null,null,null,null,null,null,null,{"$f":"'32_SO 12 - ÚT'!H32:H32","v":0}]
[null,null,"33",null,null,null,null,null,"SO 12 - EPS",null,null,null,null,null,null,null,null,null,null,null,null,null,null,null,null,null,null,null,null,null,null,{"$f":"'33_SO 12 - EPS'!H32:H32","v":0}]
[null,null,"34",null,null,null,null,null,"SO 12 - MaR",null,null,null,null,null,null,null,null,null,null,null,null,null,null,null,null,null,null,null,null,null,null,{"$f":"'34_SO 12 - MaR'!H33:H33","v":0}]
[null,null,"35",null,null,null,null,null,"SO 12 - Slaboproud",null,null,null,null,null,null,null,null,null,null,null,null,null,null,null,null,null,null,null,null,null,null,{"$f":"'35_SO 12 - Slaboproud'!H32:H32","v":0}]
[null,null,"36",null,null,null,null,null,"Vedlejší a ostatní náklady stavby",null,null,null,null,null,null,null,null,null,null,null,null,null,null,null,null,null,null,null,null,null,null,{"$f":"'36 - VRN'!F32","v":0}]

{"sheet":"01_SO O2 - Stav arch část","index":4,"n_rows":396,"n_cols":7,"rows_kept":396,"cut":false,"hidden":false,"merged":[[24,3,24,6],[25,2,25,6],[46,3,46,6],[78,2,78,6],[259,2,259,3],[260,2,260,3],[261,2,261,3],[262,2,262,3],[264,2,264,3],[265,2,265,3],[268,2,268,3],[282,2,282,3],[284,2,284,3],[286,2,286,3],[288,2,288,3],[290,2,290,3],[323,2,323,3],[324,2,324,3],[326,2,326,3],[370,2,370,3],[371,2,371,3],[339,2,339,3],[342,2,342,3],[343,2,343,3],[382,2,382,3],[383,2,383,3],[373,2,373,3],[377,2,377,3],[380,2,380,3],[381,2,381,3]]}
[{"$f":"CONCATENATE('Rekapitulace stavby'!C52,\"_\",'Rekapitulace stavby'!I52)","v":"01_SO 02 - Stavebně - architektonická část"}]
[]
["SPECIFIKACE DODÁVEK A PRACÍ "]
["Název akce:"]
[{"$f":"'Identifikační údaje'!B1","v":"ČRo Brno – III. etapa rekonstrukce budovy Beethovenova 25/4"}]
[]
["Zadavatel:",null,{"$f":"'Identifikační údaje'!E7","v":"Český rozhlas, Vinohradská 12, 120 99 Praha 2"}]
[null,"IČ:",{"$f":"'Identifikační údaje'!B9","v":45245053}]
[null,"DIČ:",{"$f":"'Identifikační údaje'!B10","v":"CZ45245053"}]
[]
["Projektant:",null,{"$f":"'Identifikační údaje'!E12","v":"Ing. arch. Klement Miloš, Nejedlého 381/19, 638 00 Brno - Lesná"}]
[null,"IČ:",{"$f":"'Identifikační údaje'!B14","v":15188736}]
[null,"DIČ:",{"$f":"'Identifikační údaje'!B15","v":"CZ6101021344"}]
[]
["Uchazeč:",null,{"$f":"'Identifikační údaje'!E19","v":", ,  "}]
[null,"IČ:",{"$f":"'Identifikační údaje'!B23","v":0}]
[null,"DIČ:",{"$f":"'Identifikační údaje'!B24","v":0}]
[]
["Místo stavby:",null,{"$f":"'Identifikační údaje'!B3","v":"Budova Českého rozhlasu Brno na adrese Beethovenova 25/4, 657 42 Brno"}]
[]
["Datum vyplnění:",null,{"$f":"'Identifikační údaje'!B5","v":"00:00:00"}]
[]
[{"$f":"CONCATENATE(\"REKAPITULACE DODÁVEK A PRACÍ OBJEKTU \",'Rekapitulace stavby'!I52)","v":"REKAPITULACE DODÁVEK A PRACÍ OBJEKTU SO 02 - Stavebně - architektonická část"}]
[]
["P.č.","Číslo položky","Název položky","Kč bez DPH"]
[]
["Díl:",{"$f":"B80","v":"3"},{"$f":"C80","v":"Svislé a kompletní konstrukce"},null,null,null,{"$f":"G80","v":0}]
["Díl:",{"$f":"B104","v":"43"},{"$f":"C104","v":"Schodiště"},null,null,null,{"$f":"G104","v":0}]
["Díl:",{"$f":"B111","v":"61"},{"$f":"C111","v":"Upravy povrchů vnitřní"},null,null,null,{"$f":"G111","v":0}]
["Díl:",{"$f":"B150","v":63},{"$f":"C150","v":"Podlahy a podlahové konstrukce"},null,null,null,{"$f":"G150","v":0}]
["Díl:",{"$f":"B157","v":94},{"$f":"C157","v":"Lešení a stavební výtahy"},null,null,null,{"$f":"G157","v":0}]
["Díl:",{"$f":"B161","v":"95"},{"$f":"C161","v":"Dokončovací kce na pozem.stav."},null,null,null,{"$f":"G161","v":0}]
["Díl:",{"$f":"B181","v":"96"},{"$f":"C181","v":"Bourání konstrukcí"},null,null,null,{"$f":"G181","v":0}]
["Díl:",{"$f":"B237","v":"99"},{"$f":"C237","v":"Staveništní přesun hmot"},null,null,null,{"$f":"G237","v":0}]
["Díl:",{"$f":"B239","v":713},{"$f":"C239","v":"Izolace tepelné"},null,null,null,{"$f":"G239","v":0}]
["Díl:",{"$f":"B251","v":714},{"$f":"C251","v":"Izolace akustické a protiotřesové"},null,null,null,{"$f":"G251","v":0}]
["Díl:",{"$f":"B258","v":"766"},{"$f":"C258","v":"Konstrukce truhlářské"},null,null,null,{"$f":"G258","v":0}]
["Díl:",{"$f":"B321","v":767},{"$f":"C321","v":"Konstrukce zámečnické"},null,null,null,{"$f":"G321","v":0}]
["Díl:",{"$f":"B338","v":"771"},{"$f":"C338","v":"Kamenné dlažby"},null,null,null,{"$f":"G338","v":0}]
["Díl:",{"$f":"B345","v":"775"},{"$f":"C345","v":"Podlahy vlysové a parketové"},null,null,null,{"$f":"G345","v":0}]
["Díl:",{"$f":"B353","v":"776"},{"$f":"C353","v":"Podlahy povlakové"},null,null,null,{"$f":"G353","v":0}]
["Díl:",{"$f":"B369","v":781},{"$f":"C369","v":"Obklady keramické"},null,null,null,{"$f":"G369","v":0}]
["Díl:",{"$f":"B376","v":784},{"$f":"C376","v":"Malby"},null,null,null,{"$f":"G376","v":0}]
["Díl:",{"$f":"B379","v":40},{"$f":"C379","v":"Podhledy"},null,null,null,{"$f":"G379","v":0}]
["Díl:",{"$f":"B388","v":770},{"$f":"C388","v":"Kamenné obklady "},null,null,null,{"$f":"G388","v":0}]
[]
[{"$f":"CONCATENATE(\"CELKEM ZA OBJEKT \",'Rekapitulace stavby'!I52, \" v Kč bez DPH\")","v":"CELKEM ZA OBJEKT SO 02 - Stavebně - architektonická část v Kč bez DPH"},null,null,{"$f":"SUM(G27:G45)","v":0}]
[]
[]
[]
[]
[]
[]
[]
[]
[]
[]
[]
[]
[]
[]
[]
[]
[]
[]
[]
[]
[]
[]
[]
[]
[]
[]
[]
[]
[]
[]
["P.č.","Číslo položky","Název položky","MJ","množství","cena / MJ","celkem"]
[null,"Ceník, kapitola","Poznámka uchazeče"]
["Díl:","3","Svislé a kompletní konstrukce",null,null,null,{"$f":"SUBTOTAL(9,G81:G102)","v":0}]
[{"$f":"1","v":1},"340 23-921","Zazdívka otvorů pl.4 m2,cihlami tl.zdi do 10 cm ","m2",6.09,null,{"$f":"E81*F81","v":0}]
[null,null,"1,00*2,10*2+0,90*2,10",null,6.09]
[{"$f":"A81+1","v":2},"340 23-9212","Zazdívka otvorů pl.4 m2,cihlami tl.zdi nad 10 cm ","m2",19.29,null,{"$f":"E83*F83","v":0}]
[null,null,"0,75*2,10+0,90*2,10+2,05*3,70",null,11.05]
[null,null,";nadsvětlíky",null,0]
[null,null,"3,00*0,80+2,50*0,80+2,80*0,80+2,00*0,80",null,8.24]
[{"$f":"A83+1","v":3},"342 24-812","Příčky POROTHERM AKU na MVC 5,tl.125 mm ","m2",80.148099999999999,null,{"$f":"E87*F87","v":0}]
[null,null,"(2,425+3,75+2,425)*2,90",null,24.94]
[null,null,"(2,13+0,71)*2,70+1,746*2,90-1,35*2,20",null,9.7614000000000001]
[null,null,"1,747*2,90-1,30*2,20",null,2.2063000000000001]
[null,null,"(2,17+0,70+1,45)*3,80+(2,10+4,50)*2,90-2,00*1,20",null,33.155999999999999]
[null,null,"3,19*2,90-0,90*2,00+0,693*3,80",null,10.0844]
[{"$f":"A87+1","v":4},"342 24-811","Příčky POROTHERM AKU na MVC 5, tl.100 mm ","m2",25.594000000000001,null,{"$f":"E93*F93","v":0}]
[null,null,"(0,70+0,50+0,70+0,50)*2,70",null,6.48]
[null,null,"(1,225+1,605+2,20)*3,80",null,19.114000000000001]
[{"$f":"A93+1","v":5},"310 23-921","Zazdívka otvorů plochy do 4 m2 cihlami na MVC ","m3",2.2349999999999999,null,{"$f":"E96*F96","v":0}]
[null,null,"1,30*2,10*0,30+2,00*1,20*0,30+0,40*2,90*0,30*2",null,2.2349999999999999]
[{"$f":"A96+1","v":6},"3171    PŘ   ","Překlad z profilu  I120 dl.2500mm vč.plentování cihlami a rabicem","ks",6,null,{"$f":"E98*F98","v":0}]
[{"$f":"A98+1","v":7},"3172    PŘ   ","Překlad z profilu  I100 dl.1200mm vč.plentování cihlami a rabicem","ks",7,null,{"$f":"E99*F99","v":0}]
[{"$f":"A99+1","v":8},"3173    PŘ   ","Překlad z profilu  I160 dl.4800mm vč.plentování cihlami a rabicem","ks",1,null,{"$f":"E100*F100","v":0}]
[null,null,"poz.13 - pro vynesení příčky:1",null,1]
[{"$f":"A100+1","v":9},"342 01-22","Příčka SDK tl.100mm,ocel.kce, SDK15mm + SDK12mm zesílení příčky","m2",13.58,null,{"$f":"E102*F102","v":0}]
[null,null,"M30:4,85*2,80",null,13.58]
["Díl:","43","Schodiště",null,null,null,{"$f":"SUBTOTAL(9,G105:G110)","v":0}]
[{"$f":"A102+1","v":10},"431 P2b= Kp/1 ","Stávající schodiště z teracových stupňů vč.soklíku repase - očištění, impregnace povrchu","ks",54,null,{"$f":"E105*F105","v":0}]
[null,null,"případní doplnění chybějících částí:54",null,54]
[{"$f":"A105+1","v":11},"431 P2b= Kp/4 ","Stávající schodiště z teracových stupňů vč.soklíku repase - očištění, impregnace povrchu","ks",6,null,{"$f":"E107*F107","v":0}]
[null,null,"případní doplnění chybějících částí:6",null,6]
[{"$f":"A107+1","v":12},"4311 P2b=Kp/4 ","Stávající  teracová podlaha vč.soklíku repase - očištění, impregnace povrchu","m2",14.7,null,{"$f":"E109*F109","v":0}]
[null,null,"případní doplnění chybějících částí:14,70",null,14.7]
["Díl:","61","Upravy povrchů vnitřní",null,null,null,{"$f":"SUBTOTAL(9,G112:G149)","v":0}]
[{"$f":"A109+1","v":13},"612 47-3182.R00","Omítka vnitřního zdiva ze suché směsi, štuková ","m2",263.71620000000001,null,{"$f":"E112*F112","v":0}]
[null,null,"6,90*2+19,29*2+80,1481*2+25,52*2",null,263.71620000000001]
[{"$f":"A112+1","v":14},"612 10-003","Oprava omítek stěn vnitřních vápenocem. štukových oprava ","m2",797.35829999999999,null,{"$f":"E114*F114","v":0}]
[null,null,"M05:(10,90+5,155+10,90)*3,90-1,50*2,20-0,85*2,00*6",null,91.624499999999998]
[null,null,"       -1,40*2,20-1,36*2,20-24,10",null,-30.172000000000001]
[null,null,"M06:(5,90+6,165)*2*3,70-0,85*2,00*3-1,40*2,20",null,81.100999999999999]
[null,null,"         -3,65*3,70-3,975*2,90",null,-25.032499999999999]
[null,null,"M06a:(3,65+1,505)*3,70",null,19.073499999999999]
[null,null,"M07:(1,505+3,65)*3,70",null,19.073499999999999]
[null,null,"M10:(7,25+6,50)*2*1,70",null,46.75]
[null,null,"M11:(8,30+3,719)*2*3,70-0,85*2,004",null,87.237200000000001]
[null,null,";M12:;dřevěný obklad",null,0]
[null,null,"M15:(3,806+1,746+3,806)*2,80-0,85*2,00-1,35*2,20",null,21.532399999999999]
[null,null,"        (4,50+2,546)*2*3,70-1,40*2,20*2",null,45.980400000000003]
[null,null,"M17A:(2,74+2,17)*2*3,70-0,85*2,00",null,34.634]
[null,null,"M17B:(2,326+2,70)*2*3,70-0,85*2,00",null,35.492400000000004]
[null,null,"M18:(4,684+4,692)*3,70-0,85*2,00*2",null,31.2912]
[null,null,";M19:;akustický obklad",null,0]
[null,null,";M20:;akustický obklad",null,0]
[null,null,";M21:;akustický obklad",null,0]
[null,null,";M22:;akustický obklad",null,0]
[null,null,";M23:;akustický obklad",null,0]
[null,null,"M24:(3,55+3,624)*2*2,80-2,625*2,02-0,85*2,00",null,33.171900000000001]
[null,null,"M25:(2,425+3,75)*2,80-0,85*2,00",null,15.59]
[null,null,"M26:(3,55+7,105)*2*2,80-2,70*2,07-0,85*2,00",null,52.378999999999998]
[null,null,"M27:(3,905+7,105)*2*2,80-2,67*2,02-0,85*2,00",null,54.562600000000003]
[null,null,"M28:(4,19+6,936)*2*2,80-2,683*2,02-0,85*2,00",null,55.185899999999997]
[null,null,"M29:(9,663+1,916)*2*2,80-0,85*2,00*3-0,90*2,00*3",null,54.342399999999998]
[null,null,"          -1,35*2,20*2",null,-5.94]
[null,null,"M29a:(4,98+1,749)*2*2,80-0,85*2,00*3-0,90*2,00",null,30.782399999999999]
[null,null,"           -1,35*2,20",null,-2.97]
[null,null,"M30:(3,39+7,105)*2*2,80-2,675*2,02-0,85*2,00",null,51.668500000000002]
[{"$f":"A114+1","v":15},"611 10-0013.RAA","Oprava omítek stropů vnitřních vápenocem.štukových oprava z 50 %","m2",54.6,null,{"$f":"E144*F144","v":0}]
[null,null,"54,60",null,54.6]
[{"$f":"A144+1","v":16},"611 42-113","Oprava váp. omítek stropů -vyspravení pod podhledy ","m2",436.9,null,{"$f":"E146*F146","v":0}]
[{"$f":"A146+1","v":17},"612 40-339","Hrubá výplň rýh ve stěnách maltou zapravení svislých drážek po rozvodech ÚT","m2",11.43,null,{"$f":"E147*F147","v":0}]
[null,null,";poz.5",null,0]
[null,null,"0,30*2,80*7+0,30*3,70*3+0,60*3,70*1",null,11.43]
["Díl:",63,"Podlahy a podlahové konstrukce",null,null,null,{"$f":"SUBTOTAL(9,G151:P156)","v":0}]
[{"$f":"A147+1","v":18},"632 44-1     P4","Potěr anhydrit tl. 50 mm oddilatovaný od stěn  EPS 20 mm","m2",154.80000000000001,null,{"$f":"E151*F151","v":0}]
[{"$f":"A151+1","v":19},"632 44-1     P5","Potěr anhydrit  tl. 50 mm oddilatovaný od stěn  EPS 20 mm","m2",9.1,null,{"$f":"E152*F152","v":0}]
[{"$f":"A152+1","v":20},"632 44-2     P4","Zvýšená podlaha z desek RG2 BSEN tl.23mm - systém zvýšených podlah z dřevotřísk.desek D+M","m2",154.80000000000001,null,{"$f":"E153*F153","v":0}]
[null,null,"154,80",null,154.80000000000001]
[{"$f":"A153+1","v":21},"632 44-2     P5","Zvýšená podlaha z desek RG2 BSEN  tl.23mm - systém zvýšených podlah z dřevotřísk.desek D+M","m2",9.1,null,{"$f":"E155*F155","v":0}]
[{"$f":"A155+1","v":22},"632 44-2     P2","Očištění stáv.mramorových podlah po odstranění PVC ","m2",54.6,null,{"$f":"E156*F156","v":0}]
["Díl:",94,"Lešení a stavební výtahy",null,null,null,{"$f":"SUBTOTAL(9,G158:P160)","v":0}]
[{"$f":"A156+1","v":23},"941 95-5002.R00","Lešení lehké pomocné, výška podlahy do 1,9 m ","m2",436.9,null,{"$f":"E158*F158","v":0}]
[null,null,"pro podhledy SDK:345,90",null,345.9]
[null,null,"pro akust.podhledy:4,80+24,00+15,80+23,80+22,60",null,91]
["Díl:","95","Dokončovací kce na pozem.stav.",null,null,null,{"$f":"SUBTOTAL(9,G162:G180)","v":0}]
[{"$f":"A158+1","v":24},"952 90-1111.R00","Vyčištění budov o výšce podlaží do 4 m ","m2",485.6,null,{"$f":"E162*F162","v":0}]
[null,null,";mezipatro",null,0]
[null,null,"54,60+31,20+2,80+5,60+42,20+29,00+60,00",null,225.4]
[null,null,"14,70+4,80+4,80+24,50+4,80+24,00+15,80",null,93.4]
[null,null,"23,80+22,60+13,00+28,40+29,50+17,50+8,80",null,143.6]
[null,null,"23,20",null,23.2]
[{"$f":"A162+1","v":25},"95001","HZS - nezměřitelné práce ","hog",300,null,{"$f":"E168*F168","v":0}]
[{"$f":"A168+1","v":26},"95002","Práce výše neuvedené ","kpl.",1,null,{"$f":"E169*F169","v":0}]
[{"$f":"A169+1","v":27},"95003","Vyklizení mobiliáře vč.ekologické likvidace ","kpl.",1,null,{"$f":"E170*F170","v":0}]
[null,null,";11ks kovového regálu dl.5500mm",null,0]
[null,null,";1ks kovového regálu dl.3700mm",null,0]
[null,null,";1ks kovového regálu dl.1800mm",null,0]
[null,null,";4ks kovového regálu dl.900mm",null,0]
[null,null,";výška všech regálů je 2500mm š=42mm",null,0]
[null,null,";10ks polic",null,0]
[null,null,";4ks plech skříní v=2900mm š=1100mm hl.400mm",null,0]
[null,null,";4ks masivních psacích stolů",null,0]
[null,null,"kpl:1",null,1]
[{"$f":"A170+1","v":28},"95004","Uzavření rekonstruovaného prostoru proti šíření prašnosti","kpl.",1,null,{"$f":"E180*F180","v":0}]
["Díl:","96","Bourání konstrukcí",null,null,null,{"$f":"SUBTOTAL(9,G182:G236)","v":0}]
[{"$f":"A180+1","v":29},"962 03-2231.R00","Bourání zdiva z cihel pálených na MVC ","m3",3,null,{"$f":"E182*F182","v":0}]
[{"$f":"A182+1","v":30},"962 03-1132.R00","Bourání příček cihelných tl. 10 cm ","m2",39.894300000000001,null,{"$f":"E183*F183","v":0}]
[null,null,";A",null,0]
[null,null,"(3,55+3,55+1,747+1,746+3,405)*2,85",null,39.894300000000001]
[{"$f":"A183+1","v":31},"962 03-1133.R00","Bourání příček cihelných tl. 15 cm ","m2",6.0759999999999996,null,{"$f":"E186*F186","v":0}]
[null,null,";A",null,0]
[null,null,"2,17*2,80",null,6.0759999999999996]
[{"$f":"A186+1","v":32},"971 03-36     E","Vybourání otv. zeď cihel. pl.4 m2, tl.30 cm, MVC ","m3",0.78749999999999998,null,{"$f":"E189*F189","v":0}]
[null,null,"2,00*1,00*0,275+0,95*2,00*0,125",null,0.78749999999999998]
[{"$f":"A189+1","v":33},"968 06-1125.R00","Vyvěšení dřevěných dveřních křídel pl. do 2 m2 ","kus",13,null,{"$f":"E191*F191","v":0}]
[null,null,";C",null,0]
[null,null,13,null,13]
[{"$f":"A191+1","v":34},"968 06-245","Vybourání dveřních zárubní pl. do 2 m2 ","m2",23.4,null,{"$f":"E194*F194","v":0}]
[null,null,";C",null,0]
[null,null,"0,90*2,00*13",null,23.4]
[{"$f":"A194+1","v":35},"965 08        B","Odstranění kompletní vrstvy podlahy vč.násypu v tl.180 mm","m3",32.85,null,{"$f":"E197*F197","v":0}]
[null,null,"(11,10+25,90+7,40+18,80+25,70)*0,18",null,16.001999999999999]
[null,null,"(57,70+19,90+16,00)*0,18",null,16.847999999999999]
[{"$f":"A197+1","v":36},"714 11-08     F","Demontáž akustických  obkladů stěn - kompletní konstrukce vč.roštu","m2",263.07780000000002,null,{"$f":"E200*F200","v":0}]
[null,null,"(3,59+5,064)*2*2,85",null,49.327800000000003]
[null,null,"(3,565+7,15)*2*3,00",null,64.290000000000006]
[null,null,"(3,715+3,715)*2*3,00",null,44.58]
[null,null,"(5,215+2,17)*2*3,00",null,44.31]
[null,null,"(5,215+4,88)*2*3,00",null,60.57]
[{"$f":"A200+1","v":37},"714 11-09     G","Demontáž kazetových podhledů - kompletní konstrukce vč.roštu","m2",38,null,{"$f":"E206*F206","v":0}]
[null,null,"9,50+13,00+15,50",null,38]
[{"$f":"A206+1","v":38},"714 11-19     H","Demontáž akustických podhledů - kompletní konstrukce vč.roštu","m2",166.5,null,{"$f":"E208*F208","v":0}]
[null,null,"11,10+25,90+7,40+18,80+25,70+57,70+19,90",null,166.5]
[{"$f":"A208+1","v":39},"776 51-18     D","Odstranění PVC a koberců lepených ","m2",298.5,null,{"$f":"E210*F210","v":0}]
[null,null,";PVC",null,0]
[null,null,"54,30+9,50+13,00+15,50+27,90",null,120.2]
[null,null,";koberce",null,0]
[null,null,"23,90+13,50+43,50+31,70+65,70",null,178.3]
[{"$f":"A210+1","v":40},"76701         K","Odstranění zvýšené konstrukce podlahy ","m2",44.4,null,{"$f":"E215*F215","v":0}]
[null,null,"19,90+24,50",null,44.4]
[{"$f":"A215+1","v":41},"962 08-11     L","Bourání nadsvětlíků z luxferů ","m2",0.42,null,{"$f":"E217*F217","v":0}]
[null,null,"0,30*0,80+0,30*0,30*2",null,0.42]
[{"$f":"A217+1","v":42},"968 06-22    SV","Vybourání dřevěných rámů nadsvětlíků ","m2",6.0750000000000002,null,{"$f":"E219*F219","v":0}]
[null,null,"2,70*0,75*3",null,6.0750000000000002]
[{"$f":"A219+1","v":43},"96808         C","Demontáž akustického okna ","m2",6,null,{"$f":"E221*F221","v":0}]
[null,null,"2,00*1,00*3",null,6]
[{"$f":"A221+1","v":44},"96809       SCH","Demontáž vyrovnávacího schodiště ","ks",1,null,{"$f":"E223*F223","v":0}]
[null,null,1,null,1]
[{"$f":"A223+1","v":45},"96504-22   ","Bourání drážek svislých pro specialisty vč. zapravení","kpl.",1,null,{"$f":"E225*F225","v":0}]
[{"$f":"A225+1","v":46},"96504-21   ","Bourání mřížek v podlahách pro prostup tepla ","ks",6,null,{"$f":"E226*F226","v":0}]
[{"$f":"A226+1","v":47},"979 08-2111.R00","Vnitrostaveništní doprava suti do 10 m ","t",64.599999999999994,null,{"$f":"E227*F227","v":0}]
[{"$f":"A227+1","v":48},"979 01-121","Svislá doprava suti a vybour. hmot nošením ","t",64.599999999999994,null,{"$f":"E228*F228","v":0}]
[{"$f":"A228+1","v":49},"979 08-2121.R00","Příplatek k vnitrost. dopravě suti za dalších 5 m ","t",323,null,{"$f":"E229*F229","v":0}]
[null,null,"5*64,60",null,323]
[{"$f":"A229+1","v":50},"979 08-1111.R00","Odvoz suti a vybour. hmot na skládku do 1 km ","t",64.599999999999994,null,{"$f":"E231*F231","v":0}]
[{"$f":"A231+1","v":51},"979 08-1121.R00","Příplatek k odvozu za každý další 1 km ","t",1227.4000000000001,null,{"$f":"E232*F232","v":0}]
[null,null,"19*64,60",null,1227.4000000000001]
[{"$f":"A232+1","v":52},"979 09-3111.R00","Uložení suti na skládku bez zhutnění ","t",64.599999999999994,null,{"$f":"E234*F234","v":0}]
[{"$f":"A234+1","v":53},"979 99-999","Poplatek za skladku ","t",59.85,null,{"$f":"E235*F235","v":0}]
[{"$f":"A235+1","v":54},"979 99-0201","Poplatek za skládku suti -azbestocementové výrobky ","t",4.75,null,{"$f":"E236*F236","v":0}]
["Díl:","99","Staveništní přesun hmot",null,null,null,{"$f":"SUBTOTAL(9,G238)","v":0}]
[{"$f":"A236+1","v":55},"999 28-1112.R00","Přesun hmot pro opravy a údržbu do výšky 36 m ","t",80.83,null,{"$f":"E238*F238","v":0}]
["Díl:",713,"Izolace tepelné",null,null,null,{"$f":"SUBTOTAL(9,G240:G250)","v":0}]
[{"$f":"A238+1","v":56},"713 12-1     P4","Izolace tepelná podlah na sucho, jednovrstvá včetně dodávky EPS T 5000  tl.20 mm","m2",162.54,null,{"$f":"E240*F240","v":0}]
[null,null,"154,80*1,05",null,162.54]
[{"$f":"A240+1","v":57},"713 12-1     P5","Izolace tepelná podlah na sucho, jednovrstvá včetně dodávky EPS T 5000  tl.20 mm","m2",9.5549999999999997,null,{"$f":"E242*F242","v":0}]
[null,null,"9,10*1,05",null,9.5549999999999997]
[{"$f":"A242+1","v":58},"713 12-12","Izolace tepelná SDK příčky vč.dod.EPS T500 tl.100 mm","m2",13.58,null,{"$f":"E244*F244","v":0}]
[null,null,"4,85*2,80",null,13.58]
[{"$f":"A244+1","v":59},"713 12-13","Izolace tepelná niky za radiátory pěnosklo tl.30mm  D+M","m2",26.43,null,{"$f":"E246*F246","v":0}]
[null,null,"1,00*0,60*2",null,1.2]
[null,null,"2,65*0,60*11",null,17.489999999999998]
[null,null,"4,30*0,60*3",null,7.74]
[{"$f":"A246+1","v":60},"998 71-3104.R00","Přesun hmot pro izolace tepelné, výšky do 36 m ","t",0.877,null,{"$f":"E250*F250","v":0}]
["Díl:",714,"Izolace akustické a protiotřesové",null,null,null,{"$f":"SUBTOTAL(9,G252:P257)","v":0}]
[{"$f":"A250+1","v":61},"714         M18","Akustický obklad  dvou stěn  - m.č.18  D+M viz. samostatný projekt akustické zajištění","kpl.",1,null,{"$f":"E252*F252","v":0}]
[{"$f":"A252+1","v":62},"714        PD","Akustické podlahové dílce  D+M viz. samostatný projekt akustické zajištění","kpl.",1,null,{"$f":"E253*F253","v":0}]
[{"$f":"A253+1","v":63},"71401        ","Akustické utěsnění stupaček ÚT poz.4","ks",26,null,{"$f":"E254*F254","v":0}]
[null,null,"2*13",null,26]
[{"$f":"A254+1","v":64},"71402        ","Protipožární  utěsnění stupaček ÚT poz.3","ks",26,null,{"$f":"E256*F256","v":0}]
[null,null,"2*13",null,26]
["Díl:","766","Konstrukce truhlářské",null,null,null,{"$f":"SUBTOTAL(9,G259:G318)","v":0}]
[{"$f":"A256+1","v":65},"766    Tp/2","Obklad stěn v zasedací místnosti repase - kompletní rozebrání obkladu vč. konstrukce, vyčištění, zpětná montáž vč. doplnění poškozených míst prvky vizuálně shodnými, předpoklad doplnění 20% plochy","m2",95,null,{"$f":"E259*F259","v":0}]
[null,null,";demontáž dýhov.obkladu vč.ODSTRANĚNÍ AZBESTU",null,0]
[null,null,";a důkladného očištění povrchu před opětnou montáží",null,0]
[null,null,";obkladu",null,0]
[null,null,"95,00",null,95]
[{"$f":"A259+1","v":66},"766    Tp/3","Restaurátorská renovace obkladu stěn v kanceláři ředitele - vyčištění, doplnění poškozených míst, provedení nátěrového systému","m2",14.8,null,{"$f":"E264*F264","v":0}]
[null,null,";vč.doplnění chybějící části",null,0]
[null,null,"14,80",null,14.8]
[{"$f":"A264+1","v":67},"766a   Tp/3","Restaurátorská výroba a montáž repliky obkladu stěn v kanceláři ředitele","m2",10,null,{"$f":"E267*F267","v":0}]
[{"$f":"A267+1","v":68},"766    Tp/5","Dřevěné krytí radiátoru v zased.místnosti  D+M 1620/800 mm +4900/800 mm","m",6.52,null,{"$f":"E268*F268","v":0}]
[null,null,"1,62+4,90",null,6.52]
[{"$f":"A268+1","v":69},"766    Tpd/1","Restaurátorská renovace dřevěných dýhov.dveří 1kř.850/1970 mm vč.nového kování - replika původního kování","ks",2,null,{"$f":"E270*F270","v":0}]
[{"$f":"A270+1","v":70},"766    Tp/6","Restaurátorská renovace stolu v m.č.11 2000x910x745mm","ks",1,null,0]
[{"$f":"A271+1","v":71},"766    Tpd/2","Restaurátorská renovace dřevěných dýhov.dveří 1kř.zdvoj. 850/1970 mm vč.nového kování - replika kování původního","ks",2,null,0]
[72,"766    Tp/7","Restaurátorská renovace skříně v ředitelně 2740x600x1900mm","ks",1,null,0]
[73,"766    Tpd/3","Restaurátorská renovace dřevěných dýhov.dveří 1kř.. 650/1970 mm vč.nového kování - replika původního kování","ks",1,null,0]
[74,"766    Tpd/3a","Restaurátorská renovace dřevěných dýhov.dveří  1kř.. 650/1970 mm vč.nového kování - replika kování původního","ks",1,null,0]
[75,"766    Tpd/4","Restaurátorská renovace dřevěných dýhov.dveří  2kř.. sest.2190/2150 mm vč.nového kování, samozavírač - kování - replika původního","ks",1,null,0]
[76,"766    Tpd/5","Restaurátorská renovace dřevěných dýhov.dveří  2kř.. 1400/2185 mm vč.nového kování, samozavírač - kování je replikou původního","ks",2,null,0]
[77,"766    Tpd/5a","Restaurátorská renovace dřevěné dýhov.zárubně.. 1400/2200 mm ","ks",1,null,0]
[78,"766    Tpd/6","Restaurátorská renovace dřevěných dýhov.dveří  2kř. 1420/2215 mm vč.nového kování - kování - replika kování původního","ks",1,null,0]
[79,"766    Tpd/7b","Restaurátorská renovace dřevěných dýhov.dveří  1kř. 850/1980 mm vč.nového kování - kování - replika kování původního","ks",3,null,0]
[{"$f":"A280+1","v":80},"766    Tpd/7b","Dřevěná lakované .dveře 1kř. 850/1980 mm repase vč.nového kování, přemístění","ks",3,null,0]
[81,"766    Tpo/3a","Dřevěné okno vč.parapetu  1350/2900 mm repase - odstranění nátěru, obroušení, tmelení","ks",2,null,0]
[null,null,"nový nátěr, oprava a doplnění kování:2",null,2]
[{"$f":"A282+1","v":82},"766    Tpo/3b","Dřevěné okno vč.parapetu  2800/2900 mm repase - odstranění nátěru, obroušení, tmelení","ks",2,null,{"$f":"E284*F284","v":0}]
[null,null,"mový nátěr, oprava a doplnění kování:2",null,2]
[{"$f":"A284+1","v":83},"766    Tpo/1b","Dřevěné okno vč.parapetu  2800/2045 mm repase - odstranění nátěru, obroušení, tmelení","ks",9,null,{"$f":"E286*F286","v":0}]
[null,null,"mový nátěr, oprava a doplnění kování:9",null,9]
[{"$f":"A286+1","v":84},"766    Tpo/5","Dřevěné okno vč.parapetu - kuch. 550/1350 mm repase - odstranění nátěru, obroušení, tmelení","ks",1,null,{"$f":"E288*F288","v":0}]
[null,null,"mový nátěr, oprava a doplnění kování:1",null,1]
[{"$f":"A288+1","v":85},"766    Tpo/3c","Dřevěné okno vč.parapetu  4250/2900 mm repase - odstranění nátěru, obroušení, tmelení","ks",2,null,{"$f":"E290*F290","v":0}]
[null,null,"mový nátěr, oprava a doplnění kování:2",null,2]
[{"$f":"A290+1","v":86},"766    Tn/1","Dřevěné madlo dl.1700 mm  D+M ","ks",20,null,{"$f":"E292*F292","v":0}]
[{"$f":"A292+1","v":87},"766    Tn/2","Vestavěný nábytek 1150/1200mm 950/1200 mm D+M","sest.",1,null,0]
[{"$f":"A293+1","v":88},"766    Tn/3","Vestavěný nábytek 800/2300mm +1385/2300mm D+M","sest",1,null,0]
[89,"766    Tn/4","Kuchyňská linka - spodní a horní skříňky mč.M08 D+M","ks",1,null,0]
[90,"766    Tn/5","Kuchyňská linka - spodní a horní skříňky dl.2550mm D+M  nč.M24","ks",1,null,0]
[91,"766    Tn/13","Vestavěná knihovna - ředitelna 2790/2330mm D+M - restaurátorská replika původního nábytku","ks",1,null,0]
[92,"766    Tn/14","Vestavěná knihovna - ředitelna 1300/2330mm D+M - restaurátorská replika původního nábytku","ks",1,null,0]
[93,"766    Tn/15","Vestavěná knihovna - ředitelna 1750+1000/2100mm D+M - restaurátorská replika původního nábytku","ks",1,null,0]
[94,"766    Tn/16","Vestavěná skříně ve studiu M22  1130/2000mm D+M","ks",1,null,0]
[95,"766a   Tn/16","Vestavěná skříně ve studiu M19  800/2000mm D+M","ks",2,null,0]
[96,"766    Tn/17","Vestavěná věšáková stěna 1400/2160mm vč.poličky, háčků a nástěnky    D+M","ks",3,null,0]
[97,"766    Tn/20","Vestavěná skříň v m.17b 1865/2000+1570/2000 mm D+M","sest.",1,null,0]
[98,"766    Tn/19","Vestavěná skříň v m.17a 1400/2000 mm D+M","ks",2,null,0]
[99,"766    Tn/22","Oprava stolu v m.č.M06 ","ks",1,null,0]
[100,"766    Tnd/1a","Dřevěne dveře 1kř.hladké plné 900/1970mm Rw=32dB vč.obložk.zárubně, kování, samozavírač, D+M","ks",1,null,0]
[101,"766    Tn/23","Vestavěná skříň v ředitelně za stolem  D+M - restaurátorská replika původního nábytku","ks",1,null,0]
[102,"766    Tn/24","Vestavěná skříň v M11 D+M ","ks",1,null,0]
[103,"766    Tnd/1","Dřevěne dveře 1kř.hladké plné 900/1970mm Rw=42dB vč.obložk.zárubně, kování, samozavírač, D+M","ks",4,null,0]
[104,"766    Tnd/2b","Dřevěne dveře 1kř.hladké plné 850/1970mm vč.obložk.zárubně, kování bezp., D+M","ks",1,null,0]
[105,"766    Tnd/4","Dřevěne dveře 1kř.dýhov. 850/1970mm  - kopie do stáv.obložk..zárubně, kování,  D+M","ks",4,null,0]
[106,"766    Tnd/6","Dřevěné dveře 1kř.dýhov. 700/1970mm  - kopie vč.skryté.zárubně, kování,  D+M","ks",1,null,0]
[107,"766    Tnd/3","Dřevěne dveře 2kř.dýhov. 1400/2185mm  - kopie do stáv.obložk..zárubně, kování,  D+M","ks",1,null,0]
[108,"766    Tnd/5","Dřevěné dveře 2kř.dýhov. 1600/2020mm vč.skryté.zárubně, kování,  D+M","ks",1,null,0]
[109,"766       Tno/4","Dřevěné akustické okno vč.parapetu  2000/1000 mm D+M - atypické režijní okno se zvýšenou vzduchovou neprůzvučností tvořené dvěma skly usazenými šikmo pod úhlem 12°; skla mají tloušťku 10 mm a 14 až 16 mm; skla jsou v rámu pružně umístěna v pryžovém loži; vnitřní prostor mezi skly je po celém obvodu zatlumen polyuretanovou pěnou tl. 30 až 40 mm","ks",3,null,0]
[{"$f":"A315+1","v":110},"766      ","Přesklení oken - poškozená prasklá skla D+M","ks",10,null,0]
[{"$f":"A316+1","v":111},null,"Prvek C-06 stůl režie dle výkresu C-06 - deskový materiál MDF, povrchová úprava přírodní dýha - javor, jasan nebo dub dle výběru architekta z předložených vzorků v části potažená barvenou kůží dle výběru architekta z předložených vzorků, kovové stolové podnoží","ks",2,null,0]
[{"$f":"A317+1","v":112},null,"Prvek C-05 stůl hlasatelna dle výkresu C-05 - deskový materiál MDF, povrchová úprava přírodní dýha - javor, jasan nebo dub dle výběru architekta z předložených vzorků v části potažená barvenou kůží dle výběru architekta z předložených vzorků, kovové stolové podnoží","ks",2,null,{"$f":"E318*F318","v":0}]
[null,"poznámka 1","Truhlářské konstrukce jsou kompletní výrobky dle popisu v tabulkách"," "]
[null,"poznámka 2","Truhlářské konstrukce jsou vč.přesunu hmot "," "]
["Díl:",767,"Konstrukce zámečnické",null,null,null,{"$f":"SUBTOTAL(9,G322:G335)","v":0}]
[{"$f":"A318+1","v":113},"767       Zp/1","Restaurátorská renovace stáv.zábradlí schodiště vč.madla očištění, obroušení, nový nátěr","m",15.9,null,{"$f":"E322*F322","v":0}]
[{"$f":"A322+1","v":114},"767       Zp/4c","Restaurátorská renovace stáv.zábradlí schodiště vč.madla-před oknem očištění, obroušení, nový nátěr","m",2.165,null,{"$f":"E323*F323","v":0}]
[null,null,";vč.doplnění tří nových tyči zábradlí",null,0]
[null,null,2165,null,2.165]
[{"$f":"A323+1","v":115},"767      Zp/6 ","Vyčištění stávajícího stropu z luxferů ","m2",15.661799999999999,null,{"$f":"E326*F326","v":0}]
[null,null,"3,955*3,96",null,15.661799999999999]
[{"$f":"A326+1","v":116},"767a     Zp/6 ","Výměna poškozených luxferů 180/180 mm  D+M - výměna jednotlivých kusů v ploše se zachováním původního rázu; doplňované luxfery jsou historickou replikou stávajících ","ks",9,null,{"$f":"E328*F328","v":0}]
[{"$f":"A328+1","v":117},"767      Zp/10 ","Dvířka do niky na schodišti 560/1570 mm repase - očištění, obroušení, nový nátěr","ks",4,null,0]
[{"$f":"A329+1","v":118},"767      Zpd/4 ","Dveře do schodiště ocelovo.dřev.2kř.1535/2150mm repase-očišténí, přebrouš., nový nátěr,nové proskl","ks",1,null,0]
[119,"767     Zpo/1b ","Ocelové okno do schodiště vč.mříže 1100/11130 mm repase-očišténí, přebrouš., nový nátěr,","ks",1,null,0]
[120,"767b    Zn/10 ","Dvířka zakrývající šachtu silnoproudu 550/800mm PBŘ  EW 30 DP1","ks",2,null,0]
[121,"767b    Zn/17 ","Skleněná rámová konstrukce v kanceláři asistentky repase-očišténí, přebrouš., nový nátěr,","ks",1,null,0]
[122,"767b    Zn/15 ","Průchozí stěnový ventil čtyřhranný do machinneroomu   D+M","ks",2,null,0]
[123,"767   GK","Generální klíč ","kpl.",1,null,0]
[null,"poznámka 2","Zámečnické konstrukce jsou vč.přesunu hmot "," "]
[null,"poznámka 1","Zámečnické konstrukce jsou kompletní výrobky dle popisu v tabulkách"," "]
["Díl:","771","Kamenné dlažby",null,null,null,{"$f":"SUBTOTAL(9,G339:G344)","v":0}]
[{"$f":"A335+1","v":124},"772    P2= Kp/1","Mramorová dlažba stávající - zrestaurování případné doplnění poškozených částí","m2",12.32,null,{"$f":"E339*F339","v":0}]
[null,null,"podesty a mezipodesty:12,32",null,12.32]
[{"$f":"A339+1","v":125},"772        Kp/4","Očištění stáv.podlahy a obnovení původního vzhledu vč.vyspravení povrchu - teracová podlaha","m2",14.7,null,{"$f":"E341*F341","v":0}]
[{"$f":"A341+1","v":126},"772    P2=Kp/5a","Mramorová dlažba stávající-zrestaurování, očištění případné doplnění poškozených částí","m2",64.144000000000005,null,{"$f":"E342*F342","v":0}]
[null,null,";podlaha",null,0]
[null,null,"54,70+(5,15+10,59)*2*0,30",null,64.144000000000005]
["Díl:","775","Podlahy vlysové a parketové",null,null,null,{"$f":"SUBTOTAL(9,G346:G352)","v":0}]
[{"$f":"A342+1","v":127},"775          P6","Stávající parkety masiv dub - přebroušení, nátěr zátěžový olej","m2",63,null,{"$f":"E346*F346","v":0}]
[null,null,";případné doplnění chybějících parket ze",null,0]
[null,null,";zrušených podlah",null,0]
[null,null,"60,00*1,05",null,63]
[{"$f":"A346+1","v":128},"775 53-00    P9","Podlahy parketové - vlysy nové ","m2",272.52999999999997,null,{"$f":"E350*F350","v":0}]
[null,null,"247,75*1,10",null,272.52999999999997]
[{"$f":"A350+1","v":129},"998 77-5104.R00","Přesun hmot pro podlahy vlysové, výšky do 36 m ","t",0.61,null,{"$f":"E352*F352","v":0}]
["Díl:","776","Podlahy povlakové",null,null,null,{"$f":"SUBTOTAL(9,G354:G368)","v":0}]
[{"$f":"A352+1","v":130},"776 57-2     P4","Lepení povlakových podlah z pásů textilních včetně zátěžového antistatického koberce","m2",170.28,null,{"$f":"E354*F354","v":0}]
[null,null,";koberec ze spodu opatřen gumovou vrstvou",null,0]
[null,null,";vč.olištování dubovými lištami",null,0]
[null,null,"154,80*1,10",null,170.28]
[{"$f":"A354+1","v":131},"776 57-2     P9","Lepení povlakových podlah z pásů textilních včetně zátěžového antistatického koberce","m2",66,null,{"$f":"E358*F358","v":0}]
[null,null,";koberec ze spodu opatřen gumovou vrstvou",null,0]
[null,null,";vč.olištování dubovými lištami",null,0]
[null,null,"60,00*1,10",null,66]
[{"$f":"A358+1","v":132},"776 57-2     P5","Lepení povlakových podlah gumových antistatických včetně dodávky podlahoviny","m2",10.01,null,{"$f":"E362*F362","v":0}]
[null,null,"9,10*1,10",null,10.01]
[{"$f":"A362+1","v":133},"776 57-2     P6","Lepení povlakových podlah z pásů textilních včetně zátěžového antistatického koberce","m2",272.52499999999998,null,{"$f":"E364*F364","v":0}]
[null,null,";koberec ze spodu opatřen gumovou vrstvou",null,0]
[null,null,";vč.olištování dubovými lištami",null,0]
[null,null,"247,75*1,10",null,272.52499999999998]
[{"$f":"A364+1","v":134},"998 77-6104.R00","Přesun hmot pro podlahy povlakové, výšky do 36 m ","t",1.224,null,{"$f":"E368*F368","v":0}]
["Díl:",781,"Obklady keramické",null,null,null,{"$f":"SUBTOTAL(9,G370:G375)","v":0}]
[{"$f":"A368+1","v":135},"781 10-1210.R00","Penetrace podkladu pod obklady ","m2",20.474,null,{"$f":"E370*F370","v":0}]
[null,null,"M08:(4,355+1,505)*2*1,45-0,70*1,45",null,15.978999999999999]
[null,null,"M24:(0,60+2,50)*1,45",null,4.4950000000000001]
[{"$f":"A370+1","v":136},"781 47-511","Obklad vnitřní keramický do tmele vč.rohových a koutových lištna sraz vč.dod.obkladu","m2",22.5214,null,{"$f":"E373*F373","v":0}]
[null,null,"20,474*1,10",null,22.5214]
[{"$f":"A373+1","v":137},"998 78-1104.R00","Přesun hmot pro obklady keramické, výšky do 36 m ","t",1.6080000000000001,null,{"$f":"E375*F375","v":0}]
["Díl:",784,"Malby",null,null,null,{"$f":"SUBTOTAL(9,G377:G378)","v":0}]
[{"$f":"A375+1","v":138},"784 45-0030","Malba ze směsi , penetrace 1x, bílá 2x ","m2",1115.6762000000001,null,{"$f":"E377*F377","v":0}]
[null,null,1115.68,null,{"$f":"263.7162+851.96","v":1115.6762000000001}]
["Díl:",40,"Podhledy",null,null,null,{"$f":"SUBTOTAL(9,G380:G387)","v":0}]
[{"$f":"A377+1","v":139},"40            A","Sádrokartonový podhled  D+M ","m2",345.9,null,{"$f":"E380*F380","v":0}]
[null,null,";mezipatro",null,0]
[null,null,"31,20+2,80+5,60+5,90+42,20+29,00+60,00",null,176.7]
[null,null,"14,70+4,80+4,80+24,50+13,00+28,40+29,50",null,119.7]
[null,null,"17,50+8,80+23,20",null,49.5]
[{"$f":"A380+1","v":140},"poz.7        ","Přístupová dvířka k ventilátorům a slaboproudým rozvodům v podhledu","ks",5,null,{"$f":"E385*F385","v":0}]
[{"$f":"A385+1","v":141},"poz.8        ","Přístupová dvířka 500x500mm k požárním klapkám na VZT v podhledu","kpl.",1,null,{"$f":"E386*F386","v":0}]
[{"$f":"A386+1","v":142},"poz.9        ","Přístupová dvířka 500x500mm k rozvodům SLP v podhledu","kpl.",1,null,{"$f":"E387*F387","v":0}]
["Díl:",770,"Kamenné obklady ",null,null,null,{"$f":"SUBTOTAL(9,G389:G394)","v":0}]
[{"$f":"A387+1","v":143},"770       Kp/6c","Mramorový kamenný obklad stěn  D+M poz.6","m2",24.1,null,{"$f":"E389*F389","v":0}]
[{"$f":"A389+1","v":144},"770       Kp/9a","Ostění nadpraží a parapet okna 1650/3200mm -ryolit repase - očištění,vytmelení a přebrouš.,impregnace","ks",2,null,0]
[{"$f":"A390+1","v":145},"770       Kp/9b","Ostění nadpraží a parapet okna 3100/3200mm -ryolit repase - očištění,vytmelení a přebrouš.,impregnace","ks",2,null,0]
[{"$f":"A391+1","v":146},"770       Kp/9c","Ostění nadpraží a parapet okna 4550/3200mm -ryolit repase - očištění,vytmelení a přebrouš.,impregnace","ks",1,null,0]
[{"$f":"A392+1","v":147},"770      Kp/13b","Parapet okna do dvora  2900/150/50 mm - ryolit repase - očištění,vytmelení a přebrouš.,impregnace","ks",9,null,0]
[{"$f":"A393+1","v":148},"770      Kp/13c","Parapet okna do dvora  4350/150/50 mm - ryolit repase - očištění,vytmelení a přebrouš.,impregnace","ks",2,null,0]
[null,"poznámka 1","Konstrukce  z kamene jsou kompletní výrobky dle popisu v tabulkách"," "]
[null,"poznámka 2","Konstrukce z kamene jsou vč.přesunu hmot "," "]

{"sheet":"02_SO 02 - Silnoproud","index":5,"n_rows":121,"n_cols":9,"rows_kept":121,"cut":false,"hidden":false,"merged":[[26,1,26,2],[26,3,26,4],[26,5,26,6],[26,7,26,8],[4,0,4,8],[24,1,24,2],[24,3,24,4],[24,5,24,6],[24,7,24,8],[27,1,27,2],[27,3,27,4],[27,5,27,6],[27,7,27,8],[28,1,28,2],[28,3,28,4],[28,5,28,6],[28,7,28,8],[31,1,31,2],[31,3,31,4],[31,5,31,6],[31,7,31,8],[29,1,29,2],[29,3,29,4],[29,5,29,6],[29,7,29,8],[30,1,30,2],[30,3,30,4],[30,5,30,6],[30,7,30,8],[33,7,33,8],[35,0,35,8],[37,5,37,6],[37,7,37,8],[39,5,39,6],[39,7,39,8],[110,5,110,6],[110,7,110,8],[114,5,114,6],[114,7,114,8],[69,5,69,6],[69,7,69,8],[88,5,88,6],[88,7,88,8],[101,5,101,6],[101,7,101,8]]}
[{"$f":"CONCATENATE('Rekapitulace stavby'!C53,\"_\",'Rekapitulace stavby'!I53)","v":"02_SO 02 - Silnoproudá elektroinstalace "}]
[]
["SPECIFIKACE DODÁVEK A PRACÍ "]
["Název akce:"]
[{"$f":"'Identifikační údaje'!B1","v":"ČRo Brno – III. etapa rekonstrukce budovy Beethovenova 25/4"}]
[]
["Zadavatel:",null,{"$f":"'Identifikační údaje'!B7","v":"Český rozhlas"}]
[null,"IČ:",{"$f":"'Identifikační údaje'!B9","v":45245053}]
[null,"DIČ:",{"$f":"'Identifikační údaje'!B10","v":"CZ45245053"}]
[]
["Projektant:",null,{"$f":"'Identifikační údaje'!B12","v":"Ing. arch. Klement Miloš"}]
[null,"IČ:",{"$f":"'Identifikační údaje'!B14","v":15188736}]
[null,"DIČ:",{"$f":"'Identifikační údaje'!B15","v":"CZ6101021344"}]
[]
["Uchazeč:",null,{"$f":"'Identifikační údaje'!E19","v":", ,  "}]
[null,"IČ:",{"$f":"'Identifikační údaje'!B23","v":0}]
[null,"DIČ:",{"$f":"'Identifikační údaje'!B24","v":0}]
[]
["Místo stavby:",null,{"$f":"'Identifikační údaje'!B3","v":"Budova Českého rozhlasu Brno na adrese Beethovenova 25/4, 657 42 Brno"}]
[]
["Datum:",null,{"$f":"'Identifikační údaje'!B5","v":"00:00:00"}]
[]
[{"$f":"CONCATENATE(\"REKAPITULACE DODÁVEK A PRACÍ OBJEKTU \",'Rekapitulace stavby'!I53)","v":"REKAPITULACE DODÁVEK A PRACÍ OBJEKTU SO 02 - Silnoproudá elektroinstalace "}]
[]
["P.č.","Ozn.",null,"Materiál celkem",null,"Montáž celkem",null,"M+M celkem"]
[]
[{"$f":"B40","v":"A."},{"$f":"C40","v":"Svítidla a příslušenství"},null,{"$f":"F40","v":0},null,{"$f":"H40","v":0},null,{"$f":"D27+F27","v":0}]
[{"$f":"B70","v":"B."},{"$f":"C70","v":"Spínače, zásuvky a ostatní přístroje "},null,{"$f":"F70","v":0},null,{"$f":"H70","v":0},null,0]
[{"$f":"B89","v":"C."},{"$f":"C89","v":"Instalační, úložný a ochranný materiál"},null,{"$f":"F89","v":0},null,{"$f":"H89","v":0},null,0]
[{"$f":"B102","v":"D."},{"$f":"C102","v":"Kabely a vodiče"},null,{"$f":"F102","v":0},null,{"$f":"H102","v":0},null,0]
[{"$f":"B111","v":"E."},{"$f":"C111","v":"Pospojování, uzemnění"},null,{"$f":"F111","v":0},null,{"$f":"H111","v":0},null,0]
[{"$f":"B115","v":"G."},{"$f":"C115","v":"Ostatní"},null,{"$f":"F115","v":0},null,{"$f":"H115","v":0},null,0]
[]
[{"$f":"CONCATENATE(\"CELKEM ZA OBJEKT \",'Rekapitulace stavby'!I53, \" v Kč bez DPH\")","v":"CELKEM ZA OBJEKT SO 02 - Silnoproudá elektroinstalace  v Kč bez DPH"},null,null,null,null,null,null,{"$f":"SUBTOTAL(9,H27:I32)","v":0}]
[]
["Textová, výkresová i tabulková část projektové dokumentace tvoří jeden vzájemně se doplňující a provázaný celek. Jednotliví účastníci výběrového řízení se musí seznámit s projektojektovou dokumentací v návaznosti na soupis prací a na základě těchto informací části díla nacenit. Dále je potřeba při stanovení ceny dle vykázané výměry započítat všechny předpokládané doplňkové prvky a činnosti s touto položkou související tak, aby cena byla kompletní a prvek funkční."]
[1]
[null,null,null,null,null,"Materiál",null,"Montáž"]
["poř.č.","položka","popis položky","MJ","množství","jedn.cena","celkem [Kč]","jedn.cena","celkem [Kč]"]
[null,"A.","Svítidla a příslušenství",null,null,{"$f":"SUBTOTAL(9,G42:G68)","v":0},null,{"$f":"SUBTOTAL(9,I42:I68)","v":0}]
[null,null," (komplet, včetně zdrojů, závěsů, pomocného materiálu, osazení zapojení, vyzkoušení apod.)"]
[1,null,"Svítidlo ON-AIR","ks",11,null,{"$f":"E42*F42","v":0},null,{"$f":"E42*H42","v":0}]
[{"$f":"A42+1","v":2},null,"svítidlo typ A10 - Svítidlo stropní přisazené, korpus Al, bílá barva, difuzor mikroprisma,Ø 300 mm, v=87 mm, LED 39W, 3000 K, 6000 lm, stmív. driver DALI","ks",16,null,0,null,0]
[3,null,"svítidlo typ A2 - Svítidlo stropní přisazené, bílá barva, Ø 90 mm, v=450 mm,  spodní část svítidla seříznuta pod úhlem 15°, LED 13W, 3000 K, 1330 lm, 30°","ks",15,null,0,null,0]
[4,null,"svítidlo typ A3 - Svítidlo stropní přisazené, bílá barva, Ø 90 mm, v=900 mm, spodní část svítidla seříznuta pod úhlem 15°, LED 13W, 3000 K, 1330 lm, 30°","ks",13,null,0,null,0]
[5,null,"svítidlo typ A4 - Svítidlo průmyslové, pro zářivku 2x58W, G13, EP","ks",1,null,0,null,0]
[6,null,"svítidlo typ A6 - Svítidlo stropní přisazené, bílá barva, difuzor opál, odsazený, Ø 130 mm, v=100 mm, LED 15W, 3000 K, 1280 lm, IP40","ks",2,null,0,null,0]
[7,null,"svítidlo typ B3 - Svítidlo stropní závěsné, pětiramenné, tvar dle historické předlohy,měděný korpus + nikl leštěný, difuzor sklo satin, 5x Ø 480 mm, svícení přímé LED 5x 40W, 3000 K, 5x 2520 lm, svícení nepřímé LED 5x10W, 3000 K, vč. Driverů","ks",1,null,{"$f":"E48*F48","v":0},null,{"$f":"E48*H48","v":0}]
[8,null,"svítidlo typ B4 - Svítidlo stropní závěsné, stříbrně šedá barva, difuzor mikroprisma, lankový závěs, Ø 610 mm, v=22 mm, svícení direct - indirect, LED 65W, 6783 lm, 4000 K, předřadník stmívatelný DALI","ks",2,null,0,null,0]
[9,null,"svítidlo typ B5 - Svítidlo stropní závěsné, Aluminium eloxované, difuzor PMMA opál / mikroprisma, lankový závěs, Ø 675 mm, v=15 mm, LED 54W, 4500 lm, 4000 K, předřadník stmívatelný DALI","ks",12,null,0,null,0]
[10,null,"svítidlo typ B6 - Svítidlo stropní závěsné, Aluminium eloxované, difuzor PMMA opál / mikroprisma, lankový závěs, Ø 675 mm, v=15 mm, LED 54W, 4500 lm, 4000 K, předřadník stmívatelný DALI","ks",6,null,0,null,0]
[11,null,"svítidlo typ B7-1 - Svítidlo stropní závěsné, korpus Al, bílá barva, difuzor mikroprisma,velikost 62x110x2556 mm, svícení direct-indirect, LED 45+35W, 4000 K, 8235+6405 lm, napájení, závěs 2m","ks",8,null,0,null,0]
[12,null,"svítidlo typ B8 - Svítidlo stropní závěsné, nerez leštěný, l=1612 mm, pro zářivku 1x58W, G13, EP","ks",1,null,0,null,0]
[13,null,"svítidlo typ C11 - Svítidlo vestavné do podhledu SDK, bílá barva, hluboce odsazený světelný zdroj, velikost 92x92 mm, vestavná hloubka 106mm, LED 7,5W, 4000 K, 1030 lm, 44°","ks",3,null,0,null,0]
[14,null,"svítidlo typ C12-1- Svítidlo vestavné do podhledu SDK, korpus a koncovky AL, bílá barva, difuzor mikroprisma, š=78 mm, l=1424 mm, vestavná hloubka 100 mm, LED 25W, 4000 K, 4350 lm, IP43- profil- difuzor- koncovky- LED- úchyt","ks",5,null,0,null,0]
[15,null,"svítidlo typ C4 - Svítidlo vestavné do podhledu SDK, bílá barva, difuzor mikroprisma, Ø 220 mm, vestavná hloubka 60 mm, LED 30W, 3000 K, 4650 lm, IP43","ks",8,null,0,null,0]
[16,null,"Svítidlo typ C13 - Svítidlo vestavné do podhledu SDK, korpus Al, bílá barva, difuzor opál - odsazený, Ø 110 mm, vestavná hloubka 70 mm, LED SMD 2835, 13W, 3000 K, 925 lm, 90°, IP54","ks",5,null,0,null,0]
[17,null,"svítidlo typ C5 - Svítidlo vestavné do podhledu SDK, bílá barva, odsazený opálový difuzor, Ø 220 mm, vestavná hloubka 90 mm, LED 30W, 3000 K, 4650 lm, IP43","ks",4,null,0,null,0]
[18,null,"svítidlo typ C6 - Svítidlo vestavné do podhledu SDK, bílá barva, hluboce utopený světelný zdroj, UGR 13,6, Ø 108 mm, vestavná hloubka 120 mm, LED 7,5W, 4000K, 1030 lm","ks",6,null,0,null,0]
[19,null,"svítidlo typ C7 - Svítidlo vestavné do podhledu SDK, bílá barva, hluboce utopený světelný zdroj, UGR 13,6, Ø 108 mm, vestavná hloubka 120 mm, LED 7,5W, 4000K, 1030 lm","ks",9,null,0,null,0]
[20,null,"svítidlo typ C9 - Svítidlo vestavné do podhledu SDK, bílá barva odsazený opálový difuzor, Ø 175 mm, vestavná hloubka 70 mm, LED 20W, 3000 K, 1700 lm, IP54","ks",15,null,0,null,0]
[21,null,"svítidlo typ D2 - Svítidlo nástěnné, kopie původního svítidla, korpus mosaz, povrch lesklý nikl, difuzor sklo opál, Ø 200 mm, vyložení 300 mm, 1xE27, 40W max","ks",8,null,0,null,0]
[22,null,"svítidlo typ D5 - Svítidlo nástěnné, svícení direct - indirect, Al + difuzor opál 2x, 42x85x1200 mm, LED 14,4W/m, 3000K, 1060 lm/m, 24V, vč. Driveru","ks",1,null,0,null,0]
[23,null,"svítidlo typ D8 - Svítidlo přisazené, nerez leštěný, l=1012 mm, pro zářivku 1x30W, G13, EP","ks",2,null,0,null,0]
[24,null,"svítidlo typ E2 - Osvětlovací lišta, vestavná do nábytku, Al, š. 22 mm, vestav. hloubka 12 mm, difuzor opál, LED 12V, 12W/m, 3000 K, celková délka 1500 mm","ks",1,null,0,null,0]
[25,null,"svítidlo typ G1 - Svítidlo stojanové, černohnědá barva mat, stínidlo Al, difuzor opál PMMA, Ø 420 mm, celková výška 1500 mm, 3x E27, 3x20W max","ks",3,null,0,null,0]
[26,null,"svítidlo typ E1 Svítidlo pro prosvětlení stropu ze skleněných tvárnic (luxfer), Al profil 36x67 mm, celková délka 1200 mm, difuzor opál, LED 15W/m, 3000 K, 1440 lm/m, 24V, 240 ch/m","ks",27,null,0,null,0]
[27,null,"NOUZOVÉ OSVĚTLENÍ s připojením k CBS Inotec","ks",13,null,0,null,0]
[]
[null,"B.","Spínače, zásuvky a ostatní přístroje ",null,null,{"$f":"SUBTOTAL(9,G73:G87)","v":0},null,{"$f":"SUBTOTAL(9,I73:I87)","v":0}]
[null,null,"(komplet, včetně příslušenství, pomocného materiálu, osazení, zapojení, vyzkoušení apod.)"]
[null,null,"Návazně na předchozí etapy rekonstrukce budou osaztovány výrobky z řady ABB Time"]
[{"$f":"A68+1","v":28},null,"Domovní spínač řazení 1, komplet","ks",11,null,{"$f":"E73*F73","v":0},null,{"$f":"E73*H73","v":0}]
[29,null,"Domovní spínač řazení 5, komplet ","ks",6,null,0,null,0]
[30,null,"Domovní spínač řazení 6, komplet ","ks",16,null,0,null,0]
[31,null,"Domovní spínač řazení 6+6, komplet","ks",8,null,0,null,0]
[32,null,"Domovní spínač řazení 7, komplet ","ks",13,null,0,null,0]
[33,null,"Stmívač s otočným ovládáním","ks",4,null,0,null,0]
[34,null,"Zásuvkový box pro montáž na pracovní desku stolu 2x zásuvka 230V 16A","ks",10,null,0,null,0]
[35,null,"Zásuvkový box pro montáž pod pracovní desku stolu 3x zásuvka 230V 16A","ks",9,null,0,null,0]
[36,null,"Domovní zásuvka 230V 16A,napájení z trafa  komplet","ks",142,null,{"$f":"E81*F81","v":0},null,{"$f":"E81*H81","v":0}]
[37,null,"Domovní zásuvka 230V 16A,napájení z dieslu  komplet","ks",9,null,0,null,0]
[38,null,"Domovní zásuvka 230V 16A,napájení z UPS  komplet","ks",9,null,0,null,0]
[39,null,"Domovní zásuvka 230V 16A s vestavěnou přepěťovou ochranou ,napájení z trafa  komplet","ks",8,null,0,null,0]
[40,null,"Napojení SLP zařízení 230V, dle montážního návodu ","ks",12,null,0,null,0]
[41,null,"Napojení sporáku (varné desky) přes odbočnou krabici KO100","ks",1,null,0,null,0]
[42,null,"Podlahová krabice 6modulů vlhká údržba podlahy 4x zásuvka 230V 16A, 2x rezerva SLP","ks",7,null,0,null,0]
[]
[null,"C.","Instalační, úložný a ochranný materiál",null,null,{"$f":"SUBTOTAL(9,G90:G100)","v":0},null,{"$f":"SUBTOTAL(9,I89:I100)","v":0}]
[null,null," (komplet, včetně příslušenství, pomocného materiálu, výkopu, záhozu výkopu, vytyčení trasy, osazení, zapojení, vyzkoušení apod.)"]
[{"$f":"A87+1","v":43},null,"Krabice přístrojová","ks",226,null,{"$f":"E91*F91","v":0},null,{"$f":"E91*H91","v":0}]
[{"$f":"A91+1","v":44},null,"Krabice odbočná včetně wago svorek","ks",100,null,{"$f":"E92*F92","v":0},null,{"$f":"E92*H92","v":0}]
[45,null,"Odbočná krabice pro připojení elektroinstalace ve stolech komplet včetně víčka a wago svorek. Z krabice 2x vývod tr25mm pod stůl","ks",11,null,{"$f":"E93*F93","v":0},null,{"$f":"E93*H93","v":0}]
[46,null,"Kanál pro uložení vedení v duté podlaze","m",25,null,{"$f":"E94*F94","v":0},null,{"$f":"E94*H94","v":0}]
[47,null,"Elektroinstalační trubka 25mm v podlaze","m",20,null,{"$f":"E95*F95","v":0},null,{"$f":"E95*H95","v":0}]
[48,null,"Elektroinstalační trubka 50mm průchod stěnou v duté podlaze","m",15,null,0,null,0]
[49,null,"Kabelový drátový žlab 200x100 včetně příslušenství a závěsů","m",50,null,0,null,0]
[50,null,"Lišta vkládací montáž na nábytek 18x13","m",20,null,0,null,0]
[51,null,"Vývod pro připojení elektroinstalace ve stolech režie a studia komplet ","ks",22,null,0,null,0]
[52,null,"Krabice odbočná včetně wago svorek s funkční schopností při požáru","ks",13,null,0,null,0]
[]
[null,"D.","Kabely a vodiče",null,null,{"$f":"SUBTOTAL(9,G103:G109)","v":0},null,{"$f":"SUBTOTAL(9,I102:I109)","v":0}]
[null,null,"(komplet, včetně vyhotovení drážky, zapravení drážky, vytyčení trasy, pomocného materiálu, příchytek, spojek, odlehčovacích oblouků, zapojení, vyzkoušení apod.)"]
[{"$f":"A100+1","v":53},null,"CYKY J 3x1,5","m",1100,null,{"$f":"E104*F104","v":0},null,{"$f":"E104*H104","v":0}]
[{"$f":"A104+1","v":54},null,"CYKY J 3x2,5","m",2000,null,0,null,0]
[{"$f":"A105+1","v":55},null,"CYKY J 5x2,5","m",110,null,0,null,0]
[{"$f":"A106+1","v":56},null,"CYKY O 3x1,5","m",350,null,0,null,0]
[{"$f":"A107+1","v":57},null,"Kabel H05VV-F 3Gx2,5","m",40,null,0,null,0]
[{"$f":"A108+1","v":58},null,"Rozvody pro NO kabel s funkční schopností P60R -O 3x1,5  B2CAS1D0","m",80,null,0,null,0]
[]
[null,"E.","Pospojování, uzemnění",null,null,{"$f":"SUBTOTAL(9,G112:G113)","v":0},null,{"$f":"SUBTOTAL(9,I111:I113)","v":0}]
[null,null,"(komplet, včetně příslušenství, svorek, pomocného materiálu, osazení, zapojení, vyzkoušení apod.) "]
[{"$f":"A109+1","v":59},null,"Vodič CYA4 žlutozelený včetně svorek - doplňkové pospojení","m",50,null,{"$f":"E113*F113","v":0},null,{"$f":"E113*H113","v":0}]
[]
[null,"G.","Ostatní",null,null,{"$f":"SUBTOTAL(9,G116:G121)","v":0},null,{"$f":"SUBTOTAL(9,I115:I121)","v":0}]
[{"$f":"A113+1","v":60},null,"Výchozí revize","hod",20,null,{"$f":"E116*F116","v":0},null,{"$f":"E116*H116","v":0}]
[{"$f":"A116+1","v":61},null,"Demontáže včetně likvidace odpadu","hod",150,null,{"$f":"E117*F117","v":0},null,0]
[{"$f":"A117+1","v":62},null,"Stavební přípomoce ","kpl",1," ---"," ---",null,0]
[{"$f":"A118+1","v":63},null,"Pomocný a podružný materiál upevňovací","kpl",1,null,{"$f":"E119*F119","v":0},null,0]
[{"$f":"A119+1","v":64},null,"Zednické výpomoci (PPV)","kpl",1," ---"," ---",null,0]
[{"$f":"A120+1","v":65},null,"Doprava materiálu","kpl",1," ---"," ---",null,0]

{"sheet":"03_SO 02 - VZT","index":6,"n_rows":131,"n_cols":10,"rows_kept":131,"cut":false,"hidden":false,"merged":[[16,9,19,9],[17,5,17,6],[17,7,17,8],[18,3,19,3],[18,4,19,4],[16,0,19,0],[16,1,19,1],[16,2,19,2],[16,3,17,4],[16,5,16,8],[26,0,26,9],[36,0,36,1],[36,7,36,9],[40,0,43,0],[40,1,43,1],[40,2,43,2],[40,3,41,4],[40,5,40,8],[40,9,43,9],[42,3,43,3],[42,4,43,4],[50,0,50,4],[50,5,50,6],[56,0,59,0],[56,1,59,1],[56,2,59,2],[56,3,57,4],[56,5,56,8],[56,9,59,9],[58,3,59,3],[58,4,59,4],[85,0,85,4],[85,5,85,6],[88,9,91,9],[90,3,91,3],[90,4,91,4],[117,0,117,4],[117,5,117,6],[88,0,91,0],[88,1,91,1],[88,2,91,2],[88,3,89,4],[88,5,88,8],[120,9,123,9],[122,3,123,3],[122,4,123,4],[130,0,130,4],[130,5,130,6],[120,0,123,0],[120,1,123,1],[120,2,123,2],[120,3,121,4],[120,5,120,8]]}
[{"$f":"CONCATENATE('Rekapitulace stavby'!C54,\"_\",'Rekapitulace stavby'!I54)","v":"03_SO 02 - Vzduchotechnika a chlazení"}]
[]
["SPECIFIKACE DODÁVEK A PRACÍ "]
["Název akce:"]
[{"$f":"'Identifikační údaje'!B1","v":"ČRo Brno – III. etapa rekonstrukce budovy Beethovenova 25/4"}]
[]
["Zadavatel:",null,{"$f":"'Identifikační údaje'!E7","v":"Český rozhlas, Vinohradská 12, 120 99 Praha 2"},"Projektant:",null,{"$f":"'Identifikační údaje'!E12","v":"Ing. arch. Klement Miloš, Nejedlého 381/19, 638 00 Brno - Lesná"}]
[null,"IČ",{"$f":"'Identifikační údaje'!B9","v":45245053},null,"IČ",{"$f":"'Identifikační údaje'!B14","v":15188736}]
[null,"DIČ",{"$f":"'Identifikační údaje'!B10","v":"CZ45245053"},null,"DIČ",{"$f":"'Identifikační údaje'!B15","v":"CZ6101021344"}]
[]
["Uchazeč:",null,{"$f":"'Identifikační údaje'!E19","v":", ,  "},"Místo stavby:",null,{"$f":"'Identifikační údaje'!B3","v":"Budova Českého rozhlasu Brno na adrese Beethovenova 25/4, 657 42 Brno"}]
[null,"IČ",{"$f":"'Identifikační údaje'!B23","v":0}]
[null,"DIČ",{"$f":"'Identifikační údaje'!B24","v":0}]
[]
["Datum:",null,{"$f":"'Identifikační údaje'!B5","v":"00:00:00"}]
[]
["P.Č.","Č.Z"," Popis položky:","Měrná jednotka",null,"Cena",null,null,null,"Poznámka"]
[null,null,null,null,null,"Jednotková",null,"Celkem"]
[null,null,null,"-","počet","Dodávka","Montáž","Dodávka","Montáž"]
[null,null,null,null,null,"[ Kč ]","[ Kč ]","[ Kč ]","[ Kč ]"]
[null,null,{"$f":"CONCATENATE(\"REKAPITULACE OBJEKTU \",'Rekapitulace stavby'!I54)","v":"REKAPITULACE OBJEKTU SO 02 - Vzduchotechnika a chlazení"}]
[1,"2.3",{"$f":"C45","v":"Zařízení č.2.3 - Větrání a chlazení – studio S6 a studio S6 – přízemí (místnost č.P06, P07) - příprava na XI. TSK"},"kpl",1," - "," - ",{"$f":"H51","v":0},{"$f":"I51","v":0},"-"]
[2,"2.4",{"$f":"C61","v":"Zařízení č.2.4 - Větrání a chlazení – režie A studio A – mezipatro"},"kpl",1," -"," -",{"$f":"H86","v":0},{"$f":"I86","v":0},"-"]
[3,"2.5",{"$f":"C93","v":"Zařízení č.2.5 - Větrání a chlazení – režie B studio B – mezipatro"},"kpl",1," -"," -",{"$f":"H118","v":0},{"$f":"I118","v":0},"-"]
[4,"9",{"$f":"C125","v":"Zařízení č.9 - Chlazení místnosti s RACC M25"},"kpl",1," -"," -",{"$f":"H131","v":0},{"$f":"I131","v":0},"-"]
[null,null,"Mezisoučet",null,null,null,null,{"$f":"SUM(H22:H25)","v":0},{"$f":"SUM(I22:I25)","v":0},"Kč bez DPH"]
[]
[{"$f":"A25+1","v":5},"-","Protipožární ucpávky","ks",16,null,null,{"$f":"E28*F28","v":0},{"$f":"E28*G28","v":0},"-"]
[{"$f":"A28+1","v":6},"-","Doprava","kpl",1,null,null,null,{"$f":"E29*G29","v":0},"-"]
[7,"-","Přesuny","kpl",1,null,null,null,0,"-"]
[8,"-","Uvedení do provozu, zaregulování, vyzkoušení, předávací řízení","kpl",1,null,null,null,0,"-"]
[9,"-","Inženýrská a koordinační činnost","kpl",1,null,null,null,0,"-"]
[10,"-","Dílenská a výrobní projektová dokumentace","kpl",1,null,null,null,0,"-"]
[11,"-","Dokumentace konečného provedení, návody, atesty, prohlášení o shodě","kpl",1,null,null,null,0,"-"]
[null,null,"Mezisoučet",null,null,null,null,{"$f":"SUM(H28:H34)","v":0},{"$f":"SUM(I28:I34)","v":0},"Kč bez DPH"]
[]
["CELKEM D+M",null,{"$f":"CONCATENATE(\"OBJEKTU \",'Rekapitulace stavby'!I54,\" v Kč bez DPH\")","v":"OBJEKTU SO 02 - Vzduchotechnika a chlazení v Kč bez DPH"},null,null,null,null,{"$f":"H26+H35+I26+I35","v":0}]
[]
[]
[]
["P.Č.","Č.P."," Popis položky:","Měrná jednotka",null,"Cena",null,null,null,"Poznámka"]
[null,null,null,null,null,"Jednotková cena",null,"Celková cena"]
[null,null,null,"-","počet","Dodávka","Montáž","Dodávka","Montáž"]
[null,null,null,null,null,"[ Kč ]","[ Kč ]","[ Kč ]","[ Kč ]"]
[null,null,"Zařízení č.2.3 - Větrání a chlazení – studio S6 a studio S6 – přízemí (místnost č.P06, P07) - příprava na XI. TSK"]
[{"$f":"A34+1","v":12},"2.3.1","Větrací jednotka - referenční výrobek Systemair KA HSI-2/1,5-S-R-50 ve vnitřním provedení ve složení:","ks",1,null,null,{"$f":"E46*F46","v":0},{"$f":"E46*G46","v":0}]
[null,null,"Přívod: klapka, směšovací komora, filtr G4, "]
[null,null,"ventilátor (1500m3/h, 350Pa), ohřívač vodní, chladič - přímé chlazení, filtr F7 "]
[null,null,"včetně tlumících manžet a rámu"]
[null,null,"dodávka v rozloženém stavu"]
[{"$f":"CONCATENATE(C45,\" - celkem\")","v":"Zařízení č.2.3 - Větrání a chlazení – studio S6 a studio S6 – přízemí (místnost č.P06, P07) - příprava na XI. TSK - celkem"},null,null,null,null,null,null,{"$f":"SUM(H46:H50)","v":0},{"$f":"SUM(I46:I50)","v":0},"bez DPH"]
[]
[]
[]
[]
[]
["P.Č.","Č.P."," Popis položky:","Měrná jednotka",null,"Cena",null,null,null,"Poznámka"]
[null,null,null,null,null,"Jednotková cena",null,"Celková cena"]
[null,null,null,"-","počet","Dodávka","Montáž","Dodávka","Montáž"]
[null,null,null,null,null,"[ Kč ]","[ Kč ]","[ Kč ]","[ Kč ]"]
[null,null,"Zařízení č.2.4 - Větrání a chlazení – režie A studio A – mezipatro"]
[{"$f":"A46+1","v":13},"2.4.1","Větrací jednotka - referenční výrobek KA HSI-2/1-S-R-50 ve vnitřním provedení ve složení:","ks",1,null,null,{"$f":"E62*F62","v":0},{"$f":"E62*G62","v":0}]
[null,null,"Přívod: klapka, směšovací komora, filtr G4, "]
[null,null,"ventilátor (800m3/h, 350Pa), ohřívač vodní, chladič - přímé chlazení, filtr F7 "]
[null,null,"včetně tlumících manžet"]
[null,null,"dodávka v rozloženém stavu"]
[{"$f":"A62+1","v":14},"2.4.2","Venkovní kondenzační jednotka Standard Invertor - referenční výrobek UU18W.UE4","ks",1,null,null,{"$f":"E67*F67","v":0},{"$f":"E67*G67","v":0}]
[{"$f":"A67+1","v":15},null,"Řídící box - referenční výrobek KM113.05OU","ks",1,null,null,{"$f":"E68*F68","v":0},{"$f":"E68*G68","v":0}]
[{"$f":"A68+1","v":16},null,"Předizolované Cu potrubí včetně prodrátování a zalištování","bm",40,null,null,0,0]
[17,null,"Doplnění chladiva R410A","kg",1,null,null,0,0]
[18,"2.4.3","Odporový parní vyvíječ - referenční výrobek Flair Condair RS Visual 5","ks",1,null,null,0,0]
[19,null,"Trubice 81-500 (min.šíře potrubí 550mm)","ks",1,null,null,0,0]
[20,null,"Parní hadice Condair - referenční výrobek DS80 (D=57/45mm)","bm",4,null,null,0,0]
[21,null,"Kondenzační hadice KS 10 (D=12/8mm)","bm",4,null,null,0,0]
[22,"2.4.4","Regulační klapka - referenční výrobek RKN 300 x 200 na servo - servopohon dodávka MaR","ks",2,null,null,0,0]
[23,null,"Regulační klapka - referenční výrobek RKN 200 x 200 na servo - servopohon dodávka MaR","ks",2,null,null,0,0]
[24,"2.4.5","Tlumič hluku - referenční výrobek JTH 300/300/1000","ks",2,null,null,0,0]
[25,"2.4.6","Tlumič hluku - referenční výrobek JTH 200/300/1000","ks",12,null,null,0,0]
[26,"2.4.7","Výustka - referenční výrobek NOVA - A - 2 - 1 - 1000 x 150 - R1 - nátěr RAL……","ks",2,null,null,0,0]
[27,"2.4.8","Výustka - referenční výrobek NOVA - A - 1 - 1 - 500 x 300 - R1 - nátěr RAL……","ks",6,null,null,0,0]
[28,null,"Čtyřhranné ocel. potrubí sk. I včetně tvarovek","m2",93,null,null,0,0]
[29,null,"Černý nátěr potrubí","m2",48,null,null,0,0]
[30,null,"Tep a protihluk.izol.tl. 4 cm - iz. deskami nebo pásy","m2",36,null,null,0,0]
[31,null,"Těžká hluková izolace - referenční výrobek Orstech 65H - tl. 4 cm - iz. deskami nebo pásy - provedení dle požadavku profese akustika","m2",58,null,null,0,0]
[]
[{"$f":"CONCATENATE(C61,\" - celkem\")","v":"Zařízení č.2.4 - Větrání a chlazení – režie A studio A – mezipatro - celkem"},null,null,null,null,null,null,{"$f":"SUM(H62:H84)","v":0},{"$f":"SUM(I62:I84)","v":0},"bez DPH"]
[]
[]
["P.Č.","Č.P."," Popis položky:","Měrná jednotka",null,"Cena",null,null,null,"Poznámka"]
[null,null,null,null,null,"Jednotková cena",null,"Celková cena"]
[null,null,null,"-","počet","Dodávka","Montáž","Dodávka","Montáž"]
[null,null,null,null,null,"[ Kč ]","[ Kč ]","[ Kč ]","[ Kč ]"]
[null,null,"Zařízení č.2.5 - Větrání a chlazení – režie B studio B – mezipatro"]
[{"$f":"A84+1","v":32},null,"Větrací jednotka - referenční výrobek Systemair KA HSI-2/1-S-R-50 ve vnitřním provedení ve složení:","ks",1,null,null,{"$f":"E94*F94","v":0},{"$f":"E94*G94","v":0}]
[null,null,"Přívod: klapka, směšovací komora, filtr G4, "]
[null,null,"ventilátor (800m3/h, 350Pa), ohřívač vodní, chladič - přímé chlazení, filtr F7 "]
[null,null,"včetně tlumících manžet"]
[null,null,"dodávka v rozloženém stavu"]
[{"$f":"A94+1","v":33},null,"Venkovní kondenzační jednotka Standard Invertor - referenční výrobek UU18W.UE4","ks",1,null,null,{"$f":"E99*F99","v":0},{"$f":"E99*G99","v":0}]
[{"$f":"A99+1","v":34},null,"Řídící box - referenční výrobek KM113.05OU","ks",1,null,null,{"$f":"E100*F100","v":0},{"$f":"E100*G100","v":0}]
[{"$f":"A100+1","v":35},null,"Předizolované Cu potrubí včetně prodrátování a zalištování","bm",40,null,null,0,0]
[36,null,"Doplnění chladiva R410A","kg",1,null,null,0,0]
[37,null,"Odporový parní vyvíječ - referenční výrobek Flair Condair RS Visual 5","ks",1,null,null,0,0]
[38,null,"Trubice 81-500 (min.šíře potrubí 550mm)","ks",1,null,null,0,0]
[39,null,"Parní hadice Condair - referenční výrobek DS80 (D=57/45mm)","bm",4,null,null,0,0]
[40,null,"Kondenzační hadice KS 10 (D=12/8mm)","bm",4,null,null,0,0]
[41,null,"Regulační klapka - referenční výrobek RKN 300 x 200 na servo - servopohon dodávka MaR","ks",4,null,null,0,0]
[42,null,"Tlumič hluku - referenční výrobek JTH 300/300/1000","ks",4,null,null,0,0]
[43,null,"Tlumič hluku - referenční výrobek JTH 200/300/1000","ks",8,null,null,0,0]
[44,null,"Výustka - referenční výrobek NOVA - A - 2 - 1 - 1000 x 150 - R1 - nátěr RAL……","ks",2,null,null,0,0]
[45,null,"Výustka - referenční výrobek NOVA - A - 1 - 1 - 500 x 300 - R1 - nátěr RAL……","ks",6,null,null,0,0]
[46,null,"Stěnová mřížka - referenční výrobek NOVA - L - 1 - 1 - 500 x 200 - 20,0","ks",8,null,null,0,0]
[47,null,"Čtyřhranné ocel. potrubí sk. I včetně tvarovek","m2",56,null,null,0,0]
[48,null,"Černý nátěr potrubí","m2",40,null,null,0,0]
[49,null,"Tep a protihluk.izol.tl. 4 cm - iz. deskami nebo pásy","m2",28,null,null,0,0]
[50,null,"Těžká hluková izolace - referenční výrobek Orstech 65H - tl. 4 cm - iz. deskami nebo pásy - provedení dle požadavku profese akustika","m2",30,null,null,0,0]
[]
[{"$f":"CONCATENATE(C93,\" - celkem\")","v":"Zařízení č.2.5 - Větrání a chlazení – režie B studio B – mezipatro - celkem"},null,null,null,null,null,null,{"$f":"SUM(H94:H116)","v":0},{"$f":"SUM(I94:I116)","v":0},"bez DPH"]
[]
[]
["P.Č.","Č.P."," Popis položky:","Měrná jednotka",null,"Cena",null,null,null,"Poznámka"]
[null,null,null,null,null,"Jednotková cena",null,"Celková cena"]
[null,null,null,"-","počet","Dodávka","Montáž","Dodávka","Montáž"]
[null,null,null,null,null,"[ Kč ]","[ Kč ]","[ Kč ]","[ Kč ]"]
[null,null,"Zařízení č.9 - Chlazení místnosti s RACC M25"]
[{"$f":"A116+1","v":51},"9.1","Venkovní kondenzační jednotka - referenční výrobek UJ36W UO2","ks",2,null,null,{"$f":"E126*F126","v":0},{"$f":"E126*G126","v":0}]
[{"$f":"A126+1","v":52},null,"Nástěnná jednotka Standard Invertor - referenční výrobek UJ36 NV2 včetně infraovladače","ks",2,null,null,{"$f":"E127*F127","v":0},{"$f":"E127*G127","v":0}]
[{"$f":"A127+1","v":53},null,"Předizolované Cu potrubí včetně prodrátování a zalištování","ks",60,null,null,{"$f":"E128*F128","v":0},{"$f":"E128*G128","v":0}]
[]
[]
[{"$f":"CONCATENATE(C125,\" - celkem\")","v":"Zařízení č.9 - Chlazení místnosti s RACC M25 - celkem"},null,null,null,null,null,null,{"$f":"SUM(H126:H130)","v":0},{"$f":"SUM(I126:I130)","v":0},"bez DPH"]

{"sheet":"04_SO 02 - akustika","index":7,"n_rows":83,"n_cols":11,"rows_kept":83,"cut":false,"hidden":false,"merged":[[82,8,82,9],[26,8,26,9],[27,8,27,9],[28,8,28,9],[30,8,30,9],[58,8,58,9],[66,8,66,9]]}
[{"$f":"CONCATENATE('Rekapitulace stavby'!C55,\"_\",'Rekapitulace stavby'!I55)","v":"04_SO 02 - Akustika"}]
[]
["SPECIFIKACE DODÁVEK A PRACÍ "]
["Název akce:"]
[{"$f":"'[2]Identifikační údaje'!B1","v":"ČRo Brno – rekonstrukce suterénu a studiového komplexu v přízemí budovy"}]
[]
["Zadavatel:",null,{"$f":"'Identifikační údaje'!B7","v":"Český rozhlas"}]
[null,"IČ:",{"$f":"'Identifikační údaje'!B9","v":45245053}]
[null,"DIČ:",{"$f":"'Identifikační údaje'!B10","v":"CZ45245053"}]
[]
["Projektant:",null,{"$f":"'Identifikační údaje'!B12","v":"Ing. arch. Klement Miloš"}]
[null,"IČ:",{"$f":"'Identifikační údaje'!B14","v":15188736}]
[null,"DIČ:",{"$f":"'Identifikační údaje'!B15","v":"CZ6101021344"}]
[]
["Uchazeč:",null,{"$f":"'Identifikační údaje'!E19","v":", ,  "}]
[null,"IČ:",{"$f":"'Identifikační údaje'!B23","v":0}]
[null,"DIČ:",{"$f":"'Identifikační údaje'!B24","v":0}]
[]
["Místo stavby:",null,{"$f":"'Identifikační údaje'!B3","v":"Budova Českého rozhlasu Brno na adrese Beethovenova 25/4, 657 42 Brno"}]
[]
["Datum:",null,{"$f":"'Identifikační údaje'!B5","v":"00:00:00"}]
[]
[{"$f":"CONCATENATE(\"REKAPITULACE DODÁVEK A PRACÍ OBJEKTU \",'Rekapitulace stavby'!I55)","v":"REKAPITULACE DODÁVEK A PRACÍ OBJEKTU SO 02 - Akustika"}]
[]
["P.č.",null,"Ozn.","Název položky",null,null,null,null,"Kč bez DPH"]
[]
["Díl:",{"$f":"A51","v":1},null,{"$f":"D51","v":"Akustické úpravy stěn"},null,null,null,null,{"$f":"I59","v":0}]
["Díl:",{"$f":"A62","v":2},null,{"$f":"D62","v":"Akustické úpravy stropu"},null,null,null,null,{"$f":"I67","v":0}]
["Díl:",{"$f":"A70","v":3},null,{"$f":"D70","v":"Akustická měření a projekční činnost"},null,null,null,null,{"$f":"I83","v":0}]
[]
[{"$f":"CONCATENATE(\"CELKEM ZA OBJEKT \",'Rekapitulace stavby'!I55, \" v Kč bez DPH\")","v":"CELKEM ZA OBJEKT SO 02 - Akustika v Kč bez DPH"},null,null,null,null,null,null,null,{"$f":"SUM(I27:J29)","v":0}]
[]
[]
[]
["Poznámky:"]
["V ceně je obsažena komplexní dodávka a montáž včetně dopravy, přesunu hmot, VRN a hrubého úklidu staveniště."]
["V ceně akustických obkladů jsou obsaženy také všechny obložky a zakončení s ním související."]
["Všechny výše uvedené rozměry je nutné před zahájením vlastní výroby ověřit zaměřením přímo na stavbě."]
[]
[]
[]
[]
[]
[]
[]
[]
[]
[]
[]
[]
[1,null,null,"Akustické úpravy stěn"]
["Čís. pol.","Zkratka","Název položky",null,null,null,"MJ","množství","jednotková cena ","celkem [Kč]","Technické specifikace, technické a uživatelské standardy stavby, podrobný popis položky"]
[1,"RS","Rezonátor stěnový",null,null,null,"m2",25,null,{"$f":"I53*H53","v":0},"akustický prvek se zvýrazněnou pohltivostí v úzkém pásmu nízkých\nfrekvencí s mírnou působností i na středních a vyšších frekvencích;\njedná se o prvek na bázi dřeva uzavřeného objemu a s rezonanční\nštěrbinou, která je orientována směrem k podlaze; rubová strana\nštěrbiny je překryta pruzvučnou textilií; vnitřní dutina je zatlumena\nabsorpčním materiálem; šířka a hloubka štěrbiny, vlastnosti a množství\nabsorpčního materiálu v dutině dle požadovaných hodnot činitele\nzvukové pohltivosti;\nPožadovaný činitel zvukové pohltivosti v oktávových pásmech:\n125 Hz - a » 0,6; 250 Hz - a » 0,4; 500 Hz - a » 0,35; 1000 Hz - a » 0,3;\n2000 Hz - a » 0,25; 4000 Hz - a » 0,2\nšiřka stykové spáry 3-5 mm; skryté kotevní prvky; povrchová úprava přírodní dýha - javor, jasan nebo dub dle výběru architekta z předložených vzorků; požadavky PBŘ: nebudou použity\nvýrobky, které při požáru jako hořící odkapávají nebo odpadávají (při\nzkoušce dle ČSN 730865);"]
[{"$f":"A53+1","v":2},"KPS","Kmitající panel",null,null,null,"m2",11.7,null,0,"akustický prvek se zvýrazněnou pohltivostí v úzkém pásmu nízkých\nfrekvencí; panel je tvořen tenkou čelní deskou na bázi dřeva pružně\nuchycenou k podkladnímu nosnému roštu, prvek má uzavřený objem; v\ndutině je vložen absorpční materiál v množství a s parametry dle\npožadovaných hodnot činitele zvukové pohltivosti\nPožadovaný činitel zvukové pohltivosti v oktávových pásmech:\n125 Hz - a » 0,5; 250 Hz - a » 0,18; 500 Hz - a » 0,09; 1000 Hz - a »\n0,07; 2000 Hz - a » 0,09; 4000 Hz - a » 0,12\nšiřka stykové spáry 3-5 mm; skryté kotevní prvky; povrchová úprava\npřírodní dýha - javor, jasan nebo dub dle výběru architekta z předložených vzorků; požadavky PBŘ: nebudou použity\nvýrobky, které při požáru jako hořící odkapávají nebo odpadávají (při\nzkoušce dle ČSN 730865);"]
[{"$f":"A54+1","v":3},"LA","Laťový absorbér",null,null,null,"m2",65.400000000000006,null,0,"laťový absorpční prvek s pohltivostí v celém kmitočtovém pásmu s\nmaximem zvukové pohltivosti na nízkých a středních kmitočtech; jedná\nse o prvek na bázi dřeva; lícová strana prvku je tvořena lamelami\ntloušťky 20 mm a šířky 20 - 60 mm; latě tvoří 60-70 % plochy prvku;\ninstalace na vyrovnávací norný rošt; v dutině za obkadem je vložen\nabsorpční materiál v množství a s parametry dle požadovaných\nakustických vlastností;\nPožadovaný činitel zvukové pohltivosti v oktávových pásmech:\n125 Hz - a » 0,72; 250 Hz - a » 0,78; 500 Hz - a » 0,85; 1000 Hz - a »\n0,75; 2000 Hz - a » 0,6; 4000 Hz - a » 0,5\nšiřka stykové spáry 3-5 mm; skryté kotevní prvky; povrchová úprava\npřírodní dýha - javor, jasan nebo dub dle výběru architekta z předložených vzorků; požadavky PBŘ: nebudou použity\nvýrobky, které při požáru jako hořící odkapávají nebo odpadávají (při\nzkoušce dle ČSN 730865);"]
[{"$f":"A55+1","v":4},"VP","Vykrývací panely",null,null,null,"m2",45.3,null,0,"rovné obkladové desky na bázi dřeva kotvené na vyrovnávací nosný\nrastr sloužící pro vizuální sjednocení ploch; v dutině za obkadem je\nvložen absorpční materiál v množství a s parametry dle požadovaných\nakustických vlastností;\nPožadovaný činitel zvukové pohltivosti v oktávových pásmech:\n125 Hz - a » 0,15-0,2\npovrchová úprava přírodní dýha - javor, jasan nebo dub dle výběru architekta z předložených vzorků; požadavky PBŘ:\nnebudou použity výrobky, které při požáru jako hořící odkapávají nebo\nodpadávají (při zkoušce dle ČSN 730865);"]
[{"$f":"A56+1","v":5},"SO","Sokl",null,null,null,"bm",52,null,0,"rovné obkladové desky výšky 150 mm z materiálu na bázi dřeva kotvené\nk nosnému roštu;\npovrchová úprava přírodní dýha - javor, jasan nebo dub dle výběru architekta z předložených vzorků; požadavky PBŘ:\nnebudou použity výrobky, které při požáru jako hořící odkapávají nebo\nodpadávají (při zkoušce dle ČSN 730865);"]
[{"$f":"A57+1","v":6},"RO","D+M - režijní okno se zvýšenou neprůzvučností",null,null,null,"ks",3,null,0,"jedná se o atypické režijní okno se zvýšenou vzduchovou neprůzvučností tvořené dvěma skly usazenými šikmo pod úhlem 12°; skla mají tloušťku 10 mm a 14 až 16 mm; skla jsou v rámu pružně umístěna v pryžovém loži; vnitřní prostor mezi skly je po celém obvodu zatlumen polyuretanovou pěnou tl. 30 až 40 mm; více viz výkresová příloha"]
[{"$f":"CONCATENATE(\"Celkem Kč bez DPH za \",A51,\" - \",D51)","v":"Celkem Kč bez DPH za 1 - Akustické úpravy stěn"},null,null,null,null,null,null,null,{"$f":"SUM(J53:J58)","v":0}]
[]
[]
[2,null,null,"Akustické úpravy stropu"]
["Čís. pol.","Zkratka","Název položky",null,null,null,"MJ","množství","jednotková cena ","celkem [Kč]","Technické specifikace, technické a uživatelské standardy stavby, podrobný popis položky"]
[{"$f":"A58+1","v":7},"RP","Rezonátor podhledový",null,null,null,"m2",12.3,null,{"$f":"I64*H64","v":0},"akustický prvek se zvýrazněnou pohltivostí v úzkém pásmu nízkých\nfrekvencí s mírnou působností i na středních a vyšších frekvencích;\njedná se o prvek na bázi dřeva uzavřeného objemu a s rezonanční\nštěrbinou, která je v čelní desce prvku; rubová strana štěrbiny je\npřekryta pruzvučnou textilií; vnitřní dutina je zatlumena absorpčním\nmateriálem; šířka a hloubka štěrbiny, vlastnosti a množství\nabsorpčního materiálu v dutině dle požadovaných hodnot činitele\nzvukové pohltivosti; umístění podél obvodu místností\nPožadovaný činitel zvukové pohltivosti v oktávových pásmech:\n125 Hz - a » 0,6; 250 Hz - a » 0,4; 500 Hz - a » 0,35; 1000 Hz - a »\n0,3; 2000 Hz - a » 0,25; 4000 Hz - a » 0,2\nšiřka stykové spáry 3-5 mm; skryté kotevní prvky; povrchová úprava přírodní dýha - javor, jasan nebo dub dle výběru architekta z předložených vzorků; požadavky PBŘ: nebudou použity\nvýrobky, které při požáru jako hořící odkapávají nebo odpadávají (při\nzkoušce dle ČSN 730865);"]
[{"$f":"A64+1","v":8},"MPA","Minerální podhled třídy A",null,null,null,"m2",55.6,null,{"$f":"I65*H65","v":0},"širokopásmový rastrový podhled z materiálu na bázi skelné vaty;\ntloušťka kazety 20 mm; rozměr 1200x600 mm; viditelný povrch je\nopatřen speciální vrstvou; zadní strana panelu je potažena skelnou\ntkaninou; podhled má částečně skrytý rošt nosné konstrukce; mezi\npanely je mezera 8 mm; na kazety bude v celé ploše doplněna\npřídavná absorpční vložka; panely jsou demontovatelné; údržba\ndenním stíráním prachu/vysáváním a týdenním čištěním za mokra;\nPožadovaný činitel zvukové pohltivosti v oktávových pásmech:\n125 Hz - a » 0,6; 250 Hz - a » 0,72; 500 Hz - a » 0,76; 1000 Hz - a »\n0,81; 2000 Hz - a » 0,9; 4000 Hz - a » 0,9\npovrch v bílé barvě; požadavky PBŘ: nebudou použity výrobky, které\npři požáru jako hořící odkapávají nebo odpadávají (při zkoušce dle\nČSN 730865);"]
[{"$f":"A65+1","v":9},"MPE","Minerální podhled třídy E",null,null,null,"m2",12.6,null,{"$f":"I66*H66","v":0},"rastrový podhled s nízkou zvukovou pohltivostí; tloušťka kazety 20\nmm; rozměr 1200x600 mm; viditelný povrch je opatřen speciální\nvrstvou; zadní strana panelu je potažena skelnou tkaninou; podhled\nmá částečně skrytý rošt nosné konstrukce; mezi panely je mezera 8\nmm; na kazety bude v celé ploše doplněna přídavná absorpční\nvložka; panely jsou demontovatelné; údržba denním stíráním\nprachu/vysáváním a týdenním čištěním za mokra;\nPožadovaný činitel zvukové pohltivosti v oktávových pásmech:\n125 Hz - a » 0,4; 250 Hz - a » 0,25; 500 Hz - a » 0,15; 1000 Hz - a »\n0,35; 2000 Hz - a » 0,2; 4000 Hz - a » 0,15\npovrch v bílé barvě; požadavky PBŘ: nebudou použity výrobky, které\npři požáru jako hořící odkapávají nebo odpadávají (při zkoušce dle\nČSN 730865); "]
[{"$f":"CONCATENATE(\"Celkem Kč bez DPH za \",A62,\" - \",D62)","v":"Celkem Kč bez DPH za 2 - Akustické úpravy stropu"},null,null,null,null,null,null,null,{"$f":"SUM(J64:J66)","v":0}]
[]
[]
[3,null,null,"Akustická měření a projekční činnost"]
["Čís. pol.","Zkratka","Název položky",null,null,null,"MJ","množství","jednotková cena ","celkem [Kč]","Technické specifikace, technické a uživatelské standardy stavby, podrobný popis položky"]
[{"$f":"A66+1","v":10},"MHLw-E","Měření kročejové\nneprůzvučnosti - etapové",null,null,null,"kpl.",1,null,{"$f":"I72*H72","v":0},"měření kročejové neprůzvučnosti dle platných norem mezi prostory\nmezipatra a akusticky náročnými prostory v přízemí během realizace\n(např. mezi M29A, M27 a P22); včetně protokolárního zpracování\nvýsledků a vyhodnocení s příslušnými závěry v komplexní vazbě na\nakusticku stavby jako celku;"]
[{"$f":"A72+1","v":11},"MHLw-Z","Měření kročejové\nneprůzvučnosti - závěrečné ",null,null,null,"kpl.",1,null,{"$f":"I73*H73","v":0},"měření kročejové neprůzvučnosti dle platných norem mezi prostory\nmezipatra a akusticky náročnými prostory v přízemí po realizaci;"]
[{"$f":"A73+1","v":12},"MHRw-E","Měření vzduchové\nneprůzvučnosti - etapové",null,null,null,"ks",7,null,{"$f":"I74*H74","v":0},"měření vzduchové neprůzvučnosti dle platných norem vybraných\nkonstrukcí během realizace v koordinaci s průběhem stavebních\nprací; včetně protokolárního zpracování výsledků a vyhodnocení s\npříslušnými závěry v komplexní vazbě na akusticku stavby jako celku;"]
[13,"MHRw-Z","Měření vzduchové\nneprůzvučnosti - závěrečné",null,null,null,"ks",7,null,0,"měření vzduchové neprůzvučnosti dle platných norem vybraných\nkonstrukcí po realizaci; měřeny budou stěny mezi akusticky\nnáročnými místnostmi v mezipatře, neprůzvučnost stropů nad\npřízemím a nad mezipatrem;"]
[14,"MHP - Z","Měření hladin akustického\ntlaku pozadí - závěrečné",null,null,null,"ks",4,null,0,"měření hladin akustického tlaku pozadí bude provedeno v akusticky\nnáročných prostorech po realizaci;"]
[15,"MD-E","Měření doby dozvuku -\netapové",null,null,null,"ks",8,null,0,"měření doby dozvuku dle normy ČSN EN ISO 3382-1 ve všech\nakusticky náročných prostorech s definovanými požadavky na cílovou\ndobu dozvuku; minimálně dvě etapová měření v každém prostoru;\nvčetně protokolárního zpracování výsledků a vyhodnocení s\npříslušnými závěry v komplexní vazbě na akustiku jednotlivých\nprostor"]
[16,"MD - Z","Měření doby dozvuku -\nzávěrečné",null,null,null,"ks",4,null,0,"měření doby dozvuku dle normy ČSN EN ISO 3382-1 ve všech\nakusticky náročných prostorech s definovanými požadavky na cílovou\ndobu dozvuku po realizaci; včetně protokolárního zpracování\nvýsledků a vyhodnocení"]
[17,"MA - T","Měření činitele zvukové\npohltivosti dle ČSN ISO\n10534-1 nebo ČSN ISO\n10534-2",null,null,null,"ks",1,null,0,"měření činitele zvukové pohltivosti vzorků materiálů v impedanční\ntrubici dle normy ČSN ISO 10534-1 nebo ČSN ISO 10534-2; součástí\nměření je také vyhodnocení a protokolární zpracování"]
[18,"MA-P","Měření činitele zvukové\npohltivosti dle ČSN EN\nISO 354",null,null,null,"ks",3,null,0,"měření činitele zvukové pohltivosti vzorků materiálů v dozvukové komeře\ndle normy ČSN EN ISO 354; měřeny budou následující vzorky: RS, KPS,\nRP; včetně protokolárního zpracování výsledků a vyhodnocení s\npříslušnými závěry v komplexní vazbě na akustiku jednotlivých prostor"]
[19,"DD-P","dílenská dokumentace -\nprostorová akustika",null,null,null,"ks",1,null,0,"dílenská dokumentace profese prostorová akustika; zejména detaily\nprovedení atypických akustických prvků; tato bude předložena k\nodsouhlasení generálnímu projektantovi; projektantovi akustiky a zástupci\ninvestora"]
[20,"DD-S","dílenská dokumentace -\nstavební akustika",null,null,null,"ks",1,null,0,"konzultační činnost a projekční podpora související s prováděním díla\nvázaného na stavební akustiku; bez účasti přímo na stavbě"]
[{"$f":"CONCATENATE(\"Celkem Kč bez DPH za \",A70,\" - \",D70)","v":"Celkem Kč bez DPH za 3 - Akustická měření a projekční činnost"},null,null,null,null,null,null,null,{"$f":"SUM(J72:J82)","v":0}]

{"sheet":"05_S0 03 - Stav-arch část ","index":8,"n_rows":307,"n_cols":50,"rows_kept":307,"cut":false,"hidden":false,"merged":[[290,2,290,3],[305,2,305,3],[304,2,304,3],[25,2,25,6],[40,3,40,6],[24,3,24,6],[126,2,126,3],[127,2,127,3],[124,2,124,3],[123,2,123,3],[78,2,78,6]]}
[{"$f":"CONCATENATE('Rekapitulace stavby'!C57,\"_\",'Rekapitulace stavby'!I57)","v":"05_SO 03 - Stavebně - architektonická část"}]
[]
["SPECIFIKACE DODÁVEK A PRACÍ "]
["Název akce:"]
[{"$f":"'Identifikační údaje'!B1","v":"ČRo Brno – III. etapa rekonstrukce budovy Beethovenova 25/4"}]
[]
["Zadavatel:",null,{"$f":"'Identifikační údaje'!E7","v":"Český rozhlas, Vinohradská 12, 120 99 Praha 2"}]
[null,"IČ:",{"$f":"'Identifikační údaje'!B9","v":45245053}]
[null,"DIČ:",{"$f":"'Identifikační údaje'!B10","v":"CZ45245053"}]
[]
["Projektant:",null,{"$f":"'Identifikační údaje'!E12","v":"Ing. arch. Klement Miloš, Nejedlého 381/19, 638 00 Brno - Lesná"}]
[null,"IČ:",{"$f":"'Identifikační údaje'!B14","v":15188736}]
[null,"DIČ:",{"$f":"'Identifikační údaje'!B15","v":"CZ6101021344"}]
[]
["Uchazeč:",null,{"$f":"'Identifikační údaje'!E19","v":", ,  "}]
[null,"IČ:",{"$f":"'Identifikační údaje'!B23","v":0}]
[null,"DIČ:",{"$f":"'Identifikační údaje'!B24","v":0}]
[]
["Místo stavby:",null,{"$f":"'Identifikační údaje'!B3","v":"Budova Českého rozhlasu Brno na adrese Beethovenova 25/4, 657 42 Brno"}]
[]
["Datum vyplnění:",null,{"$f":"'Identifikační údaje'!B5","v":"00:00:00"}]
[]
[{"$f":"CONCATENATE(\"REKAPITULACE DODÁVEK A PRACÍ OBJEKTU \",'Rekapitulace stavby'!I57)","v":"REKAPITULACE DODÁVEK A PRACÍ OBJEKTU SO 03 - Stavebně - architektonická část"}]
[]
["P.č.","Číslo položky","Název položky","Kč bez DPH"]
[]
["Díl:",{"$f":"B80","v":"3"},{"$f":"C80","v":"Svislé a kompletní konstrukce"},null,null,null,{"$f":"G80","v":0}]
["Díl:",{"$f":"B94","v":"43"},{"$f":"C94","v":"Schodiště"},null,null,null,{"$f":"G94","v":0}]
["Díl:",{"$f":"B102","v":"61"},{"$f":"C102","v":"Upravy povrchů vnitřní"},null,null,null,{"$f":"G102","v":0}]
["Díl:",{"$f":"B114","v":"95"},{"$f":"C114","v":"Dokončovací kce na pozem.stav."},null,null,null,{"$f":"G114","v":0}]
["Díl:",{"$f":"B120","v":"96"},{"$f":"C120","v":"Bourání konstrukcí"},null,null,null,{"$f":"G120","v":0}]
["Díl:",{"$f":"B202","v":"99"},{"$f":"C202","v":"Staveništní přesun hmot"},null,null,null,{"$f":"G202","v":0}]
["Díl:",{"$f":"B204","v":"766"},{"$f":"C204","v":"Konstrukce truhlářské"},null,null,null,{"$f":"G204","v":0}]
["Díl:",{"$f":"B212","v":"767"},{"$f":"C212","v":"Konstrukce zámečnické"},null,null,null,{"$f":"G212","v":0}]
["Díl:",{"$f":"B253","v":"771"},{"$f":"C253","v":"Kamenné dlažby"},null,null,null,{"$f":"G253","v":0}]
["Díl:",{"$f":"B279","v":"775"},{"$f":"C279","v":"Podlahy vlysové a parketové"},null,null,null,{"$f":"G279","v":0}]
["Díl:",{"$f":"B282","v":"776"},{"$f":"C282","v":"Podlahy povlakové"},null,null,null,{"$f":"G282","v":0}]
["Díl:",{"$f":"B285","v":"782"},{"$f":"C285","v":"Konstrukce z přírodního kamene"},null,null,null,{"$f":"G285","v":0}]
["Díl:",{"$f":"B303","v":"784"},{"$f":"C303","v":"Malby"},null,null,null,{"$f":"G303","v":0}]
[]
[{"$f":"CONCATENATE(\"CELKEM ZA OBJEKT \",'Rekapitulace stavby'!I57, \" v Kč bez DPH\")","v":"CELKEM ZA OBJEKT SO 03 - Stavebně - architektonická část v Kč bez DPH"},null,null,{"$f":"SUM(G27:G40)","v":0}]
[]
[]
[]
[]
[]
[]
[]
[]
[]
[]
[]
[]
[]
[]
[]
[]
[]
[]
[]
[]
[]
[]
[]
[]
[]
[]
[]
[]
[]
[]
[]
[]
[]
[]
[]
[]
["P.č.","Číslo položky","Název položky","MJ","množství","cena / MJ","celkem"]
[null,"Ceník, kapitola","Poznámka uchazeče"]
["Díl:","3","Svislé a kompletní konstrukce",null,null,null,{"$f":"SUBTOTAL(9,G81:G93)","v":0},null,null,null,null,null,null,null,null,null,null,null,null,null,null,null,null,null,null,null,null,"POL",null,null,null,null,null,null,null,21]
[{"$f":"1","v":1},"317001","Překlad z 4x I 140 dl.1100 mm vč.plentování cihlami a rabicem","ka",1,null,{"$f":"E81*F81","v":0}]
[null,null,"suterén:1",null,1]
[{"$f":"A81+1","v":2},"317002","Překlad z 2x I 220 dl.4200 mm vč.plentování cihlami a rabicem","ka",1,null,{"$f":"E83*F83","v":0}]
[null,null,"nad schodištěm:1",null,1]
[{"$f":"A83+1","v":3},"317003","Překlad z 2x I 220 dl.1200 mm vč.plentování cihlami a rabicem","ka",1,null,{"$f":"E85*F85","v":0},null,null,null,null,null,null,null,null,null,null,null,null,null,null,null,null,null,null,1]
[null,null,"nad schodištěm:1",null,1,null,null,null,null,null,null,null,null,null,null,null,null,null,null,null,null,null,null,null,null,null,null,"POL",null,null,null,null,null,null,null,21]
[{"$f":"A85+1","v":4},"317004","Překlad z 2x I 140 dl.1600 mm vč.plentování cihlami a rabicem","ka",1,null,{"$f":"E87*F87","v":0}]
[null,null,"nad okny vrátnice:1",null,1]
[{"$f":"A87+1","v":5},"317005","Překlad z 2x I 100 dl.1600 mm vč.plentování cihlami a rabicem","ka",1,null,{"$f":"E89*F89","v":0},null,null,null,null,null,null,null,null,null,null,null,null,null,null,null,null,null,null,null,null,"POL",null,null,null,null,null,null,null,21]
[null,null,"nad okny vrátnice:1",null,1]
[{"$f":"A89+1","v":6},"342 26-2","Příčka sádrokart. dvoj. oc. kce, 2x opl. tl.125 mm desky protipožární tl. EI45-DP1","m2",18.329999999999998,null,{"$f":"E91*F91","v":0}]
[null,null,";vč.povrchové úpravy",null,0]
[null,null,"mezipatro:(1,72+2,98)*3,90",null,18.329999999999998]
["Díl:","43","Schodiště",null,null,null,{"$f":"SUBTOTAL(9,G95:G101)","v":0}]
[{"$f":"A91+1","v":7},"430a      Kp/2","Stávající kamenné schodiště - odstranění lepidel, vytmelení, přebroušení, naimpregnování ;vč.teracového soklu v=300 mm","m",88.44,null,{"$f":"E95*F95","v":0}]
[null,null,"přímé schodišťové stupně:66*1,34",null,88.44]
[{"$f":"A95+1","v":8},"430b      Kp/2","Stávající kamenné schodiště - odstranění lepidel, vytmelení, přebroušení, naimpregnování","m",148.74,null,{"$f":"E97*F97","v":0}]
[null,null,";vč.teracového soklu v=300 mm"]
[null,null,"kosé schodišťové stupně:111*1,34",null,148.74]
[{"$f":"A97+1","v":9},"430        Kp/","Stávající kamenné podesty - odstranění lepidel, vytmelení, přebroušení, naimpregnování","m2",62.4,null,{"$f":"E100*F100","v":0},null,null,null,null,null,null,null,null,null,null,null,null,null,null,null,null,null,null,0]
[null,null,";vč.teracového soklu v=300 mm"]
["Díl:","61","Upravy povrchů vnitřní",null,null,null,{"$f":"SUBTOTAL(9,G103:G113)","v":0}]
[{"$f":"A100+1","v":10},"612 47-3182.R00","Omítka vnitřního zdiva ze suché směsi, štuková ","m2",69.835999999999999,null,{"$f":"E103*F103","v":0}]
[null,null,"zazdění instal.průduchů:12,915/0,30",null,43.05,null,null,null,null,null,null,null,null,null,null,null,null,null,null,null,null,null,null,null,null,0]
[null,null,"zazdívky:4,228*2+18,33",null,26.786000000000001]
[{"$f":"A103+1","v":11},"611 10-0013.RAA","Oprava omítek stropů vnitřních vápenocem.štukových oprava z 50 %, malba dvojnásobná otěruvzdorná bílá vč. penetrace","m2",75.48,null,{"$f":"E106*F106","v":0},null,null,null,null,null,null,null,null,null,null,null,null,null,null,null,null,null,null,null,null,"POL",null,null,null,null,null,null,null,21]
[null,null,"3,40*3,70*6",null,75.48]
[{"$f":"A106+1","v":12},"612 10-0033.RAA","Oprava omítek stěn vnitřních vápenocem. štukových oprava z 50 %, malba dvojnásobná otěruvzdorná bílá vč. penetrace","m2",476,null,{"$f":"E108*F108","v":0}]
[null,null,"(4,80+3,70)*2*3,50*8",null,476,null,null,null,null,null,null,null,null,null,null,null,null,null,null,null,null,null,null,null,null,0]
[{"$f":"A108+1","v":13},"61201   A2","Sádrokartonový podhled protipožární REI 30DP1, vč.potřebného lešení a povrchové úpravy","m2",22.1,null,{"$f":"E110*F110","v":0},null,null,null,null,null,null,null,null,null,null,null,null,null,null,null,null,null,null,1]
[null,null,"5.np:22,10",null,22.1,null,null,null,null,null,null,null,null,null,null,null,null,null,null,null,null,null,null,null,null,2]
[{"$f":"A110+1","v":14},"61201   A","Sádrokartonový podhled, vč.potřebného lešení a povrchové úpravy","m2",26.56,null,{"$f":"E112*F112","v":0},null,null,null,null,null,null,null,null,null,null,null,null,null,null,null,null,null,null,null,null,"POL",null,null,null,null,null,null,null,21]
[null,null,"10,50+10,30+5,76",null,26.56]
["Díl:","95","Dokončovací kce na pozem.stav.",null,null,null,{"$f":"SUBTOTAL(9,G115:G119)","v":0}]
[{"$f":"A112+1","v":15},"99001","HZS - nezměřitelné práce ","hod",120,null,{"$f":"E115*F115","v":0}]
[{"$f":"A115+1","v":16},"955","Doplnění stropu venkovní šachty z 2xI160 dl.1805 mm a PZD desek 80/29/6,5 mm","m2",2.13,null,{"$f":"E116*F116","v":0}]
[{"$f":"A116+1","v":17},"950","Uzavření rekonstruovaného prostoru proti šíření prašnosti","kpl.",1,null,{"$f":"E117*F117","v":0},null,null,null,null,null,null,null,null,null,null,null,null,null,null,null,null,null,null,0]
[{"$f":"A117+1","v":18},"952 90-1111.R00","Vyčištění budov o výšce podlaží do 4 m ","m2",147,null,{"$f":"E118*F118","v":0},null,null,null,null,null,null,null,null,null,null,null,null,null,null,null,null,null,null,null,null,"POL",null,null,null,null,null,null,null,21]
[null,null,"7*21,00",null,147]
["Díl:","96","Bourání konstrukcí",null,null,null,{"$f":"SUBTOTAL(9,G121:G201)","v":0},null,null,null,null,null,null,null,null,null,null,null,null,null,null,null,null,null,null,0]
[{"$f":"A118+1","v":19},"963 01-251    O","Bourání otvoru pro odvětrání CHÚC ","m2",1.44,null,{"$f":"E121*F121","v":0}]
[null,null,"6.patro:1,20*1,20",null,1.44]
[{"$f":"A121+1","v":20},"971 03-365    A","Vybourání otv. zeď cihel., MVC ","m3",1.08,null,{"$f":"E123*F123","v":0}]
[null,null,";A",null,0,null,null,null,null,null,null,null,null,null,null,null,null,null,null,null,null,null,null,null,null,0]
[null,null,"suterén:0,90*2,00*0,60",null,1.08,null,null,null,null,null,null,null,null,null,null,null,null,null,null,null,null,null,null,null,null,null,null,"SPX"]
[{"$f":"A123+1","v":21},"962 03-1132.R00","Bourání příček cihelných tl. 10 cm ","m2",4.6220999999999997,null,{"$f":"E126*F126","v":0}]
[null,null,";A",null,0]
[null,null,"suterén:(1,05+0,64)*2,735",null,4.6220999999999997]
[{"$f":"A126+1","v":22},"968 06-1125.R00","Vyvěšení dřevěných dveřních křídel pl. do 2 m2 ","kus",16,null,{"$f":"E129*F129","v":0},null,null,null,null,null,null,null,null,null,null,null,null,null,null,null,null,null,null,0]
[null,null,";C",null,0,null,null,null,null,null,null,null,null,null,null,null,null,null,null,null,null,null,null,null,null,null,null,"POL",null,null,null,null,null,null,null,21]
[null,null,"suterén:1",null,1]
[null,null,"přízemí:2",null,2]
[null,null,"mezioatro:3",null,3]
[null,null,"1.patro:2",null,2]
[null,null,"2.patro:2",null,2]
[null,null,"3.patro:2",null,2]
[null,null,"4.patro:2",null,2]
[null,null,"5.patro:2",null,2,null,null,null,null,null,null,null,null,null,null,null,null,null,null,null,null,null,null,null,null,0]
[{"$f":"A129+1","v":23},"968 06-245","Vybourání dveřních zárubní pl. do 2 m2 ","m2",25.974499999999999,null,{"$f":"E139*F139","v":0}]
[null,null,";C",null,0]
[null,null,"suterén:0,80*2,00*1",null,1.6,null,null,null,null,null,null,null,null,null,null,null,null,null,null,null,null,null,null,null,null,0]
[null,null,"přízemí:0,95*2,00+1,00*2,00",null,3.9]
[null,null,"mezipatro:0,85*1,97+1,40*2,00",null,4.4744999999999999]
[null,null,"1.patro:1,40*2,00",null,2.8]
[null,null,"2.patro:1,40*2,00",null,2.8]
[null,null,"3.patro:1,40*2,00",null,2.8]
[null,null,"4.patro:1,40*2,00",null,2.8]
[null,null,"5.patro:1,00*2,00*1,20*2,00",null,4.8]
[{"$f":"A139+1","v":24},"968 06","Vybourání dveří Zpd/6 a Zpd/7 a jejich uskladnění","ks",2,null,{"$f":"E149*F149","v":0}]
[{"$f":"A149+1","v":25},"776 51        D","Odstranění PVC a koberců ","m2",316,null,{"$f":"E150*F150","v":0}]
[null,null,";PVC 2x",null,0,null,null,null,null,null,null,null,null,null,null,null,null,null,null,null,null,null,null,null,null,0]
[null,null,"prízemí:(10,50+10,30+20,10)*2",null,81.8,null,null,null,null,null,null,null,null,null,null,null,null,null,null,null,null,null,null,null,null,null,null,"SPX"]
[null,null,"mezipatro:17,90*2",null,35.799999999999997,null,null,null,null,null,null,null,null,null,null,null,null,null,null,null,null,null,null,null,null,null,null,"POL",null,null,null,null,null,null,null,21]
[null,null,"1.patro:17,90*2",null,35.799999999999997]
[null,null,"2.patro:19,10*2",null,38.200000000000003]
[null,null,"3.patro:21,00*2",null,42]
[null,null,"4.patro:19,10*2",null,38.200000000000003]
[null,null,"5.patro:22,10*2",null,44.2]
[{"$f":"A150+1","v":26},"96956         G","Odstranění podhledů vč.podkladního roštu ","n2",10.3,null,{"$f":"E159*F159","v":0}]
[null,null,";G",null,0,null,null,null,null,null,null,null,null,null,null,null,null,null,null,null,null,null,null,null,null,0]
[null,null,"přízemí:10,30",null,10.3,null,null,null,null,null,null,null,null,null,null,null,null,null,null,null,null,null,null,null,null,null,null,"SPX"]
[{"$f":"A159+1","v":27},"965 02-4121.R00","Bourání kamenných podlah z desek plochy do 1 m2 ","m2",9.7864000000000004,null,{"$f":"E162*F162","v":0},null,null,null,null,null,null,null,null,null,null,null,null,null,null,null,null,null,null,null,null,"POL",null,null,null,null,null,null,null,21]
[null,null,";Kp/m",null,0]
[null,null,";přízemí",null,0]
[null,null,"Kp/m1:0,665*0,975*4",null,2.5935000000000001]
[null,null,"Kp/m2:1,35*1,33*1",null,1.7955000000000001]
[null,null,"Kp/m3:0,52*1,57*1",null,0.81640000000000001]
[null,null,"Kp/m4:1,40*0,255*1",null,0.35699999999999998]
[null,null,";mezipatro",null,0]
[null,null,"Kp/m5:0,40*1,30*4",null,2.08]
[null,null,";3.patro",null,0]
[null,null,"Kp/m6:1,60*0,67*1",null,1.0720000000000001]
[null,null,";4.patro",null,0]
[null,null,"Kp/m6:1,60*0,67*1",null,1.0720000000000001]
[{"$f":"A162+1","v":28},"776 20-082","Odstranění PVC podlah lepených .-  ze schodišť ","m",466.32,null,{"$f":"E175*F175","v":0}]
[null,null,"174*1,34*2",null,466.32]
[{"$f":"A175+1","v":29},"972 05-4      O","Vybourání otvoru  ve stropě ","kus",6,null,{"$f":"E177*F177","v":0}]
[null,null,"mezipatro:1",null,1]
[null,null,"1.patro:1",null,1]
[null,null,"2.patro:1",null,1]
[null,null,"3.patro:1",null,1]
[null,null,"4.patro:1",null,1]
[null,null,"5.patro:1",null,1]
[{"$f":"A177+1","v":30},"9608         EL","Vybourání el. rozvaděče ","ks",6,null,{"$f":"E184*F184","v":0}]
[null,null,"mezipatro:1",null,1]
[null,null,"1.patro:1",null,1]
[null,null,"2.patro:1",null,1]
[null,null,"3.patro:1",null,1]
[null,null,"4.patro:1",null,1]
[null,null,"5.patro:1",null,1]
[{"$f":"A184+1","v":31},"979 01-1211.R00","Svislá doprava suti a vybour. hmot za 2.NP nošením ","t",29.8,null,{"$f":"E191*F191","v":0}]
[{"$f":"A191+1","v":32},"979 01-1219.R00","Přípl.k svislé dopr.suti za každé další NP nošením ","t",{"$f":"3*29.8","v":89.4},null,{"$f":"E192*F192","v":0},null,null,null,null,null,null,null,null,null,null,null,null,null,null,null,null,null,null,null,null,"SPX"]
[null,null,"3*29,8",null,107.7,null,null,null,null,null,null,null,null,null,null,null,null,null,null,null,null,null,null,null,null,null,null,"POL_NEZ",1,null,null,null,null,null,null,21]
[{"$f":"A192+1","v":33},"979 08-2111.R00","Vnitrostaveništní doprava suti do 10 m ","t",29.8,null,{"$f":"E194*F194","v":0},null,null,null,null,null,null,null,null,null,null,null,null,null,null,null,null,null,null,0]
[{"$f":"A194+1","v":34},"979 08-2121.R00","Příplatek k vnitrost. dopravě suti za dalších 5 m ","t",{"$f":"2*29.8","v":59.6},null,{"$f":"E195*F195","v":0},null,null,null,null,null,null,null,null,null,null,null,null,null,null,null,null,null,null,null,null,"POL",null,null,null,null,null,null,null,21]
[null,null,"2*29,8",null,71.8]
[{"$f":"A195+1","v":35},"979 08-1111.R00","Odvoz suti a vybour. hmot na skládku do 1 km ","t",29.8,null,{"$f":"E197*F197","v":0},null,null,null,null,null,null,null,null,null,null,null,null,null,null,null,null,null,null,null,null,"POL",null,null,null,null,null,null,null,21]
[{"$f":"A197+1","v":36},"979 08-1121.R00","Příplatek k odvozu za každý další 1 km ","t",{"$f":"19*29.8","v":566.20000000000005},null,{"$f":"E198*F198","v":0},null,null,null,null,null,null,null,null,null,null,null,null,null,null,null,null,null,null,null,null,"POL",null,null,null,null,null,null,null,21]
[null,null,"19*29,8",null,{"$f":"19*29.8","v":566.20000000000005}]
[{"$f":"A198+1","v":37},"979 093111","Uložení suti na skládku bez zhuznění ","t",29.8,null,{"$f":"E200*F200","v":0},null,null,null,null,null,null,null,null,null,null,null,null,null,null,null,null,null,null,0]
[{"$f":"A200+1","v":38},"979 99-999","Poplatek za skladku ","t",29.8,null,{"$f":"E201*F201","v":0},null,null,null,null,null,null,null,null,null,null,null,null,null,null,null,null,null,null,1]
["Díl:","99","Staveništní přesun hmot",null,null,null,{"$f":"SUBTOTAL(9,G203)","v":0},null,null,null,null,null,null,null,null,null,null,null,null,null,null,null,null,null,null,0]
[{"$f":"A201+1","v":39},"999 28-1112.R00","Přesun hmot pro opravy a údržbu do výšky 36 m ","t",27.6,null,{"$f":"E203*F203","v":0},null,null,null,null,null,null,null,null,null,null,null,null,null,null,null,null,null,null,null,null,"POL",null,null,null,null,null,null,null,21]
["Díl:","766","Konstrukce truhlářské",null,null,null,{"$f":"SUBTOTAL(9,G205:G211)","v":0},null,null,null,null,null,null,null,null,null,null,null,null,null,null,null,null,null,null,null,null,"POL_NEZ",1,null,null,null,null,null,null,21]
[{"$f":"A203+1","v":40},"766      Tpo/2a","Okenní sestava  1350/2700 mm repase - očištění, obroušení, nový nátěr","ks",1,null,{"$f":"E205*F205","v":0}]
[null,null,"oprava a doplnění kování:1",null,1]
[{"$f":"A205+1","v":41},"766      Tpd/1","Repase stávajících dveří dýhovaných vč.zárubně 850/1970mm , překování otevíranosti, PBŘ úpravy","ks",1,null,{"$f":"E207*F207","v":0},null,null,null,null,null,null,null,null,null,null,null,null,null,null,null,null,null,null,null,null,"DIL"]
[{"$f":"A207+1","v":42},"766      Tpd/9d","Repase stávajících dveří vč.zárubně 850/2000mm ","ks",1,null,{"$f":"E208*F208","v":0},null,null,null,null,null,null,null,null,null,null,null,null,null,null,null,null,null,null,0]
[{"$f":"A208+1","v":43},"766      Tn/11","Nábytek vrátnice - viz výkres D.1.1.c.1 ","ks",1,null,{"$f":"E209*F209","v":0},null,null,null,null,null,null,null,null,null,null,null,null,null,null,null,null,null,null,null,null,"SPX"]
[null,"poznámka 1","Truhlářské  konstrukce jsou kompletní výrobky dle popisu v tabulkách","  "]
[null,"poznámka 2","Truhlářské  výrobky jsou vč.přesunu hmot ","  "]
["Díl:","767","Konstrukce zámečnické",null,null,null,{"$f":"SUBTOTAL(9,G213:G252)","v":0}]
[{"$f":"A209+1","v":44},"767       Zp/2","Restaurátorská obnova zábradlí hlavního schodiště - odstranění stávajícího nátěru, očištění, tmelení, nový nátěr, madlo rovněž restaurátorská obnova, odstranění stávajícího nátěru, očištění, tmelení, klavírní černý lak ","m",36.14,null,{"$f":"E213*F213","v":0}]
[{"$f":"A213+1","v":45},"767       Zp/4b","Restaurátorská obnova zábradlí schodiště před oknem - odstranění stávajícího nátěru, očištění, tmelení, nový nátěr, madlo rovněž restaurátorská obnova, odstranění stávajícího nátěru, očištění, tmelení, klavírní černý lak ","m",6.2,null,0,null,null,null,null,null,null,null,null,null,null,null,null,null,null,null,null,null,null,1]
[{"$f":"A214+1","v":46},"767       Zp/4a","Restaurátorská obnova zábradlí schodiště u výtahové šachty - odstranění stávajícího nátěru, očištění, tmelení, nový nátěr, madlo rovněž restaurátorská obnova, odstranění stávajícího nátěru, očištění, tmelení, klavírní černý lak ","m",5.2,null,0]
[{"$f":"A215+1","v":47},"767       Zp/4b","Restaurátorská obnova zábradlí schodiště před oknem - odstranění stávajícího nátěru, očištění, tmelení, nový nátěr, madlo rovněž restaurátorská obnova, odstranění stávajícího nátěru, očištění, tmelení, klavírní černý lak ","m",2.16,null,0]
[{"$f":"A216+1","v":48},"767       Zp/7a","Okenní mříže v přízemí  - očištění, zrestaurování, nový nátěr, vč.doplnění pošk.prvků, 1350x2700","ks",1,null,0,null,null,null,null,null,null,null,null,null,null,null,null,null,null,null,null,null,null,null,null,"POL",null,null,null,null,null,null,null,21]
[49,"767       Zp/7b","Okenní mříže v přízemí  - očištění, zrestaurování, nový nátěr, vč.doplnění pošk.prvků, 1350x540","ks",2,null,0]
[50,"767       Zp/10","Dvířka hydrantu  na schodišti - očištění, zrestaurování, nový nátěr,","ks",7,null,0,null,null,null,null,null,null,null,null,null,null,null,null,null,null,null,null,null,null,0]
[51,"767       Zp/20","Čistící zóna","ks",2,null,0,null,null,null,null,null,null,null,null,null,null,null,null,null,null,null,null,null,null,1]
[52,"767       Zp/21","perforovaná mříž 1350 x x540 mm","ks",1,null,0,null,null,null,null,null,null,null,null,null,null,null,null,null,null,null,null,null,null,null,null,"POL",null,null,null,null,null,null,null,21]
[53,"767b    Zpo/1d","Okno schodišť.2x1000/16500 mm - očištění, zrestaurování, nový nátěr,","ks",1,null,0]
[54,"767a    Zpo/1c","Okno schodišť.2x1000/5500 mm - očištění, zrestaurování, nový nátěr,","ks",1,null,0,null,null,null,null,null,null,null,null,null,null,null,null,null,null,null,null,null,null,0]
[{"$f":"A223+1","v":55},"767     Zpd/3","Dveře vstupní proskl.2kř 1700/2130 mm - očištění, zrestaurování, nový nátěr,","ks",1,null,{"$f":"E224*F224","v":0},null,null,null,null,null,null,null,null,null,null,null,null,null,null,null,null,null,null,null,null,"POL",null,null,null,null,null,null,null,21]
[{"$f":"A224+1","v":56},"767     Zpd/5","Dveře do schod.proskl.2kř 1390/2130 mm - repase očištění, obrouš.nový nátěr, nové přesklení","ks",2,null,0]
[null,null,"vč.samozavírače:5",null,5]
[{"$f":"A225+1","v":57},"767     Zno/1R","Roleta v okně.do vrátnice  2200/1000 mm protipožární EI30DP1-C3-Sm","ks",1,null,0,null,null,null,null,null,null,null,null,null,null,null,null,null,null,null,null,null,null,0]
[{"$f":"A227+1","v":58},"767     Zno/2","Okno ocel.do vrátnice  2200/1000 mm - nové","ks",1,null,0,null,null,null,null,null,null,null,null,null,null,null,null,null,null,null,null,null,null,1]
[{"$f":"A228+1","v":59},"767     Zno/4","Okno ocel.do vrátnice   1190/980 mm - nové","ks",1,null,0,null,null,null,null,null,null,null,null,null,null,null,null,null,null,null,null,null,null,null,null,"POL",null,null,null,null,null,null,null,21]
[{"$f":"A229+1","v":60},"767     Zno/3","Okno fixni 1110/1750 mm - nové","ks",1,null,0]
[{"$f":"A230+1","v":61},"767     Zn/3","mříž do chodníku 1550/1050 mm - nové","ks",1,null,{"$f":"E231*F231","v":0},null,null,null,null,null,null,null,null,null,null,null,null,null,null,null,null,null,null,1]
[{"$f":"A231+1","v":62},"767     Zn/5","zábradlí suterénu","ks",1,null,0,null,null,null,null,null,null,null,null,null,null,null,null,null,null,null,null,null,null,null,null,"POL",null,null,null,null,null,null,null,21]
[63,"767     Zn/6","protipožární dvířka na výtahovém rozvaděči 350/2100","ks",1,null,0]
[64,"767     Zn/7","žaluzie kryjící VZT výustku","ks",1,null,0,null,null,null,null,null,null,null,null,null,null,null,null,null,null,null,null,null,null,0]
[65,"767     Zn/9","stupadla - ocelové úchyty v suterénu","ks",8,null,0,null,null,null,null,null,null,null,null,null,null,null,null,null,null,null,null,null,null,1]
[{"$f":"A235+1","v":66},"767     Zn/19","protidešťová mřížka 710x1350","ks",1,null,0]
[67,"767     Zn/20","popisky pater z nerezového plechu tl. 15 mm","ks",7,null,0,null,null,null,null,null,null,null,null,null,null,null,null,null,null,null,null,null,null,0]
[68,"767     Zn/21","zábradlí do suterénu - nové ","ks",1,null,0,null,null,null,null,null,null,null,null,null,null,null,null,null,null,null,null,null,null,1]
[69,"767     Zn/24","krytí kondenzačních jednotek včetně betonového základu - nové ","ks",1,null,0,null,null,null,null,null,null,null,null,null,null,null,null,null,null,null,null,null,null,null,null,"POL",null,null,null,null,null,null,null,21]
[70,"767     Zn/25","stěna z tahokovu, viz výkres D 1.1.b24 - nové ","ks",1,null,0]
[71,"767     Zn/26","schůdky - přechod přes VZT k vodoměru v suterénu - nové ","ks",1,null,0,null,null,null,null,null,null,null,null,null,null,null,null,null,null,null,null,null,null,0]
[72,"767     Znd/1","Dveře do schod. 1kř.proskl. s mříží 815/2000mm vč.zárubně nové, pož.EI30-DP1-C3-Sm","ks",2,null,0]
[{"$f":"A242+1","v":73},"767     Zpd/11","Dveře do schodiště 1kř.proskl.  s mříží 815/1930mm vyjmutí a uložení k druhotnému použití","ks",2,null,0]
[{"$f":"A243+1","v":74},"767     Zn/30","SDK dvířka s pož.odolností EI 30 DP1 800/1000 mm kouřotěsné (S200) ","ks",7,null,{"$f":"E244*F244","v":0}]
[{"$f":"A244+1","v":75},"767     Znd/2","Dveře do schod. 2kř.proskl. s mříží 1470/2000mm vč.zárubně nové, pož.EI30-DP1-C3-Sm včetně dopojení elektromechanického zámku, jehož dodávka je součástí dodávky profese slaboproud a protažení přípojného kabelu křídlem dveří","ks",5,null,0,null,null,null,null,null,null,null,null,null,null,null,null,null,null,null,null,null,null,null,null,"SPX"]
[null,null,"panikové kování, samozavírač:5",null,5]
[{"$f":"A245+1","v":76},"767     Znd/3","Dveře do schod. 1kř.proskl. s mříží 1050/2000mm vč.zárubně nové, pož.EI15-DP1-C-Sm včetně dopojení elektromechanického zámku, jehož dodávka je součástí dodávky profese slaboproud a protažení přípojného kabelu křídlem dveří","ks",1,null,0,null,null,null,null,null,null,null,null,null,null,null,null,null,null,null,null,null,null,1]
[77,"767     Znd/4","Dveře do schod. 1kř.proskl. s mříží 810/2000mm vč.zárubně nové, pož.EI15-DP1-C-Sm včetně dopojení elektromechanického zámku, jehož dodávka je součástí profese slaboproud a protažení přípojného kabelu křídlem dveří","ks",1,null,0,null,null,null,null,null,null,null,null,null,null,null,null,null,null,null,null,null,null,null,null,"POL",null,null,null,null,null,null,null,21]
[78,"767     Zpo/7","Dveře v přízení 1kř.celoproskl. 1110/1750 mm repase","ks",1,null,0]
[79,"767     Zpo/9","Okno ve vrátnici kruhové v mosaz.rámu DN300 mm D+M","ks",1,null,0,null,null,null,null,null,null,null,null,null,null,null,null,null,null,null,null,null,null,0]
[null,"poznámka 1","Zámečnické konstrukce jsou kompletní výrobky dle popisu v tabulkách","  ",null,null,null,null,null,null,null,null,null,null,null,null,null,null,null,null,null,null,null,null,null,null,null,"SPX"]
[null,"poznámka 2","Zámečnické výrobky jsou vč.přesunu hmot ","  ",null,null,null,null,null,null,null,null,null,null,null,null,null,null,null,null,null,null,null,null,null,1]
["Díl:","771","Kamenné dlažby",null,null,null,{"$f":"SUBTOTAL(9,G254:G278)","v":0}]
[{"$f":"A250+1","v":80},"772      Kp/d1","Mramorová dlaždice 665/975 mm - doplnění dlažby D+M","ks",4,null,{"$f":"E254*F254","v":0},null,null,null,null,null,null,null,null,null,null,null,null,null,null,null,null,null,null,0]
[{"$f":"A254+1","v":81},"772      Kp/d2","Mramorová dlaždice 1355/1330 mm - doplnění dlažby D+M","ks",1,null,{"$f":"E255*F255","v":0},null,null,null,null,null,null,null,null,null,null,null,null,null,null,null,null,null,null,1]
[{"$f":"A255+1","v":82},"772      Kp/d3","Mramorová dlaždice 520/1570 mm - doplnění dlažby D+M","ks",1,null,{"$f":"E256*F256","v":0},null,null,null,null,null,null,null,null,null,null,null,null,null,null,null,null,null,null,null,null,null,null,null,null,null,null,null,null,null,null,null,null,null,null,null,null,null,null,null,null,null,null,{"$f":"C256","v":"Mramorová dlaždice 520/1570 mm - doplnění dlažby D+M"}]
[{"$f":"A256+1","v":83},"772      Kp/d4","Mramorová dlaždice 1400/255 mm - doplnění dlažby D+M","ks",1,null,0]
[84,"772      Kp/d5","Mramorová dlaždice 1350/655 mm - doplnění dlažby D+M","ks",1,null,0]
[85,"772      Kp/d6","Mramorová dlaždice 1300/400 mm - doplnění dlažby D+M","ks",3,null,0]
[86,"772      Kp/d7","Mramorová dlaždice 1580/670 mm - doplnění dlažby D+M","ks",1,null,0]
[87,"772      Kp/v","Mramorová dlaždice 1350/100 mm - doplnění dlažby D+M","ks",7,null,0]
[88,"772      Kp/d","Mramorová dlaždice 1475/178 mm - doplnění dlažby D+M","ks",5,null,0]
[89,"772      Kp/o1","Mramorová dlaždice 1350/655 mm - oprava dlažby ","ks",3,null,0]
[90,"772      Kp/o2","Mramorová dlaždice 655/975 mm - oprava dlažby ","ks",5,null,0]
[91,"772      Kp/o3","Mramorová dlaždice 400/1400 mm - oprava dlažby ","ks",1,null,0]
[92,"772      Kp/o4","Mramorová dlaždice 1350/1330 mm - oprava dlažby ","ks",1,null,0]
[93,"772      Kp/o5","Mramorová dlaždice 520/1570 mm - oprava dlažby ","ks",1,null,0]
[94,"772      Kp/o6","Mramorová dlaždice 520/1570 mm - oprava dlažby ","ks",1,null,0]
[95,"772      Kp/o7","Mramorová dlaždice 670/1480 mm - oprava dlažby ","ks",1,null,0]
[96,"772      Kp/o8","Mramorová dlaždice 1000/1480 mm - oprava dlažby ","ks",5,null,0]
[97,"772      Kp/o9","Mramorová dlaždice 670/1480 mm - oprava dlažby ","ks",1,null,0]
[98,"772      Kp/o11","Mramorová dlaždice 650/1640 mm - oprava dlažby ","ks",1,null,0]
[99,"772      Kp/o10","Mramorová dlaždice 320/2400 mm - oprava dlažby ","ks",1,null,0]
[{"$f":"A273+1","v":100},"772      Kn/1","Výměna porušených obkladaček obkladů niky radiátorů z dobových obkladaček vybouraných v rámci objektu SO 04, předpoklad obnovy plochy v rozsahu 30% (vysekání jednotlivých obkladaček a jejich jednotlivé doložení do plochy obkladu) ","m2",18.12,null,0,null,null,null,null,null,null,null,null,null,null,null,null,null,null,null,null,null,null,0]
[{"$f":"A274+1","v":101},"772      Kn/6","Mramorová dlažba vč.soklíku D+M ","m2",6.9119999999999999,null,0,null,null,null,null,null,null,null,null,null,null,null,null,null,null,null,null,null,null,1]
[null,null,"5,76*1,20",null,6.9119999999999999]
[null,"poznámka 1","Kamenné dlažby jsou kompletní výrobky dle popisu v tabulkách"]
[null,"poznámka 2","Kamenné dlažby jsou včetně přesunu hmot "]
["Díl:","775","Podlahy vlysové a parketové",null,null,null,{"$f":"SUBTOTAL(9,G280:G281)","v":0},null,null,null,null,null,null,null,null,null,null,null,null,null,null,null,null,null,null,null,null,null,null,null,null,null,null,null,null,null,null,null,null,null,null,null,null,null,null,null,null,null,null,{"$f":"C279","v":"Podlahy vlysové a parketové"}]
[{"$f":"A275+1","v":102},"775 5","Repase stávajících vlysů (výměna vlysů na cca 15% plochy, tmelení celoplošné, broušení celoplošné, lak základní + 2x vrchní zátěžový, olištování lištami z masivu) ","m2",11,null,{"$f":"E280*F280","v":0}]
[null,null,"P6:11,00",null,11,null,null,null,null,null,null,null,null,null,null,null,null,null,null,null,null,null,null,null,null,0]
["Díl:","776","Podlahy povlakové",null,null,null,{"$f":"SUBTOTAL(9,G283:G284)","v":0},null,null,null,null,null,null,null,null,null,null,null,null,null,null,null,null,null,null,null,null,"SPX"]
[{"$f":"A280+1","v":103},"776 57-001","Podlaha povlaková textilní - antistatický zátěžový koberec vč.olištování  D+M","m2",12.1,null,{"$f":"E283*F283","v":0},null,null,null,null,null,null,null,null,null,null,null,null,null,null,null,null,null,null,1]
[null,null,"P6:11,00*1,10",null,12.1,null,null,null,null,null,null,null,null,null,null,null,null,null,null,null,null,null,null,null,null,null,null,"POL",null,null,null,null,null,null,null,21]
["Díl:","782","Konstrukce z přírodního kamene",null,null,null,{"$f":"SUBTOTAL(9,G286:G302)","v":0},null,null,null,null,null,null,null,null,null,null,null,null,null,null,null,null,null,null,0]
[{"$f":"A283+1","v":104},"            Kp/2","Schodiště z přízemí do 5patra - obsaženo v od.43 schodiště",null,null,null,null,null,null,null,null,null,null,null,null,null,null,null,null,null,null,null,null,null,null,null,null,"SPX"]
[{"$f":"A286+1","v":105},"782      Kp/6e","Kamenné ostění okna - carrara mramor  D+M doplnění","m2",1.62,null,{"$f":"E287*F287","v":0},null,null,null,null,null,null,null,null,null,null,null,null,null,null,null,null,null,null,1]
[{"$f":"A287+1","v":106},"782      Kp/8a","Kamenné ostění oken v přízemí do ulice - ryolit  oprava a očištění v š=150 mm","m",9.3000000000000007,null,0,null,null,null,null,null,null,null,null,null,null,null,null,null,null,null,null,null,null,null,null,"POL",null,null,null,null,null,null,null,21]
[{"$f":"A288+1","v":107},null,"(1,65+3,00)*2",null,9.3000000000000007,null,0,null,null,null,null,null,null,null,null,null,null,null,null,null,null,null,null,null,null,null,null,null,null,null,null,null,null,null,null,null,null,null,null,null,null,null,null,null,null,null,null,null,null,{"$f":"C289","v":"(1,65+3,00)*2"}]
[null,"782      Kp/11a","Kamenné ostění oken na schodišti - ryolit  oprava a očištění v š=150 mm","m",36.03,null,0]
[null,null,"(1,30+16,710)*2",null,36.03]
[{"$f":"A289+1","v":108},"782      Kp/11b","Kamenné ostění oken na schodišti - ryolit  oprava a očištění v š=150 mm","m",14.2,null,0]
[null,null,"(1,30+5,80)*2",null,14.2]
[{"$f":"A292+1","v":109},"782      Kp/15","Kamenné ostění vedlejšího vstupu exterier-ryolit  oprava a očištění ","m2",3.51,null,{"$f":"E294*F294","v":0}]
[null,null,"0,65*1,05*2+(2,215+1,70+2,215)*0,35",null,3.51]
[{"$f":"A294+1","v":110},"782      Kp/15","Kamenné ostění vedlejšího vstupu interier-ryolit  oprava a očištění ","m2",7.78,null,0]
[null,null,"(2,39+1,70+2,39)*1,20",null,7.78]
[{"$f":"A296+1","v":111},"772      Kn/2","Parapet v oknu vrátnice 1,1 m2","m2",1.1000000000000001,null,0]
[{"$f":"A298+1","v":112},"772      Kn/3","Mramorový soklík","m2",1.1000000000000001,null,0]
[{"$f":"A299+1","v":113},"782      Kpo/1","Okno vrátnice - schodiště - vyčištění kamene vytmelení, přebroušení a impregnace","ks",1,null,0]
[null,"poznámka 1","Kamenické konstrukce jsou kompletní výrobky dle popisu v tabulkách","  ",null,null,null,null,null,null,null,null,null,null,null,null,null,null,null,null,null,null,null,null,null,1]
[null,"poznámka 2","Kamenické výrobky jsou vč.přesunu hmot ","  ",null,null,null,null,null,null,null,null,null,null,null,null,null,null,null,null,null,null,null,null,null,null,null,"POL",null,null,null,null,null,null,null,21]
["Díl:","784","Malby",null,null,null,{"$f":"SUBTOTAL(9,G304:G306)","v":0}]
[{"$f":"A300+1","v":114},"784 45-0030.RA0","Malba ze směsi , penetrace 1x, bílá 2x ","m2",69.84,null,{"$f":"E304*F304","v":0}]
[null,null,"zazdívky:69,84",null,69.84]
[null,null,"ostatní výmalby schodiště jsou obsaženy v od.61 pol.13, 14 "]
[null,null,null,null,null,null,null,null,null,null,null,null,null,null,null,null,null,null,null,null,null,null,null,null,null,null,null,null,null,null,null,null,null,null,null,null,{"$f":"SUMIF(AJ80:AJ306,#REF!,G80:G306)","v":0},{"$f":"SUMIF(AJ80:AJ306,#REF!,G80:G306)","v":0}]

{"sheet":"06_SO O3 - Silnoproud","index":9,"n_rows":112,"n_cols":9,"rows_kept":112,"cut":false,"hidden":false,"merged":[[87,5,87,6],[87,7,87,8],[31,7,31,8],[4,0,4,8],[50,7,50,8],[62,5,62,6],[62,7,62,8],[69,5,69,6],[69,7,69,8],[79,5,79,6],[79,7,79,8],[83,5,83,6],[83,7,83,8],[24,3,24,4],[24,5,24,6],[24,7,24,8],[31,1,31,2],[26,3,26,4],[27,3,27,4],[28,3,28,4],[29,3,29,4],[30,3,30,4],[31,3,31,4],[30,1,30,2],[27,5,27,6],[28,5,28,6],[29,5,29,6],[30,5,30,6],[31,5,31,6],[50,5,50,6],[24,1,24,2],[26,1,26,2],[27,1,27,2],[28,1,28,2],[29,1,29,2],[36,0,36,8],[26,7,26,8],[27,7,27,8],[28,7,28,8],[29,7,29,8],[30,7,30,8],[32,7,32,8],[34,7,34,8],[32,3,32,4],[26,5,26,6],[32,1,32,2],[38,5,38,6],[38,7,38,8],[40,5,40,6],[40,7,40,8],[32,5,32,6]]}
[{"$f":"CONCATENATE('Rekapitulace stavby'!C58,\"_\",'Rekapitulace stavby'!I58)","v":"06_SO 03 - Silnoproudá elektroinstalace "}]
[]
["SPECIFIKACE DODÁVEK A PRACÍ "]
["Název akce:"]
[{"$f":"'Identifikační údaje'!B1","v":"ČRo Brno – III. etapa rekonstrukce budovy Beethovenova 25/4"}]
[]
["Zadavatel:",null,{"$f":"'Identifikační údaje'!B7","v":"Český rozhlas"}]
[null,"IČ:",{"$f":"'Identifikační údaje'!B9","v":45245053}]
[null,"DIČ:",{"$f":"'Identifikační údaje'!B10","v":"CZ45245053"}]
[]
["Projektant:",null,{"$f":"'Identifikační údaje'!B12","v":"Ing. arch. Klement Miloš"}]
[null,"IČ:",{"$f":"'Identifikační údaje'!B14","v":15188736}]
[null,"DIČ:",{"$f":"'Identifikační údaje'!B15","v":"CZ6101021344"}]
[]
["Uchazeč:",null,{"$f":"'Identifikační údaje'!E19","v":", ,  "}]
[null,"IČ:",{"$f":"'Identifikační údaje'!B23","v":0}]
[null,"DIČ:",{"$f":"'Identifikační údaje'!B24","v":0}]
[]
["Místo stavby:",null,{"$f":"'Identifikační údaje'!B3","v":"Budova Českého rozhlasu Brno na adrese Beethovenova 25/4, 657 42 Brno"}]
[]
["Datum:",null,{"$f":"'Identifikační údaje'!B5","v":"00:00:00"}]
[]
[{"$f":"CONCATENATE(\"REKAPITULACE DODÁVEK A PRACÍ OBJEKTU \",'Rekapitulace stavby'!I58)","v":"REKAPITULACE DODÁVEK A PRACÍ OBJEKTU SO 03 - Silnoproudá elektroinstalace "}]
[]
["P.č.","Ozn.",null,"Materiál celkem",null,"Montáž celkem",null,"M+M celkem"]
[]
[{"$f":"B41","v":"A."},{"$f":"C41","v":"Svítidla a příslušenství"},null,{"$f":"F41","v":0},null,{"$f":"H41","v":0},null,{"$f":"D27+F27","v":0}]
[{"$f":"B51","v":"B."},{"$f":"C51","v":"Spínače, zásuvky a ostatní přístroje "},null,{"$f":"F51","v":0},null,{"$f":"H51","v":0},null,0]
[{"$f":"B63","v":"C."},{"$f":"C63","v":"Instalační, úložný a ochranný materiál"},null,{"$f":"F63","v":0},null,{"$f":"H63","v":0},null,0]
[{"$f":"B70","v":"D."},{"$f":"C70","v":"Kabely a vodiče"},null,{"$f":"F70","v":0},null,{"$f":"H70","v":0},null,0]
[{"$f":"B80","v":"E."},{"$f":"C80","v":"Pospojování, uzemnění"},null,{"$f":"F80","v":0},null,{"$f":"H80","v":0},null,0]
[{"$f":"B84","v":"F."},{"$f":"C84","v":"Rozvaděče"},null,{"$f":"F84","v":0},null,{"$f":"H84","v":0},null,0]
[{"$f":"B88","v":"G."},{"$f":"C88","v":"Ostatní"},null,{"$f":"F88","v":0},null,{"$f":"H88","v":0},null,0]
[]
[{"$f":"CONCATENATE(\"CELKEM ZA OBJEKT \",'Rekapitulace stavby'!I58, \" v Kč bez DPH\")","v":"CELKEM ZA OBJEKT SO 03 - Silnoproudá elektroinstalace  v Kč bez DPH"},null,null,null,null,null,null,{"$f":"SUBTOTAL(9,H27:I33)","v":0}]
[]
["Textová, výkresová i tabulková část projektové dokumentace tvoří jeden vzájemně se doplňující a provázaný celek. Jednotliví účastníci výběrového řízení se musí seznámit s projektojektovou dokumentací v návaznosti na soupis prací a na základě těchto informací části díla nacenit. Dále je potřeba při stanovení ceny dle vykázané výměry započítat všechny předpokládané doplňkové prvky a činnosti s touto položkou související tak, aby cena byla kompletní a prvek funkční."]
[1]
[null,null,null,null,null,"Materiál",null,"Montáž"]
["poř.č.","položka","popis položky","MJ","množství","jedn.cena","celkem [Kč]","jedn.cena","celkem [Kč]"]
[null,"A.","Svítidla a příslušenství",null,null,{"$f":"SUBTOTAL(9,G43:G49)","v":0},null,{"$f":"SUBTOTAL(9,I43:I49)","v":0}]
[null,null," (komplet, včetně zdrojů, závěsů, pomocného materiálu, osazení zapojení, vyzkoušení apod.)"]
[1,null,"svítidlo typ A6 - Svítidlo stropní přisazené, bílá barva, difuzor opál, odsazený, Ø 130 mm, v=100 mm, LED 15W, 3000 K, 1280 lm, IP40","ks",7,null,{"$f":"E43*F43","v":0},null,{"$f":"E43*H43","v":0}]
[{"$f":"A43+1","v":2},null,"svítidlo typ A7 - Svítidlo přisazené, bílá barva, difuzor opál, 80x80x1480 mm, pro zářivku 2x49W, G5, EP","ks",1,null,{"$f":"E44*F44","v":0},null,0]
[3,null,"svítidlo typ C3 - Svítidlo vestavné do podhledu SDK, bílá barva odsazený opálový difuzor, Ø 175 mm, vestavná hloubka 70 mm, LED 20W, 3000 K, 1700 lm, IP54","ks",5,null,0,null,0]
[4,null,"svítidlo typ D1 - Svítidlo nástěnné, bílá barva, difuzor mikroprisma, velikost 270x370 mm, vyložení 160 mm, LED přímo - nepřímo svítící, 20W, 3000 K, 3000 lm","ks",28,null,0,null,0]
[5,null,"svítidlo typ D12 - Svítidlo přisazené, bílá barva + sklo mat, 250x250x95 mm, 2xE27, 2x12W max","ks",1,null,0,null,0]
[6,null,"svítidlo typ D13 - Svítidlo přisazené, bílá barva, difuzor opál, 80x30x600 mm, LED 20W, 3000 K, 1700 lm","ks",1,null,0,null,0]
[7,null,"NOUZOVÉ OSVĚTLENÍ s připojením k CBS Inotec","ks",25,null,0,null,0]
[]
[null,"B.","Spínače, zásuvky a ostatní přístroje ",null,null,{"$f":"SUBTOTAL(9,G54:G61)","v":0},null,{"$f":"SUBTOTAL(9,I54:I61)","v":0}]
[null,null,"(komplet, včetně příslušenství, pomocného materiálu, osazení, zapojení, vyzkoušení apod.)"]
[null,null,"Návazně na předchozí etapy rekonstrukce budou osaztovány výrobky z řady ABB Time"]
[{"$f":"A49+1","v":8},null,"Domovní spínač řazení 1, komplet","ks",1,null,{"$f":"E54*F54","v":0},null,{"$f":"E54*H54","v":0}]
[9,null,"Domovní spínač řazení 6, komplet ","ks",16,null,0,null,0]
[10,null,"Domovní spínač řazení 7, komplet ","ks",3,null,0,null,0]
[11,null,"Tlačítkový ovlada 1x přepínací kontakt se sklem - modrá barva - požární větrání CHUC","ks",4,null,0,null,0]
[12,null,"Domovní zásuvka 230V 16A,napájení z trafa  komplet","ks",1,null,0,null,0]
[13,null,"Napojení požárního ventilátoru 400V, dle montážního návodu ","ks",1,null,0,null,0]
[14,null,"Napojení požárního otevírání světlíku přes odbočnou krabici s funkční schopností při požáru, dle montážního návodu ","ks",1,null,0,null,0]
[15,null,"Napojení rozvaděče výtahu RV1, dle montážního návodu ","ks",1,null,0,null,0]
[]
[null,"C.","Instalační, úložný a ochranný materiál",null,null,{"$f":"SUBTOTAL(9,G64:G68)","v":0},null,{"$f":"SUBTOTAL(9,I63:I68)","v":0}]
[null,null," (komplet, včetně příslušenství, pomocného materiálu, výkopu, záhozu výkopu, vytyčení trasy, osazení, zapojení, vyzkoušení apod.)"]
[{"$f":"A61+1","v":16},null,"Krabice přístrojová","ks",21,null,{"$f":"E65*F65","v":0},null,{"$f":"E65*H65","v":0}]
[{"$f":"A65+1","v":17},null,"Krabice odbočná včetně wago svorek","ks",10,null,{"$f":"E66*F66","v":0},null,{"$f":"E66*H66","v":0}]
[{"$f":"A66+1","v":18},null,"Protipožární ucpávka pro průchod kabelů stěnou nebo stropem, požární odolnost dle požadavku specialisty PO, materiál: var.- požárně ochranná malta, var.-minerální vlna + desky z minerální vlny + požárně ochranná stěrková hmota, var.- protipožární polštáře ","m2",0.5,null,{"$f":"E67*F67","v":0},null,{"$f":"E67*H67","v":0}]
[{"$f":"A67+1","v":19},null,"Krabice odbočná včetně wago svorek s funkční schopností při požáru","ks",25,null,{"$f":"E68*F68","v":0},null,{"$f":"E68*H68","v":0}]
[]
[null,"D.","Kabely a vodiče",null,null,{"$f":"SUBTOTAL(9,G71:G78)","v":0},null,{"$f":"SUBTOTAL(9,I70:I78)","v":0}]
[null,null,"(komplet, včetně vyhotovení drážky, zapravení drážky, vytyčení trasy, pomocného materiálu, příchytek, spojek, odlehčovacích oblouků, zapojení, vyzkoušení apod.)"]
[{"$f":"A68+1","v":20},null,"Bezhalogenový kabel -J 3x1,5 B2CAS1D0","m",380,null,{"$f":"E72*F72","v":0},null,{"$f":"E72*H72","v":0}]
[{"$f":"A72+1","v":21},null,"Bezhalogenový kabel -J 3x2,5 B2CAS1D0","m",85,null,0,null,0]
[22,null,"Bezhalogenový kabel -O 3x1,5 B2CAS1D0","m",127,null,0,null,0]
[23,null,"Bezhalogenový kabel -J 5x6 B2CAS1D0","m",17,null,0,null,0]
[24,null,"Kabel s funkční schopností P30-R -J 5x1,5 B2CAS1D0","m",51,null,0,null,0]
[25,null,"Kabel s funkční schopností P30-R -O 3x1,5 B2CAS1D0","m",42,null,0,null,0]
[26,null,"Rozvody pro NO kabel s funkční schopností P60R -O 3x1,5  B2CAS1D0","m",102,null,0,null,0]
[]
[null,"E.","Pospojování, uzemnění",null,null,{"$f":"SUBTOTAL(9,G81:G82)","v":0},null,{"$f":"SUBTOTAL(9,I80:I82)","v":0}]
[null,null,"(komplet, včetně příslušenství, svorek, pomocného materiálu, osazení, zapojení, vyzkoušení apod.) "]
[{"$f":"A78+1","v":27},null,"Vodič CYA16 žlutozelený včetně svorek - hlavní pospojení","m",6,null,{"$f":"E82*F82","v":0},null,{"$f":"E82*H82","v":0}]
[]
[null,"F.","Rozvaděče",null,null,{"$f":"SUBTOTAL(9,G85:G86)","v":0},null,{"$f":"SUBTOTAL(9,I84:I86)","v":0}]
[null,null,"(komplet, včetně příslušenství, svorek, pomocného materiálu, osazení, zapojení, vyzkoušení apod.) "]
[{"$f":"A82+1","v":28},null,"Úpravy ve stávajícím požárním rozvaděči UPFD","ks",1,null,{"$f":"E86*F86","v":0},null,{"$f":"E86*H86","v":0}]
[]
[null,"G.","Ostatní",null,null,{"$f":"SUBTOTAL(9,G89:G95)","v":0},null,{"$f":"SUBTOTAL(9,I88:I95)","v":0}]
[{"$f":"A86+1","v":29},null,"Výchozí revize","hod",10,null,{"$f":"E89*F89","v":0},null,{"$f":"E89*H89","v":0}]
[{"$f":"A89+1","v":30},null,"Demontáže včetně likvidace odpadu","hod",30,null,{"$f":"E90*F90","v":0},null,0]
[31,null,"Stavební přípomoce ","kpl",1," ---"," ---",null,0]
[{"$f":"A91+1","v":32},null,"Pomocný a podružný materiál upevňovací","kpl",1,null,{"$f":"E92*F92","v":0},null,0]
[33,null,"Zednické výpomoci (PPV)","kpl",1," ---"," ---",null,0]
[34,null,"Doprava materiálu","kpl",1," ---"," ---",null,0]
[35,null,"Zařízení typu UPFD + náhradní zdroj UPS, integrované ve společné skříni, pracující ze spol.sady baterií","ks",1,null,{"$f":"E95*F95","v":0},null,0]
[null,null,"Specifikace položky:"]
[null,null,"Skříň distribuce energie pro motory "]
[null,null,"Modul řízeného nabíječe "]
[null,null,"1x EMC filtry"]
[null,null,"servisní manuální ByPass (pro každý motor zvlášť)"]
[null,null,"1x RS232 pro nastavení invertorů"]
[null,null,"1x RS232 pro nastavení modulu automatiky monitorování"]
[null,null,"RS 485 pro velín (MODBUS RTU) "]
[null,null,"SOUPIS POŽADOVANÝCH VÝSTUPŮ ZE ZDROJE UPFD :"]
[null,null,"1) P1 - ventilátor požárního větrání  400V / 6.35kW,  doba zálohování (samostatnosti) 30 min"]
[null,null,"2) K1 - VZT požární klapka - servopohon - 230V,  doba zálohování (samostatnosti) 30 min"]
[null,null,"3) K2 - VZT požární klapka - servopohon - 230V,  doba zálohování (samostatnosti) 30 min"]
[null,null,"SOUPIS OVLÁDACÍCH VSTUPŮ DO  ZDROJE UPFD :"]
[null,null,"1) Signál z EPS - signál:  aktivace CHÚC"]
[null,null,"2) TOTAL STOP - odstavení zdroje"]
[]
[null,null,"UPFD má výstupy  400V pro každý motor samostatně a další část UPS 2500W/230V pro klapky a servopohony. Každý motor se bude spouštět samostatným signálem na základě povelů ( bezpotenciálový kontakt z EPS nebo např.tlačítko), což umožňuje řízení a spouštění libovolné kombinace. Různé doby zálohy pro různá zařízení v rozmezí od 15 minut do 45 minut. Motory a ovládání se připojí přímo do UPFD, bez jakýchkoliv přepínacích a jistících prvků. Přepínání mezi sítí a akumulátory je automatické (součást UPFD).  Základní signalizace LED. UPFD může být vybaveno  Touchscreen. "]

{"sheet":"07_SO 03 - VZT","index":10,"n_rows":75,"n_cols":10,"rows_kept":75,"cut":false,"hidden":false,"merged":[[65,9,68,9],[67,3,68,3],[67,4,68,4],[74,5,74,6],[74,0,74,4],[65,0,68,0],[65,1,68,1],[65,2,68,2],[65,3,66,4],[65,5,65,8],[18,3,19,3],[18,4,19,4],[24,0,24,9],[42,0,42,1],[42,7,42,9],[16,0,19,0],[16,1,19,1],[16,2,19,2],[16,3,17,4],[16,5,16,8],[16,9,19,9],[17,5,17,6],[17,7,17,8],[59,0,59,4],[46,9,49,9],[48,3,49,3],[48,4,49,4],[59,5,59,6],[46,0,49,0],[46,1,49,1],[46,2,49,2],[46,3,47,4],[46,5,46,8]]}
[{"$f":"CONCATENATE('Rekapitulace stavby'!C59,\"_\",'Rekapitulace stavby'!I59)","v":"07_SO 03 - Vzduchotechnika a chlazení"}]
[]
["SPECIFIKACE DODÁVEK A PRACÍ "]
["Název akce:"]
[{"$f":"'Identifikační údaje'!B1","v":"ČRo Brno – III. etapa rekonstrukce budovy Beethovenova 25/4"}]
[]
["Zadavatel:",null,{"$f":"'Identifikační údaje'!E7","v":"Český rozhlas, Vinohradská 12, 120 99 Praha 2"},"Projektant:",null,{"$f":"'Identifikační údaje'!E12","v":"Ing. arch. Klement Miloš, Nejedlého 381/19, 638 00 Brno - Lesná"}]
[null,"IČ",{"$f":"'Identifikační údaje'!B9","v":45245053},null,"IČ",{"$f":"'Identifikační údaje'!B14","v":15188736}]
[null,"DIČ",{"$f":"'Identifikační údaje'!B10","v":"CZ45245053"},null,"DIČ",{"$f":"'Identifikační údaje'!B15","v":"CZ6101021344"}]
[]
["Uchazeč:",null,{"$f":"'Identifikační údaje'!E19","v":", ,  "},"Místo stavby:",null,{"$f":"'Identifikační údaje'!B3","v":"Budova Českého rozhlasu Brno na adrese Beethovenova 25/4, 657 42 Brno"}]
[null,"IČ",{"$f":"'Identifikační údaje'!B23","v":0}]
[null,"DIČ",{"$f":"'Identifikační údaje'!B24","v":0}]
[]
["Datum:",null,{"$f":"'Identifikační údaje'!B5","v":"00:00:00"}]
[]
["P.Č.","Č.Z"," Popis položky:","Měrná jednotka",null,"Cena",null,null,null,"Poznámka"]
[null,null,null,null,null,"Jednotková",null,"Celkem"]
[null,null,null,"-","počet","Dodávka","Montáž","Dodávka","Montáž"]
[null,null,null,null,null,"[ Kč ]","[ Kč ]","[ Kč ]","[ Kč ]"]
[null,null,{"$f":"CONCATENATE(\"REKAPITULACE OBJEKTU \",'Rekapitulace stavby'!I59)","v":"REKAPITULACE OBJEKTU SO 03 - Vzduchotechnika a chlazení"}]
[1,1,{"$f":"C51","v":"Zařízení č.8  - Větrání CHUC B"},"kpl",1," - "," - ",{"$f":"H60","v":0},{"$f":"I60","v":0},"-"]
[2,"2.1",{"$f":"C70","v":"Zařízení č.12  - Úprava stávajícího větrání výměníkové stanice"},"kpl",1," -"," -",{"$f":"H75","v":0},{"$f":"I75","v":0},"-"]
[null,null,"Mezisoučet",null,null,null,null,{"$f":"SUM(H22:H23)","v":0},{"$f":"SUM(I22:I23)","v":0},"Kč bez DPH"]
[]
[{"$f":"A23+1","v":3},"-","Protipožární ucpávky","ks",3,null,null,{"$f":"E26*F26","v":0},{"$f":"E26*G26","v":0},"-"]
[{"$f":"A26+1","v":4},"-","Materiál pro spoje, montáž, závěsy, atd.","kpl",1,null,null,{"$f":"E27*F27","v":0},{"$f":"E27*G27","v":0},"-"]
[{"$f":"A27+1","v":5},null,"Demontáž stáv.vzduchotechnických rozvodů","kpl",1,null,null,{"$f":"E28*F28","v":0},{"$f":"E28*G28","v":0},"-"]
[{"$f":"A28+1","v":6},null,"Demontáž  stěny z Tahokovu a opětná montáž po přesunutí  chladicí jednotky","ks",1,null,null,0,0,"-"]
[7,null,"Přesunutí chladicí jednotky do dvora","ks",1,null,null,0,0,"-"]
[8,null,"Výkopové práce a základy ve dvoře pro přesunutí chladicí jednotky","m3",4,null,null,0,0,"-"]
[9,null,"Rozebrání a opětovné položení dlažby","m2",12,null,null,0,0,"-"]
[10,null,"Průraz v základech","ks",1,null,null,0,0,"-"]
[11,null,"Odvětrání CHÚC typu B 1200/1200 mm kompletní konstrukce včvynášecích profilů a protipo|žár. SDK desek:1","ks",1,null,null,0,0,"-"]
[{"$f":"A34+1","v":12},"-","Doprava","kpl",1,null,null,null,{"$f":"E35*G35","v":0},"-"]
[13,"-","Přesuny","kpl",1,null,null,null,0,"-"]
[14,"-","Uvedení do provozu, zaregulování, vyzkoušení, předávací řízení","kpl",1,null,null,null,0,"-"]
[15,"-","Inženýrská a koordinační činnost","kpl",1,null,null,null,0,"-"]
[16,"-","Dílenská a výrobní projektová dokumentace","kpl",1,null,null,null,0,"-"]
[17,"-","Dokumentace konečného provedení, návody, atesty, prohlášení o shodě","kpl",1,null,null,null,0,"-"]
[null,null,"Mezisoučet",null,null,null,null,{"$f":"SUM(H26:H40)","v":0},{"$f":"SUM(I26:I40)","v":0},"Kč bez DPH"]
[]
["CELKEM D+M",null,{"$f":"CONCATENATE(\"OBJEKTU \",'Rekapitulace stavby'!I59,\" v Kč bez DPH\")","v":"OBJEKTU SO 03 - Vzduchotechnika a chlazení v Kč bez DPH"},null,null,null,null,{"$f":"H24+H41+I24+I41","v":0}]
[]
[]
[]
["P.Č.","Č.P."," Popis položky:","Měrná jednotka",null,"Cena",null,null,null,"Poznámka"]
[null,null,null,null,null,"Jednotková cena",null,"Celková cena"]
[null,null,null,"-","počet","Dodávka","Montáž","Dodávka","Montáž"]
[null,null,null,null,null,"[ Kč ]","[ Kč ]","[ Kč ]","[ Kč ]"]
[null,null,"Zařízení č.8  - Větrání CHUC B"]
[{"$f":"A40+1","v":18},"8.1","Ventilátor - referenční výrobek TGT/2-500-6/14-LP-2,2kW","ks",1,null,null,{"$f":"E52*F52","v":0},{"$f":"E52*G52","v":0}]
[{"$f":"A52+1","v":19},0,"Pružná spojka - referenční výrobek ACOP 500","ks",2,null,null,0,0]
[{"$f":"A53+1","v":20},"8.2","Přetlaková klapka pro montáž na střechu - referenční výrobek DEK-V 600/900 -DS 1200/1200 pro mn.vzduchu 8800 m3/h včetně servopohonu 230V s havarijní funkcí - nátěr RAL…... dle požadavku architekta","ks",1,null,null,0,0]
[21,"8.3","Zpětná klapka - referenční výrobek TSK 500","ks",1,null,null,0,0]
[22,"8.4","Protidešťová žaluzie pozinkovaná se sítem 1350 x 710 - nátěr RAL…...","ks",1,null,null,0,0]
[23,"8.5","Výustka - referenční výrobek NOVA - A - 1 - 1 - 1000 x 500 - nátěr RAL……","ks",2,null,null,0,0]
[24,0,"Trouba SPIRO - 500 - včetně tvarovek","bm",8,null,null,0,0]
[25,null,"Čtyřhranné ocel. potrubí sk. I včetně tvarovek","m2",10,null,null,0,0]
[{"$f":"CONCATENATE(C51,\" - celkem\")","v":"Zařízení č.8  - Větrání CHUC B - celkem"},null,null,null,null,null,null,{"$f":"SUM(H52:H59)","v":0},{"$f":"SUM(I52:I59)","v":0},"bez DPH"]
[]
[]
[]
[]
[]
["P.Č.","Č.P."," Popis položky:","Měrná jednotka",null,"Cena",null,null,null,"Poznámka"]
[null,null,null,null,null,"Jednotková cena",null,"Celková cena"]
[null,null,null,"-","počet","Dodávka","Montáž","Dodávka","Montáž"]
[null,null,null,null,null,"[ Kč ]","[ Kč ]","[ Kč ]","[ Kč ]"]
[null,null,"Zařízení č.12  - Úprava stávajícího větrání výměníkové stanice"]
[{"$f":"A59+1","v":26},"PK12.1","Požární klapka - referenční výrobek PKTM III-K 300/375 - .40 TPM 075/09","ks",1,null,null,{"$f":"E71*F71","v":0},{"$f":"E71*G71","v":0}]
[{"$f":"A71+1","v":27},null,"Trouba SPIRO - 300 - včetně tvarovek","bm",2,null,null,{"$f":"E72*F72","v":0},{"$f":"E72*G72","v":0}]
[{"$f":"A72+1","v":28},null,"Demontáž potrubí D300","bm",5,null,null,{"$f":"E73*F73","v":0},{"$f":"E73*G73","v":0}]
[]
[{"$f":"CONCATENATE(C70,\" - celkem\")","v":"Zařízení č.12  - Úprava stávajícího větrání výměníkové stanice - celkem"},null,null,null,null,null,null,{"$f":"SUM(H71:H73)","v":0},{"$f":"SUM(I71:I73)","v":0},"bez DPH"]

{"sheet":"08_SO 03 - Výtah","index":11,"n_rows":214,"n_cols":37,"rows_kept":214,"cut":false,"hidden":false,"merged":[[73,2,73,6],[47,3,47,6],[24,3,24,6],[25,2,25,6]]}
[{"$f":"CONCATENATE('Rekapitulace stavby'!C60,\"_\",'Rekapitulace stavby'!I60)","v":"08_SO 03 - Výtah"}]
[]
["SPECIFIKACE DODÁVEK A PRACÍ "]
["Název akce:"]
[{"$f":"'Identifikační údaje'!B1","v":"ČRo Brno – III. etapa rekonstrukce budovy Beethovenova 25/4"}]
[]
["Zadavatel:",null,{"$f":"'Identifikační údaje'!E7","v":"Český rozhlas, Vinohradská 12, 120 99 Praha 2"}]
[null,"IČ:",{"$f":"'Identifikační údaje'!B9","v":45245053}]
[null,"DIČ:",{"$f":"'Identifikační údaje'!B10","v":"CZ45245053"}]
[]
["Projektant:",null,{"$f":"'Identifikační údaje'!E12","v":"Ing. arch. Klement Miloš, Nejedlého 381/19, 638 00 Brno - Lesná"}]
[null,"IČ:",{"$f":"'Identifikační údaje'!B14","v":15188736}]
[null,"DIČ:",{"$f":"'Identifikační údaje'!B15","v":"CZ6101021344"}]
[]
["Uchazeč:",null,{"$f":"'Identifikační údaje'!E19","v":", ,  "}]
[null,"IČ:",{"$f":"'Identifikační údaje'!B23","v":0}]
[null,"DIČ:",{"$f":"'Identifikační údaje'!B24","v":0}]
[]
["Místo stavby:",null,{"$f":"'Identifikační údaje'!B3","v":"Budova Českého rozhlasu Brno na adrese Beethovenova 25/4, 657 42 Brno"}]
[]
["Datum vyplnění:",null,{"$f":"'Identifikační údaje'!B5","v":"00:00:00"}]
[]
[{"$f":"CONCATENATE(\"REKAPITULACE DODÁVEK A PRACÍ OBJEKTU \",'Rekapitulace stavby'!I60)","v":"REKAPITULACE DODÁVEK A PRACÍ OBJEKTU SO 03 - Výtah"}]
[]
["P.č.","Číslo položky","Název položky","Kč bez DPH"]
[null,"Ceník, kapitola"]
["Díl:",{"$f":"B75","v":0},{"$f":"C75","v":"Přípravné a pomocné práce"},null,null,null,{"$f":"G75","v":0}]
["Díl:",{"$f":"B78","v":"3"},{"$f":"C78","v":"Svislé a kompletní konstrukce"},null,null,null,{"$f":"G78","v":0}]
["Díl:",{"$f":"B82","v":"311"},{"$f":"C82","v":"Sádrokartony"},null,null,null,{"$f":"G82","v":0}]
["Díl:",{"$f":"B86","v":"311"},{"$f":"C86","v":"Sádrokartony"},null,null,null,{"$f":"G86","v":0}]
["Díl:",{"$f":"B92","v":"34"},{"$f":"C92","v":"Stěny a příčky"},null,null,null,{"$f":"G92","v":0}]
["Díl:",{"$f":"B95","v":"4"},{"$f":"C95","v":"Vodorovné konstrukce"},null,null,null,{"$f":"G95","v":0}]
["Díl:",{"$f":"B98","v":"61"},{"$f":"C98","v":"Upravy povrchů vnitřní"},null,null,null,{"$f":"G98","v":0}]
["Díl:",{"$f":"B122","v":"63"},{"$f":"C122","v":"Podlahy a podlahové konstrukce"},null,null,null,{"$f":"G122","v":0}]
["Díl:",{"$f":"B132","v":"94"},{"$f":"C132","v":"Lešení a stavební výtahy"},null,null,null,{"$f":"G132","v":0}]
["Díl:",{"$f":"B139","v":"95"},{"$f":"C139","v":"Dokončovací konstrukce na pozemních stavbách"},null,null,null,{"$f":"G139","v":0}]
["Díl:",{"$f":"B147","v":"96"},{"$f":"C147","v":"Bourání konstrukcí"},null,null,null,{"$f":"G147","v":0}]
["Díl:",{"$f":"B151","v":"99"},{"$f":"C151","v":"Staveništní přesun hmot"},null,null,null,{"$f":"G151","v":0}]
["Díl:",{"$f":"B153","v":"767"},{"$f":"C153","v":"Konstrukce zámečnické"},null,null,null,{"$f":"G153","v":0}]
["Díl:",{"$f":"B164","v":"783"},{"$f":"C164","v":"Nátěry"},null,null,null,{"$f":"G164","v":0}]
["Díl:",{"$f":"B171","v":"784"},{"$f":"C171","v":"Malby"},null,null,null,{"$f":"G171","v":0}]
["Díl:",{"$f":"B180","v":"M21"},{"$f":"C180","v":"Elektromontáže"},null,null,null,{"$f":"G180","v":0}]
["Díl:",{"$f":"B189","v":"M33"},{"$f":"C189","v":"Montáže dopravích zařízení a vah - výtahy"},null,null,null,{"$f":"G189","v":0}]
["Díl:",{"$f":"B191","v":"M33"},{"$f":"C191","v":"Montáže dopravích zařízení a vah - výtahy"},null,null,null,{"$f":"G191","v":0}]
["Díl:",{"$f":"B193","v":"311"},{"$f":"C193","v":"Sádrokartony"},null,null,null,{"$f":"G193","v":0}]
["Díl:",{"$f":"B197","v":"M43"},{"$f":"C197","v":"Montáže ocelových konstrukcí"},null,null,null,{"$f":"G197","v":0}]
[]
[{"$f":"CONCATENATE(\"CELKEM ZA OBJEKT \",'Rekapitulace stavby'!I60, \" v Kč bez DPH\")","v":"CELKEM ZA OBJEKT SO 03 - Výtah v Kč bez DPH"},null,null,{"$f":"SUM(G27:G46)","v":0}]
[]
[]
[]
[]
[]
[]
[]
[]
[]
[]
[]
[]
[]
[]
[]
[]
[]
[]
[]
[]
[]
[]
[]
[]
["P.č.","Číslo položky","Název položky","MJ","množství","cena / MJ","celkem"]
[null,"Ceník, kapitola","Poznámka uchazeče"]
["Díl:",0,"Přípravné a pomocné práce",null,null,null,{"$f":"SUBTOTAL(9,G76:G77)","v":0},null,null,null,null,null,null,null,null,null,null,null,null,null,null,null,null,null,null,null,"POL",null,null,null,null,null,null,null,21]
[{"$f":"1","v":1},"382111001MZ","Rozměření poloh","kus",1,null,{"$f":"E76*F76","v":0}]
[{"$f":"A76+1","v":2},"R01","Drobné detaily neobsažené v polož. stavebním rozpočtu","kpl.",1,null,{"$f":"E77*F77","v":0}]
["Díl:","3","Svislé a kompletní konstrukce",null,null,null,{"$f":"SUBTOTAL(9,G79:P81)","v":0}]
[{"$f":"A77+1","v":3},"389200030RPP","Pilíř pro měřicí skříně-zazdění niky, 2,4x0,40x0,30m -pož.obezdění rozvaděče pórobeton 7,5cm, omítka, 2x protipož.větrací mřížka 300/100mm","kus",1,null,{"$f":"E79*F79","v":0}]
[{"$f":"A79+1","v":4},"713582114R35","Revizní dvířka Promat do masivních stěn,300x500 mm, typ SP, požární odolnost EI 15","kus",1,null,{"$f":"E80*F80","v":0},null,null,null,null,null,null,null,null,null,null,null,null,null,null,null,null,null,0]
[{"$f":"A80+1","v":5},"713582126R12","Revizní dvířka Promat do masivních stěn,300x1200 mm, typ SP, požární odolnost EI 15","kus",1,null,{"$f":"E81*F81","v":0}]
["Díl:","311","Sádrokartony",null,null,null,{"$f":"SUBTOTAL(9,G83:P85)","v":0},null,null,null,null,null,null,null,null,null,null,null,null,null,null,null,null,null,null,null,"SPX"]
[{"$f":"A81+1","v":6},"347015122R00","Předstěna SDK, tl.95mm, ocel. kce CW, 2x Rigips habito 12,5mm, EI 30DP1","m2",44.87,null,{"$f":"E83*F83","v":0},null,null,null,null,null,null,null,null,null,null,null,null,null,null,null,null,null,null,null,"POL",null,null,null,null,null,null,null,21]
[null,null,"Z1 : 1,45*(26,771+3,3+0,25)",null,43.97]
[null,null,"PS : 1,8*0,5",null,0.9]
["Díl:","311","Sádrokartony",null,null,null,{"$f":"SUBTOTAL(9,G87:P91)","v":0}]
[{"$f":"A83+1","v":7},"342266211RT6","Obklad stěn sádrokartonem lepený na zdivo, desky protipožární tl. 12,5 mm, EI 30DP1","m2",1,null,{"$f":"E87*F87","v":0}]
[{"$f":"A87+1","v":8},"342266998R00","Příplatek pro obklad za plochu do 5 m2","m2",0.87,null,{"$f":"E88*F88","v":0}]
[null,null,"1,45*0,4",null,0.57999999999999996]
[null,null,"1,45*0,2",null,0.28999999999999998]
[{"$f":"A88+1","v":9},"906      RT3","HZS - nezměřitelné práce malého rozsahu, Práce v tarifní třídě 6","h",8,null,{"$f":"E91*F91","v":0},null,null,null,null,null,null,null,null,null,null,null,null,null,null,null,null,null,0]
["Díl:","34","Stěny a příčky",null,null,null,{"$f":"SUBTOTAL(9,G93:P94)","v":0},null,null,null,null,null,null,null,null,null,null,null,null,null,null,null,null,null,null,null,"SPX"]
[{"$f":"A91+1","v":10},"346244371RT2","Zazdívka rýhí, kapes cihlami tl. 14 cm, s použitím suché maltové směsi","m2",7.5,null,{"$f":"E93*F93","v":0}]
[null,null,"2*0,15*0,15",null,0.05]
["Díl:","4","Vodorovné konstrukce",null,null,null,{"$f":"SUBTOTAL(9,G96:P97)","v":0}]
[{"$f":"A93+1","v":11},"417320039RAC","Ztužující věnec ŽB beton C 25/30, 20 x 14 cm, bednění, výztuž 150 kg/m3","m",8.1999999999999993,null,{"$f":"E96*F96","v":0},null,null,null,null,null,null,null,null,null,null,null,null,null,null,null,null,null,0]
[null,null,"2*2,3+2*1,8",null,8.1999999999999993,null,null,null,null,null,null,null,null,null,null,null,null,null,null,null,null,null,null,null,null,null,"POL",null,null,null,null,null,null,null,21]
["Díl:","61","Upravy povrchů vnitřní",null,null,null,{"$f":"SUBTOTAL(9,G99:G121)","v":0}]
[{"$f":"A96+1","v":12},"346481111RT2","Zaplentování rýh, nosníků rabicovým pletivem, s použitím suché maltové směsi","m2",0.44,null,{"$f":"E99*F99","v":0}]
[null,null,"0,3*1,45",null,0.44]
[{"$f":"A99+1","v":13},"602011144RT2","Štuk na stěnách vnitřní, ručně, tloušťka vrstvy 3 mm","m2",88.8,null,{"$f":"E101*F101","v":0}]
[{"$f":"A101+1","v":14},"602011191R00","Podklad.nátěr stěn pod tenkovr.omítky Cemix PASN","m2",88.8,null,{"$f":"E102*F102","v":0}]
[null,null,"Položka pořadí 39 : 88,79500",null,88.8]
[{"$f":"A102+1","v":15},"602016191R00","Penetrační nátěr stěn PROFI","m2",88.8,null,{"$f":"E104*F104","v":0}]
[null,null,"30,1*(0,75*2+1,45)",null,88.8,null,null,null,null,null,null,null,null,null,null,null,null,null,null,null,null,null,null,null,0]
[{"$f":"A104+1","v":16},"611401211RT2","Oprava omítky na stropech o ploše do 0,25 m2, vápennou štukovou omítkou","kus",8,null,{"$f":"E106*F106","v":0}]
[null,null,"dotčené prostory-podlaží : 8",null,8]
[{"$f":"A106+1","v":17},"612401191RT2","Omítka malých ploch vnitřních stěn do 0,09 m2, vápennou štukovou omítkou","kus",2,null,{"$f":"E108*F108","v":0}]
[null,null,"kapsy : 2",null,2]
[{"$f":"A108+1","v":18},"612431111R00","Omítka sádrokartonových stěn Feinputz","m2",296.69,null,{"$f":"E110*F110","v":0}]
[null,null,"Z1 : 1,45*(26,771+3,3+0,25)",null,43.97]
[null,null,"PS : 1,8*0,5",null,0.9]
[null,null,"výtahová šachta-interier : 30,9*(2*1,92+2*1,42)",null,206.42000000000002]
[null,null,"výtahová šachta-exterier : 3,3*1,72*8,0",null,45.410000000000004,null,null,null,null,null,null,null,null,null,null,null,null,null,null,null,null,null,null,null,0]
[{"$f":"A110+1","v":19},"612401391RT2","Omítka malých ploch vnitřních stěn do 1 m2, s použitím suché maltové směsi","kus",8,null,{"$f":"E115*F115","v":0}]
[null,null,"dotčené prostory-podlaží : 8",null,8]
[{"$f":"A115+1","v":20},"612409991RT2","Začištění omítek kolem oken,dveří apod., s použitím suché maltové směsi","m",89.600000000000009,null,{"$f":"E117*F117","v":0}]
[null,null,"dotčené prostory-podlaží : 8*(4,0+1,6+1,6+4,0)",null,89.600000000000009]
[{"$f":"A117+1","v":21},"612425931RT2","Omítka vápenná vnitřního ostění - štuková, s použitím suché maltové směsi","m2",0.44,null,{"$f":"E119*F119","v":0}]
[{"$f":"A119+1","v":22},"632477123R00","Reprofil.polymercement.maltou,tl.do10 mm+penetrace","m2",0.44,null,{"$f":"E120*F120","v":0}]
[{"$f":"A120+1","v":23},"905      RT2","HZS - nezměřitelné práce malého rozsahu, Práce v tarifní třídě 5","h",8,null,{"$f":"E121*F121","v":0}]
["Díl:","63","Podlahy a podlahové konstrukce",null,null,null,{"$f":"SUBTOTAL(9,G123:P131)","v":0},null,null,null,null,null,null,null,null,null,null,null,null,null,null,null,null,null,0]
[{"$f":"A121+1","v":24},"632451022R00","Vyrovnávací potěr MC 15, v pásu, tl. 30 mm","m2",2.64,null,{"$f":"E123*F123","v":0},null,null,null,null,null,null,null,null,null,null,null,null,null,null,null,null,null,null,null,"SPX"]
[null,null,"nástupiště : 8*1,1*0,3",null,2.64,null,null,null,null,null,null,null,null,null,null,null,null,null,null,null,null,null,null,null,null,null,"POL",null,null,null,null,null,null,null,21]
[{"$f":"A123+1","v":25},"634601131R00","Zaplnění dilatačních spár mazanin, šířka 30 mm","m",8.8000000000000007,null,{"$f":"E125*F125","v":0}]
[null,null,"nástupiště : 8*1,1",null,8.8000000000000007]
[{"$f":"A125+1","v":26},"771578011R00","Spára podlaha - stěna, silikonem","m",17.600000000000001,null,{"$f":"E127*F127","v":0}]
[{"$f":"A127+1","v":27},"631100000RA0","Podlaha z dlažby mramorové v materiálu pohledově shodném s mramorem schodiště","m2",0.88,null,{"$f":"E128*F128","v":0}]
[null,null,"8*1,1*0,1",null,0.88]
[{"$f":"A128+1","v":28},"905      RT2","HZS - nezměřitelné práce malého rozsahu, Práce v tarifní třídě 5","h",8,null,{"$f":"E130*F130","v":0}]
[{"$f":"A130+1","v":29},"R63-01","Příplatek za malý rozsah mramor.dlažby","kpl.",1,null,{"$f":"E131*F131","v":0},null,null,null,null,null,null,null,null,null,null,null,null,null,null,null,null,null,0]
["Díl:","94","Lešení a stavební výtahy",null,null,null,{"$f":"SUBTOTAL(9,G133:P138)","v":0},null,null,null,null,null,null,null,null,null,null,null,null,null,null,null,null,null,null,null,"SPX"]
[{"$f":"A131+1","v":30},"941955002R00","Lešení lehké pomocné, výška podlahy do 1,9 m","m2",40,null,{"$f":"E133*F133","v":0},null,null,null,null,null,null,null,null,null,null,null,null,null,null,null,null,null,null,null,"POL",null,null,null,null,null,null,null,21]
[null,null,"8*5,0",null,40]
[{"$f":"A133+1","v":31},"941941111KPL","Pronájem lešení, doprava, manipulace","kompl.",1,null,{"$f":"E135*F135","v":0}]
[{"$f":"A135+1","v":32},"949311113U00","Mtž leš trub šachta do 6m2 v 30m","m",30,null,{"$f":"E136*F136","v":0}]
[{"$f":"A136+1","v":33},"94931121U00","Přípl ZKD den leš k 94931-1111/2/3","m",60,null,{"$f":"E137*F137","v":0}]
[{"$f":"A137+1","v":34},"949311813U00","Dmtž leš trub šachta do 6m2 v 30m","m",30,null,{"$f":"E138*F138","v":0}]
["Díl:","95","Dokončovací konstrukce na pozemních stavbách",null,null,null,{"$f":"SUBTOTAL(9,G140:P146)","v":0}]
[{"$f":"A138+1","v":35},"952901111R00","Vyčištění budov o výšce podlaží do 4 m","m2",150,null,{"$f":"E140*F140","v":0}]
[{"$f":"A140+1","v":36},"953941312R00","Osazení hasicího přístroje na stěnu","kus",1,null,{"$f":"E141*F141","v":0}]
[{"$f":"A141+1","v":37},"954112111R00","SDK obklad ocel.sloupů 4str., RF tl.12,5+15 mm","m",1.45,null,{"$f":"E142*F142","v":0}]
[{"$f":"A142+1","v":38},"713541201R00","Tmelení spár 2 x 15 mm protipožárním tmelem Promat","m",5.8,null,{"$f":"E143*F143","v":0}]
[null,null,"4*1,45",null,5.8]
[{"$f":"A143+1","v":39},"905      RT2","HZS - nezměřitelné práce malého rozsahu, Práce v tarifní třídě 5","h",8,null,{"$f":"E145*F145","v":0}]
[{"$f":"A145+1","v":40},"44984142R","Přístroj hasicí sněhový S5Kte","kus",1,null,{"$f":"E146*F146","v":0}]
["Díl:","96","Bourání konstrukcí",null,null,null,{"$f":"SUBTOTAL(9,G148:P150)","v":0}]
[{"$f":"A146+1","v":41},"317314125R00","Podbetonování zhlaví nosníků, zdivo šířky 250 mm","kus",4,null,{"$f":"E148*F148","v":0}]
[{"$f":"A148+1","v":42},"767141800R00","Demontáž konstr.pro beztm.zasklení,vč.zasklení","m2",85.48,null,{"$f":"E149*F149","v":0}]
[null,null,"PL/B : 26,711*(1,6+1,6)",null,85.48]
["Díl:","99","Staveništní přesun hmot",null,null,null,{"$f":"SUBTOTAL(9,G152:P152)","v":0}]
[{"$f":"A149+1","v":43},"999281151R00","Přesun hmot pro opravy a údržbu do v. 25 m,nošením","t",12.94,null,{"$f":"E152*F152","v":0}]
["Díl:","767","Konstrukce zámečnické",null,null,null,{"$f":"SUBTOTAL(9,G154:P163)","v":0}]
[{"$f":"A152+1","v":44},"767995101R00","Výroba a montáž kov. atypických konstr. do 5 kg","kg",10,null,{"$f":"E154*F154","v":0}]
[{"$f":"A154+1","v":45},"767995104R00","Výroba a montáž kov. atypických konstr. do 50 kg","kg",165.67000000000002,null,{"$f":"E155*F155","v":0}]
[null,null,"I160 - 17,9kg/m : 4*1,85*17,9",null,132.46]
[null,null,"Jackel -17,95kg/m : 1,85*17,95",null,33.21,null,null,null,null,null,null,null,null,null,null,null,null,null,null,null,null,null,null,null,null,null,"SPX"]
[{"$f":"A155+1","v":46},"13380530R","Tyč průřezu I 160, střední, jakost oceli 11373","t",0.15,null,{"$f":"E158*F158","v":0},null,null,null,null,null,null,null,null,null,null,null,null,null,null,null,null,null,null,null,"POL_NEZ",1,null,null,null,null,null,null,21]
[null,null,"hmotnost 17,90 kg/m : 4*1,85*17,9*0,001*1,08",null,0.15,null,null,null,null,null,null,null,null,null,null,null,null,null,null,null,null,null,null,null,0]
[{"$f":"A158+1","v":47},"55399999R","Ocelové výrobky - kotvy a spojky-atypické prvky","kg",10,null,{"$f":"E160*F160","v":0},null,null,null,null,null,null,null,null,null,null,null,null,null,null,null,null,null,null,null,"POL",null,null,null,null,null,null,null,21]
[{"$f":"A160+1","v":48},"14587796160","Profil obdélník. uzavř.svařovaný S235  160x100x6 mm","t",0.04,null,{"$f":"E161*F161","v":0}]
[null,null,"17,95kg/m : 1,85*17,95*0,001*1,08",null,0.04,null,null,null,null,null,null,null,null,null,null,null,null,null,null,null,null,null,null,null,null,null,"POL",null,null,null,null,null,null,null,21]
[{"$f":"A161+1","v":49},"998767104R00","Přesun hmot pro zámečnické konstr., výšky do 36 m","t",0.2,null,{"$f":"E163*F163","v":0},null,null,null,null,null,null,null,null,null,null,null,null,null,null,null,null,null,null,null,"POL",null,null,null,null,null,null,null,21]
["Díl:","783","Nátěry",null,null,null,{"$f":"SUBTOTAL(9,G165:P170)","v":0}]
[{"$f":"A163+1","v":50},"777615217U00","Podlaha beton nátěr 2xSikafloor 261, nátěr dojezdu výtahu odolný proti ropným produktům","m2",4.21,null,{"$f":"E165*F165","v":0},null,null,null,null,null,null,null,null,null,null,null,null,null,null,null,null,null,0]
[null,null,"podlaha prohlubně : 1,6*1,6+1,4*0,4",null,3.12,null,null,null,null,null,null,null,null,null,null,null,null,null,null,null,null,null,null,null,1]
[null,null,"stěny prohlubně : 0,15*(1,61+1,59+1,61+0,2+0,4+1,4+0,4)",null,1.0900000000000001,null,null,null,null,null,null,null,null,null,null,null,null,null,null,null,null,null,null,null,0]
[{"$f":"A165+1","v":51},"783220010RAC","Nátěr kovových doplňkových konstrukcí syntetický, dvojnásobný krycí s 1x emailováním","m2",20.2,null,{"$f":"E168*F168","v":0},null,null,null,null,null,null,null,null,null,null,null,null,null,null,null,null,null,null,null,"POL",null,null,null,null,null,null,null,21]
[null,null,"I160 - 0,575m2/m : 4*1,85*0,575",null,4.26,null,null,null,null,null,null,null,null,null,null,null,null,null,null,null,null,null,null,null,1]
[null,null,"Jackel 160/80 : 1,85*17,95*0,48",null,15.94,null,null,null,null,null,null,null,null,null,null,null,null,null,null,null,null,null,null,null,null,null,"POL",null,null,null,null,null,null,null,21]
["Díl:","784","Malby",null,null,null,{"$f":"SUBTOTAL(9,G172:P179)","v":0}]
[{"$f":"A168+1","v":52},"784191101R00","Penetrace podkladu univerzální  1x","m2",586.84,null,{"$f":"E172*F172","v":0},null,null,null,null,null,null,null,null,null,null,null,null,null,null,null,null,null,null,null,"POL_NEZ",1,null,null,null,null,null,null,21]
[null,null,"omítky-dotčené prostory nástupišť (odhad) : 8*25,00",null,200]
[null,null,"Z1 : 1,45*(26,771+3,3+0,25)",null,43.97]
[null,null,"Z2 : 5*0,5*0,9",null,2.25,null,null,null,null,null,null,null,null,null,null,null,null,null,null,null,null,null,null,null,null,null,"DIL"]
[null,null,"výtahová šachta-interier : 30,9*(2*1,92+2*1,42)",null,206.42000000000002,null,null,null,null,null,null,null,null,null,null,null,null,null,null,null,null,null,null,null,0]
[null,null,"výtahová šachta-exterier : 3,3*1,72*8,0",null,45.410000000000004,null,null,null,null,null,null,null,null,null,null,null,null,null,null,null,null,null,null,null,null,null,"SPX"]
[null,null,"komínová stěna : 88,795",null,88.8]
[{"$f":"A172+1","v":53},"784195112R00","Malba tekutá, bílá, 2 x","m2",586.84,null,{"$f":"E179*F179","v":0}]
["Díl:","M21","Elektromontáže",null,null,null,{"$f":"SUBTOTAL(9,G181:P188)","v":0}]
[{"$f":"A179+1","v":54},"M21-02","ELEKTRO - připojení přívodu k výtahu na stávající domovní rozvod","kpl",1,null,{"$f":"E181*F181","v":0},null,null,null,null,null,null,null,null,null,null,null,null,null,null,null,null,null,1]
[{"$f":"A181+1","v":55},"M21-03","ELEKTRO - připojení výtahu do SSK - kabel UTP cat. 6A vč. 4 konektorů na konci kabelu","m",300,null,0]
[56,"M21-04","ELEKTRO - připojení výtahu do SSK - chránička pro kabel UTP cat. 6A","m",300,null,{"$f":"E183*F183","v":0}]
[57,"M21-05","ELEKTRO - připojení výtahu do SSK - příchytky na strop a stěnu pro chráničku na kabel UTP cat. 6A","kpl",1,null,{"$f":"E184*F184","v":0}]
[58,"M21-06","ELEKTRO - připojení výtahu do SSK - měřící protokol pro kabel UTP cat. 6A","kpl",1,null,{"$f":"E185*F185","v":0}]
[59,"M21-07","ELEKTRO - revize","kpl",1,null,0]
[60,"210100099","Bezhalogenový přívodní kabel, vč.montáže","kpl.",1,null,0]
[61,"R013","Hluková zkouška","kpl",1,null,0,null,null,null,null,null,null,null,null,null,null,null,null,null,null,null,null,null,0]
["Díl:","M33","Montáže dopravích zařízení a vah - výtahy",null,null,null,{"$f":"SUBTOTAL(9,G190:P190)","v":0}]
[{"$f":"A188+1","v":62},"330530206R0Z","Demontáž stávající ocel. konstrukce šachty vč. šachetních dveří, kotvení","kpl.",1,null,{"$f":"E190*F190","v":0},null,null,null,null,null,null,null,null,null,null,null,null,null,null,null,null,null,0]
["Díl:","M33","Montáže dopravích zařízení a vah - výtahy",null,null,null,{"$f":"SUBTOTAL(9,G192:P192)","v":0},null,null,null,null,null,null,null,null,null,null,null,null,null,null,null,null,null,1]
[{"$f":"A190+1","v":63},"330030128","Dodávka a montáž výtahu osobního lanového  630/0,63, 8 stanic,  8 nástupišť, dle specifikace PD","kus",1,null,{"$f":"E192*F192","v":0},null,null,null,null,null,null,null,null,null,null,null,null,null,null,null,null,null,null,null,"POL",null,null,null,null,null,null,null,21]
["Díl:","311","Sádrokartony",null,null,null,{"$f":"SUBTOTAL(9,G194:P196)","v":0}]
[{"$f":"A192+1","v":64},"762161110RA0","Protipožární opláštění (oboustranné)SDK/MW/SDK, vč tmelení spár protipož.tmelem - dle PD, EI 30DP1 s použitím desek Rigips habito 12,5mm","m2",73.989999999999995,null,{"$f":"E194*F194","v":0},null,null,null,null,null,null,null,null,null,null,null,null,null,null,null,null,null,null,null,null,null,null,null,null,null,null,null,null,15,21]
[null,null,"čelní stěna : 30,96*1,4-8*1,1*2,235",null,23.68]
[null,null,"boční stěna : 30,96*1,625",null,50.31]
["Díl:","M43","Montáže ocelových konstrukcí",null,null,null,{"$f":"SUBTOTAL(9,G198:P214)","v":0}]
[{"$f":"A194+1","v":65},"4308000XX","Ocelová konstrukce výtahové šachty, vč.nátěrů, oplechování a větracích mřížek, D+M","komplet",1,null,{"$f":"E198*F198","v":0}]
[{"$f":"A198+1","v":66},"43080010XX","Opláštění konstrukce výtahové šachty leštěným sklem s drátěnou vložkou tl. 7 mm - D+M","m2",52.120000000000005,null,{"$f":"E199*F199","v":0}]
[null,null,"čelní stěna : (3,05+3,14*3+3,68*2+2,66)*1,625-8*1,1*2,235",null,16.88]
[null,null,"boční stěna : (2,56*2+3,14*4+3,05)*1,7",null,35.25]
[{"$f":"A199+1","v":67},"14587263M","Profil čtvercový uzavř.svařovaný  S235  50 x 3 mm","m",182.85,null,{"$f":"E202*F202","v":0}]
[null,null,"příčníky čelní hlavní : 22*1,58",null,34.76]
[null,null,"příčníky boční hlavní : 26*1,6",null,41.6]
[null,null,"sloupky ostění : 16*2,3",null,36.800000000000004]
[null,null,"sloupy hlavní rohové : 3*3,05+9*3,14+6*3,68+2*2,66",null,64.81]
[null,null,"sloupky u průvlaku : 6*0,28",null,1.68]
[null,null,"příčníky dělící : 8*0,4",null,3.2]
[{"$f":"A202+1","v":68},"145877784M","Profil obdélník. uzavř.svařovaný S235   80x50x4 mm","m",178.34,null,{"$f":"E209*F209","v":0}]
[null,null,"příčníky čelní krátké : 8*0,27",null,2.16]
[null,null,"příčníky čelní hlavní : 20*1,34",null,26.8]
[null,null,"příčníky boční hlavní : 26*1,45",null,37.700000000000003]
[null,null,"sloupy hlavní : 3*30,96",null,92.88]
[null,null,"sloupky ostění : 8*2,35",null,18.8]

{"sheet":"09_SO O4 - Stav arch část","index":12,"n_rows":616,"n_cols":38,"rows_kept":616,"cut":false,"hidden":false,"merged":[[591,2,591,3],[592,2,592,3],[593,2,593,3],[595,2,595,3],[596,2,596,3],[585,2,585,3],[586,2,586,3],[587,2,587,3],[588,2,588,3],[589,2,589,3],[590,2,590,3],[580,2,580,3],[581,2,581,3],[582,2,582,3],[583,2,583,3],[584,2,584,3],[566,2,566,3],[567,2,567,3],[568,2,568,3],[575,2,575,3],[576,2,576,3],[579,2,579,3],[560,2,560,3],[561,2,561,3],[562,2,562,3],[563,2,563,3],[564,2,564,3],[565,2,565,3],[553,2,553,3],[555,2,555,3],[556,2,556,3],[557,2,557,3],[558,2,558,3],[559,2,559,3],[547,2,547,3],[548,2,548,3],[549,2,549,3],[550,2,550,3],[551,2,551,3],[552,2,552,3],[541,2,541,3],[542,2,542,3],[543,2,543,3],[544,2,544,3],[545,2,545,3],[546,2,546,3],[535,2,535,3],[536,2,536,3],[537,2,537,3],[538,2,538,3],[539,2,539,3],[540,2,540,3],[529,2,529,3],[530,2,530,3],[531,2,531,3],[532,2,532,3],[533,2,533,3],[534,2,534,3],[523,2,523,3],[524,2,524,3],[525,2,525,3],[526,2,526,3],[527,2,527,3],[528,2,528,3],[517,2,517,3],[518,2,518,3],[519,2,519,3],[520,2,520,3],[521,2,521,3],[522,2,522,3],[511,2,511,3],[512,2,512,3],[513,2,513,3],[514,2,514,3],[515,2,515,3],[516,2,516,3],[509,2,509,3],[510,2,510,3],[507,2,507,3],[508,2,508,3],[505,2,505,3],[506,2,506,3],[499,2,499,3],[500,2,500,3],[501,2,501,3],[502,2,502,3],[503,2,503,3],[504,2,504,3],[493,2,493,3],[494,2,494,3],[495,2,495,3],[496,2,496,3],[497,2,497,3],[498,2,498,3],[483,2,483,3],[488,2,488,3],[489,2,489,3],[490,2,490,3],[491,2,491,3],[492,2,492,3],[476,2,476,3],[477,2,477,3],[478,2,478,3],[479,2,479,3],[480,2,480,3],[481,2,481,3],[471,2,471,3],[472,2,472,3],[473,2,473,3],[474,2,474,3],[475,2,475,3],[466,2,466,3],[467,2,467,3],[468,2,468,3],[469,2,469,3],[470,2,470,3],[417,2,417,3],[419,2,419,3],[420,2,420,3],[422,2,422,3],[423,2,423,3],[465,2,465,3],[406,2,406,3],[410,2,410,3],[411,2,411,3],[413,2,413,3],[414,2,414,3],[416,2,416,3],[398,2,398,3],[400,2,400,3],[401,2,401,3],[402,2,402,3],[404,2,404,3],[405,2,405,3],[390,2,390,3],[392,2,392,3],[393,2,393,3],[394,2,394,3],[396,2,396,3],[397,2,397,3],[382,2,382,3],[384,2,384,3],[385,2,385,3],[386,2,386,3],[388,2,388,3],[389,2,389,3],[374,2,374,3],[375,2,375,3],[377,2,377,3],[378,2,378,3],[380,2,380,3],[381,2,381,3],[364,2,364,3],[365,2,365,3],[366,2,366,3],[367,2,367,3],[371,2,371,3],[372,2,372,3],[344,2,344,3],[347,2,347,3],[352,2,352,3],[361,2,361,3],[362,2,362,3],[363,2,363,3],[336,2,336,3],[337,2,337,3],[338,2,338,3],[340,2,340,3],[341,2,341,3],[343,2,343,3],[333,2,333,3],[334,2,334,3],[335,2,335,3],[331,2,331,3],[326,2,326,3],[327,2,327,3],[328,2,328,3],[329,2,329,3],[330,2,330,3],[322,2,322,3],[323,2,323,3],[324,2,324,3],[315,2,315,3],[316,2,316,3],[318,2,318,3],[319,2,319,3],[320,2,320,3],[321,2,321,3],[308,2,308,3],[309,2,309,3],[310,2,310,3],[312,2,312,3],[313,2,313,3],[314,2,314,3],[301,2,301,3],[303,2,303,3],[304,2,304,3],[305,2,305,3],[306,2,306,3],[307,2,307,3],[299,2,299,3],[293,2,293,3],[294,2,294,3],[295,2,295,3],[296,2,296,3],[297,2,297,3],[286,2,286,3],[287,2,287,3],[289,2,289,3],[290,2,290,3],[291,2,291,3],[292,2,292,3],[282,2,282,3],[284,2,284,3],[285,2,285,3],[280,2,280,3],[281,2,281,3],[275,2,275,3],[277,2,277,3],[278,2,278,3],[271,2,271,3],[272,2,272,3],[273,2,273,3],[274,2,274,3],[269,2,269,3],[265,2,265,3],[266,2,266,3],[267,2,267,3],[268,2,268,3],[263,2,263,3],[264,2,264,3],[261,2,261,3],[262,2,262,3],[257,2,257,3],[258,2,258,3],[259,2,259,3],[260,2,260,3],[253,2,253,3],[254,2,254,3],[255,2,255,3],[256,2,256,3],[249,2,249,3],[250,2,250,3],[251,2,251,3],[252,2,252,3],[243,2,243,3],[244,2,244,3],[245,2,245,3],[246,2,246,3],[247,2,247,3],[248,2,248,3],[237,2,237,3],[238,2,238,3],[239,2,239,3],[240,2,240,3],[241,2,241,3],[242,2,242,3],[231,2,231,3],[232,2,232,3],[233,2,233,3],[234,2,234,3],[235,2,235,3],[227,2,227,3],[229,2,229,3],[230,2,230,3],[224,2,224,3],[225,2,225,3],[226,2,226,3],[217,2,217,3],[218,2,218,3],[220,2,220,3],[221,2,221,3],[222,2,222,3],[214,2,214,3],[215,2,215,3],[216,2,216,3],[191,2,191,3],[193,2,193,3],[198,2,198,3],[204,2,204,3],[207,2,207,3],[210,2,210,3],[185,2,185,3],[186,2,186,3],[187,2,187,3],[188,2,188,3],[189,2,189,3],[190,2,190,3],[179,2,179,3],[180,2,180,3],[181,2,181,3],[182,2,182,3],[183,2,183,3],[184,2,184,3],[173,2,173,3],[174,2,174,3],[175,2,175,3],[176,2,176,3],[177,2,177,3],[178,2,178,3],[167,2,167,3],[168,2,168,3],[169,2,169,3],[170,2,170,3],[171,2,171,3],[172,2,172,3],[161,2,161,3],[162,2,162,3],[163,2,163,3],[164,2,164,3],[165,2,165,3],[166,2,166,3],[156,2,156,3],[157,2,157,3],[158,2,158,3],[159,2,159,3],[160,2,160,3],[155,2,155,3],[149,2,149,3],[150,2,150,3],[151,2,151,3],[152,2,152,3],[153,2,153,3],[154,2,154,3],[143,2,143,3],[144,2,144,3],[145,2,145,3],[146,2,146,3],[147,2,147,3],[148,2,148,3],[137,2,137,3],[139,2,139,3],[140,2,140,3],[141,2,141,3],[142,2,142,3],[121,2,121,3],[122,2,122,3],[124,2,124,3],[127,2,127,3],[135,2,135,3],[117,2,117,3],[119,2,119,3],[120,2,120,3],[110,2,110,3],[112,2,112,3],[113,2,113,3],[114,2,114,3],[115,2,115,3],[116,2,116,3],[108,2,108,3],[109,2,109,3],[101,2,101,3],[102,2,102,3],[103,2,103,3],[104,2,104,3],[105,2,105,3],[107,2,107,3],[94,2,94,3],[96,2,96,3],[97,2,97,3],[98,2,98,3],[99,2,99,3],[100,2,100,3],[92,2,92,3],[93,2,93,3],[90,2,90,3],[91,2,91,3],[84,2,84,3],[85,2,85,3],[86,2,86,3],[87,2,87,3],[88,2,88,3],[83,2,83,3],[75,2,75,6],[78,2,78,3],[79,2,79,3],[80,2,80,3],[81,2,81,3],[82,2,82,3],[43,3,43,6],[24,3,24,6],[25,2,25,6]]}
[{"$f":"CONCATENATE('Rekapitulace stavby'!C62,\"_\",'Rekapitulace stavby'!I62)","v":"09_SO 04 - Stavebně - architektonická část"}]
[]
["SPECIFIKACE DODÁVEK A PRACÍ "]
["Název akce:"]
[{"$f":"'Identifikační údaje'!B1","v":"ČRo Brno – III. etapa rekonstrukce budovy Beethovenova 25/4"}]
[]
["Zadavatel:",null,{"$f":"'Identifikační údaje'!E7","v":"Český rozhlas, Vinohradská 12, 120 99 Praha 2"}]
[null,"IČ:",{"$f":"'Identifikační údaje'!B9","v":45245053}]
[null,"DIČ:",{"$f":"'Identifikační údaje'!B10","v":"CZ45245053"}]
[]
["Projektant:",null,{"$f":"'Identifikační údaje'!E12","v":"Ing. arch. Klement Miloš, Nejedlého 381/19, 638 00 Brno - Lesná"}]
[null,"IČ:",{"$f":"'Identifikační údaje'!B14","v":15188736}]
[null,"DIČ:",{"$f":"'Identifikační údaje'!B15","v":"CZ6101021344"}]
[]
["Uchazeč:",null,{"$f":"'Identifikační údaje'!E19","v":", ,  "}]
[null,"IČ:",{"$f":"'Identifikační údaje'!B23","v":0}]
[null,"DIČ:",{"$f":"'Identifikační údaje'!B24","v":0}]
[]
["Místo stavby:",null,{"$f":"'Identifikační údaje'!B3","v":"Budova Českého rozhlasu Brno na adrese Beethovenova 25/4, 657 42 Brno"}]
[]
["Datum vyplnění:",null,{"$f":"'Identifikační údaje'!B5","v":"00:00:00"}]
[]
[{"$f":"CONCATENATE(\"REKAPITULACE DODÁVEK A PRACÍ OBJEKTU \",'Rekapitulace stavby'!I62)","v":"REKAPITULACE DODÁVEK A PRACÍ OBJEKTU SO 04 - Stavebně - architektonická část"}]
[]
["P.č.","Číslo položky","Název položky","Kč bez DPH"]
[null,"Ceník, kapitola"]
["Díl:",{"$f":"B77","v":"3"},{"$f":"C77","v":"Svislé a kompletní konstrukce"},null,null,null,{"$f":"G77","v":0}]
["Díl:",{"$f":"B134","v":"61"},{"$f":"C134","v":"Upravy povrchů vnitřní"},null,null,null,{"$f":"G134","v":0}]
["Díl:",{"$f":"B203","v":"63"},{"$f":"C203","v":"Podlahy a podlahové konstrukce"},null,null,null,{"$f":"G203","v":0}]
["Díl:",{"$f":"B206","v":"94"},{"$f":"C206","v":"Lešení a stavební výtahy"},null,null,null,{"$f":"G206","v":0}]
["Díl:",{"$f":"B209","v":"95"},{"$f":"C209","v":"Dokončovací kce na pozem.stav."},null,null,null,{"$f":"G209","v":0}]
["Díl:",{"$f":"B213","v":"96"},{"$f":"C213","v":"Bourání konstrukcí"},null,null,null,{"$f":"G213","v":0}]
["Díl:",{"$f":"B357","v":"99"},{"$f":"C357","v":"Staveništní přesun hmot"},null,null,null,{"$f":"G357","v":0}]
["Díl:",{"$f":"B360","v":"711"},{"$f":"C360","v":"Izolace proti vodě"},null,null,null,{"$f":"G360","v":0}]
["Díl:",{"$f":"B370","v":"766"},{"$f":"C370","v":"Konstrukce truhlářské"},null,null,null,{"$f":"G370","v":0}]
["Díl:",{"$f":"B434","v":"767"},{"$f":"C434","v":"Konstrukce zámečnické"},null,null,null,{"$f":"G434","v":0}]
["Díl:",{"$f":"B464","v":"771"},{"$f":"C464","v":"Podlahy z dlaždic a obklady"},null,null,null,{"$f":"G464","v":0}]
["Díl:",{"$f":"B486","v":"781"},{"$f":"C486","v":"Obklady keramické"},null,null,null,{"$f":"G486","v":0}]
["Díl:",{"$f":"B571","v":"782"},{"$f":"C571","v":"Konstrukce z přírodního kamene"},null,null,null,{"$f":"G571","v":0}]
["Díl:",{"$f":"B574","v":"784"},{"$f":"C574","v":"Malby"},null,null,null,{"$f":"G574","v":0}]
["Díl:",{"$f":"B578","v":"40"},{"$f":"C578","v":"Podhledy"},null,null,null,{"$f":"G578","v":0}]
["Díl:",{"$f":"B598","v":"770"},{"$f":"C598","v":"Ostatní"},null,null,null,{"$f":"G598","v":0}]
[]
[{"$f":"CONCATENATE(\"CELKEM ZA OBJEKT \",'Rekapitulace stavby'!I62, \" v Kč bez DPH\")","v":"CELKEM ZA OBJEKT SO 04 - Stavebně - architektonická část v Kč bez DPH"},null,null,{"$f":"SUM(G27:G42)","v":0}]
[]
[]
[]
[]
[]
[]
[]
[]
[]
[]
[]
[]
[]
[]
[]
[]
[]
[]
[]
[]
[]
[]
[]
[]
[]
[]
[]
[]
[]
[]
["P.č.","Číslo položky","Název položky","MJ","množství","cena / MJ","celkem"]
[null,"Ceník, kapitola","Poznámka uchazeče"]
["Díl:","3","Svislé a kompletní konstrukce",null,null,null,{"$f":"SUBTOTAL(9,G78:G133)","v":0},null,null,null,null,null,null,null,null,null,null,null,null,null,null,null,null,null,null,null,null,"POL",null,null,null,null,null,null,null,21]
[1,"342 26-2411.RT4","Příčka SDK instalační 2x OK, 2x opl. tl. 220 mm desky  impreg. tl. 12,5 mm, Orsil tl. 5 cm","m2",34.6,null,{"$f":"E78*F78","v":0}]
[null,null,";předstěny ZTI",null,0]
[null,null,";přízemí",null,0]
[null,null,"1,08*1,20",null,1.296]
[null,null,"mezipatro:",null,0]
[null,null,"(0,955+0,885+0,89+0,85+2,185+2,045+3,40)*1,20",null,13.452]
[null,null,"(1,17+1,20+0,50)*1,20",null,3.444]
[null,null,";4.patro",null,0]
[null,null,"(1,75+0,90+0,90+0,90+1,30+0,90+0,90)*1,20",null,9.06]
[null,null,"(1,625+0,90+0,90)*1,20",null,4.1100000000000003]
[null,null,";5.patro",null,0]
[null,null,"(0,90+0,90+0,90)*1,20",null,3.24]
[{"$f":"A78+1","v":2},"342 24-812","Příčky POROTHERM  AKU na MVC 5, tl. 125 mm ","m2",80.66,null,{"$f":"E90*F90","v":0}]
[null,null,";mezipatro",null,0]
[null,null,"(2,55+3,76+2,55+2,255+0,86)*3,70",null,44.307499999999997]
[null,null,";5.patro",null,0]
[null,null,"(2,20+1,20+2,50+1,60+2,70)*2,99-0,70*2,00*3",null,26.297999999999998]
[null,null,"(1,80+1,50+1,00)*2,99-0,70*2,00*2",null,10.057]
[{"$f":"A90+1","v":3},"342 24-811","Příčky POROTHERM  AKU na MVC 5, tl. 100 mm ","m2",39.129300000000001,null,{"$f":"E96*F96","v":0}]
[null,null,";mezipatro",null,0]
[null,null,"(0,90+1,275)*3,70-0,70*2,00",null,6.6475]
[null,null,";1.patro",null,0]
[null,null,"1,575*2,99-0,65*2,00",null,3.4093]
[null,null,";2.patro",null,0]
[null,null,"(1,30+1,70+2,90)*2,99-0,70*2,00-0,85*2,00",null,14.541]
[null,null,";3.patro",null,0]
[null,null,"(0,235+2,70)*2,99",null,8.7757000000000005]
[null,null,";4.patro",null,0]
[null,null,"(1,625+0,30)*2,99",null,5.7557999999999998]
[{"$f":"A96+1","v":4},"340 23-921","Zazdívka otvorů pl.4 m2,cihlami tl.zdi do 10 cm vč.omítky","m2",5.63,null,{"$f":"E107*F107","v":0}]
[null,null,";mezipatro",null,0]
[null,null,"0,90*2,00+0,70*2,04",null,3.2280000000000002]
[null,null,";5.patro",null,0]
[null,null,"0,60*2,00*2",null,2.4]
[{"$f":"A107+1","v":5},"340 23-9212.R00","Zazdívka otvorů pl.4 m2,cihlami tl.zdi nad 10 cm vč.omítky","m2",5.75,null,{"$f":"E112*F112","v":0}]
[null,null,";mezipatro",null,0]
[null,null,"0,90*2,10+0,85*2,00+0,30*3,70",null,4.7]
[null,null,";3.patro",null,0]
[null,null,"0,525*2,00",null,1.05]
[null,null,";4.patro",null,0]
[null,null,"0,90*2,001,00*2,00",null,0]
[{"$f":"A112+1","v":6},"310 23-921","Zazdívka  cihlami na MVC vč.omítkky vč.provázání se stávajícím zdivem","m3",1.68,null,{"$f":"E119*F119","v":0}]
[null,null,";mezipatro",null,0]
[null,null,"0,30*3,70*0,30+0,60*3,70*0,30+0,20*3,70*0,20",null,1.147]
[null,null,";5..patro",null,0]
[null,null,"0,50*1,78*0,60",null,0.53400000000000003]
[{"$f":"A119+1","v":7},"31701","Překlad z I prof. Č.100 dl.1000 mm  D+M  vč.plentování","ks",{"$f":"SUM(E125:E126)","v":4},null,{"$f":"E124*F124","v":0}]
[null,null,";mezipatro:2",null,2]
[null,null,"5.patro:2",null,2]
[{"$f":"A124+1","v":8},"31702","Překlad z I prof. Č.100 dl.1200 mm  D+M  vč.plentování","ks",{"$f":"SUM(E128:E133)","v":6},null,{"$f":"E127*F127","v":0}]
[null,null,";mezipatro:1",null,1]
[null,null,"1.patro:0",null,0]
[null,null,"2.patro:1",null,1]
[null,null,"3.patro:1",null,1]
[null,null,"4.patro:3",null,3]
[null,null,"5.patro:0",null,0]
["Díl:","61","Upravy povrchů vnitřní",null,null,null,{"$f":"SUBTOTAL(9,G135:G202)","v":0}]
[{"$f":"A127+1","v":9},"612 47-3182.R00","Omítka vnitřního zdiva ze suché směsi, štuková ","m2",367,null,{"$f":"E135*F135","v":0}]
[null,null,"(61,026+186,17+39,129)*2",null,572.65]
[{"$f":"A135+1","v":10},"611 10-0011","Oprava omítek stropů vnitřních přeštukování a dvojnásobný nátěr stávající beton skořepiny","m2",32.81,null,{"$f":"E137*F137","v":0}]
[null,null,"4.patro:2*8,80+1,17+1,17+2,27+7,80+1,40+1,40",null,32.81]
[{"$f":"A137+1","v":11},"6121000","Oprava omítek stěn vápenocem.štuková oprava z 10%. malba dvojnásobná, otěruvzdorná, bílá, včetně penetrace povrchu","m2",254.81,null,{"$f":"E139*F139","v":0}]
[null,null,";přízemí",null,0]
[null,null,"P9:(2,365+1,62)*2*0,70",null,5.5789999999999997]
[null,null,"P10:(1,08+1,62)*2*0,70",null,3.78]
[null,null,"P11:(1,505+1,62)*2*0,70",null,4.375]
[null,null,";mezipatro",null,0]
[null,null,"M08:(4,355+1,405)*2*0,70",null,8.0640000000000001]
[null,null,"M13:(1,90+2,50)*2*0,70",null,6.16]
[null,null,"M14:(1,245+1,17)*2*0,70",null,3.3809999999999998]
[null,null,"M15:(1,85+2,60)*2*0,70",null,6.23]
[null,null,"M31a:(1,54+3,40)*2*0,70",null,6.9160000000000004]
[null,null,"M31b:(1,15+2,13)*2*0,70",null,4.5919999999999996]
[null,null,"M32:(1,889+2,185)*2*0,70",null,5.7035999999999998]
[null,null,";M32a:((0,955+1,35)*2*0,70)*2",null,6.4539999999999997]
[null,null,"M33:(0,78+1,275)*2*0,70",null,2.8769999999999998]
[null,null,"M33a:(2,07+3,40)*2*0,70",null,7.6580000000000004]
[null,null,"M34:(1,994+2,185)*2*0,70",null,5.8506]
[null,null,"M34a:((0,89+1,35)*2*0,70)*2",null,6.2720000000000002]
[null,null,";3.patro",null,0]
[null,null,"307:(2,70+1,48)*2*0,70",null,5.8520000000000003]
[null,null,"308:(0,955+1,48)*2*0,70",null,3.4089999999999998]
[null,null,"309:(1,63+1,48)*2*0,70",null,4.3540000000000001]
[null,null,"315:(1,16+1,455)*2*0,70",null,3.661]
[null,null,"317:(4,06+1,455)*2*0,70",null,7.7210000000000001]
[null,null,"317a:((0,94+1,56)*2*0,70)*2",null,7]
[null,null,"317b:(3,32+2,50)*2*0,70",null,8.1479999999999997]
[null,null,"316:(1,88+2,70)*2*0,70",null,6.4119999999999999]
[null,null,"316a:((0,94+1,56)*2*0,70)*2",null,7]
[null,null,"318:(1,825+2,165)*2*0,70",null,5.5860000000000003]
[null,null,";4.patro",null,0]
[null,null,"408:(1,80+1,625)*2*0,70",null,4.7949999999999999]
[null,null,"409:(1,80+1,625)*2*0,70",null,4.7949999999999999]
[null,null,"410:(3,90+2,725)*2*0,70",null,9.2750000000000004]
[null,null,"410a:((0,90+1,52)*2*0,70)*2",null,6.7759999999999998]
[null,null,"411:(3,15+2,80)*2*0,70",null,8.33]
[null,null,"411a:(0,90+1,30)*2*0,70",null,3.08]
[null,null,"411b:(0,90+1,30)*2*0,70",null,3.08]
[null,null,"412:(1,125+1,625)*2*0,70",null,3.85]
[null,null,"412a:(1,125+2,38)*2*0,70",null,4.907]
[null,null,"412a:(1,30+0,90)*2*0,70*2",null,6.16]
[null,null,"412b:(1,74+1,30)*2*0,70*2",null,8.5120000000000005]
[null,null,"413c:(1,30+1,30)*2*0,70",null,3.64]
[null,null,"413d:(1,30+0,90)*2*0,70",null,3.08]
[null,null,"426:(2,00+1,48)*2*0,70",null,4.8719999999999999]
[null,null,"426a:(1,00+1,53)*2*0,70",null,3.5419999999999998]
[null,null,"426b:(1,00+1,53)*2*0,70",null,3.5419999999999998]
[null,null,";5.patro",null,0]
[null,null,"511:(1,70+0,90)*2*0,70",null,3.64]
[null,null,"       (0,90+1,40)*2*0,70",null,3.22]
[null,null,"       (1,90+2,40)*2*0,70",null,6.02]
[null,null,"513:(1,50+1,00)*2*0,70",null,3.5]
[null,null,"        (0,90+1,20)*2*0,70",null,2.94]
[null,null,"504:(1,30+2,50)*2*0,70",null,5.32]
[null,null,"509:(2,20+1,30)*2*0,70",null,4.9000000000000004]
[{"$f":"A139+1","v":12},"612 47   poz.6","Stavební zapravení svislých drážek po rozvodech ZTI","m2",{"$f":"SUM(E194:E197)","v":21},null,{"$f":"E193*F193","v":0}]
[null,null,"přízemí:0,60*3,55*2",null,4.26]
[null,null,"mezipatro:0,60*3,70*3",null,6.66]
[null,null,"3.patro:0,60*2,80*3",null,5.04]
[null,null,"4.patro:0,60*2,80*3",null,5.04]
[{"$f":"A193+1","v":13},"612 47   poz.7","Stavební zapravení svislých drážek po rozvodech VZT","m2",{"$f":"SUM(E199:E202)","v":10.5},null,{"$f":"E198*F198","v":0}]
[null,null,"přízemí:0,30*3,55*2",null,2.13]
[null,null,"mezipatro:0,30*3,70*3",null,3.33]
[null,null,"3.patro:0,30*2,80*3",null,2.52]
[null,null,"4.patro:0,30*2,80*3",null,2.52]
["Díl:","63","Podlahy a podlahové konstrukce",null,null,null,{"$f":"SUBTOTAL(9,G204:G205)","v":0}]
[{"$f":"A198+1","v":14},"632 44-12","Samonivelační stěrky tl.5mm ","m2",174.6,null,{"$f":"E204*F204","v":0}]
[null,null,"P1:174,6",null,174.6]
["Díl:","94","Lešení a stavební výtahy",null,null,null,{"$f":"SUBTOTAL(9,G207:G208)","v":0}]
[{"$f":"A204+1","v":15},"941 95-5002.R00","Lešení lehké pomocné, výška podlahy do 1,9 m ","m2",132.74,null,{"$f":"E207*F207","v":0}]
[null,null,"pro podhledy:132,74",null,132.74]
["Díl:","95","Dokončovací kce na pozem.stav.",null,null,null,{"$f":"SUBTOTAL(9,G210:P212)","v":0}]
[{"$f":"A207+1","v":16},"952 90-1111.R00","Vyčištění budov o výšce podlaží do 4 m ","m2",367.48,null,{"$f":"E210*F210","v":0}]
[null,null,"367,48",null,367.48]
[{"$f":"A210+1","v":17},"900   -    .R02","HZS - nezměřitelné práce ","h",100,null,{"$f":"E212*F212","v":0}]
["Díl:","96","Bourání konstrukcí",null,null,null,{"$f":"SUBTOTAL(9,G214:G355)","v":0}]
[{"$f":"A212+1","v":18},"962 03-1133.R00","Bourání příček cihelných tl. 15 cm ","m2",32.136699999999998,null,{"$f":"E214*F214","v":0}]
[null,null,";A",null,0]
[null,null,"mezipatro:1,75*3,00+1,375*3,01+0,94*3,00",null,12.2088]
[null,null,"1.patro:1,715*3,00",null,5.1449999999999996]
[null,null,"3.patro:2,165*3,02+1,25*3,02",null,10.3133]
[null,null,"             1,48*3,02",null,4.4695999999999998]
[{"$f":"A214+1","v":19},"968 06-1125.R00","Vyvěšení dřevěných dveřních křídel pl. do 2 m2 ","kus",6,null,{"$f":"E220*F220","v":0}]
[null,null,";C",null,0]
[null,null,"2.patro:3",null,3]
[null,null,"3.patro:3",null,3]
[{"$f":"A220+1","v":20},"968 06-245","Vybourání dveřních zárubní pl. do 2 m2 ","m2",28.706,null,{"$f":"E224*F224","v":0}]
[null,null,";C",null,0]
[null,null,"2.patro:0,80*1,97*3",null,4.7279999999999998]
[null,null,"3.patro:0,80*1,97*3",null,4.7279999999999998]
[null,null,"4.patro:0,80*1,97",null,1.5760000000000001]
[{"$f":"A224+1","v":21},"965 08-1713.R00","Bourání dlaždic keramických tl. 1 cm, nad 1 m2 ","m2",62.43,null,{"$f":"E229*F229","v":0}]
[null,null,";M",null,0]
[null,null,"přízemí:2,30+1,75+3,80",null,7.85]
[null,null,"1.patro:7,10+2,90",null,10]
[null,null,"2.patro:1,50+1,50+1,50",null,4.5]
[null,null,"3.patro:11,71+2,68",null,14.39]
[null,null,"4.patro:5,51+2*1,40+1,70+1,17+1,17",null,12.35]
[null,null,"1,57+2,27+1,70+7,80",null,13.34]
[{"$f":"A229+1","v":22},"978 05-9521.R00","Odsekání vnitřních obkladů stěn do 2 m2 ","m2",{"$f":"SUM(E238:E270)","v":354.3184},null,{"$f":"E237*F237","v":0}]
[null,null,";M",null,0]
[null,null,";přízemí",null,0]
[null,null,"(2,365+1,62)*2*1,64",null,13.0708]
[null,null,"(1,08+1,62)*2*2,02",null,10.907999999999999]
[null,null,"(1,505+1,62)*2*2,30",null,14.375]
[null,null,";mezipatro",null,0]
[null,null,"(1,57+1,215)*2*2,10",null,11.696999999999999]
[null,null,"(0,955+1,35)*2*2,10",null,9.6809999999999992]
[null,null,"(0,885+1,35)*2*2,10",null,9.3870000000000005]
[null,null,"(0,89+1,35)*2*2,10",null,9.4079999999999995]
[null,null,"(0,85+1,35)*2*2,10",null,9.24]
[null,null,"(1,889+2,185)*2*2,10",null,17.110800000000001]
[null,null,"(1,994+2,185)*2*2,10",null,17.5518]
[null,null,"(1,485+1,17)*2*2,10",null,11.151]
[null,null,"(1,86+2,01)*2*2,10",null,16.254000000000001]
[null,null,";1.patro",null,0]
[null,null,"(2,19+1,48)*2*2,50",null,18.350000000000001]
[null,null,"(1,025+1,59)*2*2,50",null,13.074999999999999]
[null,null,"(1,065+1,59)*2*2,50",null,13.275]
[null,null,";2.patro",null,0]
[null,null,"(1,30+1,305)*2*2,10",null,10.941000000000001]
[null,null,"(1,00+1,50)*2*2,10*2",null,21]
[null,null,"(1,00+1,50)*2*2,10*2",null,21]
[null,null,";3.patro",null,0]
[null,null,"(4,06+2,84)*2*2,10",null,28.98]
[null,null,"(1,25+0,815)*2*2,10",null,8.673]
[null,null,"(1,25+1,20)*2*2,10",null,10.29]
[null,null,";4.patro",null,0]
[null,null,"(1,30+1,30)*2*2,10",null,10.92]
[null,null,"(0,90+1,475)*2*2,10*2",null,19.95]
[null,null,"(1,90+2,85)*2*2,00",null,19]
[null,null,";5.patro",null,0]
[null,null,"(0,90+1,25)*2*2,10",null,9.0299999999999994]
[{"$f":"A237+1","v":23},"725 11-0814.R00","Demontáž klozetů kombinovaných ","soubor",7,null,{"$f":"E271*F271","v":0}]
[null,null,";Z",null,0]
[null,null,"přízemí:1",null,1]
[null,null,"1.patro:2",null,2]
[null,null,"2.patro:2",null,2]
[null,null,"3.patro:2",null,2]
[{"$f":"A271+1","v":24},"725 33-0840.R00","Demontáž výlevky ocelové nebo litinové ","soubor",1,null,{"$f":"E277*F277","v":0}]
[null,null,";U",null,0]
[null,null,"přízemí:1",null,1]
[{"$f":"A277+1","v":25},"725 21-0821.R00","Demontáž umyvadel ","soubor",5,null,{"$f":"E280*F280","v":0}]
[null,null,";U",null,0]
[null,null,"přízemí:1",null,1]
[null,null,"4.patro:4",null,4]
[{"$f":"A280+1","v":26},"96806         S","Vybourání nadsvětlíků ","m2",6.59,null,{"$f":"E284*F284","v":0}]
[null,null,";mezipatro:1,68*0,67*2+0,68*1,60",null,3.3391999999999999,null,null,null,null,null,null,null,null,null,null,null,null,null,null,null,null,null,null,null,null,null,null,null,null,null,null,null,null,null,null,null,15,21]
[null,null,"2.patro:1,30*0,88+1,00*0,88*2",null,2.9039999999999999,null,null,null,null,null,null,null,null,null,null,null,null,null,null,null,null,null,null,null,null,null,null,null,null,null,null,null,null,null,null,null,{"$f":"SUMIF(AJ77:AJ285,AK285,G77:G285)","v":0},{"$f":"SUMIF(AJ77:AJ285,AL285,G77:G285)","v":0}]
[null,null,"3.patro: Provedeno ve II. etapě",null,0]
[null,null,"4.patro:0,17*2,04",null,0.3468]
[{"$f":"A284+1","v":27},"776 51-18     D","Odstranění PVC a koberců ","m2",201.25,null,{"$f":"E289*F289","v":0}]
[null,null,";koberec",null,0]
[null,null,"mezipatro:12,35",null,12.35]
[null,null,"1.patro:6,30+5,00",null,11.3]
[null,null,"2.patro:19,00",null,19]
[null,null,"3.patro:21,20",null,21.2]
[null,null,"5.patro:12,00",null,12]
[null,null,";PVC",null,0]
[null,null,"3.patro:27,70*2+21,20*2",null,97.8]
[null,null,"5.patro:13,80*2",null,27.6]
[{"$f":"A289+1","v":28},"776 51-18     F","Odstranění nášlapné vrstvy podlahy a násypu ","m2",10.199999999999999,null,{"$f":"E299*F299","v":0}]
[null,null,"5. patro:10,2",null,10.199999999999999]
[{"$f":"A299+1","v":29},"776 51-18     ","Vybourání podlahové konstrukce pod novými příčkami ","m2",2.9,null,{"$f":"E301*F301","v":0}]
[null,null,"5.patro:14,50*0,20",null,2.9]
[{"$f":"A301+1","v":30},"96905071     G","Demontáž podhledů  - monierky ","m2",30.66,null,{"$f":"E303*F303","v":0}]
[null,null,";přízemí",null,0]
[null,null,"2,30+1,75+3,80",null,7.85]
[null,null,";mezipatro",null,0]
[null,null,"2,10+2,10+1,25+1,14",null,6.59]
[null,null,";4.patro",null,0]
[null,null,"2*1,40+1,17+1,17+2,27+7,80",null,15.21]
[null,null,";5.patro",null,0]
[null,null,"1,01",null,1.01]
[{"$f":"A303+1","v":31},"968066        P","Prostup stropem pro VZT ","ks",14,null,{"$f":"E312*F312","v":0}]
[null,null,"mezipatro:1",null,1]
[null,null,"1.patro:1",null,1]
[null,null,"2.patro:1",null,1]
[null,null,"3.patro:1",null,1]
[null,null,"4.patro:1",null,1]
[{"$f":"A312+1","v":32},"968067        X","Prostup stropem pro pro šachtu slaboproudu ","ks",6,null,{"$f":"E318*F318","v":0}]
[null,null,";170/845 mm",null,0]
[null,null,"mezipatro:1",null,1]
[null,null,"přízemí:1",null,1]
[null,null,"1.patro:1",null,1]
[null,null,"2..patro:1",null,1]
[null,null,"3.patro:1",null,1]
[null,null,"4.patro:1",null,1]
[{"$f":"A318+1","v":33},"968067        K","Odstranění betonového stopu se sítí ","m2",0.87070000000000003,null,{"$f":"E326*F326","v":0}]
[null,null,"mezipatro:0,17*0,845",null,0.14369999999999999]
[null,null,"přízemí:0,17*0,845",null,0.14369999999999999]
[null,null,"1.patro:0,17*0,845",null,0.14369999999999999]
[null,null,"2..patro:0,17*0,845",null,0.14369999999999999]
[null,null,"3.patro:0,17*0,845",null,0.14369999999999999]
[null,null,"4.patro:0,17*0,895",null,0.1522]
[{"$f":"A326+1","v":34},"971 03-3641.R00","Vybourání otv. zeď cihel. pl.4 m2, tl.30 cm, MVC ","m3",3.4849000000000001,null,{"$f":"E333*F333","v":0}]
[null,null,";A",null,0]
[null,null,"mezipatro:0,50*2,00*0,20+1,215*2,00*0,20+0,25*2,00*0,30",null,0.83599999999999997]
[null,null,"                0,30*3,00*0,25+0,30*3,00*0,10",null,0.315]
[null,null,"1.patro:0,60*3,00*0,30",null,0.54]
[null,null,"3.patro:1,48*3,02*0,20",null,0.89390000000000003]
[null,null,"5.patro:1,00*2,00*0,45",null,0.9]
[{"$f":"A333+1","v":35},"974 03-116","Vysekání rýh ve zdi cihelné 30 x 30 cm pro specialisty ZTI","m",20.48,null,{"$f":"E340*F340","v":0}]
[null,null,";přízemí - 5.patro",null,0]
[null,null,"4,24+4,24+3,00+3,00+3,00+3,00",null,20.48]
[{"$f":"A340+1","v":36},"974 03-118  N","Vysekání drážek  ve zdi cihelné pro specialisty","m",36.72,null,{"$f":"E343*F343","v":0}]
[null,null,";přízemí - 5.patro",null,0]
[null,null,"1*4,24+2*4,24+2*3,00+2*3,00+3*3,00+3,00",null,36.72]
[{"$f":"A343+1","v":37},"979 01-1211.R00","Svislá doprava suti a vybour. hmot za 2.NP nošením ","t",27.6,null,{"$f":"E346*F346","v":0}]
[{"$f":"A346+1","v":38},"979 01-1219.R00","Přípl.k svislé dopr.suti za každé další NP nošením ","t",{"$f":"1.5*27.6","v":41.400000000000006},null,{"$f":"E347*F347","v":0}]
[null,null,"3*(27,6/2)",null,41.4]
[{"$f":"A347+1","v":39},"979 08-2111.R00","Vnitrostaveništní doprava suti do 10 m ","t",27.6,null,{"$f":"E349*F349","v":0}]
[{"$f":"A349+1","v":40},"979 08-2121.R00","Příplatek k vnitrost. dopravě suti za dalších 5 m ","t",27.6,null,{"$f":"E350*F350","v":0}]
[{"$f":"A350+1","v":41},"979 08-1111.R00","Odvoz suti a vybour. hmot na skládku do 1 km ","t",27.6,null,{"$f":"E351*F351","v":0}]
[{"$f":"A351+1","v":42},"979 08-1121.R00","Příplatek k odvozu za každý další 1 km ","t",{"$f":"19*27.6","v":524.4},null,{"$f":"E352*F352","v":0}]
[null,null,"19*27,6",null,524.4]
[{"$f":"A352+1","v":43},"979 09-3111.R00","Uložení suti na skládku bez zhutnění ","t",27.6,null,{"$f":"E354*F354","v":0}]
[{"$f":"A354+1","v":44},"979 99-999","Poplatek za skladku ","t",27.6,null,{"$f":"E355*F355","v":0}]
[null,"Celkem za",{"$f":"CONCATENATE(B213,\" \",C213)","v":"96 Bourání konstrukcí"}]
["Díl:","99","Staveništní přesun hmot",null,null,null,{"$f":"SUBTOTAL(9,G358:P359)","v":0}]
[{"$f":"A355+1","v":45},"999 28-1112.R00","Přesun hmot pro opravy a údržbu do výšky 36 m ","t",33.799999999999997,null,{"$f":"E358*F358","v":0}]
[null,"Celkem za",{"$f":"CONCATENATE(B357,\" \",C357)","v":"99 Staveništní přesun hmot"}]
["Díl:","711","Izolace proti vodě",null,null,null,{"$f":"SUBTOTAL(9,G361:P369)","v":0}]
[{"$f":"A358+1","v":46},"711 21-002","Stěrka hydroizolační těsnicí hmotou Aquafin 2 K, proti vlhkosti","m2",272.18,null,{"$f":"E361*F361","v":0}]
[null,null,";pod obklady stěn ve sprchách",null,0]
[null,null,"103:(1,575+0,83)*2*2,00-0,65*2,00",null,8.32]
[null,null,"105:(1,655+0,83)*2*2,00-0,65*2,00",null,8.64]
[null,null,"412a:(1,125+2,38)*2*2,00-0,65*2,00",null,12.72]
[null,null,"504:(0,90+0,90)*2,00",null,3.6]
[null,null,";podlahy",null,0]
[null,null,"P1:238,90",null,238.9]
[{"$f":"A361+1","v":47},"998 71-1103.R00","Přesun hmot pro izolace proti vodě, výšky do 60 m ","t",1.02,null,{"$f":"E369*F369","v":0}]
["Díl:","766","Konstrukce truhlářské",null,null,null,{"$f":"SUBTOTAL(9,G371:P433)","v":0}]
[{"$f":"A369+1","v":48},"766       Tp/1a","Dveřní stěna na WC 2dílná  1790/3030 mm očištění, obroušení a nový nátěr vč.dveří,","ks",3,null,{"$f":"E371*F371","v":0}]
[null,null,";doplnění chybějícího kování replikami, ",null,0]
[null,null,3,null,3]
[{"$f":"A371+1","v":49},"766     Tpd/1","Dveře dřevěné dýhované 850/1970 mm podlepení dýhy, očištění a nový nátěr","ks",1,null,{"$f":"E374*F374","v":0}]
[null,null,";doplnění chybějícího kování replikami, ",null,0]
[null,null,1,null,1]
[{"$f":"A374+1","v":50},"766     Tpd/3","Dveře dřevěné dýhované 650/1970 mm podlepení dýhy, očištění, a nový nátěr","ks",1,null,{"$f":"E377*F377","v":0}]
[null,null,";doplnění chybějícího kování replikami, ",null,0]
[null,null,1,null,1]
[{"$f":"A377+1","v":51},"766     Tpd/7a","Dveře dřevěné stáv.lakované  vlysov. 650/1970 mm očištění, obroušení přetmelení a nový nátěr","ks",14,null,{"$f":"E380*F380","v":0}]
[null,null,";oprava obložkové zárubně vč.nátěru",null,0]
[null,null,";doplnění chybějícího kování replikami, ",null,0]
[null,null,14,null,14]
[{"$f":"A380+1","v":52},"766     Tpd/7a","Dveře dřevěné stáv.lakované  vlysov. 650/1970 mm očištění, obroušení přetmelení a nový nátěr - přemístění na nové místo","ks",2,null,{"$f":"E384*F384","v":0}]
[null,null,";oprava obložkové zárubně vč.nátěru",null,0]
[null,null,";doplnění chybějícího kování replikami, ",null,0]
[null,null,2,null,2]
[{"$f":"A384+1","v":53},"766     Tpd/7b","Dveře dřevěné stáv.lakované  vlysov. 850/1970 mm očištění, obroušení přetmelení a nový nátěr","ks",2,null,{"$f":"E388*F388","v":0}]
[null,null,";oprava obložkové zárubně vč.nátěru",null,0]
[null,null,";doplnění chybějícího kování replikami, ",null,0]
[null,null,2,null,2]
[{"$f":"A388+1","v":54},"766     Tpd/8a","Dveře dřevěné stáv.lakované  prosklené 580/1970 mm očištění, obroušení přetmelení a nový nátěr","ks",1,null,{"$f":"E392*F392","v":0}]
[null,null,";oprava obložkové zárubně vč.nátěru",null,0]
[null,null,";doplnění chybějícího kování replikami, ",null,0]
[null,null,1,null,1]
[{"$f":"A392+1","v":55},"766     Tpd/8b","Dveře dřevěné stáv.lakované  vlysov. 650/1690 mm očištění, obroušení přetmelení a nový nátěr","ks",1,null,{"$f":"E396*F396","v":0}]
[null,null,";oprava obložkové zárubně vč.nátěru",null,0]
[null,null,";doplnění chybějícího kování replikami, ",null,0]
[null,null,1,null,1]
[{"$f":"A396+1","v":56},"766     Tpd/9a","Dveře dřevěné stáv.lakované  vlysov. s prosklením 650/1860 mm očištění, obroušení přetmelení a nový nátěr","ks",7,null,{"$f":"E400*F400","v":0}]
[null,null,";oprava obložkové zárubně vč.nátěru",null,0]
[null,null,";doplnění chybějícího kování replikami, ",null,0]
[null,null,7,null,7]
[{"$f":"A400+1","v":57},"766     Tpd/9a","Dveře dřevěné stáv.lakované  vlysov. s prosklením 650/1860 mm očištění, obroušení přetmelení a nový nátěr - přemístění na nové místo","ks",4,null,{"$f":"E404*F404","v":0}]
[null,null,";oprava obložkové zárubně vč.nátěru",null,0]
[null,null,";doplnění chybějícího kování replikami, ",null,0]
[null,null,4,null,4]
[{"$f":"A404+1","v":58},"766     Tnd/2a","Dveře dřevěné nové hladké plné .700/1970 mm kopie stávajících.nový nátěr stáv.zárubně, samozav","ks",10,null,{"$f":"E408*F408","v":0}]
[{"$f":"A408+1","v":59},"766     Tnd/5","Dveře dřevěné nové hladké plné .850/1970 mm kopie stávajících.nový nátěr stáv.zárubně, samozav","ks",4,null,{"$f":"E409*F409","v":0}]
[{"$f":"A409+1","v":60},"766     Tpo/4","Okno do ulice - stávající 900/1250 mm očištění, přebroušení, přetmelení okna, nový nátěr","ks",4,null,{"$f":"E410*F410","v":0}]
[null,null,";případné lokální opravy vč.parapetů",null,0]
[null,null,4,null,4]
[{"$f":"A410+1","v":61},"766     Tpo/5","Okno do ulice - stávající 550/1350 mm očištění, přebroušení, přetmelení okna, nový nátěr","ks",2,null,{"$f":"E413*F413","v":0}]
[null,null,";případné lokální opravy vč.parapetů",null,0]
[null,null,2,null,2]
[{"$f":"A413+1","v":62},"766     Tpo/6a","Okno na WC - stávající 1495/1135 mm očištění, přebroušení, přetmelení okna, nový nátěr","ks",7,null,{"$f":"E416*F416","v":0}]
[null,null,";případné lokální opravy vč.parapetů",null,0]
[null,null,7,null,7]
[{"$f":"A416+1","v":63},"766     Tpo/6b","Okno na WC - stávající 1495/1135 mm očištění, přebroušení, přetmelení okna, nový nátěr","ks",2,null,{"$f":"E419*F419","v":0}]
[null,null,";případné lokální opravy vč.parapetů",null,0]
[null,null,2,null,2]
[{"$f":"A419+1","v":64},"766     Tpo/7","Okno do jižního dvora  - stávající 1250/2070 mm očištění, přebroušení, přetmelení okna, nový nátěr","ks",2,null,{"$f":"E422*F422","v":0}]
[null,null,";případné lokální opravy vč.parapetů",null,0]
[null,null,2,null,2]
[{"$f":"A422+1","v":65},"766     Tpo/11","Nadsvětlík na toaletě nade dveřmi 1200/1500 mm přebroušení, nový nátěr,vyspravení kování","ks",1,null,{"$f":"E425*F425","v":0}]
[{"$f":"A425+1","v":66},"766     Tpo/12","Nadsvětlík na toaletě 600/1500 mm přebroušení, nový nátěr,vyspravení kování","ks",1,null,0]
[67,"766     Tn/12","Provětrávací mřížka ve dveřích 550/91 mm  D+M ","ks",29,null,0]
[68,"766     Tpo/21","Dveřní stěna na WC -2-dílná 2120/1795 mm - nová","ks",4,null,0]
[69,"766     Tnd/2a","Dřevěné dveře 1kř. 700/1970 - kopie  D+M vč.obložkové zárubně","ks",10,null,0]
[70,"766     Tnd/2b","Dřevěné dveře 1kř. 850/1970 - kopie  D+M vč.obložkové zárubně","ks",6,null,0]
[71,"766     Tno/5","Dřevěné okno na terasu 700/700-1200mm kopie  D+M ","ks",1,null,0]
[null,"poznámka 1","Truhlářské konstrukce jsou kompletní výrobky dle popisu v tabulkách"]
[null,"poznámka 2","Truhlářské  konstrukce jsou vč.přesunu hmot "]
["Díl:","767","Konstrukce zámečnické",null,null,null,{"$f":"SUBTOTAL(9,G435:P463)","v":0}]
[{"$f":"A431+1","v":72},"767       Zp/14","Mechanické odvětrání záchodové kabinky očištění, zprovoznění a nový nátěr","ks",26,null,{"$f":"E435*F435","v":0}]
[{"$f":"A435+1","v":73},"767       Zp/7d","Okenní mříž vystouplá na okně jižního dvora 1350/2350 mm,  očištění, přebroušení a nový nátěr","ks",2,null,0]
[74,"767       Zn/4","Přechodová lišta pro vozíčkáře  D+M ","ks",5,null,0]
[75,"767a      Zn/10","Čelní krytí SDK přízemí - P 13 500x730 mm + 500x1270 mm EI 60 DP1","ks",1,null,{"$f":"E438*F438","v":0}]
[76,"767a      Zn/10","Čelní krytí SDK mezipatro - M 14 840x730 mm + 840x2020 mm EI 60 DP1","ks",1,null,0]
[77,"767a      Zn/10","Čelní krytí SDK 1. patro - 106 850x730 mm + 850x1270 mm EI 60 DP1","ks",1,null,0]
[78,"767a      Zn/10","Čelní krytí SDK 2. patro - 217 895x730 mm + 895x1270 mm EI 60 DP1","ks",1,null,0]
[79,"767a      Zn/10","Čelní krytí SDK 3. patro - 318 850x730 mm + 850x1270 mm EI 60 DP1","ks",1,null,0]
[80,"767a      Zn/10","Čelní krytí SDK 4. patro - 413d 895x730 mm + 895x1270 mm EI 60 DP1","ks",1,null,0]
[81,"767a      Zn/10","Dvířka zakrývající šachtu pro silnoproud  D+M 850/800 mm EW 30 DP1","ks",2,null,0]
[{"$f":"A444+1","v":82},"767b      Zn/10","Dvířka zakrývající šachtu pro silnoproud  D+M 870/800 mm EW 30 DP1","ks",2,null,0]
[83,"767c      Zn/10","Dvířka zakrývající šachtu pro silnoproud  D+M 895/800 mm EW 30 DP1","ks",2,null,0]
[84,"767c      Zn/11","Sklopné zrcadlo pro vozíčkáře, nerez matný  D+M ","ks",5,null,0]
[85,"767c      Zn/12","Vodorovné madlo pro vozíčkáře, nerez matný  D+M ","ks",5,null,0]
[86,"767c      Zn/13","Sklopné madlo pro vozíčkáře, nerez matný  D+M ","ks",5,null,0]
[87,"767c      Zn/14","Pevné madlo pro vozíčkáře, nerez matný  D+M ","ks",5,null,0]
[88,"767c      Zn/27","Revizní dvířka do SDK v předséni na toaletách","ks",44,null,0]
[89,"767c     Zno/5","Nadsvětlík nový 1795/600 mm repase ","ks",4,null,0]
[90,"767c     Zno/6","Nadsvětlík nový 2000/750 mm repase ","ks",1,null,0]
[{"$f":"A453+1","v":91},"767c     Zpo/3a","Snížení nadsvětlíku - 1275/880 mm repase - obroušení, přetmelení, nový nátěr","ks",1,null,0]
[92,"767c     Zpo/3b","Snížení nadsvětlíku - 1900/520 mm repase - obroušení,  nový nátěr","ks",2,null,0]
[93,"767c     Zpo/4a","Snížení nadsvětlíku - 1680/510 mm repase - obroušení, nový nátěr","ks",2,null,0]
[94,"767c     Zpo/4b","Snížení nadsvětlíku - 1920/560 mm repase - obroušení,  nový nátěr","ks",2,null,0]
[95,"767c     Zpo/8","Okno na schodišti 525/3150 mm repase - obroušení, přetmelení, nový nátěr","ks",1,null,0]
[96,"767c     Zpo/10","snížení nadsvětlíku nade dveřmii 600/1795 mm repase - obroušení, nový nátěr","ks",3,null,0]
[97,"767c     Zpo/9a","Nadsvětlík nade dveřmii 2000/750 mm repase - obroušení, nový nátěr","ks",1,null,0]
[98,"767c     Zpo/9b","Nadsvětlík nade dveřmii 2000/880 mm repase - obroušení, nový nátěr","ks",1,null,0]
[null,"poznámka 1","Zámečnické konstrukce jsou kompletní výrobky dle popisu v tabulkách"]
[null,"poznámka 2","Zámečnické konstrukce jsou vč.přesunu hmot "]
["Díl:","771","Podlahy z dlaždic a obklady",null,null,null,{"$f":"SUBTOTAL(9,G465:P485)","v":0}]
[{"$f":"A461+1","v":99},"771 10-00    P1","Vyrovnání podkladu ","m2",{"$f":"SUM(E466:E482)","v":200.72999999999996},null,{"$f":"E465*F465","v":0}]
[null,null,";přízemí",null,0]
[null,null,"2,30+1,75+3,80",null,7.85]
[null,null,";mezipatro",null,0]
[null,null,"5,70+4,20+2,10+4,40+3,30+5,60+2,40+4,23",null,31.93]
[null,null,"1,25+1,40+4,53+1,25",null,8.43]
[null,null,";1.patro",null,0]
[null,null,"2,90+3,20+1,50+1,60",null,9.1999999999999993]
[null,null,";2.patro",null,0]
[null,null,"4,10+1,50+1,50+1,50+1,50",null,10.1]
[null,null,";3.patro",null,0]
[null,null,"3,60+1,40+2,80+1,70+2,90+2*1,41+5,30",null,20.52]
[null,null,"5,10+2*1,41+3,80",null,11.72]
[null,null,";4.patro",null,0]
[null,null,"2,90+3,09+7,40+2*8,80+9,20+1,17+1,17+1,80",null,44.33]
[null,null,"2,67+2,27+1,70+7,80+3,11+1,40+1,40",null,20.350000000000001]
[null,null,";5.patro",null,0]
[null,null,"3,50+11,50+8,90+2,70+7,00+2,70",null,36.299999999999997]
[{"$f":"A465+1","v":100},"771 57-5     P1","Dlažba do tmele vč.spárování vč.dodávky dlažby","m2",182.63,null,{"$f":"E483*F483","v":0}]
[null,null,"166,03*1,10",null,182.63]
[{"$f":"A483+1","v":101},"998 77-1104.R00","Přesun hmot pro podlahy z dlaždic, výšky do 36 m ","t",5.8,null,{"$f":"E485*F485","v":0}]
["Díl:","781","Obklady keramické",null,null,null,{"$f":"SUBTOTAL(9,G487:P570)","v":0}]
[{"$f":"A485+1","v":102},"781 10-1210.R00","Penetrace podkladu pod obklady ","m2",928.29,null,{"$f":"E487*F487","v":0}]
[{"$f":"A487+1","v":103},"781 47-511","Obklad vnitřní keramický do tmele, vč.koutových a rohových lišt, beze spar na sraz, vč.dod.obkladu","m2",{"$f":"SUM(E489:E554)","v":796.25790000000029},null,{"$f":"E488*F488","v":0}]
[null,null,";přízemí",null,0]
[null,null,"P9:(2,365+1,62)*2*2,10-0,65*1,825",null,15.550800000000001]
[null,null,"P10:(1,08+1,62)*2*2,10-0,65*1,825*2",null,8.9674999999999994]
[null,null,"P11:(1,505+1,62)*2*2,10-0,65*1,89",null,11.8965]
[null,null,";mezipatro",null,0]
[null,null,"M08:(4,355+1,405)*2*2,10-0,65*2,00",null,22.891999999999999]
[null,null,"M13:(1,90+2,50)*2*2,10-0,60*2,00",null,17.28]
[null,null,"M14:(1,245+1,17)*2*2,10-0,60*2,00",null,8.9429999999999996]
[null,null,"M15:(1,85+2,60)*2*2,10-0,85*2,00",null,16.989999999999998]
[null,null,"M31a:(1,54+3,40)*2*2,10-0,70*2,00*2",null,17.948]
[null,null,"M31b:(1,15+2,13)*2*2,10-0,70*2,00",null,12.375999999999999]
[null,null,"M32:(1,889+2,185)*2*2,10-0,70*2,00*3",null,12.9108]
[null,null,"M32a:((0,955+1,35)*2*2,10-0,70*2,00)*2",null,16.562000000000001]
[null,null,"M33:(0,78+1,275)*2*2,10-0,70*2,00",null,7.2309999999999999]
[null,null,"M33a:(2,07+3,40)*2*2,10-0,70*2,00*2",null,20.173999999999999]
[null,null,"M34:(1,994+2,185)*2*2,10-0,70*2,00*3",null,13.351800000000001]
[null,null,"M34a:((0,89+1,35)*2*2,10-0,70*2,00)*2",null,16.015999999999998]
[null,null,"M24:(0,60+2,55)*1,50",null,4.7249999999999996]
[null,null,";1.patro",null,0]
[null,null,"124:(2,19+1,48)*2*2,10-0,65*2,00*2-0,85*2,00",null,11.114000000000001]
[null,null,"124a:(1,025+1,59)*2*2,10-0,65*2,00",null,9.6829999999999998]
[null,null,"124b:(1,065+1,59)*2*2,10-0,65*2,00",null,9.8510000000000009]
[null,null,";2.patro",null,0]
[null,null,"209:(1,00+1,50)*2*2,10-0,70*2,00",null,9.1]
[null,null,"224:(0,60+2,57+0,60)*1,50",null,5.6550000000000002]
[null,null,";3.patro",null,0]
[null,null,"307:(2,70+1,48)*2*2,10-0,65*2,00*3",null,13.656000000000001]
[null,null,"308:(0,955+1,48)*2*2,10-0,65*2,00",null,8.9269999999999996]
[null,null,"309:(1,63+1,48)*2*2,10-0,65*2,00",null,11.762]
[null,null,"310:(0,60+2,50+0,60)*1,50",null,5.55]
[null,null,"315:(1,16+1,455)*2*2,10-0,65*2,00",null,9.6829999999999998]
[null,null,"317:(4,06+1,455)*2*2,10-0,70*2,00*2",null,20.363]
[null,null,"317a:((0,94+1,56)*2*2,10-0,70*2,00)*2",null,18.2]
[null,null,"317b:(3,32+2,50)*2*2,10-0,70*2,00*3",null,20.244]
[null,null,"316:(1,88+2,70)*2*2,10-0,70*2,00*3",null,15.036]
[null,null,"316a:((0,94+1,56)*2*2,10-0,70*2,00)*2",null,18.2]
[null,null,"318:(1,825+2,165)*2*2,10-0,65*2,00",null,15.458]
[null,null,"332:1,50*1,50",null,2.25]
[null,null,"326:(0,60+2,575+0,60)*1,50",null,5.6624999999999996]
[null,null,";4.patro",null,0]
[null,null,"408:(1,80+1,625)*2*2,10-0,85*2,00",null,12.685]
[null,null,"409:(1,80+1,625)*2*2,10-0,65*2,00*2",null,11.785]
[null,null,"410:(3,90+2,725)*2*2,10-0,70*2,00*3",null,23.625]
[null,null,"410a:((0,90+1,52)*2*2,10-0,70*2,00)*2",null,17.527999999999999]
[null,null,"411:(3,15+2,80)*2*2,10-0,65*2,00*3-0,85*2,00",null,19.39]
[null,null,"411a:(0,90+1,30)*2*2,10-0,70*2,00",null,7.84]
[null,null,"411b:(0,90+1,30)*2*2,10-0,70*2,00",null,7.84]
[null,null,"412:(1,125+1,625)*2*2,10-0,70*2,00*2",null,8.75]
[null,null,"412a:(1,125+2,38)*2*2,10-0,70*2,00",null,13.321]
[null,null,"413a:(1,30+0,90)*2*2,10-0,70*2,00*2",null,6.44]
[null,null,"413b:(1,74+1,30)*2*2,10-0,70*2,00",null,11.368]
[null,null,"413c:(1,30+1,30)*2*2,10-0,65*2,00*2",null,8.32]
[null,null,"413d:(1,30+0,90)*2*2,10-0,65*2,00",null,7.94]
[null,null,"426:(2,00+1,48)*2*2,10-0,65*2,00*2-0,70*2,00",null,10.616]
[null,null,"426a:(1,00+1,53)*2*2,10-0,65*2,00",null,9.3260000000000005]
[null,null,"426b:(1,00+1,53)*2*2,10-0,65*2,00",null,9.3260000000000005]
[null,null,";5.patro",null,0]
[null,null,"511:(1,70+0,90)*2*2,10-0,60*2,00",null,9.7200000000000006]
[null,null,"       (0,90+1,40)*2*2,10-0,70*2,00",null,8.26]
[null,null,"       (1,90+2,40)*2*2,10-0,60*2,00-0,70*2,00-0,85*2,00",null,13.76]
[null,null,"513:(1,50+1,00)*2*2,10-0,65*2,00*2",null,7.9]
[null,null,"        (0,90+1,20)*2*2,10-0,65*2,00",null,7.52]
[null,null,"504:(1,30+2,50)*2*2,10-0,70*2,00",null,14.56]
[null,null,"505:(1,50+3,30+0,60)*1,50",null,8.1]
[null,null,"509:(2,20+1,30)*2*2,10-0,70*2,00",null,13.3]
[null,null,"ztratné a prořez:928,29*0,1",null,92.828999999999994]
[{"$f":"A488+1","v":104},"781 67-001","Obklad parapetu keramický do tmele předstěny ZTI","m",43.06,null,{"$f":"E555*F555","v":0}]
[null,null,";přízemí",null,0]
[null,null,"1,08",null,1.08]
[null,null,";mezipatro",null,0]
[null,null,"0,955*3+1,17+1,065+1,10+0,35+1,17",null,7.72]
[null,null,";1.patro",null,0]
[null,null,"1,715+1,655",null,3.37]
[null,null,";2.patro",null,0]
[null,null,"2*1,00+4*0,90+1,15+2,30",null,9.0500000000000007]
[null,null,";3.patro",null,0]
[null,null,"4*0,97+1,16+2,165+0,955+1,93",null,10.09]
[null,null,";4.patro",null,0]
[null,null,"1,75+5*0,90+1,30",null,7.55]
[null,null,";5.patro",null,0]
[null,null,"2*0,90+2,40",null,4.2]
[{"$f":"A555+1","v":105},"998 78-1104.R00","Přesun hmot pro obklady keramické, výšky do 36 m ","t",18.38,null,{"$f":"E570*F570","v":0}]
["Díl:","782","Konstrukce z přírodního kamene",null,null,null,{"$f":"SUBTOTAL(9,G572:P573)","v":0}]
[{"$f":"A570+1","v":106},"782      Kp/10a","Ostění a parapet oken na WC - ryolit 1795/1650mm oprava, očištění, impregnace","ks",3,null,{"$f":"E572*F572","v":0}]
[{"$f":"A572+1","v":107},"782      Kp/10b","Ostění a parapet oken na WC - ryolit 795/1650mm oprava, očištění, impregnace","ks",2,null,{"$f":"E573*F573","v":0}]
["Díl:","784","Malby",null,null,null,{"$f":"SUBTOTAL(9,G575:P577)","v":0}]
[{"$f":"A573+1","v":108},"784 45-0030.RA0","Malba ze směsi , penetrace 1x, bílá 2x ","m2",834.07,null,{"$f":"E575*F575","v":0}]
[null,null,"stropy:168,24+44,50",null,212.74]
[null,null,"stěny:572,65+(13,00+5,75+5,59)*2",null,621.33000000000004]
["Díl:","40","Podhledy",null,null,null,{"$f":"SUBTOTAL(9,G579:P597)","v":0}]
[{"$f":"A575+1","v":109},"401           A","Snížený strop - sádrokartonový podhled odolný  proti vodě","m2",{"$f":"SUM(E580:E594)","v":150.73999999999998},null,{"$f":"E579*F579","v":0}]
[null,null,";přízemí",null,0]
[null,null,";mezipatro",null,0]
[null,null,"5,70+4,20+2,10+4,40+3,30+5,60+2,40+4,23",null,31.93]
[null,null,"1,25+1,40+1,40+4,53+1,25",null,9.83]
[null,null,";1.patro",null,0]
[null,null,"2,90+3,20",null,6.1]
[null,null,";2.patro",null,0]
[null,null,"1,87+3,10+5,00+5,50+5,50",null,20.97]
[null,null,"4,10+1,50+1,50",null,7.1]
[null,null,";3.patro",null,0]
[null,null,"3,60+1,40+2,80+1,70+2,90+2*1,41+5,30",null,20.52]
[null,null,"5,10+2*1,41+3,80+10,70",null,22.42]
[null,null,";4.patro",null,0]
[null,null,"2,90+3,09+7,40+9,20+1,80+2,67+1,70+3,11",null,31.87]
[null,null,";5.patro",null,0]
[{"$f":"A579+1","v":110},"4011          A","Snížený strop - sádrokartonový podhled ","m2",44.5,null,{"$f":"E595*F595","v":0}]
[null,null,";1.patro:3,20+5,00",null,8.1999999999999993]
[null,null,";5.patro:3,50+11,50+8,90+2,70+7,00+2,70",null,36.299999999999997]
["Díl:","770","Ostatní",null,null,null,{"$f":"SUBTOTAL(9,G599:P616)","v":0}]
[{"$f":"A595+1","v":111},"770         B0","Zrcadlo zapuštěné do obkladu 800/1505 mm  D+M ","ks",1,null,{"$f":"E599*F599","v":0}]
[{"$f":"A599+1","v":112},"770         B2","Zrcadlo zapuštěné do obkladu 800/2045 mm  D+M ","ks",1,null,0]
[{"$f":"A600+1","v":113},"770         B1","Zrcadlo zapuštěné do obkladu 800/2050 mm  D+M ","ks",1,null,0]
[{"$f":"A601+1","v":114},"770         B3","Zrcadlo zapuštěné do obkladu 800/1000 mm  D+M ","ks",1,null,0]
[115,"770         B5","Zrcadlo zapuštěné do obkladu 800/1480 mm  D+M ","ks",1,null,0]
[116,"770         B6","Zrcadlo zapuštěné do obkladu 800/830 mm  D+M ","ks",2,null,0]
[117,"770         B9","Zrcadlo zapuštěné do obkladu 800/1430 mm  D+M ","ks",1,null,0]
[118,"770         B10","Zrcadlo zapuštěné do obkladu 800/2000 mm  D+M ","ks",1,null,0]
[119,"770         B11","Zrcadlo zapuštěné do obkladu 800/1480 mm  D+M ","ks",2,null,0]
[120,"770         B12","Zrcadlo zapuštěné do obkladu 800/1520 mm  D+M ","ks",1,null,0]
[121,"770         B14","Zrcadlo zapuštěné do obkladu 800/1940 mm  D+M ","ks",1,null,0]
[122,"770         B15","Zrcadlo zapuštěné do obkladu 800/1455 mm  D+M ","ks",1,null,0]
[123,"770         B16","Zrcadlo zapuštěné do obkladu 800/780 mm  D+M ","ks",1,null,0]
[124,"770         B17","Zrcadlo zapuštěné do obkladu 800/2750 mm  D+M ","ks",1,null,0]
[125,"770         B18","Zrcadlo zapuštěné do obkladu 800/1480 mm  D+M ","ks",1,null,0]
[126,"770         B19","Zrcadlo zapuštěné do obkladu 800/1625 mm  D+M ","ks",1,null,0]
[127,"770         B21","Zrcadlo zapuštěné do obkladu 800/1120 mm  D+M ","ks",1,null,0]
[128,"770         B22","Zrcadlo zapuštěné do obkladu 800/1000 mm  D+M ","ks",1,null,0]

{"sheet":"10_SO 04 - Silnoproud","index":13,"n_rows":140,"n_cols":9,"rows_kept":140,"cut":false,"hidden":false,"merged":[[125,5,125,6],[125,7,125,8],[129,5,129,6],[129,7,129,8],[133,5,133,6],[133,7,133,8],[101,5,101,6],[101,7,101,8],[114,5,114,6],[114,7,114,8],[119,5,119,6],[119,7,119,8],[37,0,37,8],[40,5,40,6],[40,7,40,8],[42,5,42,6],[42,7,42,8],[32,1,32,2],[32,3,32,4],[32,5,32,6],[32,7,32,8],[34,7,34,8],[28,1,28,2],[28,3,28,4],[28,5,28,6],[28,7,28,8],[31,1,31,2],[31,3,31,4],[31,5,31,6],[31,7,31,8],[29,3,29,4],[29,5,29,6],[29,7,29,8],[30,1,30,2],[30,3,30,4],[30,5,30,6],[30,7,30,8],[29,1,29,2],[4,0,4,8],[24,1,24,2],[24,3,24,4],[24,5,24,6],[24,7,24,8],[26,1,26,2],[26,3,26,4],[26,5,26,6],[26,7,26,8],[27,1,27,2],[27,3,27,4],[27,5,27,6],[27,7,27,8]]}
[{"$f":"CONCATENATE('Rekapitulace stavby'!C63,\"_\",'Rekapitulace stavby'!I63)","v":"10_SO 04 - Silnoproudá elektroinstalace "}]
[]
["SPECIFIKACE DODÁVEK A PRACÍ "]
["Název akce:"]
[{"$f":"'Identifikační údaje'!B1","v":"ČRo Brno – III. etapa rekonstrukce budovy Beethovenova 25/4"}]
[]
["Zadavatel:",null,{"$f":"'Identifikační údaje'!E7","v":"Český rozhlas, Vinohradská 12, 120 99 Praha 2"}]
[null,"IČ:",{"$f":"'Identifikační údaje'!B9","v":45245053}]
[null,"DIČ:",{"$f":"'Identifikační údaje'!B10","v":"CZ45245053"}]
[]
["Projektant:",null,{"$f":"'Identifikační údaje'!E12","v":"Ing. arch. Klement Miloš, Nejedlého 381/19, 638 00 Brno - Lesná"}]
[null,"IČ:",{"$f":"'Identifikační údaje'!B14","v":15188736}]
[null,"DIČ:",{"$f":"'Identifikační údaje'!B15","v":"CZ6101021344"}]
[]
["Uchazeč:",null,{"$f":"'Identifikační údaje'!E19","v":", ,  "}]
[null,"IČ:",{"$f":"'Identifikační údaje'!B23","v":0}]
[null,"DIČ:",{"$f":"'Identifikační údaje'!B24","v":0}]
[]
["Místo stavby:",null,{"$f":"'Identifikační údaje'!B3","v":"Budova Českého rozhlasu Brno na adrese Beethovenova 25/4, 657 42 Brno"}]
[]
["Datum:",null,{"$f":"'Identifikační údaje'!B5","v":"00:00:00"}]
[]
[{"$f":"CONCATENATE(\"REKAPITULACE DODÁVEK A PRACÍ OBJEKTU \",'Rekapitulace stavby'!I63)","v":"REKAPITULACE DODÁVEK A PRACÍ OBJEKTU SO 04 - Silnoproudá elektroinstalace "}]
[]
["P.č.","Ozn.",null,"Materiál celkem",null,"Montáž celkem",null,"M+M celkem"]
[]
[{"$f":"B43","v":"A."},{"$f":"C43","v":"Svítidla a příslušenství"},null,{"$f":"F43","v":0},null,{"$f":"H43","v":0},null,{"$f":"D27+F27","v":0}]
[{"$f":"B102","v":"B."},{"$f":"C102","v":"Spínače, zásuvky a ostatní přístroje "},null,{"$f":"F102","v":0},null,{"$f":"H102","v":0},null,{"$f":"D28+F28","v":0}]
[{"$f":"B115","v":"C."},{"$f":"C115","v":"Instalační, úložný a ochranný materiál"},null,{"$f":"F115","v":0},null,{"$f":"H115","v":0},null,0]
[{"$f":"B120","v":"D."},{"$f":"C120","v":"Kabely a vodiče"},null,{"$f":"F120","v":0},null,{"$f":"H120","v":0},null,0]
[{"$f":"B126","v":"E."},{"$f":"C126","v":"Pospojování, uzemnění"},null,{"$f":"F126","v":0},null,{"$f":"H126","v":0},null,0]
[{"$f":"B130","v":"F."},{"$f":"C130","v":"Rozvaděče"},null,{"$f":"F130","v":0},null,{"$f":"H130","v":0},null,0]
[{"$f":"B134","v":"G."},{"$f":"C134","v":"Ostatní"},null,{"$f":"F134","v":0},null,{"$f":"H134","v":0},null,0]
[]
[{"$f":"CONCATENATE(\"CELKEM ZA OBJEKT \",'Rekapitulace stavby'!I63, \" v Kč bez DPH\")","v":"CELKEM ZA OBJEKT SO 04 - Silnoproudá elektroinstalace  v Kč bez DPH"},null,null,null,null,null,null,{"$f":"SUBTOTAL(9,H27:I33)","v":0}]
[]
[]
["Textová, výkresová i tabulková část projektové dokumentace tvoří jeden vzájemně se doplňující a provázaný celek. Jednotliví účastníci výběrového řízení se musí seznámit s projektojektovou dokumentací v návaznosti na soupis prací a na základě těchto informací části díla nacenit. Dále je potřeba při stanovení ceny dle vykázané výměry započítat všechny předpokládané doplňkové prvky a činnosti s touto položkou související tak, aby cena byla kompletní a prvek funkční."]
[]
[1]
[null,null,null,null,null,"Materiál",null,"Montáž"]
["poř.č.","položka","popis položky","MJ","množství","jedn.cena","celkem [Kč]","jedn.cena","celkem [Kč]"]
[null,"A.","Svítidla a příslušenství",null,null,{"$f":"SUBTOTAL(9,G45:G100)","v":0},null,{"$f":"SUBTOTAL(9,I45:I100)","v":0}]
[null,null," (komplet, včetně zdrojů, závěsů, pomocného materiálu, osazení zapojení, vyzkoušení apod.)"]
[1,null,"svítidlo typ A13 - Svítidlo stropní přisazené, bílá barva, difuzor opál, odsazený, Ø 195 mm, v=131 mm, LED 35W, 3000 K, 3000 lm, IP40","ks",2,null,{"$f":"E45*F45","v":0},null,{"$f":"E45*H45","v":0}]
[{"$f":"A45+1","v":2},null,"svítidlo typ A5 - Svítidlo přisazené, bílá barva, difuzor sklo mat, Ø 267 mm, v=80 mm, 2xE27, 2x20W max","ks",6,null,{"$f":"E46*F46","v":0},null,{"$f":"E46*H46","v":0}]
[3,null,"svítidlo typ A6 - Svítidlo stropní přisazené, bílá barva, difuzor opál, odsazený, Ø 130 mm, v=100 mm, LED 15W, 3000 K, 1280 lm, IP40","ks",1,null,0,null,{"$f":"E47*H47","v":0}]
[4,null,"svítidlo typ C13 - Svítidlo vestavné do podhledu SDK, korpus Al, bílá barva, difuzor opál - odsazený, Ø 110 mm, vestavná hloubka 70 mm, LED SMD 2835, 13W, 3000 K, 925 lm, 90°, IP54","ks",51,null,0,null,{"$f":"E48*H48","v":0}]
[5,null,"svítidlo typ C14 - Svítidlo vestavné do podhledu SDK, bílý rámeček, difuzor mat, Ø 230 mm, vestavná hloubka 150 mm, 2x E27, 2x20W max","ks",2,null,0,null,{"$f":"E49*H49","v":0}]
[6,null,"svítidlo typ C15 - Svítidlo vestavné do podhledu SDK, bílý rámeček, difuzor mat, Ø 190 mm, vestavná hloubka 150 mm, 2x E27, 2x15W max","ks",1,null,0,null,{"$f":"E50*H50","v":0}]
[7,null,"svítidlo typ C8 Svítidlo vestavné do podhledu SDK, bílá barva, odsazený světelný zdroj, Ø 69 mm, vest. hloubka 86 mm, LED 7,5W, 3000 K, 1000 lm, 33°","ks",5,null,0,null,0]
[8,null,"svítidlo typ D6 - Svítidlo nástěnné, Al+difuzor opál, Ø trubice 42 mm, l=620 mm, pro zářivku 1x14W, G5, EP","ks",3,null,0,null,0]
[9,null,"svítidlo typ E3-1 - Ukončující profil podhledu SDK, Al, difuzor PC opál, vč. LED 9W/m,3000 K, 720 lm/m, 12V DC, délka 0,75 m","ks",1,null,0,null,0]
[10,null,"svítidlo typ E3-10 - Ukončující profil podhledu SDK, Al, difuzor PC opál, vč. LED 9W/m,3000 K, 720 lm/m, 12V DC, délka  0,85m","ks",1,null,0,null,0]
[11,null,"svítidlo typ E3-11 - Ukončující profil podhledu SDK, Al, difuzor PC opál, vč. LED 9W/m,3000 K, 720 lm/m, 12V DC, délka  0,85","ks",1,null,0,null,0]
[12,null,"svítidlo typ E3-12 - Ukončující profil podhledu SDK, Al, difuzor PC opál, vč. LED 9W/m,3000 K, 720 lm/m, 12V DC, délka  2,85m","ks",1,null,0,null,0]
[13,null,"svítidlo typ E3-13 - Ukončující profil podhledu SDK, Al, difuzor PC opál, vč. LED 9W/m,3000 K, 720 lm/m, 12V DC, délka  0,85m","ks",1,null,0,null,0]
[14,null,"svítidlo typ E3-14 - Ukončující profil podhledu SDK, Al, difuzor PC opál, vč. LED 9W/m,3000 K, 720 lm/m, 12V DC, délka  0,85m","ks",1,null,0,null,0]
[15,null,"svítidlo typ E3-15 - Ukončující profil podhledu SDK, Al, difuzor PC opál, vč. LED 9W/m,3000 K, 720 lm/m, 12V DC, délka  2,25m","ks",1,null,0,null,0]
[16,null,"svítidlo typ E3-16 - Ukončující profil podhledu SDK, Al, difuzor PC opál, vč. LED 9W/m,3000 K, 720 lm/m, 12V DC, délka  1m","ks",1,null,0,null,0]
[17,null,"svítidlo typ E3-17 - Ukončující profil podhledu SDK, Al, difuzor PC opál, vč. LED 9W/m,3000 K, 720 lm/m, 12V DC, délka  1m","ks",1,null,0,null,0]
[18,null,"svítidlo typ E3-19 - Ukončující profil podhledu SDK, Al, difuzor PC opál, vč. LED 9W/m,3000 K, 720 lm/m, 12V DC, délka  1,4m","ks",1,null,0,null,0]
[19,null,"svítidlo typ E3-2 - Ukončující profil podhledu SDK, Al, difuzor PC opál, vč. LED 9W/m,3000 K, 720 lm/m, 12V DC, délka  0,8m","ks",1,null,0,null,0]
[20,null,"svítidlo typ E3-20 - Ukončující profil podhledu SDK, Al, difuzor PC opál, vč. LED 9W/m,3000 K, 720 lm/m, 12V DC, délka  2,5m","ks",1,null,0,null,0]
[21,null,"svítidlo typ E3-21 - Ukončující profil podhledu SDK, Al, difuzor PC opál, vč. LED 9W/m,3000 K, 720 lm/m, 12V DC, délka  0,95m","ks",1,null,0,null,0]
[22,null,"svítidlo typ E3-22 - Ukončující profil podhledu SDK, Al, difuzor PC opál, vč. LED 9W/m,3000 K, 720 lm/m, 12V DC, délka  0,95m","ks",1,null,0,null,0]
[23,null,"svítidlo typ E3-23 - Ukončující profil podhledu SDK, Al, difuzor PC opál, vč. LED 9W/m,3000 K, 720 lm/m, 12V DC, délka  2,7m","ks",1,null,0,null,0]
[24,null,"svítidlo typ E3-24 - Ukončující profil podhledu SDK, Al, difuzor PC opál, vč. LED 9W/m,3000 K, 720 lm/m, 12V DC, délka  0,95m","ks",1,null,0,null,0]
[25,null,"svítidlo typ E3-25 - Ukončující profil podhledu SDK, Al, difuzor PC opál, vč. LED 9W/m,3000 K, 720 lm/m, 12V DC, délka  0,85m","ks",1,null,0,null,0]
[26,null,"svítidlo typ E3-26 - Ukončující profil podhledu SDK, Al, difuzor PC opál, vč. LED 9W/m,3000 K, 720 lm/m, 12V DC, délka  2,15m","ks",1,null,0,null,0]
[27,null,"svítidlo typ E3-27 - Ukončující profil podhledu SDK, Al, difuzor PC opál, vč. LED 9W/m,3000 K, 720 lm/m, 12V DC, délka  2m","ks",1,null,0,null,0]
[28,null,"svítidlo typ E3-28 - Ukončující profil podhledu SDK, Al, difuzor PC opál, vč. LED 9W/m,3000 K, 720 lm/m, 12V DC, délka  1,6m","ks",1,null,0,null,0]
[29,null,"svítidlo typ E3-29 - Ukončující profil podhledu SDK, Al, difuzor PC opál, vč. LED 9W/m,3000 K, 720 lm/m, 12V DC, délka  1,6m","ks",1,null,0,null,0]
[30,null,"svítidlo typ E3-3 - Ukončující profil podhledu SDK, Al, difuzor PC opál, vč. LED 9W/m,3000 K, 720 lm/m, 12V DC, délka  2,15m","ks",1,null,0,null,0]
[31,null,"svítidlo typ E3-30 - Ukončující profil podhledu SDK, Al, difuzor PC opál, vč. LED 9W/m,3000 K, 720 lm/m, 12V DC, délka  2,6m","ks",1,null,0,null,0]
[32,null,"svítidlo typ E3-31 - Ukončující profil podhledu SDK, Al, difuzor PC opál, vč. LED 9W/m,3000 K, 720 lm/m, 12V DC, délka  0,85m","ks",1,null,0,null,0]
[33,null,"svítidlo typ E3-32 - Ukončující profil podhledu SDK, Al, difuzor PC opál, vč. LED 9W/m,3000 K, 720 lm/m, 12V DC, délka  0,85m","ks",1,null,0,null,0]
[34,null,"svítidlo typ E3-33 - Ukončující profil podhledu SDK, Al, difuzor PC opál, vč. LED 9W/m,3000 K, 720 lm/m, 12V DC, délka  1,3m","ks",1,null,0,null,0]
[35,null,"svítidlo typ E3-34 - Ukončující profil podhledu SDK, Al, difuzor PC opál, vč. LED 9W/m,3000 K, 720 lm/m, 12V DC, délka  1,3m","ks",1,null,0,null,0]
[36,null,"svítidlo typ E3-36 - Ukončující profil podhledu SDK, Al, difuzor PC opál, vč. LED 9W/m,3000 K, 720 lm/m, 12V DC, délka  0,9m","ks",1,null,0,null,0]
[37,null,"svítidlo typ E3-37 - Ukončující profil podhledu SDK, Al, difuzor PC opál, vč. LED 9W/m,3000 K, 720 lm/m, 12V DC, délka  0,9m","ks",1,null,0,null,0]
[38,null,"svítidlo typ E3-38 - Ukončující profil podhledu SDK, Al, difuzor PC opál, vč. LED 9W/m,3000 K, 720 lm/m, 12V DC, délka  0,9m","ks",1,null,0,null,0]
[39,null,"svítidlo typ E3-39 - Ukončující profil podhledu SDK, Al, difuzor PC opál, vč. LED 9W/m,3000 K, 720 lm/m, 12V DC, délka  1,7m","ks",1,null,0,null,0]
[40,null,"svítidlo typ E3-4 - Ukončující profil podhledu SDK, Al, difuzor PC opál, vč. LED 9W/m,3000 K, 720 lm/m, 12V DC, délka  0,85m","ks",1,null,0,null,0]
[41,null,"svítidlo typ E3-40 - Ukončující profil podhledu SDK, Al, difuzor PC opál, vč. LED 9W/m,3000 K, 720 lm/m, 12V DC, délka  1,5m","ks",1,null,0,null,0]
[42,null,"svítidlo typ E3-41 - Ukončující profil podhledu SDK, Al, difuzor PC opál, vč. LED 9W/m,3000 K, 720 lm/m, 12V DC, délka  0,95m","ks",1,null,0,null,0]
[43,null,"svítidlo typ E3-42 - Ukončující profil podhledu SDK, Al, difuzor PC opál, vč. LED 9W/m,3000 K, 720 lm/m, 12V DC, délka  0,95m","ks",1,null,0,null,0]
[44,null,"svítidlo typ E3-5 - Ukončující profil podhledu SDK, Al, difuzor PC opál, vč. LED 9W/m,3000 K, 720 lm/m, 12V DC, délka  0,85m","ks",1,null,0,null,0]
[45,null,"svítidlo typ E3-50 - Ukončující profil podhledu SDK, Al, difuzor PC opál, vč. LED 9W/m,3000 K, 720 lm/m, 12V DC, délka  0,9m","ks",1,null,0,null,0]
[46,null,"svítidlo typ E3-51 - Ukončující profil podhledu SDK, Al, difuzor PC opál, vč. LED 9W/m,3000 K, 720 lm/m, 12V DC, délka  0,9m","ks",1,null,0,null,0]
[47,null,"svítidlo typ E3-52 - Ukončující profil podhledu SDK, Al, difuzor PC opál, vč. LED 9W/m,3000 K, 720 lm/m, 12V DC, délka  1,3m","ks",1,null,0,null,0]
[48,null,"svítidlo typ E3-53 - Ukončující profil podhledu SDK, Al, difuzor PC opál, vč. LED 9W/m,3000 K, 720 lm/m, 12V DC, délka  1,4m","ks",1,null,0,null,0]
[49,null,"svítidlo typ E3-54 - Ukončující profil podhledu SDK, Al, difuzor PC opál, vč. LED 9W/m,3000 K, 720 lm/m, 12V DC, délka  2,25m","ks",1,null,0,null,0]
[50,null,"svítidlo typ E3-55 - Ukončující profil podhledu SDK, Al, difuzor PC opál, vč. LED 9W/m,3000 K, 720 lm/m, 12V DC, délka  1,3","ks",1,null,0,null,0]
[51,null,"svítidlo typ E3-56 - Ukončující profil podhledu SDK, Al, difuzor PC opál, vč. LED 9W/m,3000 K, 720 lm/m, 12V DC, délka  1,7m","ks",1,null,0,null,0]
[52,null,"svítidlo typ E3-57 - Ukončující profil podhledu SDK, Al, difuzor PC opál, vč. LED 9W/m,3000 K, 720 lm/m, 12V DC, délka  0,8m","ks",1,null,0,null,0]
[53,null,"svítidlo typ E3-6 - Ukončující profil podhledu SDK, Al, difuzor PC opál, vč. LED 9W/m,3000 K, 720 lm/m, 12V DC, délka 0,85m ","ks",1,null,0,null,0]
[54,null,"svítidlo typ E3-7 - Ukončující profil podhledu SDK, Al, difuzor PC opál, vč. LED 9W/m,3000 K, 720 lm/m, 12V DC, délka 0,85m ","ks",1,null,0,null,0]
[55,null,"svítidlo typ E3-8 - Ukončující profil podhledu SDK, Al, difuzor PC opál, vč. LED 9W/m,3000 K, 720 lm/m, 12V DC, délka  1,6m","ks",1,null,0,null,0]
[56,null,"svítidlo typ E3-9 - Ukončující profil podhledu SDK, Al, difuzor PC opál, vč. LED 9W/m,3000 K, 720 lm/m, 12V DC, délka  2,3m","ks",1,null,0,null,{"$f":"E100*H100","v":0}]
[]
[null,"B.","Spínače, zásuvky a ostatní přístroje ",null,null,{"$f":"SUBTOTAL(9,G105:G113)","v":0},null,{"$f":"SUBTOTAL(9,I105:I113)","v":0}]
[null,null,"(komplet, včetně příslušenství, pomocného materiálu, osazení, zapojení, vyzkoušení apod.)"]
[null,null,"Návazně na předchozí etapy rekonstrukce budou osaztovány výrobky z řady ABB Time"]
[{"$f":"A100+1","v":57},null,"Domovní spínač řazení 1, komplet","ks",47,null,{"$f":"E105*F105","v":0},null,{"$f":"E105*H105","v":0}]
[58,null,"Domovní spínač řazení 5, komplet ","ks",25,null,0,null,0]
[59,null,"Domovní tlačítko řazení 1/0 s popisem větrání , komplet","ks",29,null,0,null,0]
[60,null,"Časový doběh pro ventilátor montáž do krabice","ks",18,null,0,null,0]
[61,null,"Napojení VZT zařízení 230V, dle montážního návodu ","ks",18,null,0,null,0]
[{"$f":"A109+1","v":62},null,"Napojení napajecího zdroje splachovačů , dle montážního návodu ","ks",4,null,0,null,0]
[{"$f":"A110+1","v":63},null,"Domovní zásuvka 230V 16A,napájení z trafa  komplet","ks",5,null,0,null,0]
[{"$f":"A111+1","v":64},null,"Napojení osoušeče rukou 230V, dle montážního návodu ","ks",21,null,0,null,0]
[{"$f":"A112+1","v":65},null,"Napojení SLP zařízení 230V, dle montážního návodu ","ks",5,null,0,null,0]
[]
[null,"C.","Instalační, úložný a ochranný materiál",null,null,{"$f":"SUBTOTAL(9,G116:G118)","v":0},null,{"$f":"SUBTOTAL(9,I115:I118)","v":0}]
[null,null," (komplet, včetně příslušenství, pomocného materiálu, výkopu, záhozu výkopu, vytyčení trasy, osazení, zapojení, vyzkoušení apod.)"]
[{"$f":"A113+1","v":66},null,"Krabice přístrojová","ks",106,null,{"$f":"E117*F117","v":0},null,{"$f":"E117*H117","v":0}]
[{"$f":"A117+1","v":67},null,"Krabice odbočná včetně wago svorek","ks",50,null,{"$f":"E118*F118","v":0},null,{"$f":"E118*H118","v":0}]
[]
[null,"D.","Kabely a vodiče",null,null,{"$f":"SUBTOTAL(9,G121:G124)","v":0},null,{"$f":"SUBTOTAL(9,I120:I124)","v":0}]
[null,null,"(komplet, včetně vyhotovení drážky, zapravení drážky, vytyčení trasy, pomocného materiálu, příchytek, spojek, odlehčovacích oblouků, zapojení, vyzkoušení apod.)"]
[{"$f":"A118+1","v":68},null,"CYKY J 3x1,5","m",150,null,{"$f":"E122*F122","v":0},null,{"$f":"E122*H122","v":0}]
[{"$f":"A122+1","v":69},null,"CYKY J 3x2,5","m",60,null,{"$f":"E123*F123","v":0},null,{"$f":"E123*H123","v":0}]
[{"$f":"A123+1","v":70},null,"CYKY O 3x1,5","m",40,null,{"$f":"E124*F124","v":0},null,{"$f":"E124*H124","v":0}]
[]
[null,"E.","Pospojování, uzemnění",null,null,{"$f":"SUBTOTAL(9,G127:G128)","v":0},null,{"$f":"SUBTOTAL(9,I126:I128)","v":0}]
[null,null,"(komplet, včetně příslušenství, svorek, pomocného materiálu, osazení, zapojení, vyzkoušení apod.) "]
[{"$f":"A124+1","v":71},null,"Vodič CYA4 žlutozelený včetně svorek - doplňkové pospojení","m",60,null,{"$f":"E128*F128","v":0},null,{"$f":"E128*H128","v":0}]
[]
[null,"F.","Rozvaděče",null,null,{"$f":"SUBTOTAL(9,G131:G132)","v":0},null,{"$f":"SUBTOTAL(9,I130:I132)","v":0}]
[null,null,"(komplet, včetně příslušenství, svorek, pomocného materiálu, osazení, zapojení, vyzkoušení apod.) "]
[{"$f":"A128+1","v":72},null,"Doplnění stávajícího rozvaděče R11","ks",1,null,{"$f":"E132*F132","v":0},null,{"$f":"E132*H132","v":0}]
[]
[null,"G.","Ostatní",null,null,{"$f":"SUBTOTAL(9,G135:G140)","v":0},null,{"$f":"SUBTOTAL(9,I134:I140)","v":0}]
[{"$f":"A132+1","v":73},null,"Výchozí revize","hod",10,null,{"$f":"E135*F135","v":0},null,{"$f":"E135*H135","v":0}]
[{"$f":"A135+1","v":74},null,"Demontáže včetně likvidace odpadu","hod",20,null,{"$f":"E136*F136","v":0},null,0]
[{"$f":"A136+1","v":75},null,"Stavební přípomoce ","kpl",1," ---"," ---",null,0]
[{"$f":"A137+1","v":76},null,"Pomocný a podružný materiál upevňovací","kpl",1,null,{"$f":"E138*F138","v":0},null,0]
[{"$f":"A138+1","v":77},null,"Zednické výpomoci (PPV)","kpl",1," ---"," ---",null,0]
[{"$f":"A139+1","v":78},null,"Doprava materiálu","kpl",1," ---"," ---",null,0]

{"sheet":"011_SO 04 - VZT","index":14,"n_rows":75,"n_cols":10,"rows_kept":75,"cut":false,"hidden":false,"merged":[[50,4,51,4],[74,0,74,4],[74,5,74,6],[23,0,23,9],[34,0,34,1],[34,7,34,9],[48,0,51,0],[48,1,51,1],[48,2,51,2],[48,3,49,4],[48,5,48,8],[48,9,51,9],[50,3,51,3],[16,0,19,0],[16,1,19,1],[16,2,19,2],[16,3,17,4],[16,5,16,8],[16,9,19,9],[17,5,17,6],[17,7,17,8],[18,3,19,3],[18,4,19,4]]}
[{"$f":"CONCATENATE('Rekapitulace stavby'!C64,\"_\",'Rekapitulace stavby'!I64)","v":"11_SO 04 - Vzduchotechnika a chlazení"}]
[]
["SPECIFIKACE DODÁVEK A PRACÍ "]
["Název akce:"]
[{"$f":"'Identifikační údaje'!B1","v":"ČRo Brno – III. etapa rekonstrukce budovy Beethovenova 25/4"}]
[]
["Zadavatel:",null,{"$f":"'Identifikační údaje'!E7","v":"Český rozhlas, Vinohradská 12, 120 99 Praha 2"},"Projektant:",null,{"$f":"'Identifikační údaje'!E12","v":"Ing. arch. Klement Miloš, Nejedlého 381/19, 638 00 Brno - Lesná"}]
[null,"IČ",{"$f":"'Identifikační údaje'!B9","v":45245053},null,"IČ",{"$f":"'Identifikační údaje'!B14","v":15188736}]
[null,"DIČ",{"$f":"'Identifikační údaje'!B10","v":"CZ45245053"},null,"DIČ",{"$f":"'Identifikační údaje'!B15","v":"CZ6101021344"}]
[]
["Uchazeč:",null,{"$f":"'Identifikační údaje'!E19","v":", ,  "},"Místo stavby:",null,{"$f":"'Identifikační údaje'!B3","v":"Budova Českého rozhlasu Brno na adrese Beethovenova 25/4, 657 42 Brno"}]
[null,"IČ",{"$f":"'Identifikační údaje'!B23","v":0}]
[null,"DIČ",{"$f":"'Identifikační údaje'!B24","v":0}]
[]
["Datum:",null,{"$f":"'Identifikační údaje'!B5","v":"00:00:00"}]
[]
["P.Č.","Č.Z"," Popis položky:","Měrná jednotka",null,"Cena",null,null,null,"Poznámka"]
[null,null,null,null,null,"Jednotková",null,"Celkem"]
[null,null,null,"-","počet","Dodávka","Montáž","Dodávka","Montáž"]
[null,null,null,null,null,"[ Kč ]","[ Kč ]","[ Kč ]","[ Kč ]"]
[null,null,{"$f":"CONCATENATE(\"REKAPITULACE OBJEKTU  \",'Rekapitulace stavby'!I64)","v":"REKAPITULACE OBJEKTU  SO 04 - Vzduchotechnika a chlazení"}]
[1,1,{"$f":"C53","v":"Zařízení č.3 - Větrání sociálních zařízení"},"kpl",1," - "," - ",{"$f":"H75","v":0},{"$f":"I75","v":0},"-"]
[null,null,"Mezisoučet",null,null,null,null,{"$f":"SUM(H22:H22)","v":0},{"$f":"SUM(I22:I22)","v":0},"Kč bez DPH"]
[]
[{"$f":"A22+1","v":2},"-","Protipožární ucpávky","ks",8,null,null,{"$f":"E25*F25","v":0},{"$f":"E25*G25","v":0},"-"]
[{"$f":"A25+1","v":3},"-","Materiál pro spoje, montáž, závěsy, atd.","kpl",1,null,null,{"$f":"E26*F26","v":0},{"$f":"E26*G26","v":0},"-"]
[{"$f":"A26+1","v":4},"-","Doprava","kpl",1," - ",null," - ",{"$f":"E27*G27","v":0},"-"]
[5,"-","Přesuny","kpl",1," - ",null," - ",0,"-"]
[6,"-","Uvedení do provozu, zaregulování, vyzkoušení, předávací řízení","kpl",1," - ",null," - ",0,"-"]
[7,"-","Inženýrská a koordinační činnost","kpl",1," - ",null," - ",0,"-"]
[8,"-","Prováděcí a výrobní projektová dokumentace","kpl",1," - ",null," - ",0,"-"]
[9,"-","Dokumentace konečného provedení, návody, atesty, prohlášení o shodě","kpl",1," - ",null," - ",0,"-"]
[null,null,"Mezisoučet",null,null,null,null,{"$f":"SUM(H25:H32)","v":0},{"$f":"SUM(I25:I32)","v":0},"Kč bez DPH"]
[]
["CELKEM D+M",null,{"$f":"CONCATENATE(\"OBJEKT \",'Rekapitulace stavby'!I64,\" v Kč bez DPH\")","v":"OBJEKT SO 04 - Vzduchotechnika a chlazení v Kč bez DPH"},null,null,null,null,{"$f":"H23+H33+I23+I33","v":0}]
[]
[]
[]
[]
[]
[]
[]
[]
[]
[]
[]
[]
[]
["P.Č.","Č.P."," Popis položky:","Měrná jednotka",null,"Cena",null,null,null,"Poznámka"]
[null,null,null,null,null,"Jednotková cena",null,"Celková cena"]
[null,null,null,"-","počet","Dodávka","Montáž","Dodávka","Montáž"]
[null,null,null,null,null,"[ Kč ]","[ Kč ]","[ Kč ]","[ Kč ]"]
[null,null,"Zařízení č.3 - Větrání sociálních zařízení"]
[{"$f":"A32+1","v":10},"3.1","Ventilátor - referenční výrobek Mixvent TD 800/200 Silent","ks",1,null,null,{"$f":"E54*F54","v":0},{"$f":"E54*G54","v":0}]
[{"$f":"A54+1","v":11},null,"Rychloupínací spona - referenční výrobek VBM 200","ks",2,null,null,{"$f":"E55*F55","v":0},{"$f":"E55*G55","v":0}]
[{"$f":"A55+1","v":12},null,"Zpětná klapka - referenční výrobek RSK 200","ks",1,null,null,0,0]
[13,"3.2","Ventilátor - referenční výrobek Mixvent TD 500/160 Silent","ks",11,null,null,0,0]
[14,null,"Rychloupínací spona - referenční výrobek VBM 160","ks",22,null,null,0,0]
[15,null,"Zpětná klapka - referenční výrobek RSK 160","ks",11,null,null,0,0]
[16,"3.3","Ventilátor - referenční výrobek Mixvent TD 350/125 Silent","ks",7,null,null,0,0]
[17,null,"Rychloupínací spona - referenční výrobek VBM 125","ks",14,null,null,0,0]
[18,null,"Zpětná klapka - referenční výrobek RSK 125","ks",7,null,null,0,0]
[19,"3.4","Talířový ventil - referenční výrobek DAVBR 125","ks",71,null,null,0,0]
[20,"3.5","Talířový ventil - referenční výrobek DAVBR 200","ks",2,null,null,0,0]
[21,"3.6","Stěnová mřížka - referenční výrobek NOVA - L - 1 - 1 - 300 x 100 - 20,0","ks",140,null,null,0,0]
[22,0,"Trouba SPIRO - 125 - včetně tvarovek","bm",10,null,null,0,0]
[23,0,"Trouba SPIRO - 160 - včetně tvarovek","bm",36,null,null,0,0]
[24,0,"Trouba SPIRO - 200 - včetně tvarovek","bm",16,null,null,0,0]
[25,0,"Trouba SPIRO - 250 - včetně tvarovek","bm",22,null,null,0,0]
[26,null,"Čtyřhranné ocel. potrubí sk. I včetně tvarovek","m2",26,null,null,0,0]
[27,null,"Ohebná hadice Sonodec 25 - 127","bm",264,null,null,0,0]
[28,null,"Ohebná hadice Sonodec 25 - 203","bm",12,null,null,0,0]
[29,null,"Ohebná hadice Sonodec 25 - 160","bm",44,null,null,0,0]
[30,null,"Tep a protihluk.izol.tl. 6 cm - venkovní s oplechováním","m2",5,null,null,0,0]
[{"$f":"CONCATENATE(C53,\" - celkem\")","v":"Zařízení č.3 - Větrání sociálních zařízení - celkem"},null,null,null,null,null,null,{"$f":"SUM(H54:H74)","v":0},{"$f":"SUM(I54:I74)","v":0},"bez DPH"]

{"sheet":"12_SO 04 - ZTI","index":15,"n_rows":252,"n_cols":10,"rows_kept":252,"cut":false,"hidden":false,"merged":[[251,8,251,9],[4,0,4,9],[26,8,26,9],[27,8,27,9],[28,8,28,9],[29,8,29,9],[214,2,214,5],[217,2,217,5],[216,2,216,5],[31,8,31,9],[53,8,53,9],[107,8,107,9],[190,8,190,9]]}
[{"$f":"CONCATENATE('Rekapitulace stavby'!C65,\"_\",'Rekapitulace stavby'!I65)","v":"12_SO 04 - Zdravotně technické instalace"}]
[]
["SPECIFIKACE DODÁVEK A PRACÍ "]
["Název akce:"]
[{"$f":"'Identifikační údaje'!B1","v":"ČRo Brno – III. etapa rekonstrukce budovy Beethovenova 25/4"}]
[]
["Zadavatel:",null,null,{"$f":"'Identifikační údaje'!E7","v":"Český rozhlas, Vinohradská 12, 120 99 Praha 2"}]
[null,null,"IČ:",{"$f":"'Identifikační údaje'!B9","v":45245053}]
[null,null,"DIČ:",{"$f":"'Identifikační údaje'!B10","v":"CZ45245053"}]
[]
["Projektant:",null,null,{"$f":"'Identifikační údaje'!E12","v":"Ing. arch. Klement Miloš, Nejedlého 381/19, 638 00 Brno - Lesná"}]
[null,null,"IČ:",{"$f":"'Identifikační údaje'!B14","v":15188736}]
[null,null,"DIČ:",{"$f":"'Identifikační údaje'!B10","v":"CZ45245053"}]
[]
["Uchazeč:",null,null,{"$f":"'Identifikační údaje'!E19","v":", ,  "}]
[null,null,"IČ:",{"$f":"'Identifikační údaje'!B23","v":0}]
[null,null,"DIČ:",{"$f":"'Identifikační údaje'!B24","v":0}]
[]
["Místo stavby:",null,null,{"$f":"'Identifikační údaje'!B3","v":"Budova Českého rozhlasu Brno na adrese Beethovenova 25/4, 657 42 Brno"}]
[]
["Datum:",null,null,{"$f":"'Identifikační údaje'!B5","v":"00:00:00"}]
[]
[{"$f":"CONCATENATE(\"REKAPITULACE DODÁVEK A PRACÍ OBJEKTU \",'Rekapitulace stavby'!I65)","v":"REKAPITULACE DODÁVEK A PRACÍ OBJEKTU SO 04 - Zdravotně technické instalace"}]
[]
["P.č.",null,"Ozn.","Název položky",null,null,null,null,"Kč bez DPH"]
[]
["Díl:",{"$f":"A46","v":1},null,{"$f":"C46","v":"Stavební úpravy"},null,null,null,null,{"$f":"I54","v":0}]
["Díl:",{"$f":"A58","v":2},null,{"$f":"C58","v":"Vnitřní kanalizace"},null,null,null,null,{"$f":"I108","v":0}]
["Díl:",{"$f":"A112","v":3},null,{"$f":"C112","v":"Vnitřní vodovod"},null,null,null,null,{"$f":"I191","v":0}]
["Díl:",{"$f":"A195","v":4},null,{"$f":"C195","v":"Zařizovací předměty"},null,null,null,null,{"$f":"I252","v":0}]
[]
[{"$f":"CONCATENATE(\"CELKEM ZA OBJEKT \",'Rekapitulace stavby'!I65, \" v Kč bez DPH\")","v":"CELKEM ZA OBJEKT SO 04 - Zdravotně technické instalace v Kč bez DPH"},null,null,null,null,null,null,null,{"$f":"SUM(I27:J30)","v":0}]
[]
[]
[]
["Poznámky:"]
["Při oceňování stavby je třeba se řídit také technickou zprávou a výkresovou dokumentací."]
["Standardy výrobků jsou uvedeny v položkách tohoto výkazu výměr a nejsou-li uvedeny zde, pak popisem nebo příkladem v technické zprávě. "]
["S ohledem na skutečnost, že II. etapa rekonstrukce navazuje na etapu I. jsou předepsané referenční výrobky v položce tohoto výkazu"]
["výměr závazné, neb stejné jsou již do objektu osazeny v předchozí etapě rekonstrukce."]
["Všechny položky zahrnují montáž."]
["Ostatní zemní práce jsou ve stavebním rozpočtu."]
[]
[]
[]
[1,null,"Stavební úpravy"]
["poř.č.",null,"popis položky",null,null,null,"MJ","množství","jedn.cena","celkem [Kč]"]
[1,null,"Sekání drážek šířky do 300 mm",null,null,null,"m",120,null,{"$f":"I48*H48","v":0}]
[{"$f":"A48+1","v":2},null,"Zaomítání drážek šíř.do 300mm vč. dodání materiálu",null,null,null,"m",120,null,0]
[{"$f":"A49+1","v":3},null,"Vybourání prostupů stropem",null,null,null,"ks",30,null,0]
[{"$f":"A50+1","v":4},null,"Zapravení prostupů stropem",null,null,null,"ks",30,null,0]
[{"$f":"A51+1","v":5},null,"Odvoz suti na skládku s naložením",null,null,null,"t",1.55,null,0]
[{"$f":"A52+1","v":6},null,"Poplatek za skládku",null,null,null,"t",1.55,null,0]
[{"$f":"CONCATENATE(\"Celkem Kč bez DPH za \",A46,\" - \",C46)","v":"Celkem Kč bez DPH za 1 - Stavební úpravy"},null,null,null,null,null,null,null,{"$f":"SUM(J48:J53)","v":0}]
[]
[]
[]
[2,null,"Vnitřní kanalizace"]
["poř.č.",null,"popis položky",null,null,null,"MJ","množství","jedn.cena","celkem [Kč]"]
[{"$f":"A53+1","v":7},null,"Potrubí PP HT Ø 40",null,null,null,"m",2,null,{"$f":"I60*H60","v":0}]
[{"$f":"A60+1","v":8},null,"Potrubí PP HT Ø 50",null,null,null,"m",72,null,0]
[{"$f":"A61+1","v":9},null,"Potrubí PP HT Ø 75",null,null,null,"m",16,null,0]
[10,null,"Potrubí PP HT Ø 110",null,null,null,"m",37,null,0]
[11,null,"Potrubí PP HT Ø 125",null,null,null,"m",24,null,0]
[12,null,"Potrubí tlumicí hluk Ø 75",null,null,null,"m",8,null,0]
[13,null,"Potrubí tlumicí hluk Ø 110",null,null,null,"m",31,null,0]
[14,null,"Potrubí tlumicí hluk Ø 125",null,null,null,"m",12,null,0]
[15,null,"Svařované PE potrubí Ø 75",null,null,null,"m",22,null,0]
[16,null,"Hlukově optimalizované PP potrubí Ø 110",null,null,null,"m",26,null,0]
[17,null,"Hlukově optimalizované PP potrubí Ø 125",null,null,null,"m",24,null,0]
[18,null,"Potrubí PPR, PN 10 Ø 32",null,null,null,"m",23,null,0]
[19,null,"Ochrana potrubí Ø 32 plstí",null,null,null,"m",23,null,0]
[20,null,"Tepelná izolace tl. 20 mm Ø 125",null,null,null,"m",16,null,0]
[21,null,"Připoj.klimat.jednotek pomocí hadice s koncovkami",null,null,null,"Soub.",5,null,0]
[22,null,"Vyvedení a upevnění výpustek do Ø 40",null,null,null,"ks",35,null,0]
[23,null,"Vyvedení a upevnění výpustek do Ø 50",null,null,null,"ks",29,null,0]
[24,null,"Vyvedení a upevnění výpustek Ø 110",null,null,null,"ks",41,null,0]
[25,null,"Přivzdušňovací ventil podomítkový Ø 50",null,null,null,"ks",1,null,0]
[26,null,"Přivzdušňovací ventil Ø 50",null,null,null,"ks",1,null,0]
[27,null,"Plastová růžice Ø 110",null,null,null,"ks",3,null,0]
[28,null,"Plechová růžice Ø 125",null,null,null,"ks",2,null,0]
[29,null,"Oplechování větracího potrubí Ø 75",null,null,null,"Soub.",1,null,0]
[30,null,"Oplechování větracího potrubí Ø 125",null,null,null,"Soub.",1,null,0]
[31,null,"Podomítkový sifon s vodní a mech.zápach.uzávěrkou",null,null,null,"ks",2,null,0]
[32,null,"Vpust podlahová Ø 50 s vodní a mechanickou záp. uz.",null,null,null,"ks",6,null,0]
[33,null,"Střešní vtok se svislým odtokem Ø 125 a el. ohřevem",null,null,null,"ks",8,null,0]
[34,null,"Nástavec pro střešní vtok",null,null,null,"ks",8,null,0]
[35,null,"Ocelové konstrukce pro upevnění potrubí ",null,null,null,"Soub.",1,null,0]
[36,null,"Krycí dvířka 150 x 300 mm",null,null,null,"ks",4,null,0]
[37,null,"Krycí dvířka 300 x 300 mm",null,null,null,"ks",3,null,0]
[38,null,"Demontáž potrubí z litinových trub do DN 100",null,null,null,"m",101,null,0]
[39,null,"Demontáž potrubí z litinových trub DN 125",null,null,null,"m",76,null,0]
[40,null,"Demontáž potrubí z PVC do Ø 75",null,null,null,"m",86,null,0]
[41,null,"Demontáž potrubí z PVC Ø 110",null,null,null,"m",21,null,0]
[42,null,"Demontáž flexibilní trubky PPH Ø 110 vč. patk.kolena",null,null,null,"m",16,null,0]
[43,null,"Demontáž vpusti podlahové DN 100",null,null,null,"ks",4,null,0]
[44,null,"Napojení nového na stávající potrubí Ø 75",null,null,null,"Soub.",2,null,0]
[45,null,"Napojení nového na stávající potrubí Ø 110",null,null,null,"Soub.",1,null,0]
[46,null,"Napojení nového na stávající potrubí Ø 125",null,null,null,"Soub.",1,null,0]
[47,null,"Protipožární manžeta Ø 50",null,null,null,"ks",3,null,0]
[48,null,"Protipožární manžeta Ø 75",null,null,null,"ks",2,null,0]
[49,null,"Protipožární manžeta Ø 110",null,null,null,"ks",22,null,0]
[50,null,"Protipožární manžeta Ø 125",null,null,null,"ks",21,null,0]
[51,null,"Zkouška těsnosti kanalizace plynem",null,null,null,"m",297,null,0]
[52,null,"Odvoz demontovaného materiálu",null,null,null,"t",3.8,null,0]
[53,null,"Přesun hmot (do výšky 36 m)",null,null,null,"kpl",1,null,0]
[54,null,"Výpomoc HSV",null,null,null,"h",127,null,0]
[{"$f":"CONCATENATE(\"Celkem Kč bez DPH za \",A58,\" - \",C58)","v":"Celkem Kč bez DPH za 2 - Vnitřní kanalizace"},null,null,null,null,null,null,null,{"$f":"SUM(J60:J107)","v":0}]
[]
[]
[]
[3,null,"Vnitřní vodovod"]
["poř.č.",null,"popis položky",null,null,null,"jedn.","množství","jedn.cena","celkem [Kč]"]
[{"$f":"A107+1","v":55},null,"Potrubí PP typ 3, PN 20 Ø 16 x 2,7",null,null,null,"m",28,null,{"$f":"I114*H114","v":0}]
[{"$f":"A114+1","v":56},null,"Potrubí PP typ 3, PN 20 Ø 20 x 3,4",null,null,null,"m",136,null,0]
[{"$f":"A115+1","v":57},null,"Potrubí PP typ 3, PN 20 Ø 25 x 4,2",null,null,null,"m",53,null,0]
[58,null,"Potrubí PP typ 3, PN 20 Ø 32 x 5,4",null,null,null,"m",11,null,0]
[59,null,"Potrubí PP s hliníkovou vložkou Ø 20 x 2,8",null,null,null,"m",95,null,0]
[60,null,"Potrubí PP s hliníkovou vložkou Ø 25 x 3,5",null,null,null,"m",125,null,0]
[61,null,"Potrubí PP s hliníkovou vložkou Ø 32 x 4,5",null,null,null,"m",110,null,0]
[62,null,"Potrubí PP s hliníkovou vložkou Ø 40 x 5,6",null,null,null,"m",65,null,0]
[63,null,"Potrubí PP s hliníkovou vložkou Ø 50 x 6,9",null,null,null,"m",68,null,0]
[64,null,"Potrubí PP s hliníkovou vložkou Ø 63 x 8,7",null,null,null,"m",15,null,0]
[65,null,"Potrubí ocelové závitové pozinkované DN 25",null,null,null,"m",2,null,0]
[66,null,"Potrubí ocelové závitové pozinkované DN 32",null,null,null,"m",14,null,0]
[67,null,"Potrubí ocelové závitové pozinkované DN 50",null,null,null,"m",21,null,0]
[68,null,"Ochrana potrubí DN 25 plstí",null,null,null,"m",2,null,0]
[69,null,"Ochrana potrubí DN 32 plstí",null,null,null,"m",28,null,0]
[70,null,"Ochrana potrubí DN 50 plstí",null,null,null,"m",42,null,0]
[71,null,"Návleková izolace tl. 9 mm Ø 16",null,null,null,"m",28,null,0]
[72,null,"Návleková izolace tl. 9 mm Ø 20",null,null,null,"m",136,null,0]
[73,null,"Návleková izolace tl. 9 mm Ø 25",null,null,null,"m",52,null,0]
[74,null,"Návleková izolace tl. 9 mm Ø 32",null,null,null,"m",11,null,0]
[75,null,"Návleková izolace tl. 19 mm Ø 20",null,null,null,"m",95,null,0]
[76,null,"Návleková izolace tl. 19 mm Ø 25",null,null,null,"m",125,null,0]
[77,null,"Návleková izolace tl. 19 mm Ø 32",null,null,null,"m",110,null,0]
[78,null,"Návleková izolace tl. 19 mm Ø 40",null,null,null,"m",65,null,0]
[79,null,"Návleková izolace tl. 19 mm Ø 50",null,null,null,"m",68,null,0]
[80,null,"Návleková izolace tl. 19 mm Ø 63",null,null,null,"m",15,null,0]
[81,null,"Demontáž potrubí ocel. pozinkovaného do DN 25",null,null,null,"m",320,null,0]
[82,null,"Demont.potrubí ocel.pozinkovaného DN 32 a DN 40",null,null,null,"m",66,null,0]
[83,null,"Demontáž potrubí ocel. pozinkovaného DN 50",null,null,null,"m",11,null,0]
[84,null,"Demontáž potrubí ocel. pozinkovaného DN 80",null,null,null,"m",16,null,0]
[85,null,"Demontáž plstěných pásů z trubek do DN 25",null,null,null,"m",320,null,0]
[86,null,"Demontáž plstěných pásů z trubek DN 32 a DN 40",null,null,null,"m",66,null,0]
[87,null,"Demontáž plstěných pásů z trubek DN 50",null,null,null,"m",11,null,0]
[88,null,"Demontáž plstěných pásů z trubek DN 80",null,null,null,"m",16,null,0]
[89,null,"Demontáž armatur s jedním závitem DN 15",null,null,null,"ks",7,null,0]
[90,null,"Demontáž armatur se dvěma závity do Ø 3/4\"",null,null,null,"ks",47,null,0]
[91,null,"Demontáž armatur se dvěma závity Ø 1\"",null,null,null,"ks",10,null,0]
[92,null,"Demontáž armatur se dvěma závity Ø 6/4\"",null,null,null,"ks",4,null,0]
[93,null,"Demontáž hydrantu 52 C",null,null,null,"ks",12,null,0]
[94,null,"Demontáž cirkulačního čerpadla",null,null,null,"ks",1,null,0]
[95,null,"Napojení nového na stávající potrubí do Ø 32",null,null,null,"Soub.",13,null,0]
[96,null,"Napojení nového na stávající potrubí Ø 40 až 63",null,null,null,"Soub.",5,null,0]
[97,null,"Napojení nového na stávající potrubí DN 80",null,null,null,"Soub.",2,null,0]
[98,null,"Propojení stávajícího potrubí do Ø 32",null,null,null,"Soub.",2,null,0]
[99,null,"Vyvedení a upevnění výpustek DN 15",null,null,null,"ks",169,null,0]
[100,null,"Nástěnka DN 15",null,null,null,"ks",169,null,0]
[101,null,"Kulový kohout DN 15",null,null,null,"ks",14,null,0]
[102,null,"Kulový kohout DN 20",null,null,null,"ks",19,null,0]
[103,null,"Kulový kohout DN 25",null,null,null,"ks",10,null,0]
[104,null,"Kulový kohout DN 32",null,null,null,"ks",1,null,0]
[105,null,"Kulový kohout DN 40",null,null,null,"ks",2,null,0]
[106,null,"Kulový kohout DN 15 s odvodněním",null,null,null,"ks",1,null,0]
[107,null,"Kulový kohout DN 20 s odvodněním",null,null,null,"ks",5,null,0]
[108,null,"Regulační ventil termostatický DN 15",null,null,null,"ks",2,null,0]
[109,null,"Regulační ventil termostatický DN 20",null,null,null,"ks",1,null,0]
[110,null,"Mechanický šikmý filtr DN 20",null,null,null,"ks",5,null,0]
[111,null,"Zpětný ventil DN 20",null,null,null,"ks",5,null,0]
[112,null,"Ventil na hadici se zpět.a zavzduš.ventilem DN 15",null,null,null,"ks",1,null,0]
[113,null,"Vypouštěcí kohout kulový DN 15",null,null,null,"ks",3,null,0]
[114,null,"Protipožární pěna",null,null,null,"balení",5,null,0]
[115,null,"Cirkulační čerpadlo",null,null,null,"ks",1,null,0]
[116,null,"Úprava potrubí u cirkulačního čerpadla",null,null,null,"Soub.",1,null,0]
[117,null,"Vodoměr na studenou vodu DN 15",null,null,null,"ks",1,null,0]
[118,null,"Vodoměr na teplou vodu DN 15",null,null,null,"ks",1,null,0]
[119,null,"Dvířka krycí 300 x 300 mm",null,null,null,"ks",27,null,{"$f":"I178*H178","v":0}]
[120,null,"Hadicový systém s hadicí DN 19 bez skříňky",null,null,null,"ks",1,null,0]
[{"$f":"A179+1","v":121},null,"Hadicový systém s hadicí DN 25 bez skříňky",null,null,null,"ks",5,null,0]
[122,null,"Hadicový systém s hadicí DN 19, prosklená skříňka",null,null,null,"ks",3,null,0]
[123,null,"Hadicový systém s hadicí DN 25, prosklená skříňka",null,null,null,"ks",3,null,0]
[124,null,"Tlaková zkouška vodovodního potrubí",null,null,null,"m",985,null,0]
[125,null,"Proplach a desinfekce vodovodního potrubí",null,null,null,"m",985,null,0]
[126,null,"Odvoz demontovaného materiálu",null,null,null,"t",3.1,null,0]
[127,null,"Uzavř.nebo otevř.potr.při opr. vč. vypušť. a napušť.",null,null,null,"ks",20,null,0]
[128,null,"Přesun hmot (do výšky 36 m)",null,null,null,"kpl",1,null,0]
[129,null,"Výpomoc HSV",null,null,null,"h",224,null,0]
[130,null,"Ekvipotenciální propojení kovového potrubí (vodič)",null,null,null,"m",30,null,0]
[131,null,"Revize ekvipotenciálního propojení",null,null,null,"Soub.",1,null,0]
[{"$f":"CONCATENATE(\"Celkem Kč bez DPH za \",A112,\" - \",C112)","v":"Celkem Kč bez DPH za 3 - Vnitřní vodovod"},null,null,null,null,null,null,null,{"$f":"SUM(J114:J190)","v":0}]
[]
[]
[]
[4,null,"Zařizovací předměty"]
["poř.č.",null,"popis položky",null,null,null,"MJ","množství","jedn.cena","celkem [Kč]"]
[{"$f":"A190+1","v":132},null,"Záchodová mísa závěsná keramická bílá ",null,null,null,"ks",31,null,{"$f":"I197*H197","v":0}]
[{"$f":"A197+1","v":133},null,"Záchodové sedátko plastové bílé",null,null,null,"ks",31,null,0]
[{"$f":"A198+1","v":134},null,"Montážní prvek pro záchodovou mísu s integrov.nádržkou",null,null,null,"ks",31,null,0]
[135,null,"Ovládací tlačítko 3/6 l k montážnímu prvku",null,null,null,"ks",31,null,0]
[136,null,"Záchodová mísa závěs.keram.bílá pro těl.postižené ",null,null,null,"ks",5,null,0]
[137,null,"Záchodové sedátko plastové bílé",null,null,null,"ks",5,null,0]
[138,null,"Mont.prvek pro záchod.mísu pro těl.postiž.s nádržkou ",null,null,null,"ks",5,null,0]
[139,null,"Sada pro oddálené splachování",null,null,null,"ks",5,null,0]
[140,null,"Sklopné a pevné madlo",null,null,null,"Soub.",5,null,0]
[141,null,"Výlevka keramická závěsná bílá ",null,null,null,"ks",4,null,0]
[142,null,"Montážní prvek pro záchodovou mísu s integrov.nádržkou",null,null,null,"ks",4,null,0]
[143,null,"Ovládací tlačítko 6 l k montážnímu prvku",null,null,null,"ks",4,null,0]
[144,null,"Směš.baterie nástěnná pochrom.s dlouh.otoč.výtok.",null,null,null,"ks",6,null,0]
[145,null,"Výlevka keramická bílá stojící na podlaze",null,null,null,"ks",2,null,0]
[146,null,"Nádržkový splachovač vysoko položený",null,null,null,"ks",2,null,0]
[147,null,"Splachovací trubka komplet",null,null,null,"Soub.",2,null,0]
[148,null,"Napojovací tvarovka Ø 110",null,null,null,"ks",2,null,0]
[149,null,"Rohový ventil pochromovaný DN 15 s filtrem",null,null,null,"ks",113,null,0]
[150,null,"Umyvadlo keramické bílé s otvorem pro baterii JIKA CUBITO 85 cm (návaznost na předchozí instalace)",null,null,null,"ks",30,null,0]
[151,null,"Zápachová uzávěrka umyvadlová pochromovaná",null,null,null,"ks",30,null,0]
[152,null,"Směš.baterie jednopáková umyvadlov.jednootvorová NOVASERVIS UMYVADLOVÁ BATERIE S KOVOVOU VÝPUSTÍ OVAL CHROM (návaznost na předchozí instalace)",null,null,null,"ks",35,null,0]
[153,null,"Umývátko keramické bílé s otvorem pro baterii JIKA CUBITO 50 cm (návaznost na předchozí instalace)",null,null,null,"ks",1,null,0]
[154,null,"Umyvadlo keramické bílé pro tělesně postižené",null,null,null,"ks",4,null,0]
[155,null,"Svislé madlo k umyvadlu",null,null,null,"ks",5,null,0]
[156,null,"Zápachová uzávěrka umyvadlová podomítková",null,null,null,"ks",5,null,0]
[157,null,"Bidet keramický závěsný bílý",null,null,null,"ks",1,null,0]
[158,null,"Montážní prvek pro závěsný bidet",null,null,null,"ks",1,null,0]
[159,null,"Zápachová uzávěrka bidetová",null,null,null,"ks",1,null,0]
[160,null,"Směšovací baterie bidetová",null,null,null,"ks",1,null,0]
[161,null,"Souprava pro připoj.aut.pračky se záp.uz.a ventilem",null,null,null,"Soub.",1,null,0]
[162,null,"Pisoárová mísa keramická bílá",null,null,null,"ks",13,null,0]
[163,null,"Automat. elektronické splachovací zařízení pisoáru",null,null,null,"ks",13,null,0]
[164,null,"Zápachová uzávěrka pisoárová",null,null,null,"ks",13,null,0]
[165,null,"Zdroj (trafo) pro napájení automatických splachovačů",null,null,null,"ks",5,null,0]
[166,null,"Sprchová mísa ocelová smaltovaná bílá ",null,null,null,"ks",2,null,0]
[167,null,"Sprchová zástěna s posuvnými dveřmi",null,null,null,"Soub.",3,null,0]
[168,null,"Směšovací baterie sprchová jednopák. s ruč. sprchou",null,null,null,"ks",3,null,0]
[169,null,"Držák ruční sprchy",null,null,null,"ks",3,null,0]
[170,null,"Zápachová uzávěrka sprchová",null,null,null,"ks",2,null,0]
[171,null,"Směš. baterie jednopáková dřezová jednootvorová",null,null,null,"ks",13,null,0]
[172,null,"Zápachová uzávěrka dřezová plastová",null,null,null,"ks",12,null,0]
[173,null,"Zápachová uzávěrka dřezová plastová s odbočkou",null,null,null,"ks",1,null,0]
[174,null,"Demontáž záchodové mísy s vysok.pol.nádrží",null,null,null,"Soub.",9,null,0]
[175,null,"Demontáž pisoárové mísy",null,null,null,"Soub.",1,null,0]
[176,null,"Demontáž umyvadla",null,null,null,"Soub.",5,null,0]
[177,null,"Demontáž sprchového koutu",null,null,null,"Soub.",1,null,0]
[178,null,"Demontáž výlevky",null,null,null,"Soub.",1,null,0]
[179,null,"Demontáž dřezu",null,null,null,"Soub.",1,null,0]
[180,null,"Demontáž bidetu",null,null,null,"Soub.",1,null,0]
[181,null,"Demontáž vany",null,null,null,"Soub.",1,null,0]
[182,null,"Demontáž směšovací baterie",null,null,null,"Soub.",10,null,0]
[183,null,"Demontáž zápachové uzávěrky",null,null,null,"ks",10,null,0]
[184,null,"Odvoz demontovaného materiálu",null,null,null,"t",0.7,null,0]
[185,null,"Přesun hmot pro zař. předměty (do výšky 36 m)",null,null,null,"kpl",1,null,0]
[null,null,"Dřezy jsou součástí dodávky nábytku"]
[{"$f":"CONCATENATE(\"Celkem Kč bez DPH za \",A195,\" - \",C195)","v":"Celkem Kč bez DPH za 4 - Zařizovací předměty"},null,null,null,null,null,null,null,{"$f":"SUM(J197:J251)","v":0}]

{"sheet":"13_SO 05 - Stav arch část","index":16,"n_rows":204,"n_cols":7,"rows_kept":204,"cut":false,"hidden":false,"merged":[[24,3,24,6],[25,2,25,6],[43,3,43,6],[50,2,50,6],[134,2,134,3],[70,2,70,3],[71,2,71,3],[72,2,72,3],[73,2,73,3],[79,2,79,3],[53,2,53,3],[54,2,54,3],[56,2,56,3],[57,2,57,3],[59,2,59,3],[62,2,62,3],[146,2,146,3],[172,2,172,3],[180,2,180,3],[181,2,181,3],[169,2,169,3],[170,2,170,3],[173,2,173,3],[174,2,174,3],[175,2,175,3],[176,2,176,3],[148,2,148,3],[150,2,150,3],[166,2,166,3],[167,2,167,3],[168,2,168,3],[136,2,136,3],[140,2,140,3],[138,2,138,3],[142,2,142,3],[144,2,144,3],[198,2,198,3],[201,2,201,3],[203,2,203,3],[186,2,186,3],[187,2,187,3],[188,2,188,3],[189,2,189,3],[182,2,182,3],[184,2,184,3],[64,2,64,3],[67,2,67,3],[69,2,69,3],[74,2,74,3],[75,2,75,3],[76,2,76,3],[77,2,77,3],[78,2,78,3],[100,2,100,3],[80,2,80,3],[81,2,81,3],[82,2,82,3],[83,2,83,3],[85,2,85,3],[87,2,87,3],[88,2,88,3],[89,2,89,3],[95,2,95,3],[98,2,98,3],[99,2,99,3],[131,2,131,3],[101,2,101,3],[107,2,107,3],[108,2,108,3],[110,2,110,3],[111,2,111,3],[115,2,115,3],[116,2,116,3],[119,2,119,3],[122,2,122,3],[129,2,129,3],[130,2,130,3]]}
[{"$f":"CONCATENATE('Rekapitulace stavby'!C67,\"_\",'Rekapitulace stavby'!I67)","v":"13_SO 05 - Stavebně - architektonická část"}]
[]
["SPECIFIKACE DODÁVEK A PRACÍ "]
["Název akce:"]
[{"$f":"'Identifikační údaje'!B1","v":"ČRo Brno – III. etapa rekonstrukce budovy Beethovenova 25/4"}]
[]
["Zadavatel:",null,{"$f":"'Identifikační údaje'!E7","v":"Český rozhlas, Vinohradská 12, 120 99 Praha 2"}]
[null,"IČ:",{"$f":"'Identifikační údaje'!B9","v":45245053}]
[null,"DIČ:",{"$f":"'Identifikační údaje'!B10","v":"CZ45245053"}]
[]
["Projektant:",null,{"$f":"'Identifikační údaje'!E12","v":"Ing. arch. Klement Miloš, Nejedlého 381/19, 638 00 Brno - Lesná"}]
[null,"IČ:",{"$f":"'Identifikační údaje'!B14","v":15188736}]
[null,"DIČ:",{"$f":"'Identifikační údaje'!B15","v":"CZ6101021344"}]
[]
["Uchazeč:",null,{"$f":"'Identifikační údaje'!E19","v":", ,  "}]
[null,"IČ:",{"$f":"'Identifikační údaje'!B23","v":0}]
[null,"DIČ:",{"$f":"'Identifikační údaje'!B24","v":0}]
[]
["Místo stavby:",null,{"$f":"'Identifikační údaje'!B3","v":"Budova Českého rozhlasu Brno na adrese Beethovenova 25/4, 657 42 Brno"}]
[]
["Datum vyplnění:",null,{"$f":"'Identifikační údaje'!B5","v":"00:00:00"}]
[]
[{"$f":"CONCATENATE(\"REKAPITULACE DODÁVEK A PRACÍ OBJEKTU \",'Rekapitulace stavby'!I67)","v":"REKAPITULACE DODÁVEK A PRACÍ OBJEKTU SO 05 - Stavebně - architektonická část"}]
[]
["P.č.","Číslo položky","Název položky","Kč bez DPH"]
[]
["Díl:",{"$f":"B52","v":"3"},{"$f":"C52","v":"Svislé a kompletní konstrukce"},null,null,null,{"$f":"G52","v":0}]
["Díl:",{"$f":"B61","v":"43"},{"$f":"C61","v":"Schodiště"},null,null,null,{"$f":"G61","v":0}]
["Díl:",{"$f":"B66","v":"61"},{"$f":"C66","v":"Upravy povrchů vnitřní"},null,null,null,{"$f":"G66","v":0}]
["Díl:",{"$f":"B91","v":63},{"$f":"C91","v":"Podlahy a podlahové konstrukce"},null,null,null,{"$f":"G91","v":0}]
["Díl:",{"$f":"B94","v":94},{"$f":"C94","v":"Lešení a stavební výtahy"},null,null,null,{"$f":"G94","v":0}]
["Díl:",{"$f":"B97","v":"95"},{"$f":"C97","v":"Dokončovací kce na pozem.stav."},null,null,null,{"$f":"G97","v":0}]
["Díl:",{"$f":"B106","v":"96"},{"$f":"C106","v":"Bourání konstrukcí"},null,null,null,{"$f":"G106","v":0}]
["Díl:",{"$f":"B126","v":"99"},{"$f":"C126","v":"Staveništní přesun hmot"},null,null,null,{"$f":"G126","v":0}]
["Díl:",{"$f":"B128","v":714},{"$f":"C128","v":"Izolace akustické a protiotřesové"},null,null,null,{"$f":"G128","v":0}]
["Díl:",{"$f":"B133","v":"766"},{"$f":"C133","v":"Konstrukce truhlářské"},null,null,null,{"$f":"G133","v":0}]
["Díl:",{"$f":"B158","v":767},{"$f":"C158","v":"Konstrukce zámečnické "},null,null,null,{"$f":"G158","v":0}]
["Díl:",{"$f":"B165","v":"776"},{"$f":"C165","v":"Podlahy povlakové"},null,null,null,{"$f":"G165","v":0}]
["Díl:",{"$f":"B179","v":781},{"$f":"C179","v":"Obklady keramické"},null,null,null,{"$f":"G179","v":0}]
["Díl:",{"$f":"B191","v":782},{"$f":"C191","v":"Konstrukce z přírodního kamene"},null,null,null,{"$f":"G191","v":0}]
["Díl:",{"$f":"B197","v":784},{"$f":"C197","v":"Malby"},null,null,null,{"$f":"G197","v":0}]
["Díl:",{"$f":"B200","v":40},{"$f":"C200","v":"Podhledy"},null,null,null,{"$f":"G200","v":0}]
[]
[{"$f":"CONCATENATE(\"CELKEM ZA OBJEKT \",'Rekapitulace stavby'!I67, \" v Kč bez DPH\")","v":"CELKEM ZA OBJEKT SO 05 - Stavebně - architektonická část v Kč bez DPH"},null,null,{"$f":"SUM(G27:G42)","v":0}]
[]
[]
[]
[]
[]
["P.č.","Číslo položky","Název položky","MJ","množství","cena / MJ","celkem"]
[null,"Ceník, kapitola","Poznámka uchazeče"]
["Díl:","3","Svislé a kompletní konstrukce",null,null,null,{"$f":"SUBTOTAL(9,G53:G60)","v":0}]
[{"$f":"1","v":1},"34224811","Příčky POROTHERM AKU na MVC5  tl.,125 mm ","m2",16.385200000000001,null,{"$f":"E53*F53","v":0}]
[null,null,";1.patro",null,0]
[null,null,"5,48*2,99",null,16.385200000000001]
[{"$f":"A53+1","v":2},"340 23-9211.R00","Zazdívka otvorů pl.4 m2,cihlami tl.zdi do 10 cm ","m2",9.6973000000000003,null,{"$f":"E56*F56","v":0}]
[null,null,";1.patro",null,0]
[null,null,"0,95*2,00*4+1,27*2,99-0,85*2,00",null,9.6973000000000003]
[{"$f":"A56+1","v":3},"342 28-00","Opláštění SDK rozvodů VZT a ÚT vč.povrchoé úpravy","m2",26.62,null,{"$f":"E59*F59","v":0}]
[null,null,"0,80*3,00*6+0,90*3,00+0,50*3*2,80+1,90*2,80",null,26.62]
["Díl:","43","Schodiště",null,null,null,{"$f":"SUBTOTAL(9,G62:G65)","v":0}]
[{"$f":"A59+1","v":4},"430a   Kp/1=P2b","Vyčištění stávajícího teracového schodiště rovné stupně, z  1.patra do suterénu","m",22.23,null,{"$f":"E62*F62","v":0}]
[null,null,"19*1,17",null,22.23]
[{"$f":"A62+1","v":5},"430b   Kp/1=P2b","Vyčištění stávajícího teracového schodiště kosé  stupně, z  1.patra do suterénu","m",9.36,null,{"$f":"E64*F64","v":0}]
[null,null,"8*1,17",null,9.36]
["Díl:","61","Upravy povrchů vnitřní",null,null,null,{"$f":"SUBTOTAL(9,G67:G90)","v":0}]
[{"$f":"A64+1","v":6},"612 47-3182.R00","Omítka vnitřního zdiva ze suché směsi, štuková ","m2",52.15,null,{"$f":"E67*F67","v":0}]
[null,null,"16,385*2+9,69*2",null,52.15]
[{"$f":"A67+1","v":7},"612 10-003","Oprava omítek stěn vnitřních vápenocem. štukových oprava z 50 %, malba","m2",823.67,null,{"$f":"E69*F69","v":0}]
[null,null,"110:(1,75+2,42)*2*3,00",null,25.02]
[null,null,"111:(2,24+2,42)*2*3,00",null,27.96]
[null,null,"112:(4,04+4,50)*2*3,00",null,51.24]
[null,null,"113:(3,89+7,02)*2*3,00",null,65.459999999999994]
[null,null,"114:(4,18+7,225)*2*3,00",null,68.430000000000007]
[null,null,"115:(7,53+16,20)*2*3,00",null,142.38]
[null,null,"116:(2,10+3,00)*2*3,00",null,30.6]
[null,null,"117:(1,67+3,00)*2*3,00",null,28.02]
[null,null,"118:(3,87+6,37)*2*3,00",null,61.44]
[null,null,"119:(3,87+3,13)*2*3,00",null,42]
[null,null,"123:(4,95+4,87)*2*2,80",null,54.991999999999997]
[null,null,"125:(5,48+2,91)*2*2,80",null,46.984000000000002]
[null,null,"126:(5,48+5,54)*2*2,80",null,61.712000000000003]
[null,null,"127:(5,48+3,135)*2*2,80",null,48.244]
[null,null,"128:(5,48+6,875)*2*2,80",null,69.188000000000002]
[{"$f":"A69+1","v":8},"61142113","Oprava váp.omítek stropů - vyspravení pod podhledy ","m2",220.4,null,{"$f":"E85*F85","v":0}]
[null,null,"159,40+61,00",null,220.4]
[{"$f":"A85+1","v":9},"611 10-0013.RAA","Oprava omítek stropů vnitřních vápenocem.štukových oprava z 50 %, malba","m2",338.2,null,{"$f":"E87*F87","v":0}]
[null,null,";kde nejsou podhledy",null,0]
[null,null,"10,70+4,20+5,30+18,10+26,50+30,00+123,60+6,60",null,225]
[null,null,"5,00+24,10+12,00+25,70+16,00+30,40",null,113.2]
["Díl:",63,"Podlahy a podlahové konstrukce",null,null,null,{"$f":"SUBTOTAL(9,G92:P93)","v":0}]
[{"$f":"A87+1","v":10},"632 47   P7","Samonivelační stěrka tl.10mm ","m2",104.6,null,{"$f":"E92*F92","v":0}]
[{"$f":"A92+1","v":11},"63248","Vyspravení podkladu pod podlahy cca 30%","m2",164,null,{"$f":"E93*F93","v":0}]
["Díl:",94,"Lešení a stavební výtahy",null,null,null,{"$f":"SUBTOTAL(9,G95:P96)","v":0}]
[{"$f":"A93+1","v":12},"941955002","Lešení lehké pomocné výška podlahy do 1,90m pro podhledy","m2",220.4,null,{"$f":"E95*F95","v":0}]
[null,null,"159,40+61,00",null,220.4]
["Díl:","95","Dokončovací kce na pozem.stav.",null,null,null,{"$f":"SUBTOTAL(9,G98:G105)","v":0}]
[{"$f":"A95+1","v":13},"952 90-1111.R00","Vyčištění budov o výšce podlaží do 4 m ","m2",553.79999999999995,null,{"$f":"E98*F98","v":0}]
[null,null,"104,60+10,70+4,00+5,30+18,10+26,50",null,169.2]
[null,null,"30,00+123,20+6,30+5,00+24,10",null,188.6]
[null,null,"12,00+25,70+21,60+16,50+24,00",null,99.8]
[null,null,"16,00+30,40+17,20+32,60",null,96.2]
[{"$f":"A98+1","v":14},"95001","HZS - nezměřitelné práce ","hod",100,null,{"$f":"E103*F103","v":0}]
[{"$f":"A103+1","v":15},"95003","Vyklizení mobiliáře vč.ekologické likvidace ","kpl.",1,null,{"$f":"E104*F104","v":0}]
[{"$f":"A104+1","v":16},"95004","Uzavření rekonstruovaného prostoru proti šíření prašnosti","kpl.",1,null,{"$f":"E105*F105","v":0}]
["Díl:","96","Bourání konstrukcí",null,null,null,{"$f":"SUBTOTAL(9,G107:G125)","v":0}]
[{"$f":"A105+1","v":17},"968 06-1125.R00","Vyvěšení dřevěných dveřních křídel pl. do 2 m2 ","kus",6,null,{"$f":"E107*F107","v":0}]
[null,null,";C",null,0]
[null,null,6,null,6]
[{"$f":"A107+1","v":18},"968 06-245","Vybourání dveřních zárubní pl. do 2 m2 ","m2",10.8,null,{"$f":"E110*F110","v":0}]
[null,null,";C",null,0]
[null,null,"0,65*2,00+0,95*2,00*5",null,10.8]
[{"$f":"A110+1","v":19},"776 51-18","Odstranění PVC a koberců lepených ","m2",547.1,null,{"$f":"E113*F113","v":0}]
[{"$f":"A113+1","v":20},"9680701       Y","Úprava dveřních křídel pr VZT ","ks",8,null,{"$f":"E114*F114","v":0}]
[{"$f":"A114+1","v":21},"971 03-3621.R00","Vybourání otv. zeď cihel. pl.4 m2, tl.10 cm, MVC ","m2",2.44,null,{"$f":"E115*F115","v":0}]
[null,null,";A",null,0]
[null,null,"0,37*2,00+0,85*2,00",null,2.44]
[{"$f":"A115+1","v":22},"979 08-2111.R00","Vnitrostaveništní doprava suti do 10 m ","t",1.94,null,{"$f":"E118*F118","v":0}]
[{"$f":"A118+1","v":23},"979 08-2121.R00","Příplatek k vnitrost. dopravě suti za dalších 5 m ","t",5.82,null,{"$f":"E119*F119","v":0}]
[null,null,"3*1,94",null,5.82]
[{"$f":"A119+1","v":24},"979 08-1111.R00","Odvoz suti a vybour. hmot na skládku do 1 km ","t",1.94,null,{"$f":"E121*F121","v":0}]
[{"$f":"A121+1","v":25},"979 08-1121.R00","Příplatek k odvozu za každý další 1 km ","t",36.86,null,{"$f":"E122*F122","v":0}]
[null,null,"19*1,94",null,36.86]
[{"$f":"A122+1","v":26},"979093111","Uložení na skládku bez zhutnění ","t",1.94,null,{"$f":"E124*F124","v":0}]
[{"$f":"A124+1","v":27},"979 99-999","Poplatek za skladku ","t",1.94,null,{"$f":"E125*F125","v":0}]
["Díl:","99","Staveništní přesun hmot",null,null,null,{"$f":"SUBTOTAL(9,G127)","v":0}]
[{"$f":"A125+1","v":28},"999 28-1112.R00","Přesun hmot pro opravy a údržbu do výšky 36 m ","t",5.2,null,{"$f":"E127*F127","v":0}]
["Díl:",714,"Izolace akustické a protiotřesové",null,null,null,{"$f":"SUBTOTAL(9,G129:P132)","v":0}]
[{"$f":"A127+1","v":29},"71401","Demontáž a opětná montáž akustického obkladu pro montáž VZT","m2",161.69999999999999,null,{"$f":"E129*F129","v":0}]
[null,null,"120:(3,69+7,075)*2*2,80",null,60.283999999999999]
[null,null,"121:(5,25+4,70)*2*2,80",null,55.72]
[null,null,"122:(4,83+3,33)*2*2,80",null,45.695999999999998]
["Díl:","766","Konstrukce truhlářské",null,null,null,{"$f":"SUBTOTAL(9,G134:G157)","v":0}]
[{"$f":"A129+1","v":30},"766     Tpo/1a","Okno vč.parapetu - špalet. 1350/2045 mm repase - odstranění nátěru,přebroušení, nový nátěr","ks",2,null,{"$f":"E134*F134","v":0}]
[null,null,"seřízení a doplnění kování:2",null,2]
[{"$f":"A134+1","v":31},"766     Tpo/1b","Okno vč.parapetu - špalet. 2800/2045 mm repase - odstranění nátěru,přebroušení, nový nátěr","ks",12,null,{"$f":"E136*F136","v":0}]
[null,null,"seřízení a doplnění kování:12",null,12]
[{"$f":"A136+1","v":32},"766     Tpo/1c","Okno vč.parapetu - špalet. 4250/2045 mm repase - odstranění nátěru,přebroušení, nový nátěr","ks",3,null,{"$f":"E138*F138","v":0}]
[null,null,"seřízení a doplnění kování:3",null,3]
[{"$f":"A138+1","v":33},"766     Tpo/7a","Dřevěné dveře stáv.1kř.plné 650/1980 mm repase - odstranění nátěru,přebroušení, nový nátěr","ks",1,null,{"$f":"E140*F140","v":0}]
[null,null,"seřízení a doplnění kování:1",null,1]
[{"$f":"A140+1","v":34},"766     Tpo/7b","Dřevěné dveře stáv.1kř.plné 850/1980 mm repase - odstranění nátěru,přebroušení, nový nátěr","ks",1,null,{"$f":"E142*F142","v":0}]
[null,null,"seřízení a doplnění kování:1",null,1]
[{"$f":"A142+1","v":35},"766     Tpo/7a","Dřevěné dveře stáv.1kř.plné 650/1980 mm repase - odstranění nátěru,přebroušení, nový nátěr","ks",1,null,{"$f":"E144*F144","v":0}]
[null,null,"seřízení a doplnění kování:1",null,1]
[{"$f":"A144+1","v":36},"766     Tpo/7b","Dřevěné dveře stáv.1kř.plné 850/1980 mm repase - odstranění nátěru,přebroušení, nový nátěr","ks",10,null,{"$f":"E146*F146","v":0}]
[null,null,"seřízení a doplnění kování:10",null,10]
[{"$f":"A146+1","v":37},"766     Tpo/9b","Dřevěné dveře stáv.1kř.proskl. 850/2000 mm repase - odstranění nátěru,přebroušení, nový nátěr","ks",2,null,0]
[null,null,"seřízení a doplnění kování:2",null,2]
[{"$f":"A148+1","v":38},"766     Tpd/15","Dřevěné dveře stáv.1kř.laminátové 850/2000 mm repase","ks",6,null,0]
[null,null,"seřízení a doplnění kování:6",null,6]
[{"$f":"A150+1","v":39},"766     Tn/5","Kuchyňská linka v mč.128  dl.2550 mm  D+M ","ks",1,null,0]
[{"$f":"A152+1","v":40},"766     Tn/6","Kuchyňská linka v mč.117  dl.3000 mm  D+M ","ks",1,null,0]
[{"$f":"A153+1","v":41},"766     Tn/10","Kuchyňská linka v mč.110 rozebrání a opětná montáž po provedení nových instalací","ks",1,null,0]
[{"$f":"A154+1","v":42},"766     Tnd/2b","Dřevěné dveře 1kř.plné 850/1970 mm - kopie  D+M vč.zárubně","ks",1,null,0]
[null,"poznámka 1","Truhlářské konstrukce jsou kompletní výrobky dle popisu v tabulkách"," "]
[null,"poznámka 2","Truhlářské  konstrukce jsou vč.přesunu hmot "," "]
["Díl:",767,"Konstrukce zámečnické ",null,null,null,{"$f":"SUBTOTAL(9,G159:G164)","v":0}]
[{"$f":"A155+1","v":43},"767       Zn/10","Dvířka zakrývajíc´šachtu pro silnoproud 500/800 mm D+M protipožární EW 30 DP1","ks",1,null,{"$f":"E159*F159","v":0}]
[{"$f":"A159+1","v":44},"767       Zpd/4","Dveře do schodiště ocelovodřev.2kř.1375/2150mm repase. očištění, obroušení,nový nátěr","ks",1,null,{"$f":"E160*F160","v":0}]
[{"$f":"A160+1","v":45},"767      Zpd/10","Prosklená stěna s dv.a nadsv. 2055/2800 mm repase. očištění,  nové těsnění","ks",1,null,{"$f":"E161*F161","v":0}]
[{"$f":"A161+1","v":46},"767       GK","Generální klíč ","kpl.",1,null,{"$f":"E162*F162","v":0}]
[null,"poznámka 1","Zámečnické konstrukce jsou kompletní výrobky dle popisu v tabulkách"," "]
[null,"poznámka 2","Zámečnické konstrukce jsou vč.přesunu hmot "," "]
["Díl:","776","Podlahy povlakové",null,null,null,{"$f":"SUBTOTAL(9,G166:G178)","v":0}]
[{"$f":"A162+1","v":47},"776 57-2     P7","Položení podlah z pásů textilních včetně dodávky zátěžového antistatického koberce","m2",115.06,null,{"$f":"E166*F166","v":0}]
[null,null,";zátěžový koberec tl. 8 mm antistatický ze spodu opatřen",null,0]
[null,null,";gumovou vrstvou",null,0]
[null,null,";vč.olištování dubovými lištami",null,0]
[null,null,"104,60",null,104.6]
[null,null,"104,60*0,10",null,10.46]
[{"$f":"A166+1","v":48},"776 57-2     P8","Položení podlah z pásů textilních včetně dodávky zátěžového antistatického koberce","m2",487.63,null,{"$f":"E172*F172","v":0}]
[null,null,";zátěžový koberec tl. 8 mm antistatický ze spodu opatřen",null,0]
[null,null,";gumovou vrstvou",null,0]
[null,null,";vč.olištování dubovými lištami krom chodby (bělnin.sokl)",null,0]
[null,null,"443,30",null,443.3]
[null,null,"443,30*0,10",null,44.33]
[{"$f":"A172+1","v":49},"998 77-6104.R00","Přesun hmot pro podlahy povlakové, výšky do 36 m ","t",0.35499999999999998,null,{"$f":"E178*F178","v":0}]
["Díl:",781,"Obklady keramické",null,null,null,{"$f":"SUBTOTAL(9,G180:G190)","v":0}]
[{"$f":"A178+1","v":50},"78110121","Penetrace podkladu pod obklad ","m2",11.339,null,{"$f":"E180*F180","v":0}]
[null,null,";vč.vyspravení podkladu",null,0]
[null,null,"110:(0,60+2,42+0,60)*1,45",null,5.2489999999999997]
[null,null,"117:(0,60+3,00+0,60)*1,45",null,6.09]
[{"$f":"A180+1","v":51},"781475111","Obklad vnitřní keramický do tmele vč.rohových a koutových lišt, vč.dod.obkladu","m2",12.472899999999999,null,{"$f":"E184*F184","v":0}]
[null,null,"11,339*1,10",null,12.472899999999999]
[{"$f":"A184+1","v":52},"7814701","Bělninový obklad soklu v=100mm vč.dod.obkladu","m2",86.275000000000006,null,{"$f":"E186*F186","v":0}]
[null,null,";chodba",null,0]
[null,null,"8,00+8,00+2,30+2,90+2,215+9,53+2*2,00+4,50",null,41.445]
[null,null,"15,47+2,19+5,50+4,16+1,33+2,50+2,00",null,33.15]
[null,null,"4*2,92",null,11.68]
["Díl:",782,"Konstrukce z přírodního kamene",null,null,null,{"$f":"SUBTOTAL(9,G192:G196)","v":0}]
[{"$f":"A186+1","v":53},"782       Kp/7a","Ostění a parapet oken 1650/2345 mm - ryolit repase - očištění,vytmelení a přebrouš.,impregnace","ks",2,null,{"$f":"E192*F192","v":0}]
[{"$f":"A192+1","v":54},"782       Kp/7b","Ostění a parapet oken 3100/2345 mm - ryolit repase - očištění,vytmelení a přebrouš.,impregnace","ks",2,null,{"$f":"E193*F193","v":0}]
[{"$f":"A193+1","v":55},"782       Kp/7c","Ostění a parapet oken 4550/2345 mm - ryolit repase - očištění,vytmelení a přebrouš.,impregnace","ks",1,null,{"$f":"E194*F194","v":0}]
[{"$f":"A194+1","v":56},"782      Kp/13b","Parapet oken 2900 mm - ryolit repase - očištění,vytmelení a přebrouš.,impregnace","ks",10,null,{"$f":"E195*F195","v":0}]
[{"$f":"A195+1","v":57},"782      Kp/13c","Parapet oken 4350 mm - ryolit repase - očištění,vytmelení a přebrouš.,impregnace","ks",2,null,{"$f":"E196*F196","v":0}]
["Díl:",784,"Malby",null,null,null,{"$f":"SUBTOTAL(9,G198:G199)","v":0}]
[{"$f":"A196+1","v":58},"784 45-0030","Malba ze směsi , penetrace 1x, bílá 2x ","m2",1161.8699999999999,null,{"$f":"E198*F198","v":0}]
[null,null,1161.8699999999999,null,1161.8699999999999]
["Díl:",40,"Podhledy",null,null,null,{"$f":"SUBTOTAL(9,G201:G204)","v":0}]
[{"$f":"A198+1","v":59},"40    A","Sádrokartonový podhled ","m2",159.4,null,{"$f":"E201*F201","v":0}]
[null,null,"104,60+17,20+37,60",null,159.4]
[{"$f":"A201+1","v":60},"4001","Akustický podhled ","m2",61,null,{"$f":"E203*F203","v":0}]
[null,null,"21,60+15,30+24,10",null,61]

{"sheet":"14_SO 05 - Silnoproud","index":17,"n_rows":91,"n_cols":9,"rows_kept":91,"cut":false,"hidden":false,"merged":[[26,1,26,2],[26,3,26,4],[26,5,26,6],[26,7,26,8],[4,0,4,8],[24,1,24,2],[24,3,24,4],[24,5,24,6],[24,7,24,8],[27,1,27,2],[27,3,27,4],[27,5,27,6],[27,7,27,8],[28,1,28,2],[28,3,28,4],[28,5,28,6],[28,7,28,8],[37,0,37,8],[29,1,29,2],[29,3,29,4],[29,5,29,6],[29,7,29,8],[32,1,32,2],[32,3,32,4],[32,5,32,6],[32,7,32,8],[30,3,30,4],[30,5,30,6],[33,1,33,2],[33,3,33,4],[33,5,33,6],[33,7,33,8],[35,7,35,8],[39,5,39,6],[39,7,39,8],[41,5,41,6],[41,7,41,8],[47,5,47,6],[47,7,47,8],[30,7,30,8],[31,3,31,4],[31,5,31,6],[31,7,31,8],[86,5,86,6],[86,7,86,8],[68,5,68,6],[68,7,68,8],[72,5,72,6],[72,7,72,8],[54,5,54,6],[54,7,54,8],[60,5,60,6],[60,7,60,8],[81,5,81,6],[81,7,81,8]]}
[{"$f":"CONCATENATE('Rekapitulace stavby'!C68,\"_\",'Rekapitulace stavby'!I68)","v":"14_SO 05 - Silnoproudá elektroinstalace "}]
[]
["SPECIFIKACE DODÁVEK A PRACÍ "]
["Název akce:"]
[{"$f":"'Identifikační údaje'!B1","v":"ČRo Brno – III. etapa rekonstrukce budovy Beethovenova 25/4"}]
[]
["Zadavatel:",null,{"$f":"'Identifikační údaje'!B7","v":"Český rozhlas"}]
[null,"IČ:",{"$f":"'Identifikační údaje'!B9","v":45245053}]
[null,"DIČ:",{"$f":"'Identifikační údaje'!B10","v":"CZ45245053"}]
[]
["Projektant:",null,{"$f":"'Identifikační údaje'!B12","v":"Ing. arch. Klement Miloš"}]
[null,"IČ:",{"$f":"'Identifikační údaje'!B14","v":15188736}]
[null,"DIČ:",{"$f":"'Identifikační údaje'!B15","v":"CZ6101021344"}]
[]
["Uchazeč:",null,{"$f":"'Identifikační údaje'!E19","v":", ,  "}]
[null,"IČ:",{"$f":"'Identifikační údaje'!B23","v":0}]
[null,"DIČ:",{"$f":"'Identifikační údaje'!B24","v":0}]
[]
["Místo stavby:",null,{"$f":"'Identifikační údaje'!B3","v":"Budova Českého rozhlasu Brno na adrese Beethovenova 25/4, 657 42 Brno"}]
[]
["Datum:",null,{"$f":"'Identifikační údaje'!B5","v":"00:00:00"}]
[]
[{"$f":"CONCATENATE(\"REKAPITULACE DODÁVEK A PRACÍ OBJEKTU \",'Rekapitulace stavby'!I68)","v":"REKAPITULACE DODÁVEK A PRACÍ OBJEKTU SO 05 - Silnoproudá elektroinstalace "}]
[]
["P.č.","Ozn.",null,"Materiál celkem",null,"Montáž celkem",null,"M+M celkem"]
[]
[{"$f":"B42","v":"A."},{"$f":"C42","v":"Svítidla a příslušenství"},null,{"$f":"F42","v":0},null,{"$f":"H42","v":0},null,{"$f":"D27+F27","v":0}]
[{"$f":"B48","v":"B."},{"$f":"C48","v":"Spínače, zásuvky a ostatní přístroje "},null,{"$f":"F48","v":0},null,{"$f":"H48","v":0},null,{"$f":"D28+F28","v":0}]
[{"$f":"B55","v":"C."},{"$f":"C55","v":"Instalační, úložný a ochranný materiál"},null,{"$f":"F55","v":0},null,{"$f":"H55","v":0},null,0]
[{"$f":"B61","v":"D."},{"$f":"C61","v":"Kabely a vodiče"},null,{"$f":"F61","v":0},null,{"$f":"H61","v":0},null,0]
[{"$f":"B69","v":"E."},{"$f":"C69","v":"Úpravy stávajícího rozvaděče R11"},null,{"$f":"F69","v":0},null,{"$f":"H69","v":0},null,{"$f":"D31+F31","v":0}]
[{"$f":"B73","v":"F."},{"$f":"C73","v":"Drobné úpravy stávající elektroinstalace"},null,{"$f":"F73","v":0},null,{"$f":"H73","v":0},null,{"$f":"D32+F32","v":0}]
[{"$f":"B82","v":"G."},{"$f":"C82","v":"Rozvaděče"},null,{"$f":"F82","v":0},null,{"$f":"H82","v":0},null,0]
[{"$f":"B87","v":"H."},{"$f":"C87","v":"Ostatní"},null,{"$f":"F87","v":0},null,{"$f":"H87","v":0},null,0]
[]
[{"$f":"CONCATENATE(\"CELKEM ZA OBJEKT \",'Rekapitulace stavby'!I68, \" v Kč bez DPH\")","v":"CELKEM ZA OBJEKT SO 05 - Silnoproudá elektroinstalace  v Kč bez DPH"},null,null,null,null,null,null,{"$f":"SUBTOTAL(9,H27:I34)","v":0}]
[]
["Textová, výkresová i tabulková část projektové dokumentace tvoří jeden vzájemně se doplňující a provázaný celek. Jednotliví účastníci výběrového řízení se musí seznámit s projektojektovou dokumentací v návaznosti na soupis prací a na základě těchto informací části díla nacenit. Dále je potřeba při stanovení ceny dle vykázané výměry započítat všechny předpokládané doplňkové prvky a činnosti s touto položkou související tak, aby cena byla kompletní a prvek funkční."]
[1]
[null,null,null,null,null,"Materiál",null,"Montáž"]
["poř.č.","položka","popis položky","MJ","množství","jedn.cena","celkem [Kč]","jedn.cena","celkem [Kč]"]
[null,"A.","Svítidla a příslušenství",null,null,{"$f":"SUBTOTAL(9,G44:G46)","v":0},null,{"$f":"SUBTOTAL(9,I44:I46)","v":0}]
[null,null," (komplet, včetně zdrojů, závěsů, pomocného materiálu, osazení zapojení, vyzkoušení apod.)"]
[1,null,"svítidlo typ A6 - Svítidlo stropní přisazené, bílá barva, difuzor opál, odsazený, Ø 130 mm, v=100 mm, LED 15W, 3000 K, 1280 lm, IP40","ks",17,null,{"$f":"E44*F44","v":0},null,{"$f":"E44*H44","v":0}]
[{"$f":"A44+1","v":2},null,"svítidlo typ E4 - Osvětlovací lišta, položená na vodorovné části zdi ve světlíku, v úrovni stropu nad 1.NP, Al profil 35x35 mm, celková délka 5500 mm, difuzor opál, LED 14,4W/m, 3000 K, 1060 lm/m, vč. driveru, uloženého v profilu","ks",4,null,{"$f":"E45*F45","v":0},null,{"$f":"E45*H45","v":0}]
[3,null,"NOUZOVÉ OSVĚTLENÍ s připojením k CBS Inotec","ks",8,null,{"$f":"E46*F46","v":0},null,{"$f":"E46*H46","v":0}]
[]
[null,"B.","Spínače, zásuvky a ostatní přístroje ",null,null,{"$f":"SUBTOTAL(9,G51:G53)","v":0},null,{"$f":"SUBTOTAL(9,I51:I53)","v":0}]
[null,null,"(komplet, včetně příslušenství, pomocného materiálu, osazení, zapojení, vyzkoušení apod.)"]
[null,null,"Návazně na předchozí etapy rekonstrukce budou osaztovány výrobky z řady ABB Time"]
[{"$f":"A46+1","v":4},null,"Domovní zásuvka 230V 16A,napájení z trafa  komplet","ks",6,null,{"$f":"E51*F51","v":0},null,{"$f":"E51*H51","v":0}]
[5,null,"Napojení SLP zařízení 230V, dle montážního návodu ","ks",2,null,{"$f":"E52*F52","v":0},null,{"$f":"E52*H52","v":0}]
[6,null,"Napojení sporáku (varné desky) přes odbočnou krabici KO100","ks",1,null,{"$f":"E53*F53","v":0},null,{"$f":"E53*H53","v":0}]
[]
[null,"C.","Instalační, úložný a ochranný materiál",null,null,{"$f":"SUBTOTAL(9,G56:G59)","v":0},null,{"$f":"SUBTOTAL(9,I55:I59)","v":0}]
[null,null," (komplet, včetně příslušenství, pomocného materiálu, výkopu, záhozu výkopu, vytyčení trasy, osazení, zapojení, vyzkoušení apod.)"]
[{"$f":"A53+1","v":7},null,"Krabice přístrojová","ks",6,null,{"$f":"E57*F57","v":0},null,{"$f":"E57*H57","v":0}]
[{"$f":"A57+1","v":8},null,"Vývod pro připojení elektroinstalace ve stolech namlouvárna","ks",3,null,{"$f":"E58*F58","v":0},null,{"$f":"E58*H58","v":0}]
[{"$f":"A58+1","v":9},null,"Krabice odbočná včetně wago svorek s funkční schopností při požáru","ks",8,null,{"$f":"E59*F59","v":0},null,{"$f":"E59*H59","v":0}]
[]
[null,"D.","Kabely a vodiče",null,null,{"$f":"SUBTOTAL(9,G62:G67)","v":0},null,{"$f":"SUBTOTAL(9,I61:I67)","v":0}]
[null,null,"(komplet, včetně vyhotovení drážky, zapravení drážky, vytyčení trasy, pomocného materiálu, příchytek, spojek, odlehčovacích oblouků, zapojení, vyzkoušení apod.)"]
[{"$f":"A59+1","v":10},null,"CYKY J 3x1,5","m",150,null,{"$f":"E63*F63","v":0},null,{"$f":"E63*H63","v":0}]
[{"$f":"A63+1","v":11},null,"CYKY O 3x1,5","m",50,null,{"$f":"E64*F64","v":0},null,{"$f":"E64*H64","v":0}]
[{"$f":"A64+1","v":12},null,"CYKY J 3x2,5","m",300,null,{"$f":"E65*F65","v":0},null,{"$f":"E65*H65","v":0}]
[{"$f":"A65+1","v":13},null,"CYKY J 5x2,5","m",50,null,{"$f":"E66*F66","v":0},null,{"$f":"E66*H66","v":0}]
[{"$f":"A66+1","v":14},null,"Rozvody pro NO kabel s funkční schopností P60R -O 3x1,5  B2CAS1D0","m",60,null,{"$f":"E67*F67","v":0},null,{"$f":"E67*H67","v":0}]
[]
[null,"E.","Úpravy stávajícího rozvaděče R11",null,null,{"$f":"SUBTOTAL(9,G70:G71)","v":0},null,{"$f":"SUBTOTAL(9,I69:I71)","v":0}]
[{"$f":"A67+1","v":15},null,"Doplnění vývodu 16C/1 pro nápojový automat","ks",2,null,{"$f":"E70*F70","v":0},null,{"$f":"E70*H70","v":0}]
[{"$f":"A70+1","v":16},null,"Doplnění vývodu 10C/1 pro jednotný čas","ks",1,null,{"$f":"E71*F71","v":0},null,{"$f":"E71*H71","v":0}]
[]
[null,"F.","Drobné úpravy stávající elektroinstalace",null,null,{"$f":"SUBTOTAL(9,G74:G80)","v":0},null,{"$f":"SUBTOTAL(9,I73:I80)","v":0}]
[null,null,"(komplet, včetně potřebného materiálu, zapojení, vyzkoušení apod.)"]
[{"$f":"A71+1","v":17},null,"Úprava elektroinstalace m.č. 110","kp",1,null,{"$f":"E75*F75","v":0},null,{"$f":"E75*H75","v":0}]
[{"$f":"A75+1","v":18},null,"Úprava elektroinstalace m.č. 111","kp",1,null,0,null,0]
[{"$f":"A76+1","v":19},null,"Úprava elektroinstalace m.č. 112","kp",1,null,0,null,0]
[{"$f":"A77+1","v":20},null,"Úprava elektroinstalace m.č. 125","kp",1,null,0,null,0]
[{"$f":"A78+1","v":21},null,"Úprava elektroinstalace m.č. 126","kp",1,null,0,null,0]
[{"$f":"A79+1","v":22},null,"Úprava a doplnění elektroinstalace rozdělení místnosti na m.č. 127 a m.č. 128","kp",1,null,0,null,0]
[]
[null,"G.","Rozvaděče",null,null,{"$f":"SUBTOTAL(9,G83:G85)","v":0},null,{"$f":"SUBTOTAL(9,I82:I85)","v":0}]
[null,null,"(komplet, včetně příslušenství,  pomocného materiálu, osazení, zapravení,  zapojení, vyzkoušení apod.) "]
[{"$f":"A80+1","v":23},null,"Úpravy ve stávajícím rozvaděči R11","ks",1,null,{"$f":"E84*F84","v":0},null,{"$f":"E84*H84","v":0}]
[{"$f":"A84+1","v":24},null,"Úpravy ve stávajícím rozvaděči R11.1","ks",1,null,{"$f":"E85*F85","v":0},null,{"$f":"E85*H85","v":0}]
[]
[null,"H.","Ostatní",null,null,{"$f":"SUBTOTAL(9,G88:G91)","v":0},null,{"$f":"SUBTOTAL(9,I87:I91)","v":0}]
[{"$f":"A85+1","v":25},null,"Výchozí revize","hod",20,null,{"$f":"E88*F88","v":0},null,{"$f":"E88*H88","v":0}]
[{"$f":"A88+1","v":26},null,"Pomocný a podružný materiál upevňovací","kpl",1,null,{"$f":"E89*F89","v":0},null,{"$f":"E89*H89","v":0}]
[{"$f":"A89+1","v":27},null,"Zednické výpomoci (PPV)","kpl",1," ---"," ---",null,{"$f":"E90*H90","v":0}]
[{"$f":"A90+1","v":28},null,"Doprava materiálu","kpl",1," ---"," ---",null,{"$f":"E91*H91","v":0}]

{"sheet":"15_SO 05 - VZT","index":18,"n_rows":61,"n_cols":10,"rows_kept":61,"cut":false,"hidden":false,"merged":[[16,9,19,9],[17,5,17,6],[17,7,17,8],[18,3,19,3],[18,4,19,4],[16,0,19,0],[16,1,19,1],[16,2,19,2],[16,3,17,4],[16,5,16,8],[50,4,51,4],[60,0,60,4],[60,5,60,6],[23,0,23,9],[34,0,34,1],[34,7,34,9],[48,0,51,0],[48,1,51,1],[48,2,51,2],[48,3,49,4],[48,5,48,8],[48,9,51,9],[50,3,51,3]]}
[{"$f":"CONCATENATE('Rekapitulace stavby'!C69,\"_\",'Rekapitulace stavby'!I69)","v":"15_SO 05 - Vzduchotechnika a chlazení"}]
[]
["SPECIFIKACE DODÁVEK A PRACÍ "]
["Název akce:"]
[{"$f":"'Identifikační údaje'!B1","v":"ČRo Brno – III. etapa rekonstrukce budovy Beethovenova 25/4"}]
[]
["Zadavatel:",null,{"$f":"'Identifikační údaje'!E7","v":"Český rozhlas, Vinohradská 12, 120 99 Praha 2"},"Projektant:",null,{"$f":"'Identifikační údaje'!E12","v":"Ing. arch. Klement Miloš, Nejedlého 381/19, 638 00 Brno - Lesná"}]
[null,"IČ",{"$f":"'Identifikační údaje'!B9","v":45245053},null,"IČ",{"$f":"'Identifikační údaje'!B14","v":15188736}]
[null,"DIČ",{"$f":"'Identifikační údaje'!B10","v":"CZ45245053"},null,"DIČ",{"$f":"'Identifikační údaje'!B15","v":"CZ6101021344"}]
[]
["Uchazeč:",null,{"$f":"'Identifikační údaje'!E19","v":", ,  "},"Místo stavby:",null,{"$f":"'Identifikační údaje'!B3","v":"Budova Českého rozhlasu Brno na adrese Beethovenova 25/4, 657 42 Brno"}]
[null,"IČ",{"$f":"'Identifikační údaje'!B23","v":0}]
[null,"DIČ",{"$f":"'Identifikační údaje'!B24","v":0}]
[]
["Datum:",null,{"$f":"'Identifikační údaje'!B5","v":"00:00:00"}]
[]
["P.Č.","Č.Z"," Popis položky:","Měrná jednotka",null,"Cena",null,null,null,"Poznámka"]
[null,null,null,null,null,"Jednotková",null,"Celkem"]
[null,null,null,"-","počet","Dodávka","Montáž","Dodávka","Montáž"]
[null,null,null,null,null,"[ Kč ]","[ Kč ]","[ Kč ]","[ Kč ]"]
[null,null,{"$f":"CONCATENATE(\"REKAPITULACE OBJEKTU  \",'Rekapitulace stavby'!I69)","v":"REKAPITULACE OBJEKTU  SO 05 - Vzduchotechnika a chlazení"}]
[1,1,{"$f":"C53","v":"Zařízení č.14 - Úprava stávající vzduchotechniky větrání studií v 1 patře"},"kpl",1," - "," - ",{"$f":"H61","v":0},{"$f":"I61","v":0},"-"]
[null,null,"Mezisoučet",null,null,null,null,{"$f":"SUM(H22:H22)","v":0},{"$f":"SUM(I22:I22)","v":0},"Kč bez DPH"]
[]
[{"$f":"A22+1","v":2},"-","Protipožární ucpávky","ks",8,null,null,{"$f":"E25*F25","v":0},{"$f":"E25*G25","v":0},"-"]
[{"$f":"A25+1","v":3},"-","Materiál pro spoje, montáž, závěsy, atd.","kpl",1,null,null,{"$f":"E26*F26","v":0},{"$f":"E26*G26","v":0},"-"]
[{"$f":"A26+1","v":4},"-","Doprava","kpl",1," - ",null," - ",{"$f":"E27*G27","v":0},"-"]
[5,"-","Přesuny","kpl",1," - ",null," - ",0,"-"]
[6,"-","Uvedení do provozu, zaregulování, vyzkoušení, předávací řízení","kpl",1," - ",null," - ",0,"-"]
[7,"-","Inženýrská a koordinační činnost","kpl",1," - ",null," - ",0,"-"]
[8,"-","Prováděcí a výrobní projektová dokumentace","kpl",1," - ",null," - ",0,"-"]
[9,"-","Dokumentace konečného provedení, návody, atesty, prohlášení o shodě","kpl",1," - ",null," - ",0,"-"]
[null,null,"Mezisoučet",null,null,null,null,{"$f":"SUM(H25:H32)","v":0},{"$f":"SUM(I25:I32)","v":0},"Kč bez DPH"]
[]
["CELKEM D+M",null,{"$f":"CONCATENATE(\"OBJEKT \",'Rekapitulace stavby'!I69,\" v Kč bez DPH\")","v":"OBJEKT SO 05 - Vzduchotechnika a chlazení v Kč bez DPH"},null,null,null,null,{"$f":"H23+H33+I23+I33","v":0}]
[]
[]
[]
[]
[]
[]
[]
[]
[]
[]
[]
[]
[]
["P.Č.","Č.P."," Popis položky:","Měrná jednotka",null,"Cena",null,null,null,"Poznámka"]
[null,null,null,null,null,"Jednotková cena",null,"Celková cena"]
[null,null,null,"-","počet","Dodávka","Montáž","Dodávka","Montáž"]
[null,null,null,null,null,"[ Kč ]","[ Kč ]","[ Kč ]","[ Kč ]"]
[null,null,"Zařízení č.14 - Úprava stávající vzduchotechniky větrání studií v 1 patře"]
[{"$f":"A32+1","v":10},"14.1","VZT jednotka HLX 01 - stávající - prohlídka, vyčištění,výměna filtru, repase","ks",1,null,null,{"$f":"E54*F54","v":0},{"$f":"E54*G54","v":0}]
[{"$f":"A54+1","v":11},null,"Frekvenční měnič P=0,5kW včetně prodrátování","ks",1,null,null,{"$f":"E55*F55","v":0},{"$f":"E55*G55","v":0}]
[12,"14.2","Ventilátor odtah - stávající - prohlídka, vyčištění, repase","ks",2,null,null,0,0]
[13,null,"Frekvenční měnič P=0,5kW včetně prodrátování","ks",2,null,null,0,0]
[14,"14.3","Kondenzační chladící jednotka stávající - prohlídka, vyčištění, repase","ks",1,null,null,0,0]
[15,"14.4","Uzavírací klapka 430x230 na servo - servopohon dodávka profese MaR - vyrobit po doměření","ks",4,null,null,0,0]
[16,null,"Uzavírací klapka D235 - servopohon dodávka profese MaR - vyrobit po doměření","ks",4,null,null,0,0]
[{"$f":"CONCATENATE(C53,\" - celkem\")","v":"Zařízení č.14 - Úprava stávající vzduchotechniky větrání studií v 1 patře - celkem"},null,null,null,null,null,null,{"$f":"SUM(H54:H60)","v":0},{"$f":"SUM(I54:I60)","v":0},"bez DPH"]

{"sheet":"16_SO 06 - Stav arch část","index":19,"n_rows":225,"n_cols":7,"rows_kept":225,"cut":false,"hidden":false,"merged":[[24,3,24,6],[25,2,25,6],[43,3,43,6],[50,2,50,6],[160,2,160,3],[53,2,53,3],[54,2,54,3],[55,2,55,3],[57,2,57,3],[77,2,77,3],[58,2,58,3],[59,2,59,3],[60,2,60,3],[62,2,62,3],[63,2,63,3],[65,2,65,3],[223,2,223,3],[202,2,202,3],[203,2,203,3],[185,2,185,3],[197,2,197,3],[198,2,198,3],[192,2,192,3],[193,2,193,3],[187,2,187,3],[189,2,189,3],[191,2,191,3],[200,2,200,3],[217,2,217,3],[220,2,220,3],[221,2,221,3],[222,2,222,3],[66,2,66,3],[68,2,68,3],[72,2,72,3],[75,2,75,3],[76,2,76,3],[89,2,89,3],[78,2,78,3],[79,2,79,3],[80,2,80,3],[81,2,81,3],[82,2,82,3],[83,2,83,3],[84,2,84,3],[85,2,85,3],[86,2,86,3],[87,2,87,3],[88,2,88,3],[112,2,112,3],[90,2,90,3],[91,2,91,3],[92,2,92,3],[93,2,93,3],[94,2,94,3],[95,2,95,3],[96,2,96,3],[98,2,98,3],[99,2,99,3],[107,2,107,3],[111,2,111,3],[132,2,132,3],[118,2,118,3],[119,2,119,3],[120,2,120,3],[122,2,122,3],[123,2,123,3],[125,2,125,3],[126,2,126,3],[128,2,128,3],[129,2,129,3],[130,2,130,3],[131,2,131,3],[147,2,147,3],[150,2,150,3],[164,2,164,3],[188,2,188,3],[133,2,133,3],[134,2,134,3],[136,2,136,3],[137,2,137,3],[139,2,139,3],[141,2,141,3],[162,2,162,3]]}
[{"$f":"CONCATENATE('Rekapitulace stavby'!C71,\"_\",'Rekapitulace stavby'!I71)","v":"16_SO 06 - Stavebně - architektonická část"}]
[]
["SPECIFIKACE DODÁVEK A PRACÍ "]
["Název akce:"]
[{"$f":"'Identifikační údaje'!B1","v":"ČRo Brno – III. etapa rekonstrukce budovy Beethovenova 25/4"}]
[]
["Zadavatel:",null,{"$f":"'Identifikační údaje'!E7","v":"Český rozhlas, Vinohradská 12, 120 99 Praha 2"}]
[null,"IČ:",{"$f":"'Identifikační údaje'!B9","v":45245053}]
[null,"DIČ:",{"$f":"'Identifikační údaje'!B10","v":"CZ45245053"}]
[]
["Projektant:",null,{"$f":"'Identifikační údaje'!E12","v":"Ing. arch. Klement Miloš, Nejedlého 381/19, 638 00 Brno - Lesná"}]
[null,"IČ:",{"$f":"'Identifikační údaje'!B14","v":15188736}]
[null,"DIČ:",{"$f":"'Identifikační údaje'!B15","v":"CZ6101021344"}]
[]
["Uchazeč:",null,{"$f":"'Identifikační údaje'!E19","v":", ,  "}]
[null,"IČ:",{"$f":"'Identifikační údaje'!B23","v":0}]
[null,"DIČ:",{"$f":"'Identifikační údaje'!B24","v":0}]
[]
["Místo stavby:",null,{"$f":"'Identifikační údaje'!B3","v":"Budova Českého rozhlasu Brno na adrese Beethovenova 25/4, 657 42 Brno"}]
[]
["Datum vyplnění:",null,{"$f":"'Identifikační údaje'!B5","v":"00:00:00"}]
[]
[{"$f":"CONCATENATE(\"REKAPITULACE DODÁVEK A PRACÍ OBJEKTU \",'Rekapitulace stavby'!I71)","v":"REKAPITULACE DODÁVEK A PRACÍ OBJEKTU SO 06 - Stavebně - architektonická část"}]
[]
["P.č.","Číslo položky","Název položky","Kč bez DPH"]
[]
["Díl:",{"$f":"B52","v":"3"},{"$f":"C52","v":"Svislé a kompletní konstrukce"},null,null,null,{"$f":"G52","v":0}]
["Díl:",{"$f":"B71","v":"61"},{"$f":"C71","v":"Upravy povrchů vnitřní"},null,null,null,{"$f":"G71","v":0}]
["Díl:",{"$f":"B101","v":63},{"$f":"C101","v":"Podlahy a podlahové konstrukce"},null,null,null,{"$f":"G101","v":0}]
["Díl:",{"$f":"B106","v":94},{"$f":"C106","v":"Lešení a stavební výtahy"},null,null,null,{"$f":"G106","v":0}]
["Díl:",{"$f":"B109","v":"95"},{"$f":"C109","v":"Dokončovací kce na pozem.stav."},null,null,null,{"$f":"G109","v":0}]
["Díl:",{"$f":"B116","v":"96"},{"$f":"C116","v":"Bourání konstrukcí"},null,null,null,{"$f":"G116","v":0}]
["Díl:",{"$f":"B154","v":"99"},{"$f":"C154","v":"Staveništní přesun hmot"},null,null,null,{"$f":"G154","v":0}]
["Díl:",{"$f":"B156","v":713},{"$f":"C156","v":"Izolace tepelné"},null,null,null,{"$f":"G156","v":0}]
["Díl:",{"$f":"B159","v":"766"},{"$f":"C159","v":"Konstrukce truhlářské"},null,null,null,{"$f":"G159","v":0}]
["Díl:",{"$f":"B174","v":767},{"$f":"C174","v":"Konstrukce zámečnické"},null,null,null,{"$f":"G174","v":0}]
["Díl:",{"$f":"B180","v":"775"},{"$f":"C180","v":"Podlahy vlysové a parketové"},null,null,null,{"$f":"G180","v":0}]
["Díl:",{"$f":"B184","v":"776"},{"$f":"C184","v":"Podlahy povlakové"},null,null,null,{"$f":"G184","v":0}]
["Díl:",{"$f":"B196","v":781},{"$f":"C196","v":"Obklady keramické"},null,null,null,{"$f":"G196","v":0}]
["Díl:",{"$f":"B207","v":782},{"$f":"C207","v":"Konstrukce z přírodního kamene"},null,null,null,{"$f":"G207","v":0}]
["Díl:",{"$f":"B216","v":784},{"$f":"C216","v":"Malby"},null,null,null,{"$f":"G216","v":0}]
["Díl:",{"$f":"B219","v":40},{"$f":"C219","v":"Podhledy"},null,null,null,{"$f":"G219","v":0}]
[]
[{"$f":"CONCATENATE(\"CELKEM ZA OBJEKT \",'Rekapitulace stavby'!I71, \" v Kč bez DPH\")","v":"CELKEM ZA OBJEKT SO 06 - Stavebně - architektonická část v Kč bez DPH"},null,null,{"$f":"SUM(G27:G42)","v":0}]
[]
[]
[]
[]
[]
["P.č.","Číslo položky","Název položky","MJ","množství","cena / MJ","celkem"]
[null,"Ceník, kapitola","Poznámka uchazeče"]
["Díl:","3","Svislé a kompletní konstrukce",null,null,null,{"$f":"SUBTOTAL(9,G53:G70)","v":0}]
[{"$f":"1","v":1},"34224811","Příčky POROTHERM AKU na MVC5 tl.100 mm ","m2",8.4209999999999994,null,{"$f":"E53*F53","v":0}]
[null,null,";2.patro",null,0]
[null,null,"2,39*2,90-0,85*2,00",null,5.2309999999999999]
[null,null,"(0,20+0,90)*2,90",null,3.19]
[{"$f":"A53+1","v":2},"34224812","Příčky POROTHERM AKU na MVC5 tl.125 mm ","m2",46.3489,null,{"$f":"E57*F57","v":0}]
[null,null,";2.patro",null,0]
[null,null,"(2,02+1,246)*2,90-0,85*2,00",null,7.7713999999999999]
[null,null,"(2,85+2,85+4,20+1,875)*2,90-0,85*2,00*2",null,30.747499999999999]
[null,null,"(0,60+0,30+1,80)*2,90",null,7.83]
[{"$f":"A57+1","v":3},"340 23-921","Zazdívka otvorů pl.4 m2,cihlami tl.zdi do 10 cm ","m2",25.28,null,{"$f":"E62*F62","v":0}]
[null,null,"1,00*2,00*9+1,40*2,80",null,21.92]
[null,null,"nadsvětlíky:1,40*0,80*3",null,3.36]
[{"$f":"A62+1","v":4},"342 01-22","Předstěna SDK v m.č.332 vč.tepel.izolace  SDK 15mm+SDK12+TI100mm+50mm vzduch.mezera , vč.povrchové úpravy  poz.2","m2",24.58,null,{"$f":"E65*F65","v":0}]
[null,null,";m.č.219,230",null,0]
[null,null,"(5,78+3,00)*2,80",null,24.58]
[{"$f":"A65+1","v":5},"342 01-33","Příčka SDKtl.100 mm,ocel.kce, EI60DP1 ","m2",1.8,null,{"$f":"E68*F68","v":0}]
[null,null,"204:0,60*3,00",null,1.8]
[{"$f":"A68+1","v":6},"3171    PŘ","Překlad z profilu i120 dl.1200mm  D+M vč.plentování cihlami a rabicem","ks",4,null,{"$f":"E70*F70","v":0}]
["Díl:","61","Upravy povrchů vnitřní",null,null,null,{"$f":"SUBTOTAL(9,G72:G100)","v":0}]
[{"$f":"A70+1","v":7},"612 47-3182.R00","Omítka vnitřního zdiva ze suché směsi, štuková ","m2",109.6178,null,{"$f":"E72*F72","v":0}]
[null,null,"(8,42+46,3889)*2",null,109.6178]
[{"$f":"A72+1","v":8},"611 42113","Oprava váp.omítek stropů -vyspravení pod podhledy ","m2",513.4,null,{"$f":"E74*F74","v":0}]
[{"$f":"A74+1","v":9},"612 10-003","Oprava omítek stěn vnitřních vápenocem. štukových oprava ","m2",1039.0498,null,{"$f":"E75*F75","v":0}]
[null,null,"203:(4,075+9,00+15,67+2,05+4,80+5,95)*2,95",null,122.5578]
[null,null,"       -0,85*2,00*6-0,70*2,00*5",null,-17.2]
[null,null,"203A:1,537*2,80",null,4.3036000000000003]
[null,null,"204:(5,30+7,875)*2*3,00-0,85*2,00-4,00*2,00",null,69.349999999999994]
[null,null,"210:(5,50+6,65)*2*2,80-0,85*2,00-2,65*2,00",null,61.04]
[null,null,"211:(5,45+3,80)*2*2,80-0,85*2,00-1,175*2,00",null,47.75]
[null,null,"212:(5,45+5,10)*2*2,80-0,85*2,00-4,125*2,00",null,49.13]
[null,null,"213:(5,45+2,95)*2*2,80-0,85*2,00-1,175*2,00",null,42.99]
[null,null,"218:(18,90+2,40+11,90)*2,80-0,85*2,00*10",null,75.959999999999994]
[null,null,"218A:1,90*2,80",null,5.32]
[null,null,"219:(5,313+4,85)*2*2,80-3,975*2,00",null,48.962800000000001]
[null,null,"220:(3,04+7,00)*2,80-0,85*2,00-2,75*2,00",null,20.911999999999999]
[null,null,"221:(3,89+7,25)*2*2,80-0,85*2,00-2,75*2,00",null,55.183999999999997]
[null,null,"222:(3,91+7,25)*2*2,80-0,85*2,00-2,75*2,00",null,55.295999999999999]
[null,null,"223:(3,815+7,25)*2*2,80-0,90*2,00-2,75*2,00",null,54.664000000000001]
[null,null,"224:(3,94+3,575+5,60+2,56)*2,80-2,75*2,00",null,38.39]
[null,null,"225:(3,94+7,25)*2*2,80-0,95*2,00-2,75*2,00",null,55.264000000000003]
[null,null,"226:(3,656+7,25)*2*2,80-0,90*2,00-2,75*2,00",null,53.773600000000002]
[null,null,"227:(3,89+7,25)*2*2,80-0,90*2,00-2,75*2,00",null,55.084000000000003]
[null,null,"228:(4,14+7,25)*2*2,80-0,90*2,00-2,75*2,00",null,56.484000000000002]
[null,null,"229:(3,465+7,00)*2*2,80-0,80*2,00-2,75*2,00",null,51.503999999999998]
[null,null,"230:(3,30+6,375+3,30)*2,80-0,85*2,00-1,15*2,00",null,32.33]
[{"$f":"A75+1","v":10},"612 40-339","Hrubá výplň rýh ve stěnách maltou zapravení svislých drážek poo rozvodech ÚT","m2",11.76,null,{"$f":"E98*F98","v":0}]
[null,null,";poz.5",null,0]
[null,null,"0,30*2,80*12+0,60*2,80*1",null,11.76]
["Díl:",63,"Podlahy a podlahové konstrukce",null,null,null,{"$f":"SUBTOTAL(9,G102:P105)","v":0}]
[{"$f":"A98+1","v":11},"632 44-1     ","Potěr anhydrit tl. 50 mm oddilatovaný od stěn  EPS 20 mm","m2",111.9,null,{"$f":"E102*F102","v":0}]
[{"$f":"A102+1","v":12},"632 47-3    P7","Samonivelační stěrka tl.3mm ","m2",111.9,null,{"$f":"E103*F103","v":0}]
[{"$f":"A103+1","v":13},"632 48","Vyspravení podkladu pod podlahu","m2",45,null,{"$f":"E104*F104","v":0}]
[{"$f":"A104+1","v":14},"63201","Úprava podlahy pro osazení fancoilů","kpl.",1,null,{"$f":"E105*F105","v":0}]
["Díl:",94,"Lešení a stavební výtahy",null,null,null,{"$f":"SUBTOTAL(9,G107:P108)","v":0}]
[{"$f":"A105+1","v":15},"941 95-5002.R00","Lešení lehké pomocné, výška podlahy do 1,9 m ","m2",513.4,null,{"$f":"E107*F107","v":0}]
[null,null,"pro podhledy:513,40",null,513.4]
["Díl:","95","Dokončovací kce na pozem.stav.",null,null,null,{"$f":"SUBTOTAL(9,G110:G115)","v":0}]
[{"$f":"A107+1","v":16},"95001","HZS - nezměřitelné práce ","hod",120,null,{"$f":"E110*F110","v":0}]
[{"$f":"A110+1","v":17},"952 90-1111.R00","Vyčištění budov o výšce podlaží do 4 m ","m2",574.5,null,{"$f":"E111*F111","v":0}]
[null,null,";2.patro",null,0]
[null,null,"421,20+111,90+41,40",null,574.5]
[{"$f":"A111+1","v":18},"95003","Vyklizení mobiliáře vč.ekologické likvidacel ","kpl.",1,null,{"$f":"E114*F114","v":0}]
[{"$f":"A114+1","v":19},"95004","Uzavření rekonstruovaného prostoru proti šíření prašnosti","kpl.",1,null,{"$f":"E115*F115","v":0}]
["Díl:","96","Bourání konstrukcí",null,null,null,{"$f":"SUBTOTAL(9,G117:G153)","v":0}]
[{"$f":"A115+1","v":20},"96","Bourací práce ","kpl.",1,null,{"$f":"E117*F117","v":0}]
[{"$f":"A117+1","v":21},"962 03-1133.R00","Bourání příček cihelných tl. 15 cm ","m2",18.989999999999998,null,{"$f":"E118*F118","v":0}]
[null,null,";A",null,0]
[null,null,"2,00*2,90-0,80*2,00",null,4.2]
[null,null,"(4,80+0,30)*2,90",null,14.79]
[{"$f":"A118+1","v":22},"968 06-1125.R00","Vyvěšení dřevěných dveřních křídel pl. do 2 m2 ","kus",10,null,{"$f":"E122*F122","v":0}]
[null,null,";C",null,0]
[null,null,10,null,10]
[{"$f":"A122+1","v":23},"968 06-245","Vybourání dveřních zárubní pl. do 2 m2 ","m2",18,null,{"$f":"E125*F125","v":0}]
[null,null,";C",null,0]
[null,null,"0,90*2,00*10",null,18]
[{"$f":"A125+1","v":24},"776 51-182.   D","Odstranění koberců lepených ","m2",578.29999999999995,null,{"$f":"E128*F128","v":0}]
[null,null,";koberec",null,0]
[null,null,"77,20+4,40+8,00+36,40+20,70+27,80+16,10",null,190.6]
[null,null,"39,50+22,10+27,40+28,10+28,30+27,60",null,173]
[null,null,"19,00+28,50+27,90+28,10+28,70+25,40",null,157.6]
[null,null,"20,90",null,20.9]
[null,null,";pryžový koberec",null,0]
[null,null,"36,20",null,36.200000000000003]
[{"$f":"A128+1","v":25},"962 08-11     L","Bourání příček a nadsvětlíků z luxferů ","m2",18.149999999999999,null,{"$f":"E136*F136","v":0}]
[null,null,"1,40*0,80*3",null,3.36]
[null,null,"(4,80+0,30)*2,90",null,14.79]
[{"$f":"A136+1","v":26},"968 06-22    SV","Vybourání dřevěných rámů nadsvětlíků ","m2",3.36,null,{"$f":"E139*F139","v":0}]
[null,null,"1,40*0,80*3",null,3.36]
[{"$f":"A139+1","v":27},"972 05-46","Vybourání otvoru  ve stropu 730/730mm pro šachtu slaboproudu","m3",0.31969999999999998,null,{"$f":"E141*F141","v":0}]
[null,null,"0,73*0,73*0,60",null,0.31969999999999998]
[{"$f":"A141+1","v":28},"974 03-1","Vysekání drážek svislých pro specialisty ","kpl.",1,null,{"$f":"E143*F143","v":0}]
[{"$f":"A143+1","v":29},"7765118F","Odstranění nášlapné vrstvy podlahy a násypu","m2",111.9,null,{"$f":"E144*F144","v":0}]
[{"$f":"A144+1","v":30},"979 01-1211.R00","Svislá doprava suti a vybour. hmot za 2.NP nošením ","t",31.14,null,{"$f":"E145*F145","v":0}]
[{"$f":"A145+1","v":31},"979 08-2111.R00","Vnitrostaveništní doprava suti do 10 m ","t",31.14,null,{"$f":"E146*F146","v":0}]
[{"$f":"A146+1","v":32},"979 08-2121.R00","Příplatek k vnitrost. dopravě suti za dalších 5 m ","t",155.69999999999999,null,{"$f":"E147*F147","v":0}]
[null,null,"5*31,14",null,155.69999999999999]
[{"$f":"A147+1","v":33},"979 08-1111.R00","Odvoz suti a vybour. hmot na skládku do 1 km ","t",31.14,null,{"$f":"E149*F149","v":0}]
[{"$f":"A149+1","v":34},"979 08-1121.R00","Příplatek k odvozu za každý další 1 km ","t",591.66,null,{"$f":"E150*F150","v":0}]
[null,null,"19*31,14",null,591.66]
[{"$f":"A150+1","v":35},"979 09-3111.R00","Uložení suti na skládku bez zhutnění ","t",31.14,null,{"$f":"E152*F152","v":0}]
[{"$f":"A152+1","v":36},"979 99-999","Poplatek za skladku ","t",31.14,null,{"$f":"E153*F153","v":0}]
["Díl:","99","Staveništní přesun hmot",null,null,null,{"$f":"SUBTOTAL(9,G155)","v":0}]
[{"$f":"A153+1","v":37},"999 28-1112.R00","Přesun hmot pro opravy a údržbu do výšky 36 m ","t",64.846000000000004,null,{"$f":"E155*F155","v":0}]
["Díl:",713,"Izolace tepelné",null,null,null,{"$f":"SUBTOTAL(9,G157:G158)","v":0}]
[{"$f":"A155+1","v":38},"713 12-1     P4","Izolace tepelná podlah na sucho, jednovrstvá včetně dodávky EPS T 5000  tl.20 mm","m2",117.5,null,{"$f":"E157*F157","v":0}]
[null,null,"111,9*1,05",null,{"$f":"111.9*1.05","v":117.495}]
["Díl:","766","Konstrukce truhlářské",null,null,null,{"$f":"SUBTOTAL(9,G160:G173)","v":0}]
[{"$f":"A157+1","v":39},"766     Tpo/1a","Okno vč.parapetu - špalet. 1350/2045 mm repase - odstranění nátěru, přebroušení,nový nátěr","ks",3,null,{"$f":"E160*F160","v":0}]
[null,null,"seřízení a doplnění kování:3",null,3]
[{"$f":"A160+1","v":40},"766     Tpo/1b","Okno vč.parapetu - špalet. 2800/2045 mm repase - odstranění nátěru, přebroušení,nový nátěr","ks",12,null,{"$f":"E162*F162","v":0}]
[null,null,"seřízení a doplnění kování:12",null,12]
[{"$f":"A162+1","v":41},"766     Tpo/1c","Okno vč.parapetu - špalet. 4250/2045 mm repase - odstranění nátěru, přebroušení,nový nátěr","ks",3,null,{"$f":"E164*F164","v":0}]
[null,null,"seřízení a doplnění kování:3",null,3]
[{"$f":"A164+1","v":42},"766     Tpd/7b","Dveře stávající  lakované 1kř. 850/1980 mm repase - odstranění nátěru, přebroušení,nový nátěr","ks",6,null,{"$f":"E166*F166","v":0}]
[{"$f":"A166+1","v":43},"766     Tpd/7b","Dveře stávající  lakované 1kř. 850/1980 mm repase - odstranění nátěru, přebroušení,nový nátěr, přemístění na nové místo","ks",7,null,0]
[{"$f":"A167+1","v":44},"766     Tpo/8b","Nadsvětlík do kanceláří. 4170/680 mm repase - odstranění nátěru, přebroušení,nový nátěr","ks",3,null,0]
[{"$f":"A168+1","v":45},"766     Tpd/7b","Dveře stávající lakované 1kř. 850/1980 mm repase - odstranění nátěru, přebroušení,nový nátěr","ks",7,null,0]
[{"$f":"A169+1","v":46},"766     Tnd/2b","Dřevěne dveře 1kř.hladké plné 850/1970 mm vč.obložkové zárubně  D+M - replika stávající","ks",6,null,0]
[{"$f":"A170+1","v":47},"766      Tn/5","Kuchyňská linka v mč. 210,224 dl.2550mm D+M","ks",2,null,0]
[null,"poznámka 1","Truhlářské  konstrukce jsou kompletní výrobky dle popisu v tabulkách"," "]
[null,"poznámka 2","Truhlářské konstrukce jsou vč.přesunu hmot "," "]
["Díl:",767,"Konstrukce zámečnické",null,null,null,{"$f":"SUBTOTAL(9,G175:G179)","v":0}]
[{"$f":"A171+1","v":48},"767      Zn/10","Dvířka zakrývající šachtu pro silnoproud 630/800mm D+M protipožární EW 30DP1","kpl.",1,null,{"$f":"E175*F175","v":0}]
[{"$f":"A175+1","v":49},"767      Zpd/5","Dveře 2kř. prosklené  1400/2150 mm repase","ks",1,null,{"$f":"E176*F176","v":0}]
[{"$f":"A176+1","v":50},"767     GK","Generální klíč ","kpl.",1,null,{"$f":"E177*F177","v":0}]
[null,"poznámka 2","Zámečnické konstrukce jsou vč.přesunu hmot "," "]
[null,"poznámka 1","Zámečnické  konstrukce jsou kompletní výrobky dle popisu v tabulkách"," "]
["Díl:","775","Podlahy vlysové a parketové",null,null,null,{"$f":"SUBTOTAL(9,G181:G183)","v":0}]
[{"$f":"A177+1","v":51},"775 53-00    P6","Podlahy parketové - vlysy nové ","m2",463.32,null,{"$f":"E181*F181","v":0}]
[null,null,"421,20*1,10",null,463.32]
[{"$f":"A181+1","v":52},"998 77-5104.R00","Přesun hmot pro podlahy vlysové, výšky do 36 m ","t",0.34,null,{"$f":"E183*F183","v":0}]
["Díl:","776","Podlahy povlakové",null,null,null,{"$f":"SUBTOTAL(9,G185:G195)","v":0}]
[{"$f":"A183+1","v":53},"776 52-21   P10","Lepení podlah gumových antistatických vč.soklíku včetně dodávky podlahoviny","m2",45.54,null,{"$f":"E185*F185","v":0}]
[null,null,"serverovna:41,40*1,10",null,45.54]
[{"$f":"A185+1","v":54},"776 57-2     P6","Lepení povlakových podlah z pásů textilních včetně zátěžového antistatického koberce","m2",463.32,null,{"$f":"E187*F187","v":0}]
[null,null,";koberec zespodu opatřen gumovou vrstvou,",null,0]
[null,null,";vč.olištování dubovými lištami",null,0]
[null,null,"421,20*1,10",null,463.32]
[{"$f":"A187+1","v":55},"776 57-2     P7","Lepení povlakových podlah z pásů textilních včetně zátěžového antistatického koberce","m2",123.09,null,{"$f":"E191*F191","v":0}]
[null,null,";koberec zespodu opatřen gumovou vrstvou,",null,0]
[null,null,";vč.olištování dubovými lištami",null,0]
[null,null,"111,90*1,10",null,123.09]
[{"$f":"A191+1","v":56},"998 77-6104.R00","Přesun hmot pro podlahy povlakové, výšky do 36 m ","t",1.56,null,{"$f":"E195*F195","v":0}]
["Díl:",781,"Obklady keramické",null,null,null,{"$f":"SUBTOTAL(9,G197:G206)","v":0}]
[{"$f":"A195+1","v":57},"781 10-1210.R00","Penetrace podkladu pod obklady ","m2",8.9320000000000004,null,{"$f":"E197*F197","v":0}]
[null,null,"210:(0,60+1,80)*1,45",null,3.48]
[null,null,"224:(0,60+2,56+0,60)*1,45",null,5.452]
[{"$f":"A197+1","v":58},"781 47-511","Obklad vnitřní keramický do tmele vč.rohových a koutových lišt, na sraz vč.dodávky obkladu","m2",9.8252000000000006,null,{"$f":"E200*F200","v":0}]
[null," ","8,932*1,10",null,9.8252000000000006]
[{"$f":"A200+1","v":59},"781 47-01","Bělninový obklad soklu v= 100mm v chodbách vč.dodávky obkladu","m",92.09,null,{"$f":"E202*F202","v":0}]
[null,null,"18,94+2,40+18,94",null,39.74]
[null,null,"4,075+8,40+15,60+2,05+4,825+5,95+1,875+3,975",null,46.75]
[null,null,"2*0,70*4",null,5.6]
[{"$f":"A202+1","v":60},"998 78-1104.R00","Přesun hmot pro obklady keramické, výšky do 36 m ","t",0.22500000000000001,null,{"$f":"E206*F206","v":0}]
["Díl:",782,"Konstrukce z přírodního kamene",null,null,null,{"$f":"SUBTOTAL(9,G208:G215)","v":0}]
[{"$f":"A206+1","v":61},"782       Kp/7a","Ostění a parapet oken 1650/2345 mm - ryolit repase - očištění,vytmelení a přebrouš.,impregnace","ks",2,null,{"$f":"E208*F208","v":0}]
[{"$f":"A208+1","v":62},"782       Kp/7b","Ostění a parapet oken 3100/2345 mm - ryolit repase - očištění,vytmelení a přebrouš.,impregnace","ks",2,null,0]
[{"$f":"A209+1","v":63},"782       Kp/7c","Ostění a parapet oken 4550/2345 mm - ryolit repase - očištění,vytmelení a přebrouš.,impregnace","ks",1,null,0]
[{"$f":"A210+1","v":64},"782      Kp/13a","Parapet oken  dl.1450 mm - ryolit repase - očištění,vytmelení a přebrouš.,impregnace","ks",1,null,0]
[{"$f":"A211+1","v":65},"782      Kp/13b","Parapet oken  dl.2900 mm - ryolit repase - očištění,vytmelení a přebrouš.,impregnace","ks",10,null,0]
[{"$f":"A212+1","v":66},"782      Kp/13c","Parapet oken  dl.4350 mm - ryolit repase - očištění,vytmelení a přebrouš.,impregnace","ks",2,null,0]
[null,"poznámka 1","Konstrukce z přír.kamene jsou kompletní výrobky dle popisu v tabulkách"," "]
[null,"poznámka 2","Konstrukce z přír.kamene jsou vč.přesunu hmot "," "]
["Díl:",784,"Malby",null,null,null,{"$f":"SUBTOTAL(9,G217:G218)","v":0}]
[{"$f":"A213+1","v":67},"784 45-0030","Malba ze směsi , penetrace 1x, bílá 2x ","m2",{"$f":"E218","v":1148.68},null,{"$f":"E217*F217","v":0}]
[null,null,1148.68,null,1148.68]
["Díl:",40,"Podhledy",null,null,null,{"$f":"SUBTOTAL(9,G220:G225)","v":0}]
[{"$f":"A217+1","v":68},"40            A","Snížený strop - sádrokartonový podhled  D+M ","m2",513.4,null,{"$f":"E220*F220","v":0}]
[null,null,";2.patro",null,0]
[null,null,"70,00+4,40+37,50+21,00+28,70+16,40+39,50",null,217.5]
[null,null,"2,40+21,50+28,00+28,60+28,80+28,10+29,00",null,166.4]
[null,null,"26,40+28,60+29,20+25,80+19,50",null,129.5]
[{"$f":"A220+1","v":69},"40             ","Přístupová dvířka  k slaboproudým rozvodům D+M 500/500 mm , poz.8","kpl.",4,null,{"$f":"E225*F225","v":0}]

{"sheet":"17_SO 06 - Silnoproud","index":20,"n_rows":110,"n_cols":9,"rows_kept":110,"cut":false,"hidden":false,"merged":[[26,1,26,2],[26,3,26,4],[26,5,26,6],[26,7,26,8],[4,0,4,8],[24,1,24,2],[24,3,24,4],[24,5,24,6],[24,7,24,8],[27,1,27,2],[27,3,27,4],[27,5,27,6],[27,7,27,8],[28,1,28,2],[28,3,28,4],[28,5,28,6],[28,7,28,8],[29,1,29,2],[29,3,29,4],[29,5,29,6],[29,7,29,8],[30,1,30,2],[30,3,30,4],[30,5,30,6],[30,7,30,8],[31,1,31,2],[31,3,31,4],[31,5,31,6],[31,7,31,8],[32,1,32,2],[32,3,32,4],[32,5,32,6],[32,7,32,8],[34,7,34,8],[37,0,37,8],[40,5,40,6],[40,7,40,8],[42,5,42,6],[42,7,42,8],[58,5,58,6],[58,7,58,8],[71,5,71,6],[71,7,71,8],[81,5,81,6],[81,7,81,8],[91,5,91,6],[91,7,91,8],[96,5,96,6],[96,7,96,8],[104,5,104,6],[104,7,104,8]]}
[{"$f":"CONCATENATE('Rekapitulace stavby'!C72,\"_\",'Rekapitulace stavby'!I72)","v":"17_SO 06 - Silnoproudá elektroinstalace "}]
[]
["SPECIFIKACE DODÁVEK A PRACÍ "]
["Název akce:"]
[{"$f":"'Identifikační údaje'!B1","v":"ČRo Brno – III. etapa rekonstrukce budovy Beethovenova 25/4"}]
[]
["Zadavatel:",null,{"$f":"'Identifikační údaje'!E7","v":"Český rozhlas, Vinohradská 12, 120 99 Praha 2"}]
[null,"IČ:",{"$f":"'Identifikační údaje'!B9","v":45245053}]
[null,"DIČ:",{"$f":"'Identifikační údaje'!B10","v":"CZ45245053"}]
[]
["Projektant:",null,{"$f":"'Identifikační údaje'!E12","v":"Ing. arch. Klement Miloš, Nejedlého 381/19, 638 00 Brno - Lesná"}]
[null,"IČ:",{"$f":"'Identifikační údaje'!B14","v":15188736}]
[null,"DIČ:",{"$f":"'Identifikační údaje'!B15","v":"CZ6101021344"}]
[]
["Uchazeč:",null,{"$f":"'Identifikační údaje'!E19","v":", ,  "}]
[null,"IČ:",{"$f":"'Identifikační údaje'!B23","v":0}]
[null,"DIČ:",{"$f":"'Identifikační údaje'!B24","v":0}]
[]
["Místo stavby:",null,{"$f":"'Identifikační údaje'!B3","v":"Budova Českého rozhlasu Brno na adrese Beethovenova 25/4, 657 42 Brno"}]
[]
["Datum:",null,{"$f":"'Identifikační údaje'!B5","v":"00:00:00"}]
[]
[{"$f":"CONCATENATE(\"REKAPITULACE DODÁVEK A PRACÍ OBJEKTU \",'Rekapitulace stavby'!I72)","v":"REKAPITULACE DODÁVEK A PRACÍ OBJEKTU SO 06 - Silnoproudá elektroinstalace "}]
[]
["P.č.","Ozn.",null,"Materiál celkem",null,"Montáž celkem",null,"M+M celkem"]
[]
[{"$f":"B43","v":"A."},{"$f":"C43","v":"Svítidla a příslušenství"},null,{"$f":"F43","v":0},null,{"$f":"H43","v":0},null,{"$f":"D27+F27","v":0}]
[{"$f":"B59","v":"B."},{"$f":"C59","v":"Spínače, zásuvky a ostatní přístroje "},null,{"$f":"F59","v":0},null,{"$f":"H59","v":0},null,{"$f":"D28+F28","v":0}]
[{"$f":"B72","v":"C."},{"$f":"C72","v":"Instalační, úložný a ochranný materiál"},null,{"$f":"F72","v":0},null,{"$f":"H72","v":0},null,0]
[{"$f":"B82","v":"D."},{"$f":"C82","v":"Kabely a vodiče"},null,{"$f":"F82","v":0},null,{"$f":"H82","v":0},null,0]
[{"$f":"B92","v":"E."},{"$f":"C92","v":"Pospojování, uzemnění"},null,{"$f":"F92","v":0},null,{"$f":"H92","v":0},null,0]
[{"$f":"B97","v":"F."},{"$f":"C97","v":"Rozvaděče"},null,{"$f":"F97","v":0},null,{"$f":"H97","v":0},null,0]
[{"$f":"B105","v":"G."},{"$f":"C105","v":"Ostatní"},null,{"$f":"F105","v":0},null,{"$f":"H105","v":0},null,0]
[]
[{"$f":"CONCATENATE(\"CELKEM ZA OBJEKT \",'Rekapitulace stavby'!I72, \" v Kč bez DPH\")","v":"CELKEM ZA OBJEKT SO 06 - Silnoproudá elektroinstalace  v Kč bez DPH"},null,null,null,null,null,null,{"$f":"SUBTOTAL(9,H27:I33)","v":0}]
[]
[]
["Textová, výkresová i tabulková část projektové dokumentace tvoří jeden vzájemně se doplňující a provázaný celek. Jednotliví účastníci výběrového řízení se musí seznámit s projektojektovou dokumentací v návaznosti na soupis prací a na základě těchto informací části díla nacenit. Dále je potřeba při stanovení ceny dle vykázané výměry započítat všechny předpokládané doplňkové prvky a činnosti s touto položkou související tak, aby cena byla kompletní a prvek funkční."]
[]
[1]
[null,null,null,null,null,"Materiál",null,"Montáž"]
["poř.č.","položka","popis položky","MJ","množství","jedn.cena","celkem [Kč]","jedn.cena","celkem [Kč]"]
[null,"A.","Svítidla a příslušenství",null,null,{"$f":"SUBTOTAL(9,G45:G57)","v":0},null,{"$f":"SUBTOTAL(9,I45:I57)","v":0}]
[null,null," (komplet, včetně zdrojů, závěsů, pomocného materiálu, osazení zapojení, vyzkoušení apod.)"]
[1,null,"svítidlo typ A6 - Svítidlo stropní přisazené, bílá barva, difuzor opál, odsazený, Ø 130 mm, v=100 mm, LED 15W, 3000 K, 1280 lm, IP40","ks",14,null,{"$f":"E45*F45","v":0},null,{"$f":"E45*H45","v":0}]
[{"$f":"A45+1","v":2},null,"svítidlo typ A7 - Svítidlo přisazené, bílá barva, difuzor opál, 80x80x1480 mm, pro zářivku 2x49W, G5, EP","ks",14,null,{"$f":"E46*F46","v":0},null,{"$f":"E46*H46","v":0}]
[3,null,"svítidlo typ A9 - Svítidlo přisazené, bílá barva, difuzor opál, 80x80x1480 mm, pro zářivku 2x49W, G5, EP","ks",1,null,0,null,{"$f":"E47*H47","v":0}]
[4,null,"svítidlo typ B7-1 - Svítidlo stropní závěsné, korpus Al, bílá barva, difuzor mikroprisma, velikost 62x110x2556 mm, svícení direct-indirect, LED 45+35W, 4000 K, 8235+6405 lm- napájení- závěs 2m","ks",21,null,0,null,{"$f":"E48*H48","v":0}]
[5,null,"svítidlo typ B7-2 - Svítidlo stropní závěsné, korpus Al, bílá barva, difuzor mikroprisma,velikost 62x110x2270 mm, svícení direct-indirect, LED 40+30W, 4000 K, 7320+5490 lm- napájení- závěs 2m","ks",2,null,0,null,{"$f":"E49*H49","v":0}]
[6,null,"svítidlo typ B7-4 - Svítidlo stropní závěsné, korpus Al, bílá barva, difuzor mikroprisma,velikost 62x110x2556 mm, svícení direct-indirect, LED 72+56W, 4000 K, 12528+9744 lm- napájení- závěs 2m","ks",1,null,0,null,{"$f":"E50*H50","v":0}]
[7,null,"svítidlo typ C12-1- Svítidlo vestavné do podhledu SDK, korpus a koncovky AL, bílá barva, difuzor mikroprisma, š=78 mm, l=1424 mm, vestavná hloubka 100 mm, LED 25W, 4000 K, 4350 lm, IP43- profil- difuzor- koncovky- LED- úchyt","ks",6,null,0,null,0]
[8,null,"svítidlo typ C12-2 - Svítidlo vestavné do podhledu SDK, korpus a koncovky AL, bílá barva, difuzor mikroprisma, š=78 mm, l=1264 mm, vestavná hloubka 100 mm, LED 40W, 4000 K, 7320 lm, IP43- profil- difuzor- koncovky- LED- úchyt","ks",1,null,0,null,0]
[9,null,"svítidlo typ C12-3 - Svítidlo vestavné do podhledu SDK, korpus a koncovky AL, bílá barva, difuzor mikroprisma, š=78 mm, l=1144 mm, vestavná hloubka 100 mm, LED 20W, 4000 K, 3660 lm, IP43- profil- difuzor- koncovky- LED- úchyt","ks",16,null,0,null,0]
[10,null,"svítidlo typ C5 - Svítidlo vestavné do podhledu SDK, bílá barva, odsazený opálový difuzor, Ø 220 mm, vestavná hloubka 90 mm, LED 30W, 3000 K, 4650 lm, IP43","ks",7,null,0,null,0]
[11,null,"svítidlo typ C9 - Svítidlo vestavné do podhledu SDK, bílá barva odsazený opálový difuzor, Ø 175 mm, vestavná hloubka 70 mm, LED 20W, 3000 K, 1700 lm, IP54","ks",9,null,0,null,0]
[12,null,"svítidlo typ E2 - Osvětlovací lišta, vestavná do nábytku, Al, š. 22 mm, vestav. hloubka 12 mm,difuzor opál, LED 12V, 12W/m, 3000 K, celková délka 1500 mm","ks",1,null,0,null,0]
[13,null,"NOUZOVÉ OSVĚTLENÍ s připojením k CBS Inotec","ks",12,null,0,null,0]
[]
[null,"B.","Spínače, zásuvky a ostatní přístroje ",null,null,{"$f":"SUBTOTAL(9,G62:G70)","v":0},null,{"$f":"SUBTOTAL(9,I62:I70)","v":0}]
[null,null,"(komplet, včetně příslušenství, pomocného materiálu, osazení, zapojení, vyzkoušení apod.)"]
[null,null,"Návazně na předchozí etapy rekonstrukce budou osaztovány výrobky z řady ABB Time"]
[{"$f":"A57+1","v":14},null,"Domovní spínač řazení 1, komplet","ks",3,null,{"$f":"E62*F62","v":0},null,{"$f":"E62*H62","v":0}]
[15,null,"Domovní spínač řazení 5, komplet ","ks",15,null,0,null,0]
[16,null,"Domovní spínač řazení 6, komplet ","ks",6,null,0,null,0]
[17,null,"Domovní spínač řazení 7, komplet ","ks",10,null,0,null,0]
[18,null,"Domovní zásuvka 230V 16A,napájení z trafa  komplet","ks",124,null,0,null,0]
[{"$f":"A66+1","v":19},null,"Napojení sporáku (varné desky) přes odbočnou krabici KO100","ks",2,null,0,null,0]
[{"$f":"A67+1","v":20},null,"Zásuvkový box pro montáž na pracovní desku stolu 2x zásuvka 230V 16A","ks",18,null,0,null,0]
[{"$f":"A68+1","v":21},null,"Zásuvkový box pro montáž pod pracovní desku stolu 3x zásuvka 230V 16A","ks",18,null,0,null,0]
[{"$f":"A69+1","v":22},null,"Napojení SLP zařízení 230V, dle montážního návodu ","ks",5,null,0,null,0]
[]
[null,"C.","Instalační, úložný a ochranný materiál",null,null,{"$f":"SUBTOTAL(9,G73:G80)","v":0},null,{"$f":"SUBTOTAL(9,I72:I80)","v":0}]
[null,null," (komplet, včetně příslušenství, pomocného materiálu, výkopu, záhozu výkopu, vytyčení trasy, osazení, zapojení, vyzkoušení apod.)"]
[{"$f":"A70+1","v":23},null,"Krabice přístrojová","ks",158,null,{"$f":"E74*F74","v":0},null,{"$f":"E74*H74","v":0}]
[{"$f":"A74+1","v":24},null,"Krabice odbočná včetně wago svorek","ks",100,null,{"$f":"E75*F75","v":0},null,{"$f":"E75*H75","v":0}]
[25,null,"Odbočná krabice pro připojení elektroinstalace ve stolech komplet včetně víčka a wago svorek. Z krabice 2x vývod tr25mm pod stůl","ks",13,null,0,null,0]
[26,null,"Kanál pro uložení vedení v betonové podlaze","m",10,null,0,null,0]
[27,null,"Kabelový drátový žlab 200x100 včetně příslušenství a závěsů","m",60,null,0,null,0]
[28,null,"Lišta vkládací montáž na nábytek 18x13","m",25,null,0,null,0]
[29,null,"Krabice odbočná včetně wago svorek s funkční schopností při požáru","ks",12,null,0,null,0]
[]
[null,"D.","Kabely a vodiče",null,null,{"$f":"SUBTOTAL(9,G83:G90)","v":0},null,{"$f":"SUBTOTAL(9,I82:I90)","v":0}]
[null,null,"(komplet, včetně vyhotovení drážky, zapravení drážky, vytyčení trasy, pomocného materiálu, příchytek, spojek, odlehčovacích oblouků, zapojení, vyzkoušení apod.)"]
[{"$f":"A80+1","v":30},null,"CYKY J 3x1,5","m",700,null,{"$f":"E84*F84","v":0},null,{"$f":"E84*H84","v":0}]
[{"$f":"A84+1","v":31},null,"CYKY J 3x2,5","m",1200,null,{"$f":"E85*F85","v":0},null,{"$f":"E85*H85","v":0}]
[32,null,"CYKY J 5x2,5","m",60,null,0,null,0]
[33,null,"CYKY J 5x6","m",190,null,0,null,0]
[34,null,"CYKY O 3x1,5","m",150,null,0,null,0]
[35,null,"Kabel H05VV-F 3Gx2,5","m",50,null,0,null,0]
[36,null,"Rozvody pro NO kabel s funkční schopností P60R -O 3x1,5  B2CAS1D0","m",100,null,0,null,0]
[]
[null,"E.","Pospojování, uzemnění",null,null,{"$f":"SUBTOTAL(9,G93:G95)","v":0},null,{"$f":"SUBTOTAL(9,I92:I95)","v":0}]
[null,null,"(komplet, včetně příslušenství, svorek, pomocného materiálu, osazení, zapojení, vyzkoušení apod.) "]
[{"$f":"A90+1","v":37},null,"Vodič CYA16 žlutozelený včetně svorek - hlavní pospojení","m",100,null,{"$f":"E94*F94","v":0},null,{"$f":"E94*H94","v":0}]
[{"$f":"A94+1","v":38},null,"Vodič CYA4 žlutozelený včetně svorek - doplňkové pospojení","m",50,null,{"$f":"E95*F95","v":0},null,{"$f":"E95*H95","v":0}]
[]
[null,"F.","Rozvaděče",null,null,{"$f":"SUBTOTAL(9,G98:G103)","v":0},null,{"$f":"SUBTOTAL(9,I97:I103)","v":0}]
[null,null,"(komplet, včetně příslušenství, svorek, pomocného materiálu, osazení, zapojení, vyzkoušení apod.) "]
[{"$f":"A95+1","v":39},null,"Patrový rozvaděč R21.1","ks",1,null,{"$f":"E99*F99","v":0},null,{"$f":"E99*H99","v":0}]
[{"$f":"A99+1","v":40},null,"Patrový rozvaděč R21.2","ks",1,null,{"$f":"E100*F100","v":0},null,{"$f":"E100*H100","v":0}]
[{"$f":"A100+1","v":41},null,"Patrový rozvaděč R21.3","ks",1,null,{"$f":"E101*F101","v":0},null,{"$f":"E101*H101","v":0}]
[{"$f":"A101+1","v":42},null,"Patrový rozvaděč R21.4","ks",1,null,{"$f":"E102*F102","v":0},null,{"$f":"E102*H102","v":0}]
[{"$f":"A102+1","v":43},null,"Patrový rozvaděč R21.5","ks",1,null,{"$f":"E103*F103","v":0},null,{"$f":"E103*H103","v":0}]
[]
[null,"G.","Ostatní",null,null,{"$f":"SUBTOTAL(9,G106:G110)","v":0},null,{"$f":"SUBTOTAL(9,I105:I110)","v":0}]
[{"$f":"A103+1","v":44},null,"Výchozí revize","hod",20,null,{"$f":"E106*F106","v":0},null,{"$f":"E106*H106","v":0}]
[{"$f":"A106+1","v":45},null,"Demontáže včetně likvidace odpadu","hod",150,null,{"$f":"E107*F107","v":0},null,{"$f":"E107*H107","v":0}]
[{"$f":"A107+1","v":46},null,"Pomocný a podružný materiál upevňovací","kpl",1,null,{"$f":"E108*F108","v":0},null,{"$f":"E108*H108","v":0}]
[{"$f":"A108+1","v":47},null,"Zednické výpomoci (PPV)","kpl",1," ---"," ---",null,{"$f":"E109*H109","v":0}]
[{"$f":"A109+1","v":48},null,"Doprava materiálu","kpl",1," ---"," ---",null,{"$f":"E110*H110","v":0}]

{"sheet":"18_SO 07 - Stav arch část","index":21,"n_rows":231,"n_cols":7,"rows_kept":231,"cut":false,"hidden":false,"merged":[[54,2,54,3],[24,3,24,6],[25,2,25,6],[43,3,43,6],[50,2,50,6],[53,2,53,3],[55,2,55,3],[57,2,57,3],[58,2,58,3],[60,2,60,3],[61,2,61,3],[80,2,80,3],[63,2,63,3],[66,2,66,3],[71,2,71,3],[74,2,74,3],[67,2,67,3],[72,2,72,3],[75,2,75,3],[76,2,76,3],[77,2,77,3],[78,2,78,3],[79,2,79,3],[92,2,92,3],[81,2,81,3],[82,2,82,3],[83,2,83,3],[84,2,84,3],[85,2,85,3],[86,2,86,3],[87,2,87,3],[88,2,88,3],[89,2,89,3],[90,2,90,3],[91,2,91,3],[114,2,114,3],[116,2,116,3],[113,2,113,3],[117,2,117,3],[93,2,93,3],[94,2,94,3],[95,2,95,3],[98,2,98,3],[105,2,105,3],[137,2,137,3],[119,2,119,3],[122,2,122,3],[125,2,125,3],[126,2,126,3],[120,2,120,3],[123,2,123,3],[128,2,128,3],[129,2,129,3],[131,2,131,3],[133,2,133,3],[136,2,136,3],[198,2,198,3],[199,2,199,3],[201,2,201,3],[202,2,202,3],[169,2,169,3],[171,2,171,3],[196,2,196,3],[225,2,225,3],[228,2,228,3],[229,2,229,3],[206,2,206,3],[208,2,208,3],[210,2,210,3],[211,2,211,3],[138,2,138,3],[139,2,139,3],[140,2,140,3],[141,2,141,3],[142,2,142,3],[143,2,143,3],[173,2,173,3],[195,2,195,3],[144,2,144,3],[145,2,145,3],[150,2,150,3],[156,2,156,3],[158,2,158,3]]}
[{"$f":"CONCATENATE('Rekapitulace stavby'!C74,\"_\",'Rekapitulace stavby'!I74)","v":"18_SO 07 - Stavebně - architektonická část"}]
[]
["SPECIFIKACE DODÁVEK A PRACÍ "]
["Název akce:"]
[{"$f":"'Identifikační údaje'!B1","v":"ČRo Brno – III. etapa rekonstrukce budovy Beethovenova 25/4"}]
[]
["Zadavatel:",null,{"$f":"'Identifikační údaje'!E7","v":"Český rozhlas, Vinohradská 12, 120 99 Praha 2"}]
[null,"IČ:",{"$f":"'Identifikační údaje'!B9","v":45245053}]
[null,"DIČ:",{"$f":"'Identifikační údaje'!B10","v":"CZ45245053"}]
[]
["Projektant:",null,{"$f":"'Identifikační údaje'!E12","v":"Ing. arch. Klement Miloš, Nejedlého 381/19, 638 00 Brno - Lesná"}]
[null,"IČ:",{"$f":"'Identifikační údaje'!B14","v":15188736}]
[null,"DIČ:",{"$f":"'Identifikační údaje'!B15","v":"CZ6101021344"}]
[]
["Uchazeč:",null,{"$f":"'Identifikační údaje'!E19","v":", ,  "}]
[null,"IČ:",{"$f":"'Identifikační údaje'!B23","v":0}]
[null,"DIČ:",{"$f":"'Identifikační údaje'!B24","v":0}]
[]
["Místo stavby:",null,{"$f":"'Identifikační údaje'!B3","v":"Budova Českého rozhlasu Brno na adrese Beethovenova 25/4, 657 42 Brno"}]
[]
["Datum vyplnění:",null,{"$f":"'Identifikační údaje'!B5","v":"00:00:00"}]
[]
[{"$f":"CONCATENATE(\"REKAPITULACE DODÁVEK A PRACÍ OBJEKTU \",'Rekapitulace stavby'!I74)","v":"REKAPITULACE DODÁVEK A PRACÍ OBJEKTU SO 07 - Stavebně - architektonická část"}]
[]
["P.č.","Číslo položky","Název položky","Kč bez DPH"]
[]
["Díl:",{"$f":"B52","v":"3"},{"$f":"C52","v":"Svislé a kompletní konstrukce"},null,null,null,{"$f":"G52","v":0}]
["Díl:",{"$f":"B70","v":"61"},{"$f":"C70","v":"Upravy povrchů vnitřní"},null,null,null,{"$f":"G70","v":0}]
["Díl:",{"$f":"B100","v":63},{"$f":"C100","v":"Podlahy a podlahové konstrukce"},null,null,null,{"$f":"G100","v":0}]
["Díl:",{"$f":"B104","v":94},{"$f":"C104","v":"Lešení a stavební výtahy"},null,null,null,{"$f":"G104","v":0}]
["Díl:",{"$f":"B107","v":"95"},{"$f":"C107","v":"Dokončovací kce na pozem.stav."},null,null,null,{"$f":"G107","v":0}]
["Díl:",{"$f":"B112","v":"96"},{"$f":"C112","v":"Bourání konstrukcí"},null,null,null,{"$f":"G112","v":0}]
["Díl:",{"$f":"B163","v":"99"},{"$f":"C163","v":"Staveništní přesun hmot"},null,null,null,{"$f":"G163","v":0}]
["Díl:",{"$f":"B165","v":713},{"$f":"C165","v":"Izolace tepelné"},null,null,null,{"$f":"G165","v":0}]
["Díl:",{"$f":"B168","v":"766"},{"$f":"C168","v":"Konstrukce truhlářské"},null,null,null,{"$f":"G168","v":0}]
["Díl:",{"$f":"B183","v":767},{"$f":"C183","v":"Konstrukce zámečnické"},null,null,null,{"$f":"G183","v":0}]
["Díl:",{"$f":"B190","v":"775"},{"$f":"C190","v":"Podlahy vlysové a parketové"},null,null,null,{"$f":"G190","v":0}]
["Díl:",{"$f":"B194","v":"776"},{"$f":"C194","v":"Podlahy povlakové"},null,null,null,{"$f":"G194","v":0}]
["Díl:",{"$f":"B205","v":781},{"$f":"C205","v":"Obklady keramické"},null,null,null,{"$f":"G205","v":0}]
["Díl:",{"$f":"B215","v":782},{"$f":"C215","v":"Konstrukce z přírodního kamene"},null,null,null,{"$f":"G215","v":0}]
["Díl:",{"$f":"B224","v":784},{"$f":"C224","v":"Malby"},null,null,null,{"$f":"G224","v":0}]
["Díl:",{"$f":"B227","v":40},{"$f":"C227","v":"Podhledy"},null,null,null,{"$f":"G227","v":0}]
[]
[{"$f":"CONCATENATE(\"CELKEM ZA OBJEKT \",'Rekapitulace stavby'!I74, \" v Kč bez DPH\")","v":"CELKEM ZA OBJEKT SO 07 - Stavebně - architektonická část v Kč bez DPH"},null,null,{"$f":"SUM(G27:G42)","v":0}]
[]
[]
[]
[]
[]
["P.č.","Číslo položky","Název položky","MJ","množství","cena / MJ","celkem"]
[null,"Ceník, kapitola","Poznámka uchazeče"]
["Díl:","3","Svislé a kompletní konstrukce",null,null,null,{"$f":"SUBTOTAL(9,G53:G69)","v":0}]
[{"$f":"1","v":1},"34224811","Příčky POROTHERM AKU na MVC tl. 100 mm ","m2",25.5275,null,{"$f":"E53*F53","v":0}]
[null,null,";3.patro",null,0]
[null,null,"(2,575+2*1,30)*2,90-0,85*2,00*2",null,11.6075]
[null,null,"3,50*2,90+(1,00+0,30)*2,90",null,13.92]
[{"$f":"A53+1","v":2},"34224813","Příčky POROTHERM AKU na MVC tl. 150 mm ","m2",25.93,null,{"$f":"E57*F57","v":0}]
[null,null,";3.patro",null,0]
[null,null,"(3,00+7,70)*2,90-0,85*2,00*3",null,25.93]
[{"$f":"A57+1","v":3},"34224812","Příčky POROTHERM AKU na MVC tl. 125 mm ","m2",33.686399999999999,null,{"$f":"E60*F60","v":0}]
[null,null,";3.patro",null,0]
[null,null,"1,946*2,90+3,47*2,90+6,20*2,90",null,33.686399999999999]
[{"$f":"A60+1","v":4},"34201","Předstěna SDK v m.č.332 vč.tepel.izolace  SDK 15mm+SDK12+TI100mm+50mm vzduch.mezera , vč.povrchové úpravy ","m2",17.3,null,{"$f":"E63*F63","v":0}]
[null,null,"(0,60+5,575)*2,80",null,17.3]
[{"$f":"A63+1","v":5},"3171   PŘ","Překlad z profilu I100 dl.1250mm vč.plentování cihlami a rabicem","ks",5,null,{"$f":"E65*F65","v":0}]
[{"$f":"A65+1","v":6},"340 23-9212.R00","Zazdívka otvorů pl.4 m2,cihlami tl.zdi nad 10 cm ","m2",17.600000000000001,null,{"$f":"E66*F66","v":0}]
[null,null,";3.patro",null,0]
[null,null,"0,85*2,00*7+0,95*2,00*3",null,17.600000000000001]
[{"$f":"A66+1","v":7},"3172   PŘ","Překlad z profilu I100 dl.1650mm vč.plentování cihlami a rabicem","ks",1,null,{"$f":"E69*F69","v":0}]
["Díl:","61","Upravy povrchů vnitřní",null,null,null,{"$f":"SUBTOTAL(9,G71:G99)","v":0}]
[{"$f":"A69+1","v":8},"612 47-3182.R00","Omítka vnitřního zdiva ze suché směsi, štuková ","m2",170.286,null,{"$f":"E71*F71","v":0}]
[null,null,";na nové zdivo",null,0]
[null,null,"(25,527+33,686+25,93)*2",null,170.286]
[{"$f":"A71+1","v":9},"612 10-003","Oprava omítek stěn vnitřních vápenocem. štukových oprava","m2",1225.6579999999999,null,{"$f":"E74*F74","v":0}]
[null,null,"303:(4,00+9,90+15,50+2,02+5,50)*2,80+8*0,70*2,80",null,119.056]
[null,null,"304:5,595*2,80",null,15.666]
[null,null,"304a:(1,875+3,475)*2,80",null,14.98]
[null,null,"305:(5,50+4,80)*2*2,80",null,57.68]
[null,null,"310:(5,00+2,50+5,00)*2,80",null,35]
[null,null,"311:(5,65+3,99)*2*2,80",null,53.984000000000002]
[null,null,"312:(5,65+3,725)*2*2,80",null,52.5]
[null,null,"313:(5,65+4,82)*2*2,80",null,58.631999999999998]
[null,null,"314:(5,65+3,24)*2*2,80",null,49.783999999999999]
[null,null,"319:(18,715+2,375)*2*2,80",null,118.104]
[null,null,"319a:1,745*2,80",null,4.8860000000000001]
[null,null,"320:(7,17+3,305)*2*2,80",null,58.66]
[null,null,"322:(3,52+7,17)*2*2,80",null,59.863999999999997]
[null,null,"323:(4,10+7,17)*2*2,80",null,63.112000000000002]
[null,null,"324:(3,70+7,17)*2*2,80",null,60.872]
[null,null,"325:(3,84+7,15)*2*2,80",null,61.543999999999997]
[null,null,"326:(4,814+3,88+3,519)*2,80",null,34.196399999999997]
[null,null,"327:(8,036+3,86+8,036)*2,80",null,55.809600000000003]
[null,null,"328:(3,72+7,435)*2*2,80",null,62.468000000000004]
[null,null,"329:(3,92+7,435)*2*2,80",null,63.588000000000001]
[null,null,"330:(3,85+7,435)*2*2,80",null,63.195999999999998]
[null,null,"331:(3,65+7,435)*2*2,80",null,62.076000000000001]
[{"$f":"A74+1","v":10},"611 10-0013","Oprava váp.omítek stropů -vyspravení pod podhledy ","m2",580.79999999999995,null,{"$f":"E97*F97","v":0}]
[{"$f":"A97+1","v":11},"612 40-339","Hrubá výplň rýh ve stěnách maltou, zapravení svislých drážek po rozvodech ÚT  poz.5","m2",11.76,null,{"$f":"E98*F98","v":0}]
[null,null,"0,30*2,80*12+0,60*2,80*1",null,11.76]
["Díl:",63,"Podlahy a podlahové konstrukce",null,null,null,{"$f":"SUBTOTAL(9,G101:P103)","v":0}]
[{"$f":"A98+1","v":12},"632 44-1     ","Potěr anhydrit tl. 50 mm oddilatovaný od stěn  EPS 20 mm","m2",129.9,null,{"$f":"E101*F101","v":0}]
[{"$f":"A101+1","v":13},"632 47-3    P7","Samonivelační stěrka tl.3mm ","m2",129.9,null,{"$f":"E102*F102","v":0}]
[{"$f":"A102+1","v":14},"632 48","Vyspravení podkladu pod podlahu","m2",30.36,null,{"$f":"E103*F103","v":0}]
["Díl:",94,"Lešení a stavební výtahy",null,null,null,{"$f":"SUBTOTAL(9,G105:P106)","v":0}]
[{"$f":"A103+1","v":15},"941 95-5002.R00","Lešení lehké pomocné, výška podlahy do 1,9 m ","m2",580.79999999999995,null,{"$f":"E105*F105","v":0}]
[null,null,"pro podhledy:580,80",null,580.79999999999995]
["Díl:","95","Dokončovací kce na pozem.stav.",null,null,null,{"$f":"SUBTOTAL(9,G108:G111)","v":0}]
[{"$f":"A105+1","v":16},"952 90-1111.R00","Vyčištění budov o výšce podlaží do 4 m ","m2",580.79999999999995,null,{"$f":"E108*F108","v":0}]
[{"$f":"A108+1","v":17},"95001","HZS - nezměřitelné práce ","hod",120,null,{"$f":"E109*F109","v":0}]
[{"$f":"A109+1","v":18},"95003","Vyklizení mobiliáře vč.ekologické likvidace ","kpl.",1,null,{"$f":"E110*F110","v":0}]
[{"$f":"A110+1","v":19},"95004","Uzavření rekonstruovaného prostoru proti šíření prašnosti","kpl.",1,null,{"$f":"E111*F111","v":0}]
["Díl:","96","Bourání konstrukcí",null,null,null,{"$f":"SUBTOTAL(9,G113:G162)","v":0}]
[{"$f":"A111+1","v":20},"962 03-1132.R00","Bourání příček cihelných tl. 10 cm ","m2",2.2799999999999998,null,{"$f":"E113*F113","v":0}]
[null,null,";A",null,0]
[null,null,"0,80*2,85",null,2.2799999999999998]
[{"$f":"A113+1","v":21},"962 03-1133.R00","Bourání příček cihelných tl. 15 cm ","m2",27.132000000000001,null,{"$f":"E116*F116","v":0}]
[null,null,";A",null,0]
[null,null,"(2,22+2,30+5,00)*2,85",null,27.132000000000001]
[{"$f":"A116+1","v":22},"968 06-1125.R00","Vyvěšení dřevěných dveřních křídel pl. do 2 m2 ","kus",1,null,{"$f":"E119*F119","v":0}]
[null,null,";C",null,0]
[null,null,1,null,1]
[{"$f":"A119+1","v":23},"968 06-245","Vybourání dveřních zárubní pl. do 2 m2 ","m2",1.5760000000000001,null,{"$f":"E122*F122","v":0}]
[null,null,";C",null,0]
[null,null,"0,80*1,97",null,1.5760000000000001]
[{"$f":"A122+1","v":24},"714 11-08     F","Demontáž akustických obkladů, stěn - kompletní konstrukce","m2",130.87200000000001,null,{"$f":"E125*F125","v":0}]
[null,null,"(1,94+4,95)*2*2,85",null,39.273000000000003]
[null,null,"(8,95+7,12)*2*2,85",null,91.599000000000004]
[{"$f":"A125+1","v":25},"962 03-2231.R00","Bourání zdiva z cihel pálených na MVC ","m3",0.89780000000000004,null,{"$f":"E128*F128","v":0}]
[null,null,";A",null,0]
[null,null,"0,70*2,85*0,45",null,0.89780000000000004]
[{"$f":"A128+1","v":26},"96956         G","Demontáž kazetových podhledů - kompletní konstrukce","m2",94.4,null,{"$f":"E131*F131","v":0}]
[null,null,"59,10+35,30",null,94.4]
[{"$f":"A131+1","v":27},"96955         H","Demontáž akustických  podhledů - kompletní konstrukce","m2",60.4,null,{"$f":"E133*F133","v":0}]
[null,null,"50,80+9,60",null,60.4]
[{"$f":"A133+1","v":28},"96958        PH","Demontáž požárních hlásičů ","ks",11,null,{"$f":"E135*F135","v":0}]
[{"$f":"A135+1","v":29},"776 51        D","Odstranění PVC a koberců lepených ","m2",1522.5,null,{"$f":"E136*F136","v":0}]
[null,null,";PVC",null,0]
[null,null,"50,80+27,70",null,78.5]
[null,null,"(59,10+35,30+3,20)*2",null,195.2]
[null,null,"(15,00+23,20+21,30+30,00+18,60+9,60)*2",null,235.4]
[null,null,"(25,20+30,00+27,20+28,10+21,70)*2",null,264.39999999999998]
[null,null,"(29,30+28,30+29,80+29,30+28,80+21,20)*2",null,333.4]
[null,null,";koberce",null,0]
[null,null,"15,00+22,20+21,30+30,00+18,60+9,60",null,116.7]
[null,null,"25,20+30,00+27,20+28,10+21,70",null,132.19999999999999]
[null,null,"29,30+28,30+29,80+29,30+28,80+21,20",null,166.7]
[{"$f":"A136+1","v":30},"96808        EL","Demontáž elektrorozvaděče ","ks",1,null,{"$f":"E147*F147","v":0}]
[{"$f":"A147+1","v":31},"96809        ZD","Demontáž zaslepení stávajících dveří ","ks",2,null,{"$f":"E148*F148","v":0}]
[{"$f":"A148+1","v":32},"725 21        U","Demontáž umyvadel ","soubor",2,null,{"$f":"E149*F149","v":0}]
[{"$f":"A149+1","v":33},"978 05-9521.R00","Odsekání vnitřních obkladů stěn do 2 m2 ","m2",1,null,{"$f":"E150*F150","v":0}]
[null,null,"1,00*0,50*2",null,1]
[{"$f":"A150+1","v":34},"7765118F","Odstranění nášlapné vrstvy podlahy a násypu","m2",129.9,null,{"$f":"E152*F152","v":0}]
[{"$f":"A152+1","v":35},"979 01-1211.R00","Svislá doprava suti a vybour. hmot za 2.NP nošením ","t",37.4,null,{"$f":"E153*F153","v":0}]
[{"$f":"A153+1","v":36},"979 01-1219.R00","Přípl.k svislé dopr.suti za každé další NP nošením ","t",37.4,null,{"$f":"E154*F154","v":0}]
[{"$f":"A154+1","v":37},"979 08-2111.R00","Vnitrostaveništní doprava suti do 10 m ","t",37.4,null,{"$f":"E155*F155","v":0}]
[{"$f":"A155+1","v":38},"979 08-2121.R00","Příplatek k vnitrost. dopravě suti za dalších 5 m ","t",187,null,{"$f":"E156*F156","v":0}]
[null,null,"5*37,4",null,187]
[{"$f":"A156+1","v":39},"979 08-1121.R00","Příplatek k odvozu za každý další 1 km ","t",710.6,null,{"$f":"E158*F158","v":0}]
[null,null,"19*37,4",null,710.6]
[{"$f":"A158+1","v":40},"979 08-1111.R00","Odvoz suti a vybour. hmot na skládku do 1 km ","t",37.4,null,{"$f":"E160*F160","v":0}]
[{"$f":"A160+1","v":41},"979 09-311.R00","Uložení suti na skládku ","t",37.4,null,{"$f":"E161*F161","v":0}]
[{"$f":"A161+1","v":42},"979 99-999","Poplatek za skladku ","t",37.4,null,{"$f":"E162*F162","v":0}]
["Díl:","99","Staveništní přesun hmot",null,null,null,{"$f":"SUBTOTAL(9,G164)","v":0}]
[{"$f":"A162+1","v":43},"999 28-1112.R00","Přesun hmot pro opravy a údržbu do výšky 36 m ","t",11.42,null,{"$f":"E164*F164","v":0}]
["Díl:",713,"Izolace tepelné",null,null,null,{"$f":"SUBTOTAL(9,G166:G167)","v":0}]
[{"$f":"A164+1","v":44},"713 12-1     P4","Izolace tepelná podlah na sucho, jednovrstvá včetně dodávky EPS T 5000  tl.20 mm","m2",{"$f":"E167","v":136.39500000000001},null,{"$f":"E166*F166","v":0}]
[null,null,"129,9*1,05",null,{"$f":"129.9*1.05","v":136.39500000000001}]
["Díl:","766","Konstrukce truhlářské",null,null,null,{"$f":"SUBTOTAL(9,G169:G182)","v":0}]
[{"$f":"A166+1","v":45},"766     Tpo/1a","Okno vč.parapetu - špalet. 1350/2045 mm repase - odstranění nátěru, přebroušení,nový nátěr","ks",3,null,{"$f":"E169*F169","v":0}]
[null,null,"seřízení a doplnění kování:3",null,3]
[{"$f":"A169+1","v":46},"766     Tpo/1b","Okno vč.parapetu - špalet. 2800/2045 mm repase - odstranění nátěru, přebroušení,nový nátěr","ks",13,null,{"$f":"E171*F171","v":0}]
[null,null,"seřízení a doplnění kování:13",null,13]
[{"$f":"A171+1","v":47},"766     Tpo/1c","Okno vč.parapetu - špalet. 4250/2045 mm repase - odstranění nátěru, přebroušení,nový nátěr","ks",3,null,{"$f":"E173*F173","v":0}]
[null,null,"seřízení a doplnění kování:3",null,3]
[{"$f":"A173+1","v":48},"766     Tpd/7b","Stávající dřev.dveře 1kř.plné 850/1980 mm repase - očištění, přebrtoušení, nový nátěr,kování","ks",5,null,{"$f":"E175*F175","v":0}]
[{"$f":"A175+1","v":49},"766     Tpd/7b","Stávající dřev.dveře 1kř.plné 850/1980 mm repase - očištění, přebrtoušení, nový nátěr,kování - přemisťované na nové místo","ks",7,null,0]
[{"$f":"A176+1","v":50},"766     Tn/5","Kuchyňská linka dl. 2550 mm  mč.310,326  D+M ","ks",2,null,0]
[{"$f":"A177+1","v":51},"766     Tpo/8b","Stávající nadsvětlík do kanceláří 3300/650 mm repase - očištění, přebrtoušení, nový nátěr,kování","ks",5,null,0]
[{"$f":"A178+1","v":52},"766     Tpo/8d","Stávající nadsvětlík do kanceláří 2570/750 mm repase - očištění, přebrtoušení, nový nátěr,kování","ks",1,null,0]
[{"$f":"A179+1","v":53},"766     Tnd/2b","Dřevěné dveře 1kř.plné 850/1970 mm  D+M vč.obložkové zárubně - replika stávajících dveří","ks",10,null,0]
[null,"poznámka 1","Truhlářské konstrukce jsou kompletní výrobky dle tabulek"," "]
[null,"poznámka 2","Truhlářské konstrukce jsou vč.přesunu hmot "," "]
["Díl:",767,"Konstrukce zámečnické",null,null,null,{"$f":"SUBTOTAL(9,G184:G189)","v":0}]
[{"$f":"A180+1","v":54},"767","Zámečnické výrobky ","kpl.",1,null,{"$f":"E184*F184","v":0}]
[{"$f":"A184+1","v":55},"767     Zn10","Dvířka zakrývající šachtu pro silnoproud 500/800mm požár. EW 30 DP1  D+M","ks",1,null,{"$f":"E185*F185","v":0}]
[{"$f":"A185+1","v":56},"767     Zpd/5","Dveře 2kř.prosklené 1400/2150 mm repase","ks",1,null,{"$f":"E186*F186","v":0}]
[{"$f":"A186+1","v":57},"767     GK","Generální klíč ","kpl.",1,null,{"$f":"E187*F187","v":0}]
[null,"poznámka 1","Zámečnické  konstrukce jsou kompletní výrobky dle tabulek"," "]
[null,"poznámka 2","Zámečnické  konstrukce jsou vč.přesunu hmot "," "]
["Díl:","775","Podlahy vlysové a parketové",null,null,null,{"$f":"SUBTOTAL(9,G191:G193)","v":0}]
[{"$f":"A187+1","v":58},"775 53-00    P6; P9","Podlahy parketové - vlysy nové ","m2",{"$f":"E192","v":496.21000000000009},null,{"$f":"E191*F191","v":0}]
[null,null,"451,1*1,10",null,{"$f":"451.1*1.1","v":496.21000000000009}]
[{"$f":"A191+1","v":59},"998 77-5104.R00","Přesun hmot pro podlahy vlysové, výšky do 36 m ","t",0.6,null,{"$f":"E193*F193","v":0}]
["Díl:","776","Podlahy povlakové",null,null,null,{"$f":"SUBTOTAL(9,G195:G204)","v":0}]
[{"$f":"A193+1","v":60},"776 57-2     P6","Lepení povlakových podlah z pásů textilních včetně zátěžového antistatického koberce","m2",465.85,null,{"$f":"E195*F195","v":0}]
[null,null,";koberec zespodu opatřen gumovou vrstvou",null,0]
[null,null,"423,50*1,10",null,465.85]
[{"$f":"A195+1","v":61},"776 57-2     P7","Lepení povlakových podlah z pásů textilních včetně zátěžového antistatického koberce","m2",142.88999999999999,null,{"$f":"E198*F198","v":0}]
[null,null,";koberec zespodu opatřen gumovou vrstvou",null,0]
[null,null,"129,90*1,10",null,142.88999999999999]
[{"$f":"A198+1","v":62},"776 57-2     P9","Lepení povlakových podlah z pásů textilních včetně zátěžového antistatického koberce","m2",30.36,null,{"$f":"E201*F201","v":0}]
[null,null,";koberec zespodu opatřen gumovou vrstvou",null,0]
[null,null,"27,60*1,10",null,30.36]
[{"$f":"A201+1","v":63},"998 77-6104.R00","Přesun hmot pro podlahy povlakové, výšky do 36 m ","t",0.28499999999999998,null,{"$f":"E204*F204","v":0}]
["Díl:",781,"Obklady keramické",null,null,null,{"$f":"SUBTOTAL(9,G206:G214)","v":0}]
[{"$f":"A204+1","v":64},"781 10-1210.R00","Penetrace podkladu pod obklady ","m2",6.4829999999999997,null,{"$f":"E206*F206","v":0}]
[null,null,"326:(0,60+2,575+1,296)*1,45",null,6.4829999999999997]
[{"$f":"A206+1","v":65},"781 47-511","Obklad vnitřní keramický do tmele vč.rohových a koutových lišt na sraz vč. dodávky obkladu","m2",7.1313000000000004,null,{"$f":"E208*F208","v":0}]
[null,null,"6,483*1,10",null,7.1313000000000004]
[{"$f":"A208+1","v":66},"781 47-01","Bělninový obklad soklu v= 100mm v chodbách vč.dodávky obkladu","m",97.23,null,{"$f":"E210*F210","v":0}]
[null,null,"(18,715+2,375)*2",null,42.18]
[null,null,"10,03+8,40+10,03+5,285+2,02+5,285+8,40",null,49.45]
[null,null,"2*0,70*4",null,5.6]
[{"$f":"A210+1","v":67},"998 78-1104.R00","Přesun hmot pro obklady keramické, výšky do 36 m ","t",0.13600000000000001,null,{"$f":"E214*F214","v":0}]
["Díl:",782,"Konstrukce z přírodního kamene",null,null,null,{"$f":"SUBTOTAL(9,G216:G223)","v":0}]
[{"$f":"A214+1","v":68},"782       Kp/7a","Ostění a parapet oken 1650/2345 mm - ryolit repase - očištění,vytmelení a přebrouš.impregnace","ks",2,null,{"$f":"E216*F216","v":0}]
[{"$f":"A216+1","v":69},"782       Kp/7b","Ostění a parapet oken 3100/2345 mm - ryolit repase - očištění,vytmelení a přebrouš.impregnace","ks",3,null,0]
[{"$f":"A217+1","v":70},"782       Kp/7c","Ostění a parapet oken 4550/2345 mm - ryolit repase - očištění,vytmelení a přebrouš.impregnace","ks",1,null,0]
[{"$f":"A218+1","v":71},"782      Kp/13a","Parapet oken dl.1450 mm - ryolit repase - očištění,vytmelení a přebrouš.impregnace","ks",1,null,0]
[{"$f":"A219+1","v":72},"782      Kp/13b","Parapet oken dl.2900 mm - ryolit repase - očištění,vytmelení a přebrouš.impregnace","ks",10,null,0]
[{"$f":"A220+1","v":73},"782      Kp/13c","Parapet oken dl.4350 mm - ryolit repase - očištění,vytmelení a přebrouš.impregnace","ks",2,null,0]
[null,"poznámka 1","Konstrukce z přír.kamene jsou kompletní výrobky dle tabulek"," "]
[null,"poznámka 2","Konstrukce z přírod.kamene jsou vč.přesunu hmot "," "]
["Díl:",784,"Malby",null,null,null,{"$f":"SUBTOTAL(9,G225:G226)","v":0}]
[{"$f":"A221+1","v":74},"784 45-0030","Malba ze směsi , penetrace 1x, bílá 2x ","m2",1395.94,null,{"$f":"E225*F225","v":0}]
[null,null,1395.94,null,1395.94]
["Díl:",40,"Podhledy",null,null,null,{"$f":"SUBTOTAL(9,G228:G231)","v":0}]
[{"$f":"A225+1","v":75},"40            A","Snížený strop - sádrokartonový podhled ","m2",580.79999999999995,null,{"$f":"E228*F228","v":0}]
[null,null,";3.patro",null,0]
[null,null,"423,50+129,90+27,40",null,580.79999999999995]
[{"$f":"A228+1","v":76},"40      poz.8","Přístupová dvířka k slaboproudým rozvodům D+M ","kpl.",5,null,{"$f":"E231*F231","v":0}]

{"sheet":"19_SO 07 - Silnoproud","index":22,"n_rows":111,"n_cols":9,"rows_kept":111,"cut":false,"hidden":false,"merged":[[26,1,26,2],[26,3,26,4],[26,5,26,6],[26,7,26,8],[4,0,4,8],[24,1,24,2],[24,3,24,4],[24,5,24,6],[24,7,24,8],[27,1,27,2],[27,3,27,4],[27,5,27,6],[27,7,27,8],[28,1,28,2],[28,3,28,4],[28,5,28,6],[28,7,28,8],[29,1,29,2],[29,3,29,4],[29,5,29,6],[29,7,29,8],[30,1,30,2],[30,3,30,4],[30,5,30,6],[30,7,30,8],[31,1,31,2],[31,3,31,4],[31,5,31,6],[31,7,31,8],[32,1,32,2],[32,3,32,4],[32,5,32,6],[32,7,32,8],[34,7,34,8],[37,0,37,8],[40,5,40,6],[40,7,40,8],[42,5,42,6],[42,7,42,8],[60,5,60,6],[60,7,60,8],[72,5,72,6],[72,7,72,8],[81,5,81,6],[81,7,81,8],[91,5,91,6],[91,7,91,8],[96,5,96,6],[96,7,96,8],[105,5,105,6],[105,7,105,8]]}
[{"$f":"CONCATENATE('Rekapitulace stavby'!C75,\"_\",'Rekapitulace stavby'!I75)","v":"19_SO 07 - Silnoproudá elektroinstalace "}]
[]
["SPECIFIKACE DODÁVEK A PRACÍ "]
["Název akce:"]
[{"$f":"'Identifikační údaje'!B1","v":"ČRo Brno – III. etapa rekonstrukce budovy Beethovenova 25/4"}]
[]
["Zadavatel:",null,{"$f":"'Identifikační údaje'!E7","v":"Český rozhlas, Vinohradská 12, 120 99 Praha 2"}]
[null,"IČ:",{"$f":"'Identifikační údaje'!B9","v":45245053}]
[null,"DIČ:",{"$f":"'Identifikační údaje'!B10","v":"CZ45245053"}]
[]
["Projektant:",null,{"$f":"'Identifikační údaje'!E12","v":"Ing. arch. Klement Miloš, Nejedlého 381/19, 638 00 Brno - Lesná"}]
[null,"IČ:",{"$f":"'Identifikační údaje'!B14","v":15188736}]
[null,"DIČ:",{"$f":"'Identifikační údaje'!B15","v":"CZ6101021344"}]
[]
["Uchazeč:",null,{"$f":"'Identifikační údaje'!E19","v":", ,  "}]
[null,"IČ:",{"$f":"'Identifikační údaje'!B23","v":0}]
[null,"DIČ:",{"$f":"'Identifikační údaje'!B24","v":0}]
[]
["Místo stavby:",null,{"$f":"'Identifikační údaje'!B3","v":"Budova Českého rozhlasu Brno na adrese Beethovenova 25/4, 657 42 Brno"}]
[]
["Datum:",null,{"$f":"'Identifikační údaje'!B5","v":"00:00:00"}]
[]
[{"$f":"CONCATENATE(\"REKAPITULACE DODÁVEK A PRACÍ OBJEKTU \",'Rekapitulace stavby'!I75)","v":"REKAPITULACE DODÁVEK A PRACÍ OBJEKTU SO 07 - Silnoproudá elektroinstalace "}]
[]
["P.č.","Ozn.",null,"Materiál celkem",null,"Montáž celkem",null,"M+M celkem"]
[]
[{"$f":"B43","v":"A."},{"$f":"C43","v":"Svítidla a příslušenství"},null,{"$f":"F43","v":0},null,{"$f":"H43","v":0},null,{"$f":"D27+F27","v":0}]
[{"$f":"B61","v":"B."},{"$f":"C61","v":"Spínače, zásuvky a ostatní přístroje "},null,{"$f":"F61","v":0},null,{"$f":"H61","v":0},null,{"$f":"D28+F28","v":0}]
[{"$f":"B73","v":"C."},{"$f":"C73","v":"Instalační, úložný a ochranný materiál"},null,{"$f":"F73","v":0},null,{"$f":"H73","v":0},null,0]
[{"$f":"B82","v":"D."},{"$f":"C82","v":"Kabely a vodiče"},null,{"$f":"F82","v":0},null,{"$f":"H82","v":0},null,0]
[{"$f":"B92","v":"E."},{"$f":"C92","v":"Pospojování, uzemnění"},null,{"$f":"F92","v":0},null,{"$f":"H92","v":0},null,0]
[{"$f":"B97","v":"F."},{"$f":"C97","v":"Rozvaděče"},null,{"$f":"F97","v":0},null,{"$f":"H97","v":0},null,0]
[{"$f":"B106","v":"G."},{"$f":"C106","v":"Ostatní"},null,{"$f":"F106","v":0},null,{"$f":"H106","v":0},null,0]
[]
[{"$f":"CONCATENATE(\"CELKEM ZA OBJEKT \",'Rekapitulace stavby'!I75, \" v Kč bez DPH\")","v":"CELKEM ZA OBJEKT SO 07 - Silnoproudá elektroinstalace  v Kč bez DPH"},null,null,null,null,null,null,{"$f":"SUBTOTAL(9,H27:I33)","v":0}]
[]
[]
["Textová, výkresová i tabulková část projektové dokumentace tvoří jeden vzájemně se doplňující a provázaný celek. Jednotliví účastníci výběrového řízení se musí seznámit s projektojektovou dokumentací v návaznosti na soupis prací a na základě těchto informací části díla nacenit. Dále je potřeba při stanovení ceny dle vykázané výměry započítat všechny předpokládané doplňkové prvky a činnosti s touto položkou související tak, aby cena byla kompletní a prvek funkční."]
[]
[1]
[null,null,null,null,null,"Materiál",null,"Montáž"]
["poř.č.","položka","popis položky","MJ","množství","jedn.cena","celkem [Kč]","jedn.cena","celkem [Kč]"]
[null,"A.","Svítidla a příslušenství",null,null,{"$f":"SUBTOTAL(9,G45:G59)","v":0},null,{"$f":"SUBTOTAL(9,I45:I59)","v":0}]
[null,null," (komplet, včetně zdrojů, závěsů, pomocného materiálu, osazení zapojení, vyzkoušení apod.)"]
[1,null,"svítidlo typ A11-1 - Svítidlo stropní přisazené, korpus ocel, bílá barva, difuzor PMMA opál, 80x80x1480 mm, pro zářivku 2x80W, G5, EP","ks",5,null,{"$f":"E45*F45","v":0},null,{"$f":"E45*H45","v":0}]
[{"$f":"A45+1","v":2},null,"svítidlo typ A11-2 - Svítidlo stropní přisazené, korpus ocel, bílá barva, difuzor PMMA opál, 80x80x1180 mm, pro zářivku 2x54W, G5, EP","ks",3,null,{"$f":"E46*F46","v":0},null,{"$f":"E46*H46","v":0}]
[3,null,"svítidlo typ A12 - Svítidlo stropní přisazené, korpus ocel, bílá barva, difuzor PMMA opál, 80x80x1180 mm, pro zářivku 2x54W, G5, EP","ks",2,null,{"$f":"E47*F47","v":0},null,{"$f":"E47*H47","v":0}]
[4,null,"svítidlo typ A6 - Svítidlo stropní přisazené, bílá barva, difuzor opál, odsazený, Ø 130 mm, v=100 mm, LED 15W, 3000 K, 1280 lm, IP40","ks",14,null,0,null,0]
[5,null,"svítidlo typ A7 - Svítidlo přisazené, bílá barva, difuzor opál, 80x80x1480 mm, pro zářivku 2x49W, G5, EP","ks",1,null,0,null,0]
[6,null,"svítidlo typ B7-1 - Svítidlo stropní závěsné, korpus Al, bílá barva, difuzor mikroprisma, velikost 62x110x2556 mm, svícení direct-indirect, LED 45+35W, 4000 K, 8235+6405 lm- napájení- závěs 2m","ks",28,null,0,null,0]
[7,null,"svítidlo typ B7-3 - Svítidlo stropní závěsné, korpus Al, bílá barva, difuzor mikroprisma,velikost 62x110x1990 mm, svícení direct-indirect, LED 35+30W, 4000 K, 6405+5490 lm- napájení- závěs 2m","ks",3,null,0,null,0]
[8,null,"svítidlo typ C12-1- Svítidlo vestavné do podhledu SDK, korpus a koncovky AL, bílá barva, difuzor mikroprisma, š=78 mm, l=1424 mm, vestavná hloubka 100 mm, LED 25W, 4000 K, 4350 lm, IP43- profil- difuzor- koncovky- LED- úchyt","ks",8,null,0,null,0]
[9,null,"svítidlo typ C12-3 - Svítidlo vestavné do podhledu SDK, korpus a koncovky AL, bílá barva, difuzor mikroprisma, š=78 mm, l=1144 mm, vestavná hloubka 100 mm, LED 20W, 4000 K, 3660 lm, IP43- profil- difuzor- koncovky- LED- úchyt","ks",10,null,0,null,0]
[10,null,"svítidlo typ C12-4 - Svítidlo vestavné do podhledu SDK, korpus a koncovky AL, bílá barva, difuzor mikroprisma, š=78 mm, l=864 mm, vestavná hloubka 100 mm, LED 15W, 4000 K, 2745 lm, IP43- profil- difuzor- koncovky- LED- úchyt","ks",10,null,0,null,0]
[11,null,"svítidlo typ C5 - Svítidlo vestavné do podhledu SDK, bílá barva, odsazený opálový difuzor, Ø 220 mm, vestavná hloubka 90 mm, LED 30W, 3000 K, 4650 lm, IP43","ks",7,null,0,null,0]
[12,null,"svítidlo typ C9 - Svítidlo vestavné do podhledu SDK, bílá barva odsazený opálový difuzor, Ø 175 mm, vestavná hloubka 70 mm, LED 20W, 3000 K, 1700 lm, IP54","ks",9,null,0,null,0]
[13,null,"svítidlo typ E2 - Osvětlovací lišta, vestavná do nábytku, Al, š. 22 mm, vestav. hloubka 12 mm,difuzor opál, LED 12V, 12W/m, 3000 K, celková délka 1500 mm","ks",1,null,0,null,0]
[14,null,"svítidlo typ E3-24 - Ukončující profil podhledu SDK, Al, difuzor PC opál, vč. LED 9W/m,3000 K, 720 lm/m, 12V DC, délka  0,95m","ks",1,null,0,null,0]
[15,null,"NOUZOVÉ OSVĚTLENÍ s připojením k CBS Inotec","ks",12,null,0,null,0]
[]
[null,"B.","Spínače, zásuvky a ostatní přístroje ",null,null,{"$f":"SUBTOTAL(9,G64:G71)","v":0},null,{"$f":"SUBTOTAL(9,I64:I71)","v":0}]
[null,null,"(komplet, včetně příslušenství, pomocného materiálu, osazení, zapojení, vyzkoušení apod.)"]
[null,null,"Návazně na předchozí etapy rekonstrukce budou osaztovány výrobky z řady ABB Time"]
[{"$f":"A59+1","v":16},null,"Domovní spínač řazení 1, komplet","ks",5,null,{"$f":"E64*F64","v":0},null,{"$f":"E64*H64","v":0}]
[17,null,"Domovní spínač řazení 5, komplet ","ks",16,null,{"$f":"E65*F65","v":0},null,{"$f":"E65*H65","v":0}]
[18,null,"Domovní spínač řazení 6, komplet ","ks",8,null,0,null,0]
[19,null,"Domovní spínač řazení 7, komplet ","ks",8,null,0,null,0]
[20,null,"Domovní zásuvka 230V 16A,napájení z trafa  komplet","ks",165,null,0,null,0]
[21,null,"Napojení sporáku (varné desky) přes odbočnou krabici KO100","ks",2,null,0,null,0]
[22,null,"Zásuvkový box pro montáž na pracovní desku stolu 2x zásuvka 230V 16A","ks",26,null,0,null,0]
[23,null,"Zásuvkový box pro montáž pod pracovní desku stolu 3x zásuvka 230V 16A","ks",26,null,0,null,0]
[]
[null,"C.","Instalační, úložný a ochranný materiál",null,null,{"$f":"SUBTOTAL(9,G74:G80)","v":0},null,{"$f":"SUBTOTAL(9,I73:I80)","v":0}]
[null,null," (komplet, včetně příslušenství, pomocného materiálu, výkopu, záhozu výkopu, vytyčení trasy, osazení, zapojení, vyzkoušení apod.)"]
[{"$f":"A71+1","v":24},null,"Krabice přístrojová","ks",202,null,{"$f":"E75*F75","v":0},null,{"$f":"E75*H75","v":0}]
[{"$f":"A75+1","v":25},null,"Krabice odbočná včetně wago svorek","ks",100,null,0,null,0]
[{"$f":"A76+1","v":26},null,"Odbočná krabice pro připojení elektroinstalace ve stolech komplet včetně víčka a wago svorek. Z krabice 2x vývod tr25mm pod stůl","ks",15,null,0,null,0]
[{"$f":"A77+1","v":27},null,"Kabelový drátový žlab 200x100 včetně příslušenství a závěsů","m",60,null,0,null,0]
[{"$f":"A78+1","v":28},null,"Lišta vkládací montáž na nábytek 18x13","m",30,null,0,null,0]
[{"$f":"A79+1","v":29},null,"Krabice odbočná včetně wago svorek s funkční schopností při požáru","ks",12,null,0,null,0]
[]
[null,"D.","Kabely a vodiče",null,null,{"$f":"SUBTOTAL(9,G83:G90)","v":0},null,{"$f":"SUBTOTAL(9,I82:I90)","v":0}]
[null,null,"(komplet, včetně vyhotovení drážky, zapravení drážky, vytyčení trasy, pomocného materiálu, příchytek, spojek, odlehčovacích oblouků, zapojení, vyzkoušení apod.)"]
[{"$f":"A80+1","v":30},null,"CYKY J 3x1,5","m",700,null,{"$f":"E84*F84","v":0},null,{"$f":"E84*H84","v":0}]
[{"$f":"A84+1","v":31},null,"CYKY J 3x2,5","m",1100,null,0,null,0]
[32,null,"CYKY J 5x2,5","m",50,null,0,null,0]
[33,null,"CYKY J 5x6","m",100,null,0,null,0]
[34,null,"CYKY O 3x1,5","m",100,null,0,null,0]
[35,null,"Kabel H05VV-F 3Gx2,5","m",60,null,0,null,0]
[36,null,"Rozvody pro NO kabel s funkční schopností P60R -O 3x1,5  B2CAS1D0","m",100,null,0,null,0]
[]
[null,"E.","Pospojování, uzemnění",null,null,{"$f":"SUBTOTAL(9,G93:G95)","v":0},null,{"$f":"SUBTOTAL(9,I92:I95)","v":0}]
[null,null,"(komplet, včetně příslušenství, svorek, pomocného materiálu, osazení, zapojení, vyzkoušení apod.) "]
[{"$f":"A90+1","v":37},null,"Vodič CYA16 žlutozelený včetně svorek - hlavní pospojení","m",80,null,{"$f":"E94*F94","v":0},null,{"$f":"E94*H94","v":0}]
[{"$f":"A94+1","v":38},null,"Vodič CYA4 žlutozelený včetně svorek - doplňkové pospojení","m",50,null,{"$f":"E95*F95","v":0},null,{"$f":"E95*H95","v":0}]
[]
[null,"F.","Rozvaděče",null,null,{"$f":"SUBTOTAL(9,G98:G104)","v":0},null,{"$f":"SUBTOTAL(9,I97:I104)","v":0}]
[null,null,"(komplet, včetně příslušenství, svorek, pomocného materiálu, osazení, zapojení, vyzkoušení apod.) "]
[{"$f":"A95+1","v":39},null,"Patrový rozvaděč R31.1","ks",1,null,{"$f":"E99*F99","v":0},null,{"$f":"E99*H99","v":0}]
[{"$f":"A99+1","v":40},null,"Patrový rozvaděč R31.2","ks",1,null,0,null,0]
[{"$f":"A100+1","v":41},null,"Patrový rozvaděč R31.3","ks",1,null,0,null,0]
[{"$f":"A101+1","v":42},null,"Patrový rozvaděč R31.4","ks",1,null,0,null,0]
[{"$f":"A102+1","v":43},null,"Patrový rozvaděč R31.5","ks",1,null,0,null,0]
[{"$f":"A103+1","v":44},null,"Patrový rozvaděč R31.6","ks",1,null,0,null,0]
[]
[null,"G.","Ostatní",null,null,{"$f":"SUBTOTAL(9,G107:G111)","v":0},null,{"$f":"SUBTOTAL(9,I106:I111)","v":0}]
[{"$f":"A104+1","v":45},null,"Výchozí revize","hod",20,null,{"$f":"E107*F107","v":0},null,{"$f":"E107*H107","v":0}]
[{"$f":"A107+1","v":46},null,"Demontáže včetně likvidace odpadu","hod",150,null,{"$f":"E108*F108","v":0},null,{"$f":"E108*H108","v":0}]
[{"$f":"A108+1","v":47},null,"Pomocný a podružný materiál upevňovací","kpl",1,null,{"$f":"E109*F109","v":0},null,{"$f":"E109*H109","v":0}]
[{"$f":"A109+1","v":48},null,"Zednické výpomoci (PPV)","kpl",1," ---"," ---",null,{"$f":"E110*H110","v":0}]
[{"$f":"A110+1","v":49},null,"Doprava materiálu","kpl",1," ---"," ---",null,{"$f":"E111*H111","v":0}]

{"sheet":"20_SO 08 - Stav arch část","index":23,"n_rows":240,"n_cols":7,"rows_kept":240,"cut":false,"hidden":false,"merged":[[55,2,55,3],[24,3,24,6],[25,2,25,6],[43,3,43,6],[51,2,51,6],[54,2,54,3],[75,2,75,3],[78,2,78,3],[56,2,56,3],[59,2,59,3],[57,2,57,3],[60,2,60,3],[61,2,61,3],[62,2,62,3],[64,2,64,3],[65,2,65,3],[67,2,67,3],[68,2,68,3],[69,2,69,3],[84,2,84,3],[87,2,87,3],[88,2,88,3],[90,2,90,3],[85,2,85,3],[86,2,86,3],[89,2,89,3],[79,2,79,3],[80,2,80,3],[81,2,81,3],[82,2,82,3],[83,2,83,3],[130,2,130,3],[131,2,131,3],[132,2,132,3],[117,2,117,3],[120,2,120,3],[129,2,129,3],[119,2,119,3],[125,2,125,3],[124,2,124,3],[127,2,127,3],[128,2,128,3],[210,2,210,3],[212,2,212,3],[214,2,214,3],[216,2,216,3],[199,2,199,3],[201,2,201,3],[211,2,211,3],[215,2,215,3],[234,2,234,3],[237,2,237,3],[238,2,238,3],[220,2,220,3],[221,2,221,3],[111,2,111,3],[113,2,113,3],[115,2,115,3],[114,2,114,3],[122,2,122,3],[116,2,116,3],[102,2,102,3],[110,2,110,3],[95,2,95,3],[91,2,91,3],[92,2,92,3],[93,2,93,3],[153,2,153,3],[156,2,156,3],[134,2,134,3],[136,2,136,3],[137,2,137,3],[139,2,139,3],[140,2,140,3],[142,2,142,3],[158,2,158,3],[195,2,195,3],[197,2,197,3],[143,2,143,3],[145,2,145,3],[148,2,148,3],[149,2,149,3],[150,2,150,3],[151,2,151,3],[185,2,185,3],[181,2,181,3],[183,2,183,3],[168,2,168,3],[170,2,170,3],[164,2,164,3],[152,2,152,3]]}
[{"$f":"CONCATENATE('Rekapitulace stavby'!C77,\"_\",'Rekapitulace stavby'!I77)","v":"20_SO 08 - Stavebně - architektonická část"}]
[]
["SPECIFIKACE DODÁVEK A PRACÍ "]
["Název akce:"]
[{"$f":"'Identifikační údaje'!B1","v":"ČRo Brno – III. etapa rekonstrukce budovy Beethovenova 25/4"}]
[]
["Zadavatel:",null,{"$f":"'Identifikační údaje'!E7","v":"Český rozhlas, Vinohradská 12, 120 99 Praha 2"}]
[null,"IČ:",{"$f":"'Identifikační údaje'!B9","v":45245053}]
[null,"DIČ:",{"$f":"'Identifikační údaje'!B10","v":"CZ45245053"}]
[]
["Projektant:",null,{"$f":"'Identifikační údaje'!E12","v":"Ing. arch. Klement Miloš, Nejedlého 381/19, 638 00 Brno - Lesná"}]
[null,"IČ:",{"$f":"'Identifikační údaje'!B14","v":15188736}]
[null,"DIČ:",{"$f":"'Identifikační údaje'!B15","v":"CZ6101021344"}]
[]
["Uchazeč:",null,{"$f":"'Identifikační údaje'!E19","v":", ,  "}]
[null,"IČ:",{"$f":"'Identifikační údaje'!B23","v":0}]
[null,"DIČ:",{"$f":"'Identifikační údaje'!B24","v":0}]
[]
["Místo stavby:",null,{"$f":"'Identifikační údaje'!B3","v":"Budova Českého rozhlasu Brno na adrese Beethovenova 25/4, 657 42 Brno"}]
[]
["Datum vyplnění:",null,{"$f":"'Identifikační údaje'!B5","v":"00:00:00"}]
[]
[{"$f":"CONCATENATE(\"REKAPITULACE DODÁVEK A PRACÍ OBJEKTU \",'Rekapitulace stavby'!I77)","v":"REKAPITULACE DODÁVEK A PRACÍ OBJEKTU SO 08 - Stavebně - architektonická část"}]
[]
["P.č.","Číslo položky","Název položky","Kč bez DPH"]
[]
["Díl:",{"$f":"B53","v":"3"},{"$f":"C53","v":"Svislé a kompletní konstrukce"},null,null,null,{"$f":"G53","v":0}]
["Díl:",{"$f":"B74","v":"61"},{"$f":"C74","v":"Upravy povrchů vnitřní"},null,null,null,{"$f":"G74","v":0}]
["Díl:",{"$f":"B97","v":63},{"$f":"C97","v":"Podlahy a podlahové konstrukce"},null,null,null,{"$f":"G97","v":0}]
["Díl:",{"$f":"B101","v":94},{"$f":"C101","v":"Lešení a stavební výtahy"},null,null,null,{"$f":"G101","v":0}]
["Díl:",{"$f":"B104","v":"95"},{"$f":"C104","v":"Dokončovací kce na pozem.stav."},null,null,null,{"$f":"G104","v":0}]
["Díl:",{"$f":"B109","v":"96"},{"$f":"C109","v":"Bourání konstrukcí"},null,null,null,{"$f":"G109","v":0}]
["Díl:",{"$f":"B175","v":"99"},{"$f":"C175","v":"Staveništní přesun hmot"},null,null,null,{"$f":"G175","v":0}]
["Díl:",{"$f":"B177","v":713},{"$f":"C177","v":"Izolace tepelné"},null,null,null,{"$f":"G177","v":0}]
["Díl:",{"$f":"B180","v":"766"},{"$f":"C180","v":"Konstrukce truhlářské"},null,null,null,{"$f":"G180","v":0}]
["Díl:",{"$f":"B194","v":767},{"$f":"C194","v":"Konstrukce zámečnické"},null,null,null,{"$f":"G194","v":0}]
["Díl:",{"$f":"B205","v":"775"},{"$f":"C205","v":"Podlahy vlysové a parketové"},null,null,null,{"$f":"G205","v":0}]
["Díl:",{"$f":"B209","v":"776"},{"$f":"C209","v":"Podlahy povlakové"},null,null,null,{"$f":"G209","v":0}]
["Díl:",{"$f":"B219","v":781},{"$f":"C219","v":"Obklady keramické"},null,null,null,{"$f":"G219","v":0}]
["Díl:",{"$f":"B224","v":782},{"$f":"C224","v":"Konstrukce z přírodního kamene"},null,null,null,{"$f":"G224","v":0}]
["Díl:",{"$f":"B233","v":784},{"$f":"C233","v":"Malby"},null,null,null,{"$f":"G233","v":0}]
["Díl:",{"$f":"B236","v":40},{"$f":"C236","v":"Podhledy"},null,null,null,{"$f":"G236","v":0}]
[]
[{"$f":"CONCATENATE(\"CELKEM ZA OBJEKT \",'Rekapitulace stavby'!I77, \" v Kč bez DPH\")","v":"CELKEM ZA OBJEKT SO 08 - Stavebně - architektonická část v Kč bez DPH"},null,null,{"$f":"SUM(G27:G42)","v":0}]
[]
[]
[]
[]
[]
[]
["P.č.","Číslo položky","Název položky","MJ","množství","cena / MJ","celkem"]
[null,"Ceník, kapitola","Poznámka uchazeče"]
["Díl:","3","Svislé a kompletní konstrukce",null,null,null,{"$f":"SUBTOTAL(9,G54:G73)","v":0}]
[{"$f":"1","v":1},"34224811","Příčky POROTHERM  AKU na MVC5 tl.100 mm ","m2",124.6639,null,{"$f":"E54*F54","v":0}]
[null,null,";4.patro",null,0]
[null,null,"(2,425+4,775+2,425+4,775+9,00+11,00)*2,90",null,99.76]
[null,null,"(3,15+1,30+1,30+1,60+2,80+2,20+0,341)*2,90",null,36.803899999999999]
[null,null,"-0,85*2,00*5-0,85*2,00*2",null,-11.9]
[{"$f":"A54+1","v":2},"34224812","Příčky POROTHERM  AKU na MVC5 tl.125 mm ","m2",124.0078,null,{"$f":"E59*F59","v":0}]
[null,null,";4.patro",null,0]
[null,null,"(5,60+5,60+2,00+5,36+3,472+7,90)*2,90",null,86.802800000000005]
[null,null,"(10,50+1,80+2,35+0,80)*2,90",null,44.805]
[null,null,"-0,85*2,00*3-1,25*2,00",null,-7.6]
[{"$f":"A59+1","v":3},"34224813","Příčky POROTHERM  AKU na MVC5 tl.150 mm ","m2",26.72,null,{"$f":"E64*F64","v":0}]
[null,null,";4.patro",null,0]
[null,null,"9,80*2,90-0,85*2,00",null,26.72]
[{"$f":"A64+1","v":4},"340 23-9212.R00","Zazdívka otvorů pl.4 m2,cihlami tl.zdi nad 10 cm ","m2",7.7,null,{"$f":"E67*F67","v":0}]
[null,null,";4.patro",null,0]
[null,null,"0,90*2,00+0,65*2,00+0,85*2,00*2",null,6.5]
[null,null,"2,00*0,60",null,1.2]
[{"$f":"A67+1","v":5},"3171    PŘ","Překlad z profilu I100 dl.1250mm D+M vč.plentování cihlami a rabicem","ks",11,null,{"$f":"E71*F71","v":0}]
[{"$f":"A71+1","v":6},"3172    PŘ","Překlad z profilu I100 dl.1000mm D+M vč.plentování cihlami a rabicem","ks",2,null,{"$f":"E72*F72","v":0}]
[{"$f":"A72+1","v":7},"3173    PŘ","Překlad z profilu I100 dl.1650mm D+M vč.plentování cihlami a rabicem","ks",1,null,{"$f":"E73*F73","v":0}]
["Díl:","61","Upravy povrchů vnitřní",null,null,null,{"$f":"SUBTOTAL(9,G75:G96)","v":0}]
[{"$f":"A73+1","v":8},"612 47-3182.R00","Omítka vnitřního zdiva ze suché směsi, štuková ","m2",550.76800000000003,null,{"$f":"E75*F75","v":0}]
[null,null,"(124,664+124,00+26,72)*2",null,550.76800000000003]
[{"$f":"A75+1","v":9},"611 10-001","Oprava omítek stropů vnitřních - vyspravení pod podhledy","m2",536.70000000000005,null,{"$f":"E77*F77","v":0}]
[{"$f":"A77+1","v":10},"612 10-003","Oprava omítek stěn vnitřních vápenocem. štukových oprava ","m2",731.02959999999996,null,{"$f":"E78*F78","v":0}]
[null,null,"403:(9,97+9,00)*2,80+8*0,70*2,80",null,68.796000000000006]
[null,null,"404:(4,90+5,455)*2,80",null,28.994]
[null,null,"404a:(0,75+3,782)*2,80",null,12.6896]
[null,null,"404b:(5,60+6,651)*2,80",null,34.302799999999998]
[null,null,"406:(5,60+5,217+5,217)*2,80",null,44.895200000000003]
[null,null,"407:(5,60+2,80)*2*2,80",null,47.04]
[null,null,"413:(7,60+2,42+9,80)*2,80",null,55.496000000000002]
[null,null,"414:5,475*2,80",null,15.33]
[null,null,"415:3,52*2,80",null,9.8559999999999999]
[null,null,"416:(4,47+7,30+4,47)*2,80",null,45.472000000000001]
[null,null,"417:(3,925+7,30)*2*2,80",null,62.86]
[null,null,"418:(3,815+7,25)*2*2,80",null,61.963999999999999]
[null,null,"419:(3,89+4,825)*2*2,80",null,48.804000000000002]
[null,null,"420:(7,655+8,00)*2*2,80",null,87.668000000000006]
[null,null,"422:(7,80+7,225)*2*2,80",null,84.14]
[null,null,"424:(2,175+3,765+2,175)*2,80",null,22.722000000000001]
[{"$f":"A78+1","v":11},"612 40-339","Hrubá výplň rýh ve stěnách maltou, zapravení svislých drážek po rozvodech ÚT   poz.5","m2",11.76,null,{"$f":"E95*F95","v":0}]
[null,null,"0,30*2,80*12+0,60*2,80*1",null,11.76]
["Díl:",63,"Podlahy a podlahové konstrukce",null,null,null,{"$f":"SUBTOTAL(9,G98:P100)","v":0}]
[{"$f":"A95+1","v":12},"632 44-1     ","Potěr anhydrit tl. 50 mm oddilatovaný od stěn  EPS 20 mm","m2",379.8,null,{"$f":"E98*F98","v":0}]
[{"$f":"A98+1","v":13},"632 47-3    P7","Samonivelační stěrka tl.3mm ","m2",379.8,null,{"$f":"E99*F99","v":0}]
[{"$f":"A99+1","v":14},"632 48","Vyspravení podkladu pod podlahu","m2",89.5,null,{"$f":"E100*F100","v":0}]
["Díl:",94,"Lešení a stavební výtahy",null,null,null,{"$f":"SUBTOTAL(9,G102:P103)","v":0}]
[{"$f":"A100+1","v":15},"941 95-5002.R00","Lešení lehké pomocné, výška podlahy do 1,9 m ","m2",536.70000000000005,null,{"$f":"E102*F102","v":0}]
[null,null,"pro podhledy:156,90+379,80",null,536.70000000000005]
["Díl:","95","Dokončovací kce na pozem.stav.",null,null,null,{"$f":"SUBTOTAL(9,G105:G108)","v":0}]
[{"$f":"A102+1","v":16},"952 90-1111.R00","Vyčištění budov o výšce podlaží do 4 m ","m2",536.70000000000005,null,{"$f":"E105*F105","v":0}]
[{"$f":"A105+1","v":17},"95001","HZS - nezměřitelné práce ","hod",100,null,{"$f":"E106*F106","v":0}]
[{"$f":"A106+1","v":18},"95003","Vyklizení mobiliáře vč.ekologické likvidace ","kpl.",1,null,{"$f":"E107*F107","v":0}]
[{"$f":"A107+1","v":19},"95004","Uzavření rekonstruovaného prostoru proti šíření prašnosti","kpl.",1,null,{"$f":"E108*F108","v":0}]
["Díl:","96","Bourání konstrukcí",null,null,null,{"$f":"SUBTOTAL(9,G110:G174)","v":0}]
[{"$f":"A108+1","v":20},"962 03-2231.R00","Bourání zdiva z cihel pálených na MVC ","m3",0.74250000000000005,null,{"$f":"E110*F110","v":0}]
[null,null,";A",null,0]
[null,null,"0,55*3,00*0,45",null,0.74250000000000005]
[{"$f":"A110+1","v":21},"962 03-1132.R00","Bourání příček cihelných tl. 10 cm ","m2",269.49900000000002,null,{"$f":"E113*F113","v":0}]
[null,null,";A",null,0]
[null,null,"(2,58+0,36+2,17+3,675+2,175+3,675+4,22)*3,00",null,56.564999999999998]
[null,null,"(5,67+0,965+0,95+1,844+3,565+1,683+1,425)*3,00",null,48.305999999999997]
[null,null,"(1,10+2,45+2,404+1,725+2,21+1,475+5,60+1,659)*3,00",null,55.869]
[null,null,"(3,203+3,45+2,60+5,525+1,40+3*4,775+5,75)*3,00",null,108.759]
[{"$f":"A113+1","v":22},"962 03-1133.R00","Bourání příček cihelných tl. 15 cm ","m2",15.3,null,{"$f":"E119*F119","v":0}]
[null,null,";A",null,0]
[null,null,"5,10*3,00",null,15.3]
[{"$f":"A119+1","v":23},"962 03-6      P","Demontáž dřevěných příček ","m2",44.85,null,{"$f":"E122*F122","v":0}]
[null,null,"(1,70+3,80+5,60+3,85)*3,00",null,44.85]
[{"$f":"A122+1","v":24},"965 08-1713.R00","Bourání dlaždic keramických tl. 1 cm, nad 1 m2 ","m2",89.5,null,{"$f":"E124*F124","v":0}]
[null,null,";M",null,0]
[null,null,"9,40+1,40+50,20+19,00+9,50",null,89.5]
[{"$f":"A124+1","v":25},"776 51-18     D","Odstranění PVC a koberců ","m2",486.6,null,{"$f":"E127*F127","v":0}]
[null,null,";PVC",null,0]
[null,null,"58,00+92,50+7,30+10,70+19,00+19,00+16,00",null,222.5]
[null,null,"18,50+27,00+11,30+25,50+27,60+18,60",null,128.5]
[null,null,"25,10+26,20+24,80+14,30+15,50+8,10",null,114]
[null,null,";koberec",null,0]
[null,null,"21,60",null,21.6]
[{"$f":"A127+1","v":26},"96956         G","Demontáž kazetových podhledů -kompletní konstrukce ","m2",101.3,null,{"$f":"E134*F134","v":0}]
[null,null,"58,00+18,50+24,80",null,101.3]
[{"$f":"A134+1","v":27},"968 06-1125.R00","Vyvěšení dřevěných dveřních křídel pl. do 2 m2 ","kus",21,null,{"$f":"E136*F136","v":0}]
[null,null,";C",null,0]
[null,null,21,null,21]
[{"$f":"A136+1","v":28},"968 06-2455.R00","Vybourání dřevěných dveřních zárubní pl. do 2 m2 ","m2",28.8,null,{"$f":"E139*F139","v":0}]
[null,null,";C",null,0]
[null,null,"0,80*2,00*18",null,28.8]
[{"$f":"A139+1","v":29},"968 06-2456.R00","Vybourání dřevěných dveřních zárubní pl. nad 2 m2 ","m2",2.8,null,{"$f":"E142*F142","v":0}]
[null,null,";C",null,0]
[null,null,"1,40*2,00",null,2.8]
[{"$f":"A142+1","v":30},"776 51-18    KO","Odstranění obkladu  kobercem vč.podkladu ","m2",134.02199999999999,null,{"$f":"E145*F145","v":0}]
[null,null,"(15,037+7,30)*2*3,00",null,134.02199999999999]
[{"$f":"A145+1","v":31},"96805         V","Úprava dveřních křídel pro VZT ","ks",5,null,{"$f":"E147*F147","v":0}]
[{"$f":"A147+1","v":32},"978 05-9521.R00","Odsekání vnitřních obkladů stěn do 2 m2 ","m2",101.217,null,{"$f":"E148*F148","v":0}]
[null,null,";M",null,0]
[null,null,"(7,60+1,40)*1,80+7,63*1,30",null,26.119]
[null,null,"(5,50+1,40)*2*1,80",null,24.84]
[null,null,"(1,00+1,40)*2*1,80*2",null,17.28]
[null,null,"(1,70+3,00)*2*1,35",null,12.69]
[null,null,"(3,89+2,45)*2*1,60",null,20.288]
[{"$f":"A148+1","v":33},"725 21-08     U","Demontáž umyvadel ","soubor",6,null,{"$f":"E155*F155","v":0}]
[{"$f":"A155+1","v":34},"96809        PA","Odstranění parapetů ","m",13.75,null,{"$f":"E156*F156","v":0}]
[null,null,"5*2,75",null,13.75]
[{"$f":"A156+1","v":35},"962 20-00     L","Bourání příček ze sklobetonu - luxfery ","m2",7.01,null,{"$f":"E158*F158","v":0}]
[null,null,"1,75*3,00+2,20*0,80",null,7.01]
[{"$f":"A158+1","v":36},"96822        PV","Vybourání podlahové vpust ","ks",3,null,{"$f":"E160*F160","v":0}]
[{"$f":"A160+1","v":37},"96823        ","Vybourání otvoru ve stropu  460/265mm ","ks",1,null,{"$f":"E161*F161","v":0}]
[{"$f":"A161+1","v":38},"96823        DI","Vybourání digestoře ","ks",1,null,{"$f":"E162*F162","v":0}]
[{"$f":"A162+1","v":39},"7765118F","Odstranění nášlapné vrstvy podlahy a násypu","m2",379.8,null,{"$f":"E163*F163","v":0}]
[40,"979 01-1219.R00","Přípl.k svislé dopr.suti za každé další NP nošením ","t",{"$f":"2*131.42","v":262.83999999999997},null,{"$f":"E164*F164","v":0}]
[null,null,"2*131,42",null,262.83999999999997]
[{"$f":"A164+1","v":41},"979 01-1211.R00","Svislá doprava suti a vybour. hmot za 2.NP nošením ","t",131.41999999999999,null,{"$f":"E166*F166","v":0}]
[{"$f":"A166+1","v":42},"979 08-2111.R00","Vnitrostaveništní doprava suti do 10 m ","t",131.41999999999999,null,{"$f":"E167*F167","v":0}]
[{"$f":"A167+1","v":43},"979 08-2121.R00","Příplatek k vnitrost. dopravě suti za dalších 5 m ","t",{"$f":"5*131.42","v":657.09999999999991},null,{"$f":"E168*F168","v":0}]
[null,null,"5*131,42",null,657.1]
[{"$f":"A168+1","v":44},"979 08-1121.R00","Příplatek k odvozu za každý další 1 km ","t",{"$f":"19*131.42","v":2496.9799999999996},null,{"$f":"E170*F170","v":0}]
[null,null,"19*131,42",null,2496.98]
[{"$f":"A170+1","v":45},"979 08-1111.R00","Odvoz suti a vybour. hmot na skládku do 1 km ","t",131.41999999999999,null,{"$f":"E172*F172","v":0}]
[{"$f":"A172+1","v":46},"979 0093111","Uložení suti na skládku bez zhutnění ","t",131.41999999999999,null,{"$f":"E173*F173","v":0}]
[{"$f":"A173+1","v":47},"979 99-999","Poplatek za skladku ","t",131.41999999999999,null,{"$f":"E174*F174","v":0}]
["Díl:","99","Staveništní přesun hmot",null,null,null,{"$f":"SUBTOTAL(9,G176)","v":0}]
[{"$f":"A174+1","v":48},"999 28-1112.R00","Přesun hmot pro opravy a údržbu do výšky 36 m ","t",43.03,null,{"$f":"E176*F176","v":0}]
["Díl:",713,"Izolace tepelné",null,null,null,{"$f":"SUBTOTAL(9,G178:G179)","v":0}]
[{"$f":"A176+1","v":49},"713 12-1     P4","Izolace tepelná podlah na sucho, jednovrstvá včetně dodávky EPS T 5000  tl.20 mm","m2",{"$f":"E179","v":398.79},null,{"$f":"E178*F178","v":0}]
[null,null,"379,8*1,05",null,{"$f":"379.8*1.05","v":398.79}]
["Díl:","766","Konstrukce truhlářské",null,null,null,{"$f":"SUBTOTAL(9,G181:G193)","v":0}]
[{"$f":"A178+1","v":50},"766     Tpo/1a","Dřevěné okno vč.parapetu - špalet. 1350/2045mm repase - odst.nátěrů, přebrouš.nový nátěr,","kpl.",3,null,{"$f":"E181*F181","v":0}]
[null,null,"seřízení a doplnění kování:3",null,3]
[{"$f":"A181+1","v":51},"766     Tpo/1b","Dřevěné okno vč.parapetu - špalet. 2800/2045mm repase - odst.nátěrů, přebrouš.nový nátěr,","kpl.",13,null,{"$f":"E183*F183","v":0}]
[null,null,"seřízení a doplnění kování:13",null,13]
[{"$f":"A183+1","v":52},"766     Tpo/1c","Dřevěné okno vč.parapetu - špalet. 4250/2045mm repase - odst.nátěrů, přebrouš.nový nátěr,","kpl.",3,null,{"$f":"E185*F185","v":0}]
[null,null,"seřízení a doplnění kování:3",null,3]
[{"$f":"A185+1","v":53},"766     Tn/5","Kuchyňská linka dl.2550 mm mč.404b, 419   D+M ","ks",2,null,{"$f":"E187*F187","v":0}]
[{"$f":"A187+1","v":54},"766     Tpd/1","Dřevěné dýhované dveře stáv. 850/1970 mm repase - podlepení uvolněných dýh a doplnění","ks",1,null,{"$f":"E188*F188","v":0}]
[{"$f":"A188+1","v":55},"766     Tnd/2b","Dřevěné dveře nové 1kř.plné  850/1970 mm - vč.obložkové zárubně   D+M - replika stávajících ","ks",8,null,{"$f":"E189*F189","v":0}]
[{"$f":"A189+1","v":56},"766     Tpd/1","Restaurátorská renovace dřevěných dýhovaných dveří 1. kř. 850/1970 mm a jejich přemístění - podlepení uvolněných dýh a doplnění","ks",3,null,{"$f":"E190*F190","v":0}]
[{"$f":"A190+1","v":57},"766     Tnd/4","Dřevěné dveře nové 1kř.plné 850/1970 mm - vč.obložkové zárubně,  dýhované   D+M - replika stávajcích dveří","ks",4,null,{"$f":"E191*F191","v":0}]
[null,"poznámka 1 ","Truhlářské konstrukce  jsou kompletní výrobky dle tabulek"," "]
[null,"poznámka 2 ","Truhlářské konstrukce jsou vč.přesunu hmot "," "]
["Díl:",767,"Konstrukce zámečnické",null,null,null,{"$f":"SUBTOTAL(9,G195:G204)","v":0}]
[{"$f":"A191+1","v":58},"767      Zp/17","Věšáková stěna - přemístění do bytu v 5.np repase,očištění,popř.výměna","ks",1,null,{"$f":"E195*F195","v":0}]
[null,null,"vč.samozavírače:1",null,1]
[{"$f":"A195+1","v":59},"767      Zp/7a","Ocelová okenní mříž 1350/2700 mm repase,očištění,obrouš. nový nátěr,","ks",1,null,{"$f":"E197*F197","v":0}]
[null,null,"vč.samozavírače:1",null,1]
[{"$f":"A197+1","v":60},"767      Zn/10","Dvířka zakrývající šachtu pro silnoproud 500/800mm EW 30DP1  D+M","ks",1,null,{"$f":"E199*F199","v":0}]
[null,null,"vč.samozavírače:1",null,1]
[{"$f":"A199+1","v":61},"767       GK","Generální klíč D+M","kpl.",1,null,{"$f":"E201*F201","v":0}]
[null,null,"vč.samozavírače:1",null,1]
[null,"poznámka 1 ","Zámečnické konstrukce jsou kompletní výrobky dle tabulek"," "]
[null,"poznámka 2 ","Zámečnické konstrukce jsou vč.přesunu hmot "," "]
["Díl:","775","Podlahy vlysové a parketové",null,null,null,{"$f":"SUBTOTAL(9,G206:G208)","v":0}]
[{"$f":"A201+1","v":62},"775 53-00    P6","Podlahy parketové - vlysy nové ","m2",172.59,null,{"$f":"E206*F206","v":0}]
[null,null,"156,90*1,10",null,172.59]
[{"$f":"A206+1","v":63},"998 77-5104.R00","Přesun hmot pro podlahy vlysové, výšky do 36 m ","t",2.93,null,{"$f":"E208*F208","v":0}]
["Díl:","776","Podlahy povlakové",null,null,null,{"$f":"SUBTOTAL(9,G210:G218)","v":0}]
[{"$f":"A208+1","v":64},"776 57-2    P6","Lepení povlakových podlah z pásů textilních včetně zátěžového antistatického koberce","m2",172.59,null,{"$f":"E210*F210","v":0}]
[null,null,";koberec zespodu opatřen gumovou vrstvou",null,0]
[null,null,";vč.olištování dubovými lištami",null,0]
[null,null,"156,90*1,10",null,172.59]
[{"$f":"A210+1","v":65},"776 57-2    P7","Lepení povlakových podlah z pásů textilních včetně zátěžového antistatického koberce","m2",417.78,null,{"$f":"E214*F214","v":0}]
[null,null,";koberec zespodu opatřen gumovou vrstvou",null,0]
[null,null,";vč.olištování dubovými lištami",null,0]
[null,null,"379,80*1,10",null,417.78]
[{"$f":"A214+1","v":66},"998 77-6104.R00","Přesun hmot pro podlahy povlakové, výšky do 36 m ","t",1.0740000000000001,null,{"$f":"E218*F218","v":0}]
["Díl:",781,"Obklady keramické",null,null,null,{"$f":"SUBTOTAL(9,G220:G223)","v":0}]
[{"$f":"A218+1","v":67},"781 47-01","Bělninový obklad soklu v= 100mm v chodbách vč.dodávky obkladu","m",97.23,null,{"$f":"E220*F220","v":0}]
[null,null,"(18,715+2,375)*2",null,42.18]
[null,null,"10,03+8,40+10,03+5,285+2,02+5,285+8,40",null,49.45]
[null,null,"2*0,70*4",null,5.6,null,{"$f":"E223*F223","v":0}]
["Díl:",782,"Konstrukce z přírodního kamene",null,null,null,{"$f":"SUBTOTAL(9,G225:G232)","v":0}]
[{"$f":"A220+1","v":68},"782      Kp/7a","Ostění a parapet oken 1650/2345 mm - ryolit repase - očištění,vytmelení a přebrouš.impregnace","ks",2,null,{"$f":"E225*F225","v":0}]
[{"$f":"A225+1","v":69},"782      Kp/7b","Ostění a parapet oken 3100/2345 mm - ryolit repase - očištění,vytmelení a přebrouš.impregnace","ks",3,null,0]
[{"$f":"A226+1","v":70},"782      Kp/7c","Ostění a parapet oken 4550/2345 mm - ryolit repase - očištění,vytmelení a přebrouš.impregnace","ks",1,null,0]
[{"$f":"A227+1","v":71},"782      Kp/13a","Parapet oken dl.1450 mm - ryolit repase - očištění,vytmelení a přebrouš.impregnace","ks",1,null,0]
[{"$f":"A228+1","v":72},"782      Kp/13b","Parapet oken dl.2900 mm - ryolit repase - očištění,vytmelení a přebrouš.impregnace","ks",10,null,0]
[{"$f":"A229+1","v":73},"782      Kp/13c","Parapet oken dl.4350 mm - ryolit repase - očištění,vytmelení a přebrouš.impregnace","ks",2,null,0]
[null,"poznámka 1","Konstrukce z přír.kamene jsou kompletní výrobky dle popisu v tabulkách"," "]
[null,"poznámka 2","Konstrukce z přír.kamene jsou vč.přesunu hmot "," "]
["Díl:",784,"Malby",null,null,null,{"$f":"SUBTOTAL(9,G234:G235)","v":0}]
[{"$f":"A230+1","v":74},"784 45-0030","Malba ze směsi , penetrace 1x, bílá 2x ","m2",{"$f":"E235","v":1281.79},null,{"$f":"E234*F234","v":0}]
[null,null,1281.79,null,1281.79]
["Díl:",40,"Podhledy",null,null,null,{"$f":"SUBTOTAL(9,G237:G240)","v":0}]
[{"$f":"A234+1","v":75},"40            A","Snížený strop - sádrokartonový podhled ","m2",536.70000000000005,null,{"$f":"E237*F237","v":0}]
[null,null,";4.patro"]
[null,null,"156,90+379,80",null,536.70000000000005]
[{"$f":"A237+1","v":76},"40           ","Přístupová dvířka k slaboproudým rozvodům D+M 500/500 mm  poz.8","kpl.",1,null,{"$f":"E240*F240","v":0}]

{"sheet":"21_SO 08 - Silnoproud","index":24,"n_rows":114,"n_cols":9,"rows_kept":114,"cut":false,"hidden":false,"merged":[[26,1,26,2],[26,3,26,4],[26,5,26,6],[26,7,26,8],[4,0,4,8],[24,1,24,2],[24,3,24,4],[24,5,24,6],[24,7,24,8],[27,1,27,2],[27,3,27,4],[27,5,27,6],[27,7,27,8],[28,1,28,2],[28,3,28,4],[28,5,28,6],[28,7,28,8],[29,1,29,2],[29,3,29,4],[29,5,29,6],[29,7,29,8],[30,1,30,2],[30,3,30,4],[30,5,30,6],[30,7,30,8],[31,1,31,2],[31,3,31,4],[31,5,31,6],[31,7,31,8],[32,1,32,2],[32,3,32,4],[32,5,32,6],[32,7,32,8],[34,7,34,8],[37,0,37,8],[40,5,40,6],[40,7,40,8],[42,5,42,6],[42,7,42,8],[57,5,57,6],[57,7,57,8],[70,5,70,6],[70,7,70,8],[79,5,79,6],[79,7,79,8],[89,5,89,6],[89,7,89,8],[94,5,94,6],[94,7,94,8],[108,5,108,6],[108,7,108,8]]}
[{"$f":"CONCATENATE('Rekapitulace stavby'!C78,\"_\",'Rekapitulace stavby'!I75)","v":"21_SO 07 - Silnoproudá elektroinstalace "}]
[]
["SPECIFIKACE DODÁVEK A PRACÍ "]
["Název akce:"]
[{"$f":"'Identifikační údaje'!B1","v":"ČRo Brno – III. etapa rekonstrukce budovy Beethovenova 25/4"}]
[]
["Zadavatel:",null,{"$f":"'Identifikační údaje'!E7","v":"Český rozhlas, Vinohradská 12, 120 99 Praha 2"}]
[null,"IČ:",{"$f":"'Identifikační údaje'!B9","v":45245053}]
[null,"DIČ:",{"$f":"'Identifikační údaje'!B10","v":"CZ45245053"}]
[]
["Projektant:",null,{"$f":"'Identifikační údaje'!E12","v":"Ing. arch. Klement Miloš, Nejedlého 381/19, 638 00 Brno - Lesná"}]
[null,"IČ:",{"$f":"'Identifikační údaje'!B14","v":15188736}]
[null,"DIČ:",{"$f":"'Identifikační údaje'!B15","v":"CZ6101021344"}]
[]
["Uchazeč:",null,{"$f":"'Identifikační údaje'!E19","v":", ,  "}]
[null,"IČ:",{"$f":"'Identifikační údaje'!B23","v":0}]
[null,"DIČ:",{"$f":"'Identifikační údaje'!B24","v":0}]
[]
["Místo stavby:",null,{"$f":"'Identifikační údaje'!B3","v":"Budova Českého rozhlasu Brno na adrese Beethovenova 25/4, 657 42 Brno"}]
[]
["Datum:",null,{"$f":"'Identifikační údaje'!B5","v":"00:00:00"}]
[]
[{"$f":"CONCATENATE(\"REKAPITULACE DODÁVEK A PRACÍ OBJEKTU \",'Rekapitulace stavby'!I78)","v":"REKAPITULACE DODÁVEK A PRACÍ OBJEKTU SO 08 - Silnoproudá elektroinstalace "}]
[]
["P.č.","Ozn.",null,"Materiál celkem",null,"Montáž celkem",null,"M+M celkem"]
[]
[{"$f":"B43","v":"A."},{"$f":"C43","v":"Svítidla a příslušenství"},null,{"$f":"F43","v":0},null,{"$f":"H43","v":0},null,{"$f":"D27+F27","v":0}]
[{"$f":"B58","v":"B."},{"$f":"C58","v":"Spínače, zásuvky a ostatní přístroje "},null,{"$f":"F58","v":0},null,{"$f":"H58","v":0},null,{"$f":"D28+F28","v":0}]
[{"$f":"B71","v":"C."},{"$f":"C71","v":"Instalační, úložný a ochranný materiál"},null,{"$f":"F71","v":0},null,{"$f":"H71","v":0},null,0]
[{"$f":"B80","v":"D."},{"$f":"C80","v":"Kabely a vodiče"},null,{"$f":"F80","v":0},null,{"$f":"H80","v":0},null,0]
[{"$f":"B90","v":"E."},{"$f":"C90","v":"Pospojování, uzemnění"},null,{"$f":"F90","v":0},null,{"$f":"H90","v":0},null,0]
[{"$f":"B95","v":"F."},{"$f":"C95","v":"Rozvaděče"},null,{"$f":"F95","v":0},null,{"$f":"H95","v":0},null,0]
[{"$f":"B109","v":"G."},{"$f":"C109","v":"Ostatní"},null,{"$f":"F109","v":0},null,{"$f":"H109","v":0},null,0]
[]
[{"$f":"CONCATENATE(\"CELKEM ZA OBJEKT \",'Rekapitulace stavby'!I78, \" v Kč bez DPH\")","v":"CELKEM ZA OBJEKT SO 08 - Silnoproudá elektroinstalace  v Kč bez DPH"},null,null,null,null,null,null,{"$f":"SUBTOTAL(9,H27:I33)","v":0}]
[]
[]
["Textová, výkresová i tabulková část projektové dokumentace tvoří jeden vzájemně se doplňující a provázaný celek. Jednotliví účastníci výběrového řízení se musí seznámit s projektojektovou dokumentací v návaznosti na soupis prací a na základě těchto informací části díla nacenit. Dále je potřeba při stanovení ceny dle vykázané výměry započítat všechny předpokládané doplňkové prvky a činnosti s touto položkou související tak, aby cena byla kompletní a prvek funkční."]
[]
[1]
[null,null,null,null,null,"Materiál",null,"Montáž"]
["poř.č.","položka","popis položky","MJ","množství","jedn.cena","celkem [Kč]","jedn.cena","celkem [Kč]"]
[null,"A.","Svítidla a příslušenství",null,null,{"$f":"SUBTOTAL(9,G45:G56)","v":0},null,{"$f":"SUBTOTAL(9,I45:I56)","v":0}]
[null,null," (komplet, včetně zdrojů, závěsů, pomocného materiálu, osazení zapojení, vyzkoušení apod.)"]
[1,null,"svítidlo typ A6 - Svítidlo stropní přisazené, bílá barva, difuzor opál, odsazený, Ø 130 mm, v=100 mm, LED 15W, 3000 K, 1280 lm, IP40","ks",14,null,{"$f":"E45*F45","v":0},null,{"$f":"E45*H45","v":0}]
[{"$f":"A45+1","v":2},null,"svítidlo typ B7-1 - Svítidlo stropní závěsné, korpus Al, bílá barva, difuzor mikroprisma, velikost 62x110x2556 mm, svícení direct-indirect, LED 45+35W, 4000 K, 8235+6405 lm- napájení- závěs 2m","ks",28,null,{"$f":"E46*F46","v":0},null,{"$f":"E46*H46","v":0}]
[3,null,"svítidlo typ B7-2 - Svítidlo stropní závěsné, korpus Al, bílá barva, difuzor mikroprisma, velikost 62x110x2270 mm, svícení direct-indirect, LED 40+30W,  4000 K, 7320+5490 lm - napájení- závěs 2m","ks",3,null,0,null,{"$f":"E47*H47","v":0}]
[4,null,"svítidlo typ B7-3 - Svítidlo stropní závěsné, korpus Al, bílá barva, difuzor mikroprisma,velikost 62x110x1990 mm, svícení direct-indirect, LED 35+30W, 4000 K, 6405+5490 lm- napájení- závěs 2m","ks",2,null,0,null,0]
[5,null,"svítidlo B7-4 - Svítidlo stropní závěsné, korpus Al, bílá barva, difuzor mikroprisma,velikost 62x110x2556 mm, svícení direct-indirect, LED 72+56W, 4000 K, 12528+9744 lm- napájení- závěs 2m","ks",1,null,0,null,0]
[6,null,"svítidlo typ C12-1- Svítidlo vestavné do podhledu SDK, korpus a koncovky AL, bílá barva, difuzor mikroprisma, š=78 mm, l=1424 mm, vestavná hloubka 100 mm, LED 25W, 4000 K, 4350 lm, IP43- profil- difuzor- koncovky- LED- úchyt","ks",7,null,0,null,0]
[7,null,"svítidlo typ C12-3 - Svítidlo vestavné do podhledu SDK, korpus a koncovky AL, bílá barva, difuzor mikroprisma, š=78 mm, l=1144 mm, vestavná hloubka 100 mm, LED 20W, 4000 K, 3660 lm, IP43- profil- difuzor- koncovky- LED- úchyt","ks",15,null,0,null,0]
[8,null,"svítidlo C12-4 - Svítidlo vestavné do podhledu SDK, korpus a koncovky AL, bílá barva, difuzor mikroprisma, š=78 mm, l=864 mm, vestavná hloubka 100 mm, LED 15W, 4000 K, 2745 lm, IP43- profil- difuzor- koncovky- LED- úchyt","ks",8,null,0,null,0]
[9,null,"svítidlo typ C5 - Svítidlo vestavné do podhledu SDK, bílá barva, odsazený opálový difuzor, Ø 220 mm, vestavná hloubka 90 mm, LED 30W, 3000 K, 4650 lm, IP43","ks",5,null,0,null,0]
[10,null,"svítidlo typ C9 - Svítidlo vestavné do podhledu SDK, bílá barva odsazený opálový difuzor, Ø 175 mm, vestavná hloubka 70 mm, LED 20W, 3000 K, 1700 lm, IP54","ks",9,null,0,null,0]
[11,null,"svítidlo typ E2 - Osvětlovací lišta, vestavná do nábytku, Al, š. 22 mm, vestav. hloubka 12 mm,difuzor opál, LED 12V, 12W/m, 3000 K, celková délka 1500 mm","ks",2,null,0,null,0]
[12,null,"NOUZOVÉ OSVĚTLENÍ s připojením k CBS Inotec","ks",11,null,0,null,0]
[]
[null,"B.","Spínače, zásuvky a ostatní přístroje ",null,null,{"$f":"SUBTOTAL(9,G61:G69)","v":0},null,{"$f":"SUBTOTAL(9,I61:I69)","v":0}]
[null,null,"(komplet, včetně příslušenství, pomocného materiálu, osazení, zapojení, vyzkoušení apod.)"]
[null,null,"Návazně na předchozí etapy rekonstrukce budou osaztovány výrobky z řady ABB Time"]
[{"$f":"A56+1","v":13},null,"Domovní spínač řazení 1, komplet","ks",6,null,{"$f":"E61*F61","v":0},null,{"$f":"E61*H61","v":0}]
[14,null,"Domovní spínač řazení 5, komplet ","ks",12,null,{"$f":"E62*F62","v":0},null,{"$f":"E62*H62","v":0}]
[15,null,"Domovní spínač řazení 6, komplet ","ks",4,null,0,null,0]
[16,null,"Domovní spínač řazení 6+6, komplet","ks",4,null,0,null,0]
[17,null,"Domovní spínač řazení 7, komplet ","ks",9,null,0,null,0]
[18,null,"Domovní zásuvka 230V 16A,napájení z trafa  komplet","ks",125,null,0,null,0]
[19,null,"Napojení sporáku (varné desky) přes odbočnou krabici KO100","ks",2,null,0,null,0]
[20,null,"Zásuvkový box pro montáž na pracovní desku stolu 2x zásuvka 230V 16A","ks",35,null,{"$f":"E68*F68","v":0},null,{"$f":"E68*H68","v":0}]
[21,null,"Zásuvkový box pro montáž pod pracovní desku stolu 3x zásuvka 230V 16A","ks",35,null,0,null,0]
[]
[null,"C.","Instalační, úložný a ochranný materiál",null,null,{"$f":"SUBTOTAL(9,G72:G78)","v":0},null,{"$f":"SUBTOTAL(9,I71:I78)","v":0}]
[null,null," (komplet, včetně příslušenství, pomocného materiálu, výkopu, záhozu výkopu, vytyčení trasy, osazení, zapojení, vyzkoušení apod.)"]
[{"$f":"A69+1","v":22},null,"Krabice přístrojová","ks",160,null,{"$f":"E73*F73","v":0},null,{"$f":"E73*H73","v":0}]
[{"$f":"A73+1","v":23},null,"Krabice odbočná včetně wago svorek","ks",100,null,0,null,0]
[{"$f":"A74+1","v":24},null,"Odbočná krabice pro připojení elektroinstalace ve stolech komplet včetně víčka a wago svorek. Z krabice 2x vývod tr25mm pod stůl","ks",19,null,0,null,0]
[{"$f":"A75+1","v":25},null,"Kabelový drátový žlab 200x100 včetně příslušenství a závěsů","m",60,null,0,null,0]
[{"$f":"A76+1","v":26},null,"Lišta vkládací montáž na nábytek 18x13","m",40,null,0,null,0]
[{"$f":"A77+1","v":27},null,"Krabice odbočná včetně wago svorek s funkční schopností při požáru","ks",11,null,0,null,0]
[]
[null,"D.","Kabely a vodiče",null,null,{"$f":"SUBTOTAL(9,G81:G88)","v":0},null,{"$f":"SUBTOTAL(9,I80:I88)","v":0}]
[null,null,"(komplet, včetně vyhotovení drážky, zapravení drážky, vytyčení trasy, pomocného materiálu, příchytek, spojek, odlehčovacích oblouků, zapojení, vyzkoušení apod.)"]
[{"$f":"A78+1","v":28},null,"CYKY J 3x1,5","m",750,null,{"$f":"E82*F82","v":0},null,{"$f":"E82*H82","v":0}]
[{"$f":"A82+1","v":29},null,"CYKY J 3x2,5","m",800,null,0,null,0]
[30,null,"CYKY J 5x2,5","m",50,null,0,null,0]
[31,null,"CYKY J 5x6","m",530,null,0,null,0]
[32,null,"CYKY O 3x1,5","m",120,null,0,null,0]
[33,null,"Kabel H05VV-F 3Gx2,5","m",80,null,0,null,0]
[34,null,"Rozvody pro NO kabel s funkční schopností P60R -O 3x1,5  B2CAS1D0","m",80,null,0,null,0]
[]
[null,"E.","Pospojování, uzemnění",null,null,{"$f":"SUBTOTAL(9,G91:G93)","v":0},null,{"$f":"SUBTOTAL(9,I90:I93)","v":0}]
[null,null,"(komplet, včetně příslušenství, svorek, pomocného materiálu, osazení, zapojení, vyzkoušení apod.) "]
[{"$f":"A88+1","v":35},null,"Vodič CYA16 žlutozelený včetně svorek - hlavní pospojení","m",90,null,{"$f":"E92*F92","v":0},null,{"$f":"E92*H92","v":0}]
[{"$f":"A92+1","v":36},null,"Vodič CYA4 žlutozelený včetně svorek - doplňkové pospojení","m",50,null,{"$f":"E93*F93","v":0},null,{"$f":"E93*H93","v":0}]
[]
[null,"F.","Rozvaděče",null,null,{"$f":"SUBTOTAL(9,G96:G107)","v":0},null,{"$f":"SUBTOTAL(9,I95:I107)","v":0}]
[null,null,"(komplet, včetně příslušenství, svorek, pomocného materiálu, osazení, zapojení, vyzkoušení apod.) "]
[{"$f":"A93+1","v":37},null,"Patrový rozvaděč R41.1","ks",1,null,{"$f":"E97*F97","v":0},null,{"$f":"E97*H97","v":0}]
[{"$f":"A97+1","v":38},null,"Patrový rozvaděč R41.2","ks",1,null,0,null,0]
[{"$f":"A98+1","v":39},null,"Patrový rozvaděč R41.3","ks",1,null,0,null,0]
[40,null,"Patrový rozvaděč R41.4","ks",1,null,0,null,0]
[41,null,"Patrový rozvaděč R41.5","ks",1,null,0,null,0]
[42,null,"Patrový rozvaděč R41.6","ks",1,null,0,null,0]
[43,null,"Patrový rozvaděč R41.7","ks",1,null,{"$f":"E103*F103","v":0},null,{"$f":"E103*H103","v":0}]
[44,null,"Patrový rozvaděč R41.8","ks",1,null,{"$f":"E104*F104","v":0},null,{"$f":"E104*H104","v":0}]
[45,null,"Patrový rozvaděč R41.9","ks",1,null,{"$f":"E105*F105","v":0},null,{"$f":"E105*H105","v":0}]
[46,null,"Patrový rozvaděč R41.10","ks",1,null,{"$f":"E106*F106","v":0},null,{"$f":"E106*H106","v":0}]
[47,null,"Patrový rozvaděč R41.11","ks",1,null,{"$f":"E107*F107","v":0},null,{"$f":"E107*H107","v":0}]
[]
[null,"G.","Ostatní",null,null,{"$f":"SUBTOTAL(9,G110:G114)","v":0},null,{"$f":"SUBTOTAL(9,I109:I114)","v":0}]
[{"$f":"A107+1","v":48},null,"Výchozí revize","hod",20,null,{"$f":"E110*F110","v":0},null,{"$f":"E110*H110","v":0}]
[{"$f":"A110+1","v":49},null,"Demontáže včetně likvidace odpadu","hod",150,null,{"$f":"E111*F111","v":0},null,{"$f":"E111*H111","v":0}]
[{"$f":"A111+1","v":50},null,"Pomocný a podružný materiál upevňovací","kpl",1,null,{"$f":"E112*F112","v":0},null,{"$f":"E112*H112","v":0}]
[{"$f":"A112+1","v":51},null,"Zednické výpomoci (PPV)","kpl",1," ---"," ---",null,{"$f":"E113*H113","v":0}]
[{"$f":"A113+1","v":52},null,"Doprava materiálu","kpl",1," ---"," ---",null,{"$f":"E114*H114","v":0}]

{"sheet":"22_SO 09 - Stav arch část","index":25,"n_rows":238,"n_cols":7,"rows_kept":238,"cut":false,"hidden":false,"merged":[[57,2,57,3],[24,3,24,6],[25,2,25,6],[45,3,45,6],[53,2,53,6],[56,2,56,3],[78,2,78,3],[70,2,70,3],[71,2,71,3],[59,2,59,3],[61,2,61,3],[62,2,62,3],[64,2,64,3],[73,2,73,3],[74,2,74,3],[75,2,75,3],[76,2,76,3],[77,2,77,3],[85,2,85,3],[88,2,88,3],[79,2,79,3],[80,2,80,3],[81,2,81,3],[84,2,84,3],[101,2,101,3],[102,2,102,3],[105,2,105,3],[106,2,106,3],[107,2,107,3],[110,2,110,3],[111,2,111,3],[113,2,113,3],[115,2,115,3],[114,2,114,3],[202,2,202,3],[208,2,208,3],[134,2,134,3],[136,2,136,3],[139,2,139,3],[142,2,142,3],[171,2,171,3],[221,2,221,3],[223,2,223,3],[212,2,212,3],[213,2,213,3],[214,2,214,3],[236,2,236,3],[60,2,60,3],[65,2,65,3],[91,2,91,3],[92,2,92,3],[93,2,93,3],[94,2,94,3],[95,2,95,3],[103,2,103,3],[109,2,109,3],[218,2,218,3],[232,2,232,3],[235,2,235,3],[219,2,219,3],[220,2,220,3],[117,2,117,3],[126,2,126,3],[135,2,135,3],[145,2,145,3],[127,2,127,3],[128,2,128,3],[130,2,130,3],[131,2,131,3],[133,2,133,3],[118,2,118,3],[119,2,119,3],[122,2,122,3],[123,2,123,3],[124,2,124,3]]}
[{"$f":"CONCATENATE('Rekapitulace stavby'!C80,\"_\",'Rekapitulace stavby'!I80)","v":"22_SO 09 - Stavebně - architektonická část"}]
[]
["SPECIFIKACE DODÁVEK A PRACÍ "]
["Název akce:"]
[{"$f":"'Identifikační údaje'!B1","v":"ČRo Brno – III. etapa rekonstrukce budovy Beethovenova 25/4"}]
[]
["Zadavatel:",null,{"$f":"'Identifikační údaje'!E7","v":"Český rozhlas, Vinohradská 12, 120 99 Praha 2"}]
[null,"IČ:",{"$f":"'Identifikační údaje'!B9","v":45245053}]
[null,"DIČ:",{"$f":"'Identifikační údaje'!B10","v":"CZ45245053"}]
[]
["Projektant:",null,{"$f":"'Identifikační údaje'!E12","v":"Ing. arch. Klement Miloš, Nejedlého 381/19, 638 00 Brno - Lesná"}]
[null,"IČ:",{"$f":"'Identifikační údaje'!B14","v":15188736}]
[null,"DIČ:",{"$f":"'Identifikační údaje'!B15","v":"CZ6101021344"}]
[]
["Uchazeč:",null,{"$f":"'Identifikační údaje'!E19","v":", ,  "}]
[null,"IČ:",{"$f":"'Identifikační údaje'!B23","v":0}]
[null,"DIČ:",{"$f":"'Identifikační údaje'!B24","v":0}]
[]
["Místo stavby:",null,{"$f":"'Identifikační údaje'!B3","v":"Budova Českého rozhlasu Brno na adrese Beethovenova 25/4, 657 42 Brno"}]
[]
["Datum vyplnění:",null,{"$f":"'Identifikační údaje'!B5","v":"00:00:00"}]
[]
[{"$f":"CONCATENATE(\"REKAPITULACE DODÁVEK A PRACÍ OBJEKTU \",'Rekapitulace stavby'!I80)","v":"REKAPITULACE DODÁVEK A PRACÍ OBJEKTU SO 09 - Stavebně - architektonická část"}]
[]
["P.č.","Číslo položky","Název položky","Kč bez DPH"]
[]
["Díl:",{"$f":"B55","v":"3"},{"$f":"C55","v":"Svislé a kompletní konstrukce"},null,null,null,{"$f":"G55","v":0}]
["Díl:",{"$f":"B69","v":"61"},{"$f":"C69","v":"Upravy povrchů vnitřní"},null,null,null,{"$f":"G69","v":0}]
["Díl:",{"$f":"B87","v":94},{"$f":"C87","v":"Lešení a stavební výtahy"},null,null,null,{"$f":"G87","v":0}]
["Díl:",{"$f":"B90","v":"95"},{"$f":"C90","v":"Dokončovací kce na pozem.stav."},null,null,null,{"$f":"G90","v":0}]
["Díl:",{"$f":"B100","v":"96"},{"$f":"C100","v":"Bourání konstrukcí"},null,null,null,{"$f":"G100","v":0}]
["Díl:",{"$f":"B149","v":"99"},{"$f":"C149","v":"Staveništní přesun hmot"},null,null,null,{"$f":"G149","v":0}]
["Díl:",{"$f":"B151","v":711},{"$f":"C151","v":"Izolace proti vodě"},null,null,null,{"$f":"G151","v":0}]
["Díl:",{"$f":"B154","v":764},{"$f":"C154","v":"Konstrukce klemířské"},null,null,null,{"$f":"G154","v":0}]
["Díl:",{"$f":"B161","v":"766"},{"$f":"C161","v":"Konstrukce truhlářské"},null,null,null,{"$f":"G161","v":0}]
["Díl:",{"$f":"B180","v":767},{"$f":"C180","v":"Konstrukce zámečnické"},null,null,null,{"$f":"G180","v":0}]
["Díl:",{"$f":"B200","v":771},{"$f":"C200","v":"Podlahy vlysové a parketové"},null,null,null,{"$f":"G200","v":0}]
["Díl:",{"$f":"B205","v":772},{"$f":"C205","v":"Kamenné dlažby"},null,null,null,{"$f":"G205","v":0}]
["Díl:",{"$f":"B207","v":"775"},{"$f":"C207","v":"Podlahy vlysové a parketové"},null,null,null,{"$f":"G207","v":0}]
["Díl:",{"$f":"B211","v":"776"},{"$f":"C211","v":"Podlahy povlakové"},null,null,null,{"$f":"G211","v":0}]
["Díl:",{"$f":"B217","v":781},{"$f":"C217","v":"Obklady keramické"},null,null,null,{"$f":"G217","v":0}]
["Díl:",{"$f":"B226","v":782},{"$f":"C226","v":"Konstrukce z přírodního kamene"},null,null,null,{"$f":"G226","v":0}]
["Díl:",{"$f":"B231","v":784},{"$f":"C231","v":"Malby"},null,null,null,{"$f":"G231","v":0}]
["Díl:",{"$f":"B234","v":40},{"$f":"C234","v":"Podhledy"},null,null,null,{"$f":"G234","v":0}]
[]
[{"$f":"CONCATENATE(\"CELKEM ZA OBJEKT \",'Rekapitulace stavby'!I80, \" v Kč bez DPH\")","v":"CELKEM ZA OBJEKT SO 09 - Stavebně - architektonická část v Kč bez DPH"},null,null,{"$f":"SUM(G27:G44)","v":0}]
[]
[]
[]
[]
[]
[]
["P.č.","Číslo položky","Název položky","MJ","množství","cena / MJ","celkem"]
[null,"Ceník, kapitola","Poznámka uchazeče"]
["Díl:","3","Svislé a kompletní konstrukce",null,null,null,{"$f":"SUBTOTAL(9,G56:G68)","v":0}]
[{"$f":"1","v":1},"34224811","Příčky POROTHERM AKU na MVC5 tl.100 mm ","m2",4.3354999999999997,null,{"$f":"E56*F56","v":0}]
[null,null,";5.patro",null,0]
[null,null,"1,45*2,99",null,4.3354999999999997]
[{"$f":"A56+1","v":2},"34224812","Příčky POROTHERM AKU na MVC5 tl.125 mm ","m2",37.051000000000002,null,{"$f":"E59*F59","v":0}]
[null,null,";5.patro",null,0]
[null,null,"(1,735+1,325+0,90)*2,90-0,70*2,00*2",null,8.6839999999999993]
[null,null,"(2,175+2,50+2,50+1,355+2,70)*2,90",null,32.567]
[null,null,"-0,70*2,00*3",null,-4.2]
[{"$f":"A59+1","v":3},"340 23-9211.RT2","Zazdívka otvorů pl.4 m2,cihlami tl.zdi do 10 cm s použitím suché maltové směsi","m2",1.7,null,{"$f":"E64*F64","v":0}]
[null,null,";5.patro",null,0]
[null,null,"0,85*2,00",null,1.7]
[{"$f":"A64+1","v":4},"3171     PŘ","Překlad z profilu I100 dl.1000mm vč.plentování cihlami a rabicem  D+M","ks",4,null,{"$f":"E67*F67","v":0}]
[{"$f":"A67+1","v":5},"3172     PŘ","Překlad z profilu I120 dl.1250mm vč.plentování cihlami a rabicem  D+M","ks",2,null,{"$f":"E68*F68","v":0}]
["Díl:","61","Upravy povrchů vnitřní",null,null,null,{"$f":"SUBTOTAL(9,G70:G86)","v":0}]
[{"$f":"A68+1","v":6},"612 47-3182.R00","Omítka vnitřního zdiva ze suché směsi, štuková ","m2",82.772999999999996,null,{"$f":"E70*F70","v":0}]
[null,null,";5.patro",null,0]
[null,null,"(4,3355+37,051)*2",null,82.772999999999996]
[{"$f":"A70+1","v":7},"612 10-003","Oprava omítek stěn vnitřních vápenocem. štukových oprava","m2",215.81,null,{"$f":"E73*F73","v":0}]
[null,null,"503:(2,60+2,40)*2,80",null,14]
[null,null,"504:2,50*2,80",null,7]
[null,null,"505:(6,10+2,60+3,40)*2,80",null,33.880000000000003]
[null,null,"506:(4,90+5,325)*2,80",null,28.63]
[null,null,"507:(4,90+3,00)*2*2,80",null,44.24]
[null,null,"508:(3,50+2,75)*2*2,80",null,35]
[null,null,"509:(0,60+2,175)*2,80",null,7.77]
[null,null,"510:(5,50+1,50)*2*2,80",null,39.200000000000003]
[null,null,"510a.:2,175*2,80",null,6.09]
[{"$f":"A73+1","v":8},"611 10-001","Oprava omítek stropů - vyspravení pod podhledy ","m2",74,null,{"$f":"E83*F83","v":0}]
[{"$f":"A83+1","v":9},"611 10-0013.RAA","Oprava omítek stropů vnitřních vápenocem.štukových oprava","m2",10.9,null,{"$f":"E84*F84","v":0}]
[null,null,";5.patro",null,0]
[null,null,"8,40+2,50",null,10.9]
["Díl:",94,"Lešení a stavební výtahy",null,null,null,{"$f":"SUBTOTAL(9,G88:P89)","v":0}]
[{"$f":"A84+1","v":10},"941 95-5002.R00","Lešení lehké pomocné, výška podlahy do 1,9 m ","m2",74,null,{"$f":"E88*F88","v":0}]
[null,null,"pro podhledy:74,00",null,74]
["Díl:","95","Dokončovací kce na pozem.stav.",null,null,null,{"$f":"SUBTOTAL(9,G91:G99)","v":0}]
[{"$f":"A88+1","v":11},"952 90-1111.R00","Vyčištění budov o výšce podlaží do 4 m ","m2",118.7,null,{"$f":"E91*F91","v":0}]
[null,null,";5.patro",null,0]
[null,null,"5,80+3,50+11,80+26,30+15,00+8,90+2,70+8,40",null,82.4]
[null,null,"2,30",null,2.2999999999999998]
[null,null,";6.patro",null,0]
[null,null,"27,50+6,50",null,34]
[{"$f":"A91+1","v":12},"95001","HZS - nezměřitelné práce ","hod",50,null,{"$f":"E97*F97","v":0}]
[{"$f":"A97+1","v":13},"95003","Vyklizení mobiliáře vč. ekologické likvidace ","kpl.",1,null,{"$f":"E98*F98","v":0}]
[{"$f":"A98+1","v":14},"95004","Uzavření rekonstruovaného prostoru proti šíření prašnosti","kpl.",1,null,{"$f":"E99*F99","v":0}]
["Díl:","96","Bourání konstrukcí",null,null,null,{"$f":"SUBTOTAL(9,G101:G148)","v":0}]
[{"$f":"A99+1","v":15},"962 03-1132.R00","Bourání příček cihelných tl. 10 cm ","m2",23.988,null,{"$f":"E101*F101","v":0}]
[null,null,";A",null,0]
[null,null,";5.patro",null,0]
[null,null,"(1,00+1,85+2,60+1,146+1,40)*3,00",null,23.988]
[{"$f":"A101+1","v":16},"968 06-1125.R00","Vyvěšení dřevěných dveřních křídel pl. do 2 m2 ","kus",4,null,{"$f":"E105*F105","v":0}]
[null,null,";C",null,0]
[null,null,";5.patro",null,0]
[null,null,4,null,4]
[{"$f":"A105+1","v":17},"968 06-245","Vybourání  dveřních zárubní pl. do 2 m2 ","m2",6.2,null,{"$f":"E109*F109","v":0}]
[null,null,";C",null,0]
[null,null,";5.patro",null,0]
[null,null,"0,75*2,00*3+0,85*2,00",null,6.2]
[{"$f":"A109+1","v":18},"971 03-3621.R00","Vybourání otv. zeď cihel. pl.4 m2, tl.10 cm, MVC ","m2",1.7,null,{"$f":"E113*F113","v":0}]
[null,null,";A",null,0]
[null,null,";5.patro",null,0]
[null,null,"0,85*2,00",null,1.7]
[{"$f":"A113+1","v":19},"971 03-359","Vybourání otv. zeď cihel, na  MVC ","m3",0.76,null,{"$f":"E117*F117","v":0}]
[null,null,";A",null,0]
[null,null,";5.patro",null,0]
[null,null,"0,95*2,00*0,40",null,0.76]
[{"$f":"A117+1","v":20},"96807         R","Demontáž radiátorů ","ks",3,null,{"$f":"E121*F121","v":0}]
[{"$f":"A121+1","v":21},"978 05-952","Odsekání vnitřních obkladů stěn ","m2",18.559999999999999,null,{"$f":"E122*F122","v":0}]
[null,null,";M",null,0]
[null,null,";5.patro",null,0]
[null,null,"(2,75+0,80+3,50+2,75)*1,60+0,90*2*1,60",null,18.559999999999999]
[{"$f":"A122+1","v":22},"965 08-1713.R00","Bourání dlaždic keramických tl. 1 cm, nad 1 m2 ","m2",26.2,null,{"$f":"E126*F126","v":0}]
[null,null,";D",null,0]
[null,null,";5.patro",null,0]
[null,null,"3,50+13,80+8,90",null,26.2]
[{"$f":"A126+1","v":23},"725 21-0821.R00","Demontáž umyvadel ","soubor",2,null,{"$f":"E130*F130","v":0}]
[null,null,";U",null,0]
[null,null,2,null,2]
[{"$f":"A130+1","v":24},"776 51-18     D","Odstranění PVC a koberců lepených ","m2",159.9,null,{"$f":"E133*F133","v":0}]
[null,null,";koberec",null,0]
[null,null,"12,00+26,30+15,00",null,53.3]
[null,null,";PVC",null,0]
[null,null,"(12,00+26,30+15,00)*2",null,106.6]
[{"$f":"A133+1","v":25},"979 01-1211.R00","Svislá doprava suti a vybour. hmot za 2.NP nošením ","t",7.35,null,{"$f":"E138*F138","v":0}]
[{"$f":"A138+1","v":26},"979 01-1219.R00","Přípl.k svislé dopr.suti za každé další NP nošením ","t",22.05,null,{"$f":"E139*F139","v":0}]
[null,null,"3*7,35",null,22.05]
[{"$f":"A139+1","v":27},"979 08-2111.R00","Vnitrostaveništní doprava suti do 10 m ","t",7.35,null,{"$f":"E141*F141","v":0}]
[{"$f":"A141+1","v":28},"979 08-2121.R00","Příplatek k vnitrost. dopravě suti za dalších 5 m ","t",14.7,null,{"$f":"E142*F142","v":0}]
[null,null,"2*7,35",null,14.7]
[{"$f":"A142+1","v":29},"979 08-1111.R00","Odvoz suti a vybour. hmot na skládku do 1 km ","t",7.35,null,{"$f":"E144*F144","v":0}]
[{"$f":"A144+1","v":30},"979 08-1121.R00","Příplatek k odvozu za každý další 1 km ","t",139.65,null,{"$f":"E145*F145","v":0}]
[null,null,"19*7,35",null,139.65]
[{"$f":"A145+1","v":31},"979 09-3111.R00","Uložení suti na skládku bez zhutnění ","t",7.35,null,{"$f":"E147*F147","v":0}]
[{"$f":"A147+1","v":32},"979 99-999","Poplatek za skladku ","t",7.35,null,{"$f":"E148*F148","v":0}]
["Díl:","99","Staveništní přesun hmot",null,null,null,{"$f":"SUBTOTAL(9,G150)","v":0}]
[{"$f":"A148+1","v":33},"999 28-1112.R00","Přesun hmot pro opravy a údržbu do výšky 36 m ","t",3.14,null,{"$f":"E150*F150","v":0}]
["Díl:",711,"Izolace proti vodě",null,null,null,{"$f":"SUBTOTAL(9,G152:G153)","v":0}]
[{"$f":"A150+1","v":34},"711 21-00   P1","Stěrka hydroizolační těsnicí hmotou Aquafin 2 K, proti vlhkosti","m2",26.9,null,{"$f":"E152*F152","v":0}]
[{"$f":"A152+1","v":35},"998 71-1103.R00","Přesun hmot pro izolace proti vodě, výšky do 60 m ","t",0.1,null,{"$f":"E153*F153","v":0}]
["Díl:",764,"Konstrukce klemířské",null,null,null,{"$f":"SUBTOTAL(9,G155:G160)","v":0}]
[{"$f":"A153+1","v":36},"764 23-0     K1","Krycí lišta z TiZn plechu rš 255 mm","m",70.635000000000005,null,{"$f":"E155*F155","v":0}]
[{"$f":"A155+1","v":37},"764 23-0     K2","Stěnová lišta z TiZn plechu rš 70 mm","m",161.785,null,0]
[{"$f":"A156+1","v":38},"764 23-0     K3","Pásovina z TiZn plechu rš 30 mm","m",1.1000000000000001,null,0]
[{"$f":"A157+1","v":39},"764 23-0     K4","Krycí lišta z TiZn plechu rš 215 mm","m",14.675000000000001,null,0]
[{"$f":"A158+1","v":40},"764 23-0     K5","Krycí lišta z TiZn plechu rš 290 mm","m",76.474999999999994,null,0]
[{"$f":"A159+1","v":41},"764 23-0     K6","Oplechování z TiZn plechu rš 145 mm","m",1.2,null,0]
["Díl:","766","Konstrukce truhlářské",null,null,null,{"$f":"SUBTOTAL(9,G162:G179)","v":0}]
[{"$f":"A160+1","v":42},"766      Tpo/1a","Okno vč.parapetu - špalet. 1350/2045mm - repase odstranění nátěru, přebroušení, nový nátěr","ks",2,null,{"$f":"E162*F162","v":0}]
[{"$f":"A162+1","v":43},"766      Tpo/9","Okno vč.parapetu - špalet. 870/1200mm - repase odstranění nátěru, přebroušení, nový nátěr","ks",1,null,{"$f":"E163*F163","v":0}]
[{"$f":"A163+1","v":44},"766      Tpo/1c","Okno vč.parapetu - špalet. 4250/2045mm - repase odstranění nátěru, přebroušení, nový nátěr","ks",1,null,0]
[{"$f":"A164+1","v":45},"766      Tpo/10","Okno vč.parapetu - špalet. 350/400mm - repase odstr.nátěru, přebroušení, nový nátěr, PBŘ EI30DP1","ks",1,null,0]
[46,"766      Tpd/7b","Dřevéné dveře stáv.1kř. plné 850/1980mm repase - očištění,přebroušení,nový nátěr,kování","ks",1,null,0]
[47,"766      Tpd/7a","Dřevéné dveře stáv.1kř. plné 650/1980mm repase - očištění,přebroušení,nový nátěr,kování","ks",1,null,0]
[48,"766      Tn/8","Kuchyňská linka rohová mč.508  D+M ","ks",1,null,0]
[49,"766      Tn/7","Kuchyňská linka rohová mč.505  D+M ","ks",1,null,0]
[50,"766      Tn/9","Kuchyňská linka dl.2295 mm   mč.508  D+M ","ks",1,null,0]
[51,"766      Tpd/9b","Dřevéné dveře stáv.1kř. proskl. 850/2000mm repase - očištění,přebroušení,nový nátěr,kování","ks",1,null,0]
[null,null,"přemístění:1",null,1]
[{"$f":"A171+1","v":52},"766      Tnd/2b","Dřevéné dveře 1kř. plné 850/1970mm  - kopie vč.obložk.zárubně","ks",3,null,{"$f":"E173*F173","v":0}]
[{"$f":"A173+1","v":53},"766      Tnd/2a","Dřevéné dveře 1kř. plné 850/1970mm  - kopie vč.obložk.zárubně","ks",2,null,{"$f":"E174*F174","v":0}]
[{"$f":"A174+1","v":54},"766      Tno/2","Dřevéné okno 1kř. PBŘ EI 30 DP1 1250/2045mm  D+M neotvíratelné","ks",1,null,{"$f":"E175*F175","v":0}]
[{"$f":"A175+1","v":55},"766      Tno/3","Dřevéné okno 1kř. PBŘ EI 30 DP1 350/400 mm  D+M neotvíratelné","ks",1,null,{"$f":"E176*F176","v":0}]
[{"$f":"A176+1","v":56},"766      Tpd/14","Dřevéné dveře laminát. 1kř.plné 800/1970 mm  D+M vč.zárubně","ks",1,null,{"$f":"E177*F177","v":0}]
[null,"poznámka 1","Truhlářské konstrukce jsou kompletní výrobky dle tabulek"," "]
[null,"poznámka 2","Truhlářské konstrukce jsou vč.přesunu hmot "," "]
["Díl:",767,"Konstrukce zámečnické",null,null,null,{"$f":"SUBTOTAL(9,G181:G197)","v":0}]
[{"$f":"A177+1","v":57},"767      Znd/3","Dveře do schod.prosklené s mříží 1020/2070 mm vč.zárubně  EW 15 DP1-C-Sm  D+M","ks",1,null,{"$f":"E181*F181","v":0}]
[{"$f":"A181+1","v":58},"767      Znd/4","Dveře do schod.prosklené s mříží 850/2070 mm vč.zárubně  EW 15 DP1-C-Sm  D+M","ks",1,null,{"$f":"E182*F182","v":0}]
[{"$f":"A182+1","v":59},"767      Zp/17","Přesunutí věšákové stěny ze 4.patra ","ks",1,null,0]
[60,"767      Zp/18","Expanzní nádoby - očištění, přebroušení a nový nát ","ks",1,null,0]
[61,"767      Zpd/8","Dveře 1kř.prosklené  na střechu 845/2000 mm repase","ks",1,null,0]
[62,"767      Zpd/9","Dveře 1kř. prosklené střechu 824/2000 mm repase - uložení k opětovnému použití","ks",1,null,0]
[63,"767      Zpd/11","Dveře 1kř. plechové do strojovny  900/1815 mm repase","ks",1,null,0]
[64,"767      Zpo/2","Okno ve stroj.výtahu  2150/790 mm repase","ks",1,null,0]
[65,"767      Znd/3","Dveře 1kř.prosklené s mříží 1020/2150 mm repase","ks",1,null,0]
[66,"767      Zn/16","Zábradlí do světlíku v 6.patře - kopie repase","ks",1,null,0]
[67,"767      Zp/8","Ocelové schodiště z 5.patra do 6.patra repase","ks",1,null,0]
[68,"767      Znd/5","Dveře na terasu prosklené s mříží 825/2050 mm repase","ks",1,null,0]
[69,"767      Znd/6","Dveře na střechu prosklené s mříží 990/1560 mm repase","ks",1,null,0]
[70,"767      Zp/9","Ocelové zábradlíschodiště z 5.patra do 6.patra repase","ks",1,null,0]
[71,"7676       GK","Generální klíč pro 6.patro repase","kpl.",1,null,0]
[72,"767      Zp/11","Ocelového schody v  6.patře repase","ks",1,null,0]
[73,"7675       GK","Generální klíč pro 5.patro repase","kpl.",1,null,0]
[null,"poznámka 2","Zámečnické  konstrukce jsou vč.přesunu hmot "," "]
[null,"poznámka 1","Zámečnické konstrukce jsou kompletní výrobky dle tabulek"," "]
["Díl:",771,"Podlahy vlysové a parketové",null,null,null,{"$f":"SUBTOTAL(9,G201:G204)","v":0}]
[{"$f":"A197+1","v":74},"771 10-      P1","Vyrovnání podkladu samonivelační cementovou stěrkou tl.5mm","m2",26.9,null,{"$f":"E201*F201","v":0}]
[{"$f":"A201+1","v":75},"771 57-5    P1","Dlažba do tmele vč.spárování a vč.dodávky dlažby ","m2",29.59,null,{"$f":"E202*F202","v":0}]
[null,null,"26,90*1,10",null,29.59]
[{"$f":"A202+1","v":76},"998 77-1104.R00","Přesun hmot pro podlahy z dlaždic, výšky do 36 m ","t",0.67100000000000004,null,{"$f":"E204*F204","v":0}]
["Díl:",772,"Kamenné dlažby",null,null,null,{"$f":"SUBTOTAL(9,G206:G206)","v":0}]
[{"$f":"A204+1","v":77},"772   Kp/5d= P2","Restaurování stávající mramorové dlažby ","m2",8.4,null,{"$f":"E206*F206","v":0}]
["Díl:","775","Podlahy vlysové a parketové",null,null,null,{"$f":"SUBTOTAL(9,G208:G210)","v":0}]
[{"$f":"A206+1","v":78},"775 51-1    P9","Podlahy parketové - vlysy nové ","m2",51.81,null,{"$f":"E208*F208","v":0}]
[null,null,"47,10*1,10",null,51.81]
[{"$f":"A208+1","v":79},"998 77-5104.R00","Přesun hmot pro podlahy vlysové, výšky do 36 m ","t",0.89800000000000002,null,{"$f":"E210*F210","v":0}]
["Díl:","776","Podlahy povlakové",null,null,null,{"$f":"SUBTOTAL(9,G212:G216)","v":0}]
[{"$f":"A210+1","v":80},"776 57-21","Lepení povlakových podlah z pásů textilních vč. zátěžového antistatického koberce","m2",51.81,null,{"$f":"E212*F212","v":0}]
[null,null,";koberec zespodu opatřengumovou vrstvou",null,0]
[null,null,";vč.olištování dubovými lištami",null,0]
[null,null,"47,10*1,10",null,51.81]
[{"$f":"A212+1","v":81},"998 77-6104.R00","Přesun hmot pro podlahy povlakové, výšky do 36 m ","t",0.03,null,{"$f":"E216*F216","v":0}]
["Díl:",781,"Obklady keramické",null,null,null,{"$f":"SUBTOTAL(9,G218:G225)","v":0}]
[{"$f":"A216+1","v":82},"781 10-1210.RT1","Penetrace podkladu pod obklady penetrační nátěr Primer G","m2",40.920499999999997,null,{"$f":"E218*F218","v":0}]
[null,null,"504:(1,365+2,50)*2*2,10-0,70*2,00",null,14.833]
[null,null,"505:(0,60+3,40+1,50)*1,45",null,7.9749999999999996]
[null,null,"508:(1,00+2,80+1,45)*1,45",null,7.6124999999999998]
[null,null,"510a:(2,175+1,15)*2*2,00-0,70*2,00*2",null,10.5]
[{"$f":"A218+1","v":83},"781 47-512","Obklad vnitřní keramický do tmele vč.rohových a koutových lišt na sraz vč.dodávky obkladu","m2",45.012599999999999,null,{"$f":"E223*F223","v":0}]
[null,null,"40,9205*1,10",null,45.012599999999999]
[{"$f":"A223+1","v":84},"998 78-1104.R00","Přesun hmot pro obklady keramické, výšky do 36 m ","t",0.86,null,{"$f":"E225*F225","v":0}]
["Díl:",782,"Konstrukce z přírodního kamene",null,null,null,{"$f":"SUBTOTAL(9,G227:G230)","v":0}]
[{"$f":"A225+1","v":85},"782      Kp/7a","Ostění a parapet oken 1650/2345 mm - ryolit repase - očištění, vytmelení a přebrouš.impregnace","ks",2,null,{"$f":"E227*F227","v":0}]
[{"$f":"A227+1","v":86},"782      Kp/7c","Ostění a parapet oken 4550/2345 mm - ryolit repase - očištění, vytmelení a přebrouš.impregnace","ks",1,null,{"$f":"E228*F228","v":0}]
[null,"poznámka 1","Konstrukce z přír.kamene jsou kompletní výrobky dle popisu v tabulkách"," "]
[null,"poznámka 2","Konstrukce z přír.kamene jsou vč.přesunu hmot "," "]
["Díl:",784,"Malby",null,null,null,{"$f":"SUBTOTAL(9,G232:G233)","v":0}]
[{"$f":"A228+1","v":87},"784 45-0030","Malba ze směsi , penetrace 1x, bílá 2x ","m2",309.48,null,{"$f":"E232*F232","v":0}]
[null,null,309.48,null,309.48]
["Díl:",40,"Podhledy",null,null,null,{"$f":"SUBTOTAL(9,G235:G238)","v":0}]
[{"$f":"A232+1","v":88},"40            A","Snížený strop - sádrokartonový podhled ","m2",74,null,{"$f":"E235*F235","v":0}]
[null,null,";5.patro",null,0]
[null,null,"5,80+3,50+11,80+26,30+15,00+8,90+2,70",null,74]
[{"$f":"A235+1","v":89},"40           ","Přístupová dvířka k slaboproudým rozvodům D+M 500/500 mm  poz.8","kpl.",1,null,{"$f":"E238*F238","v":0}]

{"sheet":"23_SO 09 - Silnoproud","index":26,"n_rows":108,"n_cols":9,"rows_kept":108,"cut":false,"hidden":false,"merged":[[26,1,26,2],[26,3,26,4],[26,5,26,6],[26,7,26,8],[4,0,4,8],[24,1,24,2],[24,3,24,4],[24,5,24,6],[24,7,24,8],[27,1,27,2],[27,3,27,4],[27,5,27,6],[27,7,27,8],[28,1,28,2],[28,3,28,4],[28,5,28,6],[28,7,28,8],[29,1,29,2],[29,3,29,4],[29,5,29,6],[29,7,29,8],[30,1,30,2],[30,3,30,4],[30,5,30,6],[30,7,30,8],[31,1,31,2],[31,3,31,4],[31,5,31,6],[31,7,31,8],[33,7,33,8],[36,0,36,8],[39,5,39,6],[39,7,39,8],[41,5,41,6],[41,7,41,8],[97,5,97,6],[97,7,97,8],[102,5,102,6],[102,7,102,8],[62,5,62,6],[62,7,62,8],[82,5,82,6],[82,7,82,8],[89,5,89,6],[89,7,89,8]]}
[{"$f":"CONCATENATE('Rekapitulace stavby'!C81,\"_\",'Rekapitulace stavby'!I81)","v":"23_SO 09 - Silnoproudá elektroinstalace "}]
[]
["SPECIFIKACE DODÁVEK A PRACÍ "]
["Název akce:"]
[{"$f":"'Identifikační údaje'!B1","v":"ČRo Brno – III. etapa rekonstrukce budovy Beethovenova 25/4"}]
[]
["Zadavatel:",null,{"$f":"'Identifikační údaje'!E7","v":"Český rozhlas, Vinohradská 12, 120 99 Praha 2"}]
[null,"IČ:",{"$f":"'Identifikační údaje'!B9","v":45245053}]
[null,"DIČ:",{"$f":"'Identifikační údaje'!B10","v":"CZ45245053"}]
[]
["Projektant:",null,{"$f":"'Identifikační údaje'!E12","v":"Ing. arch. Klement Miloš, Nejedlého 381/19, 638 00 Brno - Lesná"}]
[null,"IČ:",{"$f":"'Identifikační údaje'!B14","v":15188736}]
[null,"DIČ:",{"$f":"'Identifikační údaje'!B15","v":"CZ6101021344"}]
[]
["Uchazeč:",null,{"$f":"'Identifikační údaje'!E19","v":", ,  "}]
[null,"IČ:",{"$f":"'Identifikační údaje'!B23","v":0}]
[null,"DIČ:",{"$f":"'Identifikační údaje'!B24","v":0}]
[]
["Místo stavby:",null,{"$f":"'Identifikační údaje'!B3","v":"Budova Českého rozhlasu Brno na adrese Beethovenova 25/4, 657 42 Brno"}]
[]
["Datum:",null,{"$f":"'Identifikační údaje'!B5","v":"00:00:00"}]
[]
[{"$f":"CONCATENATE(\"REKAPITULACE DODÁVEK A PRACÍ OBJEKTU \",'Rekapitulace stavby'!I81)","v":"REKAPITULACE DODÁVEK A PRACÍ OBJEKTU SO 09 - Silnoproudá elektroinstalace "}]
[]
["P.č.","Ozn.",null,"Materiál celkem",null,"Montáž celkem",null,"M+M celkem"]
[]
[{"$f":"B42","v":"A."},{"$f":"C42","v":"Svítidla a příslušenství"},null,{"$f":"F42","v":0},null,{"$f":"H42","v":0},null,{"$f":"D27+F27","v":0}]
[{"$f":"B63","v":"B."},{"$f":"C63","v":"Spínače, zásuvky a ostatní přístroje "},null,{"$f":"F63","v":0},null,{"$f":"H63","v":0},null,0]
[{"$f":"B83","v":"C."},{"$f":"C83","v":"Instalační, úložný a ochranný materiál"},null,{"$f":"F83","v":0},null,{"$f":"H83","v":0},null,0]
[{"$f":"B90","v":"D."},{"$f":"C90","v":"Kabely a vodiče"},null,{"$f":"F90","v":0},null,{"$f":"H90","v":0},null,0]
[{"$f":"B98","v":"E."},{"$f":"C98","v":"Pospojování, uzemnění"},null,{"$f":"F98","v":0},null,{"$f":"H98","v":0},null,0]
[{"$f":"B103","v":"F."},{"$f":"C103","v":"Ostatní"},null,{"$f":"F103","v":0},null,{"$f":"H103","v":0},null,0]
[]
[{"$f":"CONCATENATE(\"CELKEM ZA OBJEKT \",'Rekapitulace stavby'!I81, \" v Kč bez DPH\")","v":"CELKEM ZA OBJEKT SO 09 - Silnoproudá elektroinstalace  v Kč bez DPH"},null,null,null,null,null,null,{"$f":"SUBTOTAL(9,H27:I32)","v":0}]
[]
[]
["Textová, výkresová i tabulková část projektové dokumentace tvoří jeden vzájemně se doplňující a provázaný celek. Jednotliví účastníci výběrového řízení se musí seznámit s projektojektovou dokumentací v návaznosti na soupis prací a na základě těchto informací části díla nacenit. Dále je potřeba při stanovení ceny dle vykázané výměry započítat všechny předpokládané doplňkové prvky a činnosti s touto položkou související tak, aby cena byla kompletní a prvek funkční."]
[]
[1]
[null,null,null,null,null,"Materiál",null,"Montáž"]
["poř.č.","položka","popis položky","MJ","množství","jedn.cena","celkem [Kč]","jedn.cena","celkem [Kč]"]
[null,"A.","Svítidla a příslušenství",null,null,{"$f":"SUBTOTAL(9,G44:G61)","v":0},null,{"$f":"SUBTOTAL(9,I44:I61)","v":0}]
[null,null," (komplet, včetně zdrojů, závěsů, pomocného materiálu, osazení zapojení, vyzkoušení apod.)"]
[1,null,"svítidlo typ A13 - Svítidlo stropní přisazené, bílá barva, difuzor opál, odsazený, Ø 195 mm, v=131 mm, LED 35W, 3000 K, 3000 lm, IP40","ks",1,null,{"$f":"E44*F44","v":0},null,{"$f":"E44*H44","v":0}]
[{"$f":"A44+1","v":2},null,"svítidlo typ A14 - Svítidlo přisazené, bílá  barva, difuzor opál, Ø 340 mm, v=50 mm, LED 30W, 3000 K, 2500 lm, IP54","ks",2,null,{"$f":"E45*F45","v":0},null,{"$f":"E45*H45","v":0}]
[3,null,"svítidlo typ A15 - Svítidlo přisazené, bílá barva, difuzor opál, Ø 320 mm, v=63 mm, LED 21W, 3000 K, 1300 lm","ks",4,null,0,null,{"$f":"E46*H46","v":0}]
[4,null,"svítidlo typ A16 - Svítidlo přisazené, bílá barva, difuzor opál, Ø 330 mm, v=18 mm,LED 30W, 3000 K, 2300 lm, IP40","ks",3,null,0,null,0]
[5,null,"svítidlo typ A4 - Svítidlo průmyslové, pro zářivku 2x58W, G13, EP","ks",1,null,0,null,0]
[6,null,"svítidlo typ B9","ks",1,null,0,null,0]
[7,null,"svítidlo typ C12-1- Svítidlo vestavné do podhledu SDK, korpus a koncovky AL, bílá barva, difuzor mikroprisma, š=78 mm, l=1424 mm, vestavná hloubka 100 mm, LED 25W, 4000 K, 4350 lm, IP43- profil- difuzor- koncovky- LED- úchyt","ks",1,null,0,null,0]
[8,null,"svítidlo C12-4 - Svítidlo vestavné do podhledu SDK, korpus a koncovky AL, bílá barva, difuzor mikroprisma, š=78 mm, l=864 mm, vestavná hloubka 100 mm, LED 15W, 4000 K, 2745 lm, IP43- profil- difuzor- koncovky- LED- úchyt","ks",1,null,0,null,0]
[9,null,"svítidlo typ C13 - Svítidlo vestavné do podhledu SDK, korpus Al, bílá barva, difuzor opál - odsazený, Ø 110 mm, vestavná hloubka 70 mm, LED SMD 2835, 13W, 3000 K, 925 lm, 90°, IP54","ks",2,null,0,null,0]
[10,null,"svítidlo typ C9 - Svítidlo vestavné do podhledu SDK, bílá barva odsazený opálový difuzor, Ø 175 mm, vestavná hloubka 70 mm, LED 20W, 3000 K, 1700 lm, IP54","ks",3,null,0,null,0]
[11,null,"svítidlo typ D10 - Svítidlo přisazené, bílá barva + sklo mat, 250x250x95 mm, 2xE27, 2x12W max - LED zdroj, E27, 10,5W, 4000 K, 900 lm","ks",3,null,0,null,0]
[12,null,"svítidlo typ D11 - Svítidlo přisazené, antracitová barva + sklo mat, 250x250x95 mm, 2xE27, - LED zdroj, E27, 10,5W, 4000 K, 900 lm","ks",2,null,0,null,0]
[13,null,"svítidlo typ D14 - Svítidlo nástěnné, venkovní, barva antracit, difuzor sklo opál, velikost 90x120x220 mm, svícení direct indirect, LED 11,5W, 3000 K, 1219 lm, IP65","ks",3,null,{"$f":"E56*F56","v":0},null,{"$f":"E56*H56","v":0}]
[14,null,"svítidlo typ D6 - Svítidlo nástěnné, Al+difuzor opál, Ø trubice 42 mm, l=620 mm, pro zářivku 1x14W, G5, EP","ks",1,null,0,null,0]
[15,null,"svítidlo typ D9 - Svítidlo vestavné do podhledu SDK, bílá barva odsazený opálový difuzor, Ø 175 mm, vestavná hloubka 70 mm, LED 20W, 3000 K, 1700 lm, IP54","ks",2,null,0,null,0]
[16,null,"svítidlo typ E2 - Osvětlovací lišta, vestavná do nábytku, Al, š. 22 mm, vestav. hloubka 12 mm,difuzor opál, LED 12V, 12W/m, 3000 K, celková délka 1500 mm","ks",2,null,0,null,0]
[17,null,"svitidlo typ H1 - Svítidlo vestavné do zdi, venkovní, korpus + rámeček Al, barva šedá velikost 75x225 mm, nepřímé (šikmé) svícení, LED 6W, 3000 K, 550 lm, IP65, vč. instalačního boxu","ks",17,null,0,null,0]
[18,null,"NOUZOVÉ OSVĚTLENÍ s připojením k CBS Inotec","ks",3,null,0,null,0]
[]
[null,"B.","Spínače, zásuvky a ostatní přístroje ",null,null,{"$f":"SUBTOTAL(9,G66:G81)","v":0},null,{"$f":"SUBTOTAL(9,I66:I81)","v":0}]
[null,null,"(komplet, včetně příslušenství, pomocného materiálu, osazení, zapojení, vyzkoušení apod.)"]
[null,null,"Návazně na předchozí etapy rekonstrukce budou osaztovány výrobky z řady ABB Time"]
[{"$f":"A61+1","v":19},null,"Domovní spínač řazení 1, komplet","ks",5,null,{"$f":"E66*F66","v":0},null,{"$f":"E66*H66","v":0}]
[20,null,"Domovní spínač řazení 5, komplet ","ks",3,null,{"$f":"E67*F67","v":0},null,{"$f":"E67*H67","v":0}]
[21,null,"Domovní spínač řazení 6, komplet ","ks",8,null,0,null,0]
[22,null,"Domovní spínač řazení 6+6, komplet","ks",2,null,0,null,0]
[23,null,"Domovní spínač řazení 7, komplet ","ks",1,null,0,null,0]
[24,null,"Domovní zásuvka 230V 16A,napájení z trafa  komplet","ks",33,null,0,null,0]
[25,null,"Napojení sporáku (varné desky) přes odbočnou krabici KO100","ks",2,null,0,null,0]
[26,null,"Spínač do vlhka řazení 1, komplet","ks",3,null,{"$f":"E73*F73","v":0},null,{"$f":"E73*H73","v":0}]
[27,null,"Spínač do vlhka řazení 5, komplet ","ks",2,null,0,null,0]
[28,null,"Spínač do vlhka řazení 6, komplet ","ks",2,null,0,null,0]
[29,null,"Zásuvka do vlhka 230V 16A,napájení z trafa  komplet","ks",6,null,0,null,0]
[30,null,"Napojení termostatu UT","ks",1,null,0,null,0]
[31,null,"Napojení VZT zařízení 400V, dle montážního návodu ","ks",7,null,0,null,0]
[32,null,"Napojení VZT zařízení 230V, dle montážního návodu ","ks",1,null,0,null,0]
[33,null,"Napojení SLP zařízení 230V, dle montážního návodu ","ks",1,null,0,null,0]
[34,null,"Napojení vyhřívané střešní vpusti přes krabici pod stropem\n","ks",9,null,0,null,0]
[]
[null,"C.","Instalační, úložný a ochranný materiál",null,null,{"$f":"SUBTOTAL(9,G84:G88)","v":0},null,{"$f":"SUBTOTAL(9,I83:I88)","v":0}]
[null,null," (komplet, včetně příslušenství, pomocného materiálu, výkopu, záhozu výkopu, vytyčení trasy, osazení, zapojení, vyzkoušení apod.)"]
[{"$f":"A81+1","v":35},null,"Krabice přístrojová","ks",52,null,{"$f":"E85*F85","v":0},null,{"$f":"E85*H85","v":0}]
[{"$f":"A85+1","v":36},null,"Krabice odbočná včetně wago svorek","ks",30,null,{"$f":"E86*F86","v":0},null,{"$f":"E86*H86","v":0}]
[{"$f":"A86+1","v":37},null,"Kabelový drátový žlab 200x100 včetně příslušenství a závěsů","m",30,null,{"$f":"E87*F87","v":0},null,{"$f":"E87*H87","v":0}]
[{"$f":"A87+1","v":38},null,"Krabice odbočná včetně wago svorek s funkční schopností při požáru","ks",3,null,{"$f":"E88*F88","v":0},null,{"$f":"E88*H88","v":0}]
[]
[null,"D.","Kabely a vodiče",null,null,{"$f":"SUBTOTAL(9,G91:G96)","v":0},null,{"$f":"SUBTOTAL(9,I90:I96)","v":0}]
[null,null,"(komplet, včetně vyhotovení drážky, zapravení drážky, vytyčení trasy, pomocného materiálu, příchytek, spojek, odlehčovacích oblouků, zapojení, vyzkoušení apod.)"]
[{"$f":"A88+1","v":39},null,"CYKY J 3x1,5","m",400,null,{"$f":"E92*F92","v":0},null,{"$f":"E92*H92","v":0}]
[{"$f":"A92+1","v":40},null,"CYKY J 3x2,5","m",250,null,{"$f":"E93*F93","v":0},null,{"$f":"E93*H93","v":0}]
[{"$f":"A93+1","v":41},null,"CYKY J 5x2,5","m",350,null,{"$f":"E94*F94","v":0},null,{"$f":"E94*H94","v":0}]
[{"$f":"A94+1","v":42},null,"CYKY O 3x1,5","m",50,null,{"$f":"E95*F95","v":0},null,{"$f":"E95*H95","v":0}]
[{"$f":"A95+1","v":43},null,"Rozvody pro NO kabel s funkční schopností P60R -O 3x1,5  B2CAS1D0","m",25,null,{"$f":"E96*F96","v":0},null,{"$f":"E96*H96","v":0}]
[]
[null,"E.","Pospojování, uzemnění",null,null,{"$f":"SUBTOTAL(9,G99:G100)","v":0},null,{"$f":"SUBTOTAL(9,I98:I100)","v":0}]
[null,null,"(komplet, včetně příslušenství, svorek, pomocného materiálu, osazení, zapojení, vyzkoušení apod.) "]
[{"$f":"A96+1","v":44},null,"Vodič CYA4 žlutozelený včetně svorek - doplňkové pospojení","m",50,null,{"$f":"E100*F100","v":0},null,{"$f":"E100*H100","v":0}]
[]
[]
[null,"F.","Ostatní",null,null,{"$f":"SUBTOTAL(9,G104:G108)","v":0},null,{"$f":"SUBTOTAL(9,I103:I108)","v":0}]
[{"$f":"A100+1","v":45},null,"Výchozí revize","hod",20,null,{"$f":"E104*F104","v":0},null,{"$f":"E104*H104","v":0}]
[{"$f":"A104+1","v":46},null,"Demontáže včetně likvidace odpadu","hod",100,null,{"$f":"E105*F105","v":0},null,{"$f":"E105*H105","v":0}]
[{"$f":"A105+1","v":47},null,"Pomocný a podružný materiál upevňovací","kpl",1,null,{"$f":"E106*F106","v":0},null,{"$f":"E106*H106","v":0}]
[{"$f":"A106+1","v":48},null,"Zednické výpomoci (PPV)","kpl",1," ---"," ---",null,{"$f":"E107*H107","v":0}]
[{"$f":"A107+1","v":49},null,"Doprava materiálu","kpl",1," ---"," ---",null,{"$f":"E108*H108","v":0}]

{"sheet":"24_SO 09 - VZT","index":27,"n_rows":69,"n_cols":10,"rows_kept":69,"cut":false,"hidden":false,"merged":[[16,9,19,9],[17,5,17,6],[17,7,17,8],[18,3,19,3],[18,4,19,4],[16,0,19,0],[16,1,19,1],[16,2,19,2],[16,3,17,4],[16,5,16,8],[24,0,24,9],[35,0,35,1],[35,7,35,9],[49,0,52,0],[49,1,52,1],[49,2,52,2],[49,3,50,4],[49,5,49,8],[49,9,52,9],[51,3,52,3],[51,4,52,4],[58,0,58,4],[58,5,58,6],[61,0,64,0],[61,1,64,1],[61,2,64,2],[61,3,62,4],[61,5,61,8],[61,9,64,9],[63,3,64,3],[63,4,64,4],[68,0,68,4],[68,5,68,6]]}
[{"$f":"CONCATENATE('Rekapitulace stavby'!C82,\"_\",'Rekapitulace stavby'!I82)","v":"24_SO 09 - Vzduchotechnika a chlazení"}]
[]
["SPECIFIKACE DODÁVEK A PRACÍ "]
["Název akce:"]
[{"$f":"'Identifikační údaje'!B1","v":"ČRo Brno – III. etapa rekonstrukce budovy Beethovenova 25/4"}]
[]
["Zadavatel:",null,{"$f":"'Identifikační údaje'!E7","v":"Český rozhlas, Vinohradská 12, 120 99 Praha 2"},"Projektant:",null,{"$f":"'Identifikační údaje'!E12","v":"Ing. arch. Klement Miloš, Nejedlého 381/19, 638 00 Brno - Lesná"}]
[null,"IČ",{"$f":"'Identifikační údaje'!B9","v":45245053},null,"IČ",{"$f":"'Identifikační údaje'!B14","v":15188736}]
[null,"DIČ",{"$f":"'Identifikační údaje'!B10","v":"CZ45245053"},null,"DIČ",{"$f":"'Identifikační údaje'!B15","v":"CZ6101021344"}]
[]
["Uchazeč:",null,{"$f":"'Identifikační údaje'!E19","v":", ,  "},"Místo stavby:",null,{"$f":"'Identifikační údaje'!B3","v":"Budova Českého rozhlasu Brno na adrese Beethovenova 25/4, 657 42 Brno"}]
[null,"IČ",{"$f":"'Identifikační údaje'!B23","v":0}]
[null,"DIČ",{"$f":"'Identifikační údaje'!B24","v":0}]
[]
["Datum:",null,{"$f":"'Identifikační údaje'!B5","v":"00:00:00"}]
[]
["P.Č.","Č.Z"," Popis položky:","Měrná jednotka",null,"Cena",null,null,null,"Poznámka"]
[null,null,null,null,null,"Jednotková",null,"Celkem"]
[null,null,null,"-","počet","Dodávka","Montáž","Dodávka","Montáž"]
[null,null,null,null,null,"[ Kč ]","[ Kč ]","[ Kč ]","[ Kč ]"]
[null,null,{"$f":"CONCATENATE(\"REKAPITULACE OBJEKTU  \",'Rekapitulace stavby'!I82)","v":"REKAPITULACE OBJEKTU  SO 09 - Vzduchotechnika a chlazení"}]
[1,"10.1",{"$f":"C54","v":"Zařízení č.10 - Chlazení místností 5.patra - místnosti 506,507"},"kpl",1," - "," - ",{"$f":"H59","v":0},{"$f":"I59","v":0},"-"]
[{"$f":"A22+1","v":2},"15.1",{"$f":"C66","v":"Zařízení č.15 - Větrání kuchyněk"},"kpl",2," - "," - ",{"$f":"H69","v":0},{"$f":"I69","v":0},"-"]
[null,null,"Mezisoučet",null,null,null,null,{"$f":"SUM(H22:H23)","v":0},{"$f":"SUM(I22:I23)","v":0},"Kč bez DPH"]
[]
[{"$f":"A23+1","v":3},"-","Protipožární ucpávky","ks",7,null,null,{"$f":"E26*F26","v":0},{"$f":"E26*G26","v":0},"-"]
[{"$f":"A26+1","v":4},"-","Materiál pro spoje, montáž, závěsy, atd.","kpl",1,null,null,{"$f":"E27*F27","v":0},{"$f":"E27*G27","v":0},"-"]
[{"$f":"A27+1","v":5},"-","Doprava","kpl",1," - ",null," - ",{"$f":"E28*G28","v":0},"-"]
[6,"-","Přesuny","kpl",1," - ",null," - ",0,"-"]
[7,"-","Uvedení do provozu, zaregulování, vyzkoušení, předávací řízení","kpl",1," - ",null," - ",0,"-"]
[8,"-","Inženýrská a koordinační činnost","kpl",1," - ",null," - ",0,"-"]
[9,"-","Prováděcí a výrobní projektová dokumentace","kpl",1," - ",null," - ",0,"-"]
[10,"-","Dokumentace konečného provedení, návody, atesty, prohlášení o shodě","kpl",1," - ",null," - ",0,"-"]
[null,null,"Mezisoučet",null,null,null,null,{"$f":"SUM(H26:H33)","v":0},{"$f":"SUM(I26:I33)","v":0},"Kč bez DPH"]
[]
["CELKEM D+M",null,{"$f":"CONCATENATE(\"OBJEKT \",'Rekapitulace stavby'!I82,\" v Kč bez DPH\")","v":"OBJEKT SO 09 - Vzduchotechnika a chlazení v Kč bez DPH"},null,null,null,null,{"$f":"H24+H34+I24+I34","v":0}]
[]
[]
[]
[]
[]
[]
[]
[]
[]
[]
[]
[]
[]
["P.Č.","Č.P."," Popis položky:","Měrná jednotka",null,"Cena",null,null,null,"Poznámka"]
[null,null,null,null,null,"Jednotková cena",null,"Celková cena"]
[null,null,null,"-","počet","Dodávka","Montáž","Dodávka","Montáž"]
[null,null,null,null,null,"[ Kč ]","[ Kč ]","[ Kč ]","[ Kč ]"]
[null,null,"Zařízení č.10 - Chlazení místností 5.patra - místnosti 506,507"]
[{"$f":"A33+1","v":11},"10.1","Venkovní kondenzační jednotka - referenční výrobek LG MU3M21 UE3","ks",1,null,null,{"$f":"E55*F55","v":0},{"$f":"E55*G55","v":0}]
[{"$f":"A55+1","v":12},null,"Nástěnná jednotka Standard - referenční výrobek LG MS09SQ NBO včetně infraovladače","ks",1,null,null,{"$f":"E56*F56","v":0},{"$f":"E56*G56","v":0}]
[{"$f":"A56+1","v":13},null,"Nástěnná jednotka Standard - referenční výrobek LG MS15SQ NBO včetně infraovladače","ks",1,null,null,{"$f":"E57*F57","v":0},{"$f":"E57*G57","v":0}]
[{"$f":"A57+1","v":14},null,"Předizolované Cu potrubí včetně prodrátování a zalištování","ks",25,null,null,{"$f":"E58*F58","v":0},{"$f":"E58*G58","v":0}]
[{"$f":"CONCATENATE(C54,\" - celkem\")","v":"Zařízení č.10 - Chlazení místností 5.patra - místnosti 506,507 - celkem"},null,null,null,null,null,null,{"$f":"SUM(H55:H58)","v":0},{"$f":"SUM(I55:I58)","v":0},"bez DPH"]
[]
[]
["P.Č.","Č.P."," Popis položky:","Měrná jednotka",null,"Cena",null,null,null,"Poznámka"]
[null,null,null,null,null,"Jednotková cena",null,"Celková cena"]
[null,null,null,"-","počet","Dodávka","Montáž","Dodávka","Montáž"]
[null,null,null,null,null,"[ Kč ]","[ Kč ]","[ Kč ]","[ Kč ]"]
[null,null,"Zařízení č.15 - Větrání kuchyněk"]
[{"$f":"A58+1","v":15},"15.1","Digestoř Mora  OP 612 W","ks",1,null,null,{"$f":"E67*F67","v":0},{"$f":"E67*G67","v":0}]
[{"$f":"A67+1","v":16},null,"Trouba SPIRO - 125 - včetně tvarovek","bm",4,null,null,{"$f":"E68*F68","v":0},{"$f":"E68*G68","v":0}]
[{"$f":"CONCATENATE(C66,\" - celkem\")","v":"Zařízení č.15 - Větrání kuchyněk - celkem"},null,null,null,null,null,null,{"$f":"SUM(H67:H68)","v":0},{"$f":"SUM(I67:I68)","v":0},"bez DPH"]

{"sheet":"25_SO 09 - Střecha","index":28,"n_rows":290,"n_cols":7,"rows_kept":290,"cut":false,"hidden":false,"merged":[[24,3,24,6],[25,2,25,6],[40,3,40,6],[48,2,48,6]]}
[{"$f":"CONCATENATE('Rekapitulace stavby'!C83,\"_\",'Rekapitulace stavby'!I83)","v":"25_SO 09 - Střecha"}]
[]
["SPECIFIKACE DODÁVEK A PRACÍ "]
["Název akce:"]
[{"$f":"'Identifikační údaje'!B1","v":"ČRo Brno – III. etapa rekonstrukce budovy Beethovenova 25/4"}]
[]
["Zadavatel:",null,{"$f":"'Identifikační údaje'!E7","v":"Český rozhlas, Vinohradská 12, 120 99 Praha 2"}]
[null,"IČ:",{"$f":"'Identifikační údaje'!B9","v":45245053}]
[null,"DIČ:",{"$f":"'Identifikační údaje'!B10","v":"CZ45245053"}]
[]
["Projektant:",null,{"$f":"'Identifikační údaje'!E12","v":"Ing. arch. Klement Miloš, Nejedlého 381/19, 638 00 Brno - Lesná"}]
[null,"IČ:",{"$f":"'Identifikační údaje'!B14","v":15188736}]
[null,"DIČ:",{"$f":"'Identifikační údaje'!B15","v":"CZ6101021344"}]
[]
["Uchazeč:",null,{"$f":"'Identifikační údaje'!E19","v":", ,  "}]
[null,"IČ:",{"$f":"'Identifikační údaje'!B23","v":0}]
[null,"DIČ:",{"$f":"'Identifikační údaje'!B24","v":0}]
[]
["Místo stavby:",null,{"$f":"'Identifikační údaje'!B3","v":"Budova Českého rozhlasu Brno na adrese Beethovenova 25/4, 657 42 Brno"}]
[]
["Datum vyplnění:",null,{"$f":"'Identifikační údaje'!B5","v":"00:00:00"}]
[]
[{"$f":"CONCATENATE(\"REKAPITULACE DODÁVEK A PRACÍ OBJEKTU \",'Rekapitulace stavby'!I83)","v":"REKAPITULACE DODÁVEK A PRACÍ OBJEKTU SO 09 - Střecha"}]
[]
["P.č.","Číslo položky","Název položky","Kč bez DPH"]
[]
["Díl:",{"$f":"B50","v":"3"},{"$f":"C50","v":"Svislé a kompletní konstrukce"},null,null,null,{"$f":"G50","v":0}]
["Díl:",{"$f":"B53","v":96},{"$f":"C53","v":"Bourání konstrukcí"},null,null,null,{"$f":"G53","v":0}]
["Díl:",{"$f":"B56","v":97},{"$f":"C56","v":"Prorážení otvorů"},null,null,null,{"$f":"G56","v":0}]
["Díl:",{"$f":"B77","v":712},{"$f":"C77","v":"Živičné krytiny"},null,null,null,{"$f":"G77","v":0}]
["Díl:",{"$f":"B161","v":713},{"$f":"C161","v":"Izolace tepelné"},null,null,null,{"$f":"G161","v":0}]
["Díl:",{"$f":"B202","v":720},{"$f":"C202","v":"VZT"},null,null,null,{"$f":"G202","v":0}]
["Díl:",{"$f":"B204","v":721},{"$f":"C204","v":"Vnitřní kanalizace"},null,null,null,{"$f":"G204","v":0}]
["Díl:",{"$f":"B224","v":762},{"$f":"C224","v":"Konstrukce tesařské"},null,null,null,{"$f":"G224","v":0}]
["Díl:",{"$f":"B227","v":764},{"$f":"C227","v":"Konstrukce klempířské"},null,null,null,{"$f":"G227","v":0}]
["Díl:",{"$f":"B257","v":766},{"$f":"C257","v":"Konstrukce truhlářské"},null,null,null,{"$f":"G257","v":0}]
["Díl:",{"$f":"B278","v":767},{"$f":"C278","v":"Konstrukce zámečnické"},null,null,null,{"$f":"G278","v":0}]
["Díl:",{"$f":"B286","v":783},{"$f":"C286","v":"Nátěry"},null,null,null,{"$f":"G286","v":0}]
["Díl:",{"$f":"B289","v":"M21"},{"$f":"C289","v":"Elektromontáže"},null,null,null,{"$f":"G289","v":0}]
[]
[{"$f":"CONCATENATE(\"CELKEM ZA OBJEKT \",'Rekapitulace stavby'!I83, \" v Kč bez DPH\")","v":"CELKEM ZA OBJEKT SO 09 - Střecha v Kč bez DPH"},null,null,{"$f":"SUM(G27:G39)","v":0}]
[]
[]
[]
[]
[]
[]
["P.č.","Číslo položky","Název položky","MJ","množství","cena / MJ","celkem"]
[null,"Ceník, kapitola","Poznámka uchazeče"]
["Díl:","3","Svislé a kompletní konstrukce",null,null,null,{"$f":"SUBTOTAL(9,G51:G52)","v":0}]
[{"$f":"1","v":1},"310271537R00","Zazdívka otvorů do 1m2, pórobet.tvárnice,tl.37,5cm","m3",0.13,null,{"$f":"E51*F51","v":0}]
[null,null,"DET G: : 0,45*0,25*1,1",null,0.13]
["Díl:",96,"Bourání konstrukcí",null,null,null,{"$f":"SUBTOTAL(9,G54:G55)","v":0}]
[{"$f":"A51+1","v":2},"966086341R00","Bourání kvádříků beton. ložné pl. 0,20 m2, H 25 cm","kus",3,null,{"$f":"E54*F54","v":0}]
[{"$f":"A54+1","v":3},"968062245RP0","Vybourání balkonových dveří","m2",2,null,{"$f":"E55*F55","v":0}]
["Díl:",97,"Prorážení otvorů",null,null,null,{"$f":"SUBTOTAL(9,G57:P76)","v":0}]
[{"$f":"A55+1","v":4},"971052351R00","Vybourání otvorů zdi želbet. pl. 0,09 m2, tl. 45cm","kus",1,null,{"$f":"E57*F57","v":0}]
[null,null,"DET F: : 1",null,1]
[{"$f":"A57+1","v":5},"979011111R00","Svislá doprava suti a vybour. hmot za 2.NP a 1.PP","t",25.75,null,{"$f":"E59*F59","v":0}]
[null,null,"(7,379+0,2188+0,632+17,2178+0,296)",null,25.75]
[{"$f":"A59+1","v":6},"979011121R00","Příplatek za každé další podlaží","t",102.98,null,{"$f":"E61*F61","v":0}]
[null,null,"(7,379+0,2188+0,632+17,2178+0,296)*4",null,102.98]
[{"$f":"A61+1","v":7},"979081111R00","Odvoz suti a vybour. hmot na skládku do 1 km","t",25.75,null,{"$f":"E63*F63","v":0}]
[null,null,"(7,379+0,2188+0,632+17,2178+0,296)",null,25.75]
[{"$f":"A63+1","v":8},"979081121R00","Příplatek k odvozu za každý další 1 km","t",489.13,null,{"$f":"E65*F65","v":0}]
[null,null,"(7,379+0,2188+0,632+17,2178+0,296)*19",null,489.13]
[{"$f":"A65+1","v":9},"979082111R00","Vnitrostaveništní doprava suti do 10 m","t",25.75,null,{"$f":"E67*F67","v":0}]
[null,null,"(7,379+0,2188+0,632+17,2178+0,296)",null,25.75]
[{"$f":"A67+1","v":10},"979082121R00","Příplatek k vnitrost. dopravě suti za dalších 5 m","t",77.239999999999995,null,{"$f":"E69*F69","v":0}]
[null,null,"(7,379+0,2188+0,632+17,2178+0,296)*3",null,77.239999999999995]
[{"$f":"A69+1","v":11},"979990144R00","Poplatek za skládku suti - minerální vata","t",7.38,null,{"$f":"E71*F71","v":0}]
[{"$f":"A71+1","v":12},"979990191R00","Poplatek za skládku suti - plastové výrobky","t",0.22,null,{"$f":"E72*F72","v":0}]
[{"$f":"A72+1","v":13},"979990161R00","Poplatek za skládku suti - dřevo","t",0.64,null,{"$f":"E73*F73","v":0}]
[null,null,"0,632",null,0.64]
[{"$f":"A73+1","v":14},"979990121R00","Poplatek za skládku suti - asfaltové pásy","t",17.22,null,{"$f":"E75*F75","v":0}]
[{"$f":"A75+1","v":15},"979990101R00","Poplatek za skládku suti - směs betonu a cihel","t",0.3,null,{"$f":"E76*F76","v":0}]
["Díl:",712,"Živičné krytiny",null,null,null,{"$f":"SUBTOTAL(9,G78:G160)","v":0}]
[{"$f":"A76+1","v":16},"712300833RT3","Odstranění živičné krytiny střech do 10° 3vrstvé, z ploch jednotlivě nad 20 m2","m2",1229.8399999999999,null,{"$f":"E78*F78","v":0}]
[null,null,"S01N: : 392,71*2",null,785.42000000000007]
[null,null,"S02N: : 2*(86,78-1,1*1,1)",null,171.14000000000001]
[null,null,"S03N: : 136,64*2",null,273.28000000000003]
[null,null,"",null,0]
[{"$f":"A78+1","v":17},"712341559RT1","Povlaková krytina střech do 10°, NAIP přitavením, 1 vrstva - materiál ve specifikaci","m2",614.91999999999996,null,{"$f":"E83*F83","v":0}]
[null,null,"S01N: : 392,71",null,392.71000000000004]
[null,null,"S02N: : 86,78-1,1*1,1",null,85.570000000000007]
[null,null,"S03N: : 136,64",null,136.64000000000001]
[{"$f":"A83+1","v":18},"628522534R","Pás modifikovaný asfalt Elastek 50 Garden modrozel","m2",176.3,null,{"$f":"E87*F87","v":0}]
[null,null,"S03N: : 136,64",null,136.64000000000001]
[null,null,"DET D: : (4,9+13,4+10,475+0,45)*(2*0,285)",null,16.66]
[null,null,"ZTRATNÉ: : 153,2983*0,15",null,23]
[{"$f":"A87+1","v":19},"628522530R","Pás modifikovaný asfalt Elastek 40 Firestop modroz","m2",649.64,null,{"$f":"E91*F91","v":0}]
[null,null,"S01N: : 392,71",null,392.71000000000004]
[null,null,"S02N: : 86,78-1,1*1,1",null,85.570000000000007]
[null,null,"",null,0]
[null,null,"DET B: : (24,75+0,625+16,6+24,75)*(0,3*2)",null,40.04]
[null,null,"",null,0]
[null,null,"DET F: : (12,675*2+2*7,5+1,1*4)*(0,355*2)",null,31.78]
[null,null,"UKONČENÍ U STĚNY: : (13,85+10,84)*(0,3*2)",null,14.82]
[null,null,"",null,0]
[null,null,"ZTRATNÉ: : 564,9015*0,15",null,84.74]
[{"$f":"A91+1","v":20},"712351111RT1","Povlaková krytina střech do 10°,samolepicím pásem, 1 vrstva - materiál ve specifikaci","m2",614.91999999999996,null,{"$f":"E101*F101","v":0}]
[null,null,"S01N: : 392,71",null,392.71000000000004]
[null,null,"S02N: : 86,78-1,1*1,1",null,85.570000000000007]
[null,null,"S03N: : 136,64",null,136.64000000000001]
[null,null,"",null,0]
[{"$f":"A101+1","v":21},"628522699R","Pás modif. asfalt samolep Glastek 30 sticker ultra","m2",614.91999999999996,null,{"$f":"E106*F106","v":0}]
[null,null,"S01N: : 392,71",null,392.71000000000004]
[null,null,"S02N: : 86,78-1,1*1,1",null,85.570000000000007]
[null,null,"S03N: : 136,64",null,136.64000000000001]
[null,null,"",null,0]
[{"$f":"A106+1","v":22},"712341659RT1","Povlaková krytina střech do 10°, NAIP bodově, 1 vrstva - materiál ve specifikaci","m2",614.91999999999996,null,{"$f":"E111*F111","v":0}]
[null,null,"S01N: : 392,71",null,392.71000000000004]
[null,null,"S02N: : 86,78-1,1*1,1",null,85.570000000000007]
[null,null,"S03N: : 136,64",null,136.64000000000001]
[null,null,"",null,0]
[{"$f":"A111+1","v":23},"62852265R","Pás modifikovaný asfalt Glastek 40 special mineral","m2",755.14,null,{"$f":"E116*F116","v":0}]
[null,null,"S01N: : 392,71",null,392.71000000000004]
[null,null,"S02N: : 86,78-1,1*1,1",null,85.570000000000007]
[null,null,"S03N: : 136,64",null,136.64000000000001]
[null,null,"",null,0]
[null,null,"DET B: : (24,75+0,625+16,6+24,75)*(0,21)",null,14.02]
[null,null,"DET D: : (4,9+13,4+10,475+0,45)*(0,365)",null,10.67]
[null,null,"DET F: : (12,675*2+2*7,5+1,1*4)*(0,265)",null,11.86]
[null,null,"UKONČENÍ U STĚNY: : (13,85+10,84)*(0,21)",null,5.19]
[null,null,"",null,0]
[null,null,"ZTRATNÉ: : 656,643*0,15",null,98.5]
[{"$f":"A116+1","v":24},"711131311R00","Provedení izolace nopovou fólií vodor, vč. pásky","m2",136.64000000000001,null,{"$f":"E127*F127","v":0}]
[null,null,"S03N: : 136,64",null,136.64000000000001]
[null,null,"",null,0]
[{"$f":"A127+1","v":25},"28323113R","Fólie nopová DEKDREN T20 tl. 1,0 mm š. 2000 mm","m2",136.64000000000001,null,{"$f":"E130*F130","v":0}]
[null,null,"S03N: : 136,64",null,136.64000000000001]
[{"$f":"A130+1","v":26},"712391172RT1","Povlaková krytina střech do 10°, ochran. textilie, 1 vrstva - materiál ve specifikaci","m2",273.28000000000003,null,{"$f":"E132*F132","v":0}]
[null,null,"S03N: : 136,64*2",null,273.28000000000003]
[null,null,"",null,0]
[{"$f":"A132+1","v":27},"69366197R","Geotextilie FILTEK 200 g/m2 š. 200cm 100% PP","m2",157.14000000000001,null,{"$f":"E135*F135","v":0}]
[null,null,"S03N: : 136,64*1,15",null,157.14000000000001]
[{"$f":"A135+1","v":28},"69366198R","Geotextilie FILTEK 300 g/m2 š. 200cm 100% PP","m2",157.14000000000001,null,{"$f":"E137*F137","v":0}]
[null,null,"S03N: : 136,64*1,15",null,157.14000000000001]
[{"$f":"A137+1","v":29},"712841559RT1","Samostatné vytažení izolace, pásy přitavením, 1 vrstva - asf.pás ve specifikaci","m2",145.01,null,{"$f":"E139*F139","v":0}]
[null,null,"DET B: : (24,75+0,625+16,6+24,75)*(0,3*2+0,21)",null,54.050000000000004]
[null,null,"DET D: : (4,9+13,4+10,475+0,45)*(2*0,285+0,365)",null,27.330000000000002]
[null,null,"DET F: : (12,675*2+2*7,5+1,1*4)*(0,355*2+0,265)",null,43.64]
[null,null,"UKONČENÍ U STĚNY: : (13,85+10,84)*(0,3*2+0,21)",null,20]
[null,null,"",null,0]
[{"$f":"A139+1","v":30},"712301101RP0","Rozprostření substrátu, tl. do 10 cm do 500m2","m2",122.32000000000001,null,{"$f":"E145*F145","v":0}]
[null,null,"S03N: : 136,64",null,136.64000000000001]
[null,null,"kacirek: : -0,3*(10,025*2+13,85*2)",null,-14.32]
[{"$f":"A145+1","v":31},"69851478R","Substrát pro suchomilné rostliny DEK RNSO 80","m3",10.08,null,{"$f":"E148*F148","v":0}]
[null,null,"S03N: : 136,64*0,08",null,10.94]
[null,null,"kacirek: : -(0,3*(10,025*2+13,85*2))*0,08",null,-1.1400000000000001]
[null,null,"9,7852*0,03",null,0.3]
[{"$f":"A148+1","v":32},"712391382RT1","Násyp z hrubého kameniva frakce 16 - 22, tl. 5 cm, tl. 5 cm - kamenivo ve specifikaci","m2",14.33,null,{"$f":"E152*F152","v":0}]
[null,null,"kacirek: : 0,3*(10,025*2+13,85*2)",null,14.33]
[{"$f":"A152+1","v":33},"712391482RT1","Příplatek za další 1 cm tloušťky násypu, tl. 1 cm - materiál ve specifikaci","m2",42.980000000000004,null,{"$f":"E154*F154","v":0}]
[null,null,"kacirek: : 0,3*(10,025*2+13,85*2)*3",null,42.980000000000004]
[{"$f":"A154+1","v":34},"58333670R","Kamenivo těžené frakce 16-22 mm kačírek praný, Big bag 1000 kg","kg",1925.28,null,{"$f":"E156*F156","v":0}]
[null,null,"kacirek: : 0,3*(10,025*2+13,85*2)*0,08*1600*1,05",null,1925.28]
[{"$f":"A156+1","v":35},"58333679RR","Kačírková lišta TW KL AL 100","m",50.14,null,{"$f":"E158*F158","v":0}]
[null,null,"kacirek: : (10,025*2+13,85*2)*1,05",null,50.14]
[{"$f":"A158+1","v":36},"998712104R00","Přesun hmot pro povlakové krytiny, výšky do 36 m","t",16.830000000000002,null,{"$f":"E160*F160","v":0}]
["Díl:",713,"Izolace tepelné",null,null,null,{"$f":"SUBTOTAL(9,G162:G201)","v":0}]
[{"$f":"A160+1","v":37},"713100832R00","Odstr. tepelné izolace z min. desek tl. do 200 mm","m2",1229.8399999999999,null,{"$f":"E162*F162","v":0}]
[null,null,"S01N: : 392,71*2",null,785.42000000000007]
[null,null,"S02N: : 2*(86,78-1,1*1,1)",null,171.14000000000001]
[null,null,"S03N: : 136,64*2",null,273.28000000000003]
[null,null,"",null,0]
[{"$f":"A162+1","v":38},"713100824RP0","Odstr. tepelné izolace, křemelin. desky nad 5 cm","m2",614.91999999999996,null,{"$f":"E167*F167","v":0}]
[null,null,"S01N: : 392,71",null,392.71000000000004]
[null,null,"S02N: : 86,78-1,1*1,1",null,85.570000000000007]
[null,null,"S03N: : 136,64",null,136.64000000000001]
[null,null,"",null,0]
[{"$f":"A167+1","v":39},"713141151R00","Izolace tepelná střech kladená na sucho 1vrstvá","m2",614.91999999999996,null,{"$f":"E172*F172","v":0}]
[null,null,"ROZHANKY: : ",null,0]
[null,null,"S01N: : 392,71",null,392.71000000000004]
[null,null,"S02N: : 86,78-1,1*1,1",null,85.570000000000007]
[null,null,"S03N: : 136,64",null,136.64000000000001]
[null,null,"",null,0]
[{"$f":"A172+1","v":40},"28375972R","Deska spádová EPS 150 S Stabil","m3",14.15,null,{"$f":"E178*F178","v":0}]
[null,null,"ROZHANKY-PREDPOKLADANE MNOZSTVI: : 614,92*0,04*0,5*1,15",null,14.15]
[{"$f":"A178+1","v":41},"713141322R00","Izolace tepelná střech do tl.160 mm,2vrstvy,kotvy","m2",614.91999999999996,null,{"$f":"E180*F180","v":0}]
[null,null,"S01N: : 392,71",null,392.71000000000004]
[null,null,"S02N: : 86,78-1,1*1,1",null,85.570000000000007]
[null,null,"S03N: : 136,64",null,136.64000000000001]
[null,null,"",null,0]
[{"$f":"A180+1","v":42},"28376814R","Deska izolační PIR Therma TR26 FM  tl.  70 mm, 2400 x 1200 mm, kašírovaná Al","m2",707.16,null,{"$f":"E185*F185","v":0}]
[null,null,"S01N: : 392,71*1,15",null,451.62]
[null,null,"S02N: : (86,78-1,1*1,1)*1,15",null,98.41]
[null,null,"S03N: : 136,64*1,15",null,157.14000000000001]
[null,null,"",null,0]
[{"$f":"A185+1","v":43},"28376815R","Deska izolační PIR Therma TR26 FM  tl.  80 mm, 2400 x 1200 mm, kašírovaná Al","m2",707.16,null,{"$f":"E190*F190","v":0}]
[null,null,"S01N: : 392,71*1,15",null,451.62]
[null,null,"S02N: : (86,78-1,1*1,1)*1,15",null,98.41]
[null,null,"S03N: : 136,64*1,15",null,157.14000000000001]
[null,null,"",null,0]
[{"$f":"A190+1","v":44},"63152902R","Klín atikový přechodový ISOVER AK 50x50x1000 mm","m",190.20000000000002,null,{"$f":"E195*F195","v":0}]
[null,null,"DET B: : (24,75+0,625+16,6+24,75)",null,66.73]
[null,null,"DET D: : (4,9+13,4+10,475+0,45)",null,29.23]
[null,null,"DET F: : (12,675*2+2*7,5+1,1*4)",null,44.75]
[null,null,"UKONČENÍ U STĚNY: : 13,85+10,84",null,24.69]
[null,null,"ZTRATNÉ: : 165,39*0,15",null,24.810000000000002]
[{"$f":"A195+1","v":45},"998713104R00","Přesun hmot pro izolace tepelné, výšky do 36 m","t",3.61,null,{"$f":"E201*F201","v":0}]
["Díl:",720,"VZT",null,null,null,{"$f":"SUBTOTAL(9,G203)","v":0}]
[{"$f":"A201+1","v":46},"720R01","Demontáž a zpětná montáž venkovních klimatizačních jednotek vč. vypuštění a napuštění chladiva","ks",4,null,{"$f":"E203*F203","v":0}]
["Díl:",721,"Vnitřní kanalizace",null,null,null,{"$f":"SUBTOTAL(9,G205:P223)","v":0}]
[{"$f":"A203+1","v":47},"721234116RT1","Vtok střešní pochůz. střechy, vodor. odtok, živičný pás, nerez mřížka bez el. ohřevu D 75/110","kus",9,null,{"$f":"E205*F205","v":0}]
[{"$f":"A205+1","v":48},"721176114R00","Potrubí HT odpadní svislé D 75 x 1,9 mm","m",18,null,{"$f":"E206*F206","v":0}]
[null,null,"DET A: : 9*2",null,18]
[null,null,"pozn.odhad: : ",null,0]
[{"$f":"A206+1","v":49},"721171803R00","Demontáž potrubí z PVC do D 75 mm","m",18,null,{"$f":"E209*F209","v":0}]
[null,null,"DET A: : 9*2",null,18]
[null,null,"pozn.odhad: : ",null,0]
[null,null,"",null,0]
[{"$f":"A209+1","v":50},"721210823R00","Demontáž střešní vpusti ","kus",9,null,{"$f":"E213*F213","v":0}]
[{"$f":"A213+1","v":51},"721-48222RP","Přepad pojistný kulatý s asf. manžetou TWPP 75 BIT","kus",1,null,{"$f":"E214*F214","v":0}]
[null,null,"DET F: : 1",null,1]
[{"$f":"A214+1","v":52},"95003","Vložkování litinového dešťového odpadního potrubí DN 125 délky 31 m pleteninovým rukávcem syceným epoxidovou pryskyřicí. Součástí této položky je i vložkování pleteninovým rukávcem syceným epoxidovou pryskyřicí 2 m ležatého svodného potrubí za patou odpadního potrubí a ukončení vložkování v úrovni střechy s napojením na nové potrubí od nového střešního vtoku Součástí položky je rovněž zprovoznění stávající čisticí tvarovky v suterénu, jejíž víko nelze z důvodu koroze a zakrytí omítkou demontovat. Je tedy třeba provést opatrné obnažení víka čisticí tvarovky a zednické začištění otvoru (zámečnická demontáž víka čisticí tvarovky, očištění víka vč. odstranění koroze a provedení zámečnické úpravy čisticí tvarovky tak, aby mohlo být připevněno pomocí šroubů zpět na čistící tvarovku).\n","ks",6,null,{"$f":"E216*F216","v":0}]
[{"$f":"A216+1","v":53},"95004","Vložkování litinového dešťového odpadního potrubí DN 125 délky 35 m pleteninovým rukávcem syceným epoxidovou pryskyřicí. Součástí této položky je i vložkování pleteninovým rukávcem syceným epoxidovou pryskyřicí 2 m ležatého svodného potrubí za patou odpadního potrubí a ukončení vložkování v úrovni střechy s napojením na nové potrubí od nového střešního vtoku Součástí položky je rovněž zprovoznění stávající čisticí tvarovky v suterénu, jejíž víko nelze z důvodu koroze a zakrytí omítkou demontovat. Je tedy třeba provést opatrné obnažení víka čisticí tvarovky a zednické začištění otvoru (zámečnická demontáž víka čisticí tvarovky, očištění víka vč. odstranění koroze a provedení zámečnické úpravy čisticí tvarovky tak, aby mohlo být připevněno pomocí šroubů zpět na čistící tvarovku).","ks",1,null,0]
[54,"95005","Potrubí PP HT DN125mm","m",14,null,0]
[55,"95006","Střešní vtok plastový s košíkem pro zachycení nečistot","soub.",8,null,0]
[56,"95007","Demontáž stávajícího střešního vtoku","soub.",8,null,0]
[57,"95008","Demontáž potrubí z ocel.plechu DN125mm ","m",11,null,0]
[58,"95009","Odvoz demontovaného materiálu","kpl.",1,null,0]
[59,"998721104R00","Přesun hmot pro vnitřní kanalizaci, výšky do 36 m","t",0.04,null,0]
["Díl:",762,"Konstrukce tesařské",null,null,null,{"$f":"SUBTOTAL(9,G225:G226)","v":0}]
[{"$f":"A223+1","v":60},"762522812RP1","Demontáž terasy z prken","m2",21.07,null,{"$f":"E225*F225","v":0}]
[null,null,"stávající terasa: : 5,3*3,975",null,21.07]
["Díl:",764,"Konstrukce klempířské",null,null,null,{"$f":"SUBTOTAL(9,G228:G256)","v":0}]
[{"$f":"A225+1","v":61},"764430810R00","Demontáž oplechování zdí, rš do 250 mm","m",165.39000000000001,null,{"$f":"E228*F228","v":0}]
[null,null,"DET B: : (24,75+0,625+16,6+24,75)",null,66.73]
[null,null,"DET D: : (4,9+13,4+10,475+0,45)",null,29.23]
[null,null,"DET F: : (12,675*2+2*7,5+1,1*4)",null,44.75]
[null,null,"UKONČENÍ U STĚNY: : 13,85+10,84",null,24.69]
[null,null,"",null,0]
[null,null,"",null,0]
[{"$f":"A228+1","v":62},"764345841R00","Demontáž ventilačních nástavců D do 200 mm, do 30°","kus",11,null,{"$f":"E235*F235","v":0}]
[null,null,"11",null,11]
[{"$f":"A235+1","v":63},"764430209RP0","Oplechování zdí z Pz plechu, pásek rš 70 mm","m",145.01,null,{"$f":"E237*F237","v":0}]
[null,null,"K2: : ",null,0]
[null,null,"DET B: : (24,75+0,625+16,6+24,75)*(0,3*2+0,21)",null,54.050000000000004]
[null,null,"DET D: : (4,9+13,4+10,475+0,45)*(2*0,285+0,365)",null,27.330000000000002]
[null,null,"DET F: : (12,675*2+2*7,5+1,1*4)*(0,355*2+0,265)",null,43.64]
[null,null,"UKONČENÍ U STĚNY: : (13,85+10,84)*(0,3*2+0,21)",null,20]
[null,null,"",null,0]
[{"$f":"A237+1","v":64},"764430210R00","Oplechování zdí z Pz plechu, rš 250 mm","m",20,null,{"$f":"E244*F244","v":0}]
[null,null,"K5: : ",null,0]
[null,null,"UKONČENÍ U STĚNY: : (13,85+10,84)*(0,3*2+0,21)",null,20]
[null,null,"",null,0]
[{"$f":"A244+1","v":65},"764430220R00","Oplechování zdí z Pz plechu, rš 330 mm","m",145.01,null,{"$f":"E248*F248","v":0}]
[null,null,"K6: : ",null,0]
[null,null,"DET B: : (24,75+0,625+16,6+24,75)*(0,3*2+0,21)",null,54.050000000000004]
[null,null,"K1: : ",null,0]
[null,null,"DET D: : (4,9+13,4+10,475+0,45)*(2*0,285+0,365)",null,27.330000000000002]
[null,null,"DET F: : (12,675*2+2*7,5+1,1*4)*(0,355*2+0,265)",null,43.64]
[null,null,"UKONČENÍ U STĚNY: : (13,85+10,84)*(0,3*2+0,21)",null,20]
[null,null,"",null,0]
[{"$f":"A248+1","v":66},"998764104R00","Přesun hmot pro klempířské konstr., výšky do 36 m","t",0.99,null,{"$f":"E256*F256","v":0}]
["Díl:",766,"Konstrukce truhlářské",null,null,null,{"$f":"SUBTOTAL(9,G258:G278)","v":0}]
[{"$f":"A256+1","v":67},"766441111RP0","Položení podlahy teras z prken, na podkladní rošt, rošt uložen na rektifikační podložky","m2",392.71000000000004,null,{"$f":"E258*F258","v":0}]
[null,null,"S01N: : 392,71",null,392.71000000000004]
[{"$f":"A258+1","v":68},"766711001R00","Montáž oken a balkonových dveří s vypěněním","m",5.4,null,{"$f":"E260*F260","v":0}]
[null,null,"1,1*2+1,6*2",null,5.4]
[{"$f":"A260+1","v":69},"611981852R","Prkno terasové dřevěné Borovice zelená 26x146 mm, impregnace, na pohledové straně jemně drážkované","m2",431.99,null,{"$f":"E262*F262","v":0}]
[null,null,"S01N: : 392,71*1,1",null,431.99]
[null,null,"pozn.prkno upřesnit dle specifikace architekta: : ",null,0]
[{"$f":"A262+1","v":70},"28645136R","Dveře plastové 1100 x 1600 mm","kus",1,null,{"$f":"E265*F265","v":0}]
[{"$f":"A265+1","v":71},"611981999R","Rektifikační podložka, typ dle architekta","kus",1178.1300000000001,null,{"$f":"E266*F266","v":0}]
[null,null,"S01N: : 392,71*3",null,1178.1300000000001]
[null,null,"uvažováno 3ks/m2 - upřesnit dle kladecího plánu terasy: : ",null,0]
[{"$f":"A266+1","v":72},"553427500RP","Podkladový hliníkový profil 9522 50x50 mm","m",589.07000000000005,null,{"$f":"E269*F269","v":0}]
[null,null,"S01N: : 392,71*1,5",null,589.07000000000005]
[null,null,"uvažováno 1,5bm/m2 - upřesnit dle kladecího plánu terasy: : ",null,0]
[null,null,"",null,0]
[{"$f":"A269+1","v":73},"553427500RP","Profil hliníkový boční krycí","bm",77.62,null,{"$f":"E273*F273","v":0}]
[null,null,"DET B: : (24,75+0,625+16,6+24,75)*1,03",null,68.73]
[null,null,"DET C: : 5,125*1,03",null,5.28]
[null,null,"DET E: : (1,2*2+1,1)*1,03",null,3.61]
[{"$f":"A273+1","v":74},"998766104R00","Přesun hmot pro truhlářské konstr., výšky do 36 m","t",6.15,null,{"$f":"E277*F277","v":0}]
["Díl:",767,"Konstrukce zámečnické",null,null,null,{"$f":"SUBTOTAL(9,G279:G285)","v":0}]
[{"$f":"A277+1","v":75},"767R01","Demontáž a montáž konstrukcí vysílače vždy za součinnosti společnosti Česká telekomunikační infrastruktura a.s. (CETIN)","ks",6,null,{"$f":"E279*F279","v":0}]
[{"$f":"A279+1","v":76},"767-982001RP","Pororošt - dodávka a montáž","m2",1.52,null,{"$f":"E280*F280","v":0}]
[null,null,"1,1*1,2*1,15",null,1.52]
[{"$f":"A280+1","v":77},"767-17135R","Profil L nerovnoramenný 70x50x3x1100 mm FeZn, dodávka a montáž","kus",1,null,{"$f":"E282*F282","v":0}]
[null,null,"K4: : 1",null,1]
[{"$f":"A282+1","v":78},"767-20103RP","Nerezový profil rš 125 mm, dodávka a montáž","kus",1,null,{"$f":"E284*F284","v":0}]
[{"$f":"A284+1","v":79},"998767104R00","Přesun hmot pro zámečnické konstr., výšky do 36 m","t",0.02,null,{"$f":"E285*F285","v":0}]
["Díl:",783,"Nátěry",null,null,null,{"$f":"SUBTOTAL(9,G287:G287)","v":0}]
[{"$f":"A285+1","v":80},"783614200R00","Nátěr olejový truhlář.výrobků 2x+1x email","m2",785.42000000000007,null,{"$f":"E287*F287","v":0}]
[null,null,"S01N: : 392,71*2",null,785.42000000000007]
["Díl:","M21","Elektromontáže",null,null,null,{"$f":"SUBTOTAL(9,G290:G290)","v":0}]
[{"$f":"A287+1","v":81},"M21R01","Demontáž a zpětná montáž vysílače vždy za součinnosti společnosti Česká telekomunikační infrastruktura a.s. (CETIN)","soubor",6,null,{"$f":"E290*F290","v":0}]

{"sheet":"26_SO 10 - Stav arch část","index":29,"n_rows":122,"n_cols":7,"rows_kept":122,"cut":false,"hidden":false,"merged":[[52,2,52,3],[54,2,54,3],[53,2,53,3],[24,3,24,6],[25,2,25,6],[35,3,35,6],[42,2,42,6],[45,2,45,3],[117,2,117,3],[120,2,120,3],[118,2,118,3],[110,2,110,3],[115,2,115,3],[113,2,113,3],[106,2,106,3],[107,2,107,3],[98,2,98,3],[56,2,56,3],[60,2,60,3],[63,2,63,3],[66,2,66,3],[68,2,68,3],[75,2,75,3],[83,2,83,3],[87,2,87,3],[89,2,89,3],[79,2,79,3],[77,2,77,3],[81,2,81,3]]}
[{"$f":"CONCATENATE('Rekapitulace stavby'!C85,\"_\",'Rekapitulace stavby'!I85)","v":"26_SO 10 - Stavebně - architektonická část"}]
[]
["SPECIFIKACE DODÁVEK A PRACÍ "]
["Název akce:"]
[{"$f":"'Identifikační údaje'!B1","v":"ČRo Brno – III. etapa rekonstrukce budovy Beethovenova 25/4"}]
[]
["Zadavatel:",null,{"$f":"'Identifikační údaje'!E7","v":"Český rozhlas, Vinohradská 12, 120 99 Praha 2"}]
[null,"IČ:",{"$f":"'Identifikační údaje'!B9","v":45245053}]
[null,"DIČ:",{"$f":"'Identifikační údaje'!B10","v":"CZ45245053"}]
[]
["Projektant:",null,{"$f":"'Identifikační údaje'!E12","v":"Ing. arch. Klement Miloš, Nejedlého 381/19, 638 00 Brno - Lesná"}]
[null,"IČ:",{"$f":"'Identifikační údaje'!B14","v":15188736}]
[null,"DIČ:",{"$f":"'Identifikační údaje'!B15","v":"CZ6101021344"}]
[]
["Uchazeč:",null,{"$f":"'Identifikační údaje'!E19","v":", ,  "}]
[null,"IČ:",{"$f":"'Identifikační údaje'!B23","v":0}]
[null,"DIČ:",{"$f":"'Identifikační údaje'!B24","v":0}]
[]
["Místo stavby:",null,{"$f":"'Identifikační údaje'!B3","v":"Budova Českého rozhlasu Brno na adrese Beethovenova 25/4, 657 42 Brno"}]
[]
["Datum vyplnění:",null,{"$f":"'Identifikační údaje'!B5","v":"00:00:00"}]
[]
[{"$f":"CONCATENATE(\"REKAPITULACE DODÁVEK A PRACÍ OBJEKTU \",'Rekapitulace stavby'!I85)","v":"REKAPITULACE DODÁVEK A PRACÍ OBJEKTU SO 10 - Stavebně - architektonická část"}]
[]
["P.č.","Číslo položky","Název položky","Kč bez DPH"]
[]
["Díl:",{"$f":"B44","v":95},{"$f":"C44","v":"Dokončovací kce na pozem.stav."},null,null,null,{"$f":"G44","v":0}]
["Díl:",{"$f":"B50","v":96},{"$f":"C50","v":"Bourání konstrukcí"},null,null,null,{"$f":"G50","v":0}]
["Díl:",{"$f":"B71","v":99},{"$f":"C71","v":"Staveništní přesun hmot"},null,null,null,{"$f":"G71","v":0}]
["Díl:",{"$f":"B73","v":764},{"$f":"C73","v":"Konstrukce klemířské"},null,null,null,{"$f":"G73","v":0}]
["Díl:",{"$f":"B93","v":767},{"$f":"C93","v":"Konstrukce zámečnické"},null,null,null,{"$f":"G93","v":0}]
["Díl:",{"$f":"B105","v":781},{"$f":"C105","v":"Obklady keramické"},null,null,null,{"$f":"G105","v":0}]
["Díl:",{"$f":"B109","v":783},{"$f":"C109","v":"Nátěry"},null,null,null,{"$f":"G109","v":0}]
["Díl:",{"$f":"B112","v":787},{"$f":"C112","v":"Zasklívání"},null,null,null,{"$f":"G112","v":0}]
[]
[{"$f":"CONCATENATE(\"CELKEM ZA OBJEKT \",'Rekapitulace stavby'!I85, \" v Kč bez DPH\")","v":"CELKEM ZA OBJEKT SO 10 - Stavebně - architektonická část v Kč bez DPH"},null,null,{"$f":"SUM(G27:G34)","v":0}]
[]
[]
[]
[]
[]
["P.č.","Číslo položky","Název položky","MJ","množství","cena / MJ","celkem"]
[null,"Ceník, kapitola","Poznámka uchazeče"]
["Díl:",95,"Dokončovací kce na pozem.stav.",null,null,null,{"$f":"SUBTOTAL(9,G45:G49)","v":0}]
[{"$f":"1","v":1},"95001","Vyčištění stávajícího stropu z luxferů ","m2",20.070399999999999,null,{"$f":"E45*F45","v":0}]
[null,null,"4,48*4,48",null,20.070399999999999]
[{"$f":"A45+1","v":2},"90501","HZS - nezměřitelné práce ","hod",100,null,{"$f":"E47*F47","v":0}]
[{"$f":"A47+1","v":3},"90503","Vyklizení mobiliáře vč.ekologické likvidace ","kpl.",1,null,{"$f":"E48*F48","v":0}]
[{"$f":"A48+1","v":4},"90504","Uzavření rekonstruovaného prostoru proti šíření prašnosti","kpl.",1,null,{"$f":"E49*F49","v":0}]
["Díl:",96,"Bourání konstrukcí",null,null,null,{"$f":"SUBTOTAL(9,G51:G70)","v":0}]
[{"$f":"A49+1","v":5},"960801       FC","Demontáž fan coilů ","ks",12,null,{"$f":"E51*F51","v":0}]
[{"$f":"A51+1","v":6},"787 30-08    C1","Vysklívání skleněných výplní světlíku ","m2",285.71350000000001,null,{"$f":"E52*F52","v":0}]
[null,null,"mezipatro:1,335*0,825*36",null,39.649500000000003]
[null,null,"1-4patro:1,38*0,91*144",null,180.83519999999999]
[null,null,"nadstřešní svislá část:0,98*0,52*128",null,65.228800000000007]
[{"$f":"A52+1","v":7},"787 30-08    C2","Vybourání polykarbonátových výplní světlíku ","m2",108.306,null,{"$f":"E56*F56","v":0}]
[null,null,"0,649*2+1,942*2+3,226*2+4,028*24",null,108.306]
[{"$f":"A56+1","v":8},"972 08-","Vybourání nepůvodních luxferů ","kus",9,null,{"$f":"E58*F58","v":0}]
[{"$f":"A58+1","v":9},"979 01-1211.R00","Svislá doprava suti a vybour. hmot za 2.NP nošením ","t",7.1879999999999997,null,{"$f":"E59*F59","v":0}]
[{"$f":"A59+1","v":10},"979 01-1219.R00","Přípl.k svislé dopr.suti za každé další NP nošením ","t",35.94,null,{"$f":"E60*F60","v":0}]
[null,null,"5*7,188",null,35.94]
[{"$f":"A60+1","v":11},"979 08-2111.R00","Vnitrostaveništní doprava suti do 10 m ","t",7.1879999999999997,null,{"$f":"E62*F62","v":0}]
[{"$f":"A62+1","v":12},"979 08-2121.R00","Příplatek k vnitrost. dopravě suti za dalších 5 m ","t",14.375999999999999,null,{"$f":"E63*F63","v":0}]
[null,null,"2*7,188",null,14.375999999999999]
[{"$f":"A63+1","v":13},"979 08-1111.R00","Odvoz suti a vybour. hmot na skládku do 1 km ","t",7.1879999999999997,null,{"$f":"E65*F65","v":0}]
[{"$f":"A65+1","v":14},"979 08-1121.R00","Příplatek k odvozu za každý další 1 km ","t",136.572,null,{"$f":"E66*F66","v":0}]
[null,null,"19*7,188",null,136.572]
[{"$f":"A66+1","v":15},"979 093111.R00","Uložení suti na skládku ","t",7.1879999999999997,null,{"$f":"E68*F68","v":0}]
[null,null,7.1879999999999997,null,7.1879999999999997]
[{"$f":"A68+1","v":16},"979 99-0163.R00","Poplatek za skládku suti - sklo ","t",7.1879999999999997,null,{"$f":"E70*F70","v":0}]
["Díl:",99,"Staveništní přesun hmot",null,null,null,{"$f":"SUBTOTAL(9,G72:P72)","v":0}]
[{"$f":"A70+1","v":17},"999 28-1112.R00","Přesun hmot pro opravy a údržbu do výšky 36 m ","t",14.5,null,{"$f":"E72*F72","v":0}]
["Díl:",764,"Konstrukce klemířské",null,null,null,{"$f":"SUBTOTAL(9,G74:G92)","v":0}]
[{"$f":"A72+1","v":18},"764 25-14  Kl/1","Žlab  z TiZn plechu zaatikový čtyřhranný rš 470 mm","m",12.3,null,{"$f":"E74*F74","v":0}]
[{"$f":"A74+1","v":19},"764 25-14  Kl/2","Žlab z TiZn plechu podokapní čtyřhranný rš 390 mm","m",20,null,{"$f":"E75*F75","v":0}]
[null,null,"13,40+6,60",null,20]
[{"$f":"A75+1","v":20},"764 23-04  Kl/3","Hřebenáč z TiZn plechu vč.doplňků rš 520 mm","m",8.8000000000000007,null,{"$f":"E77*F77","v":0}]
[null,null,"2,40+5,00+1,40",null,8.8000000000000007]
[{"$f":"A77+1","v":21},"764 23-04  Kl/4","Oplechování nároží z TiZn plechu vč.doplňků rš 520 mm","m",9.8000000000000007,null,{"$f":"E79*F79","v":0}]
[null,null,"2*4,90",null,9.8000000000000007]
[{"$f":"A79+1","v":22},"764 55-44  Kl/5","Odpadní trouby z TiZn plechu kruhové průměru 100 mm vč.doplňků a kotlíků","m",11,null,{"$f":"E81*F81","v":0}]
[null,null,"2*5,50",null,11]
[{"$f":"A81+1","v":23},"764 53-04  Kl/6","Oplechování římsy  z TiZn plechu vč.doplňků rš 450 mm","m",15.5,null,{"$f":"E83*F83","v":0}]
[null,null,"8,80+2,00+4,70",null,15.5]
[{"$f":"A83+1","v":24},"764 53-04  Kl/7","Oplechování římsy  z TiZn plechu vč.doplňků rš 570 mm","m",5.5,null,{"$f":"E85*F85","v":0}]
[{"$f":"A85+1","v":25},"764 23-34  Kl/8","Závětrná lišta z Ti Zn  rš 570 mm ","m",4.2,null,{"$f":"E86*F86","v":0}]
[{"$f":"A86+1","v":26},"764 23-04  Kl/9","Oplechování odvětráv.objektů na střeše z TiZn pl rš 270-300 mm","m",4,null,{"$f":"E87*F87","v":0}]
[null,null,"2*1,20+2*0,80",null,4]
[{"$f":"A87+1","v":27},"764 23-0  Kl/10","Vnitřní okapnice na konzolách vč.doplňků z TiZn rš 220 mm","m",31.7,null,{"$f":"E89*F89","v":0}]
[null,null,"2*13,00+1*5,70",null,31.7]
[{"$f":"A89+1","v":28},"764 32-1","Demontáž stávajícího oplechování ","m",122.8,null,{"$f":"E91*F91","v":0}]
[{"$f":"A91+1","v":29},"998 76-4103.R00","Přesun hmot pro klempířské konstr., výšky do 24 m ","t",0.438,null,{"$f":"E92*F92","v":0}]
["Díl:",767,"Konstrukce zámečnické",null,null,null,{"$f":"SUBTOTAL(9,G94:G104)","v":0}]
[{"$f":"A92+1","v":30},"76701      Zn/1","Ocelová konstrukce - krokve Al 60/60/2mm  D+M ","m",235,null,{"$f":"E94*F94","v":0}]
[{"$f":"A94+1","v":31},"95003      Zp/6","Doplnění nových luxferů v podlaze světlíku D+M replika původních luxferů","ks",9,null,{"$f":"E95*F95","v":0}]
[{"$f":"A95+1","v":32},"76701     Zp/13","Odvětrání světlíku - očištění, obroušení a nový nátěr stáv.konstr. vč.doplnění chybějících prvků","ks",2,null,{"$f":"E96*F96","v":0}]
[{"$f":"A96+1","v":33},"76701     Zp/14","Tepelné potrubí - očištění, obroušení a nový nátěr stáv.konstrukce","m",21.8,null,{"$f":"E97*F97","v":0}]
[{"$f":"A97+1","v":34},"76701     Zp/15","Stávající čistící lávka - očištění, obroušení a nový nátěr stáv.konstrukce","m",22.94,null,{"$f":"E98*F98","v":0}]
[null,null,"2*11,47",null,22.94]
[{"$f":"A98+1","v":35},"76701     KOV2","Nové mosazné kování - D+M ","ks",112,null,{"$f":"E100*F100","v":0}]
[{"$f":"A100+1","v":36},"76701     KOV1","Stávající mosazné kování - očištění a zprovoznění ","ks",104,null,{"$f":"E101*F101","v":0}]
[{"$f":"A101+1","v":37},"76701     GK","Generální klíč ","kpl.",1,null,{"$f":"E102*F102","v":0}]
[null,"poznámka 1","Zámečnické konstrukce jsou kompletní výrobky dle popisu v tabulkách"," "]
[null,"poznámka 2","Zámečnické konstrukce jsou vč.přesunu hmot "," "]
["Díl:",781,"Obklady keramické",null,null,null,{"$f":"SUBTOTAL(9,G106)","v":0}]
[{"$f":"A102+1","v":38},"95002       -D5","Vyčištění a z cca 30% doplnění obkladů uvnitř světlíku historickými replikami keramických obkladů","m2",87.36,null,{"$f":"E106*F106","v":0}]
[null,null,"(4,48+4,48)*2*0,70*3+(4,48+4,48)*2*0,90",null,53.76]
[null,null,"0,50*2,80*8*3",null,33.6]
["Díl:",783,"Nátěry",null,null,null,{"$f":"SUBTOTAL(9,G110:G111)","v":0}]
[{"$f":"A106+1","v":39},"783 22-4    ZN28","Nátěr ocelových prvků světlíku - odstranění stávajících nátěrů v celé ploše až na kov, očištění, doplnění chybějících prvků, očištění kování, aplikace nového nátěrového systému syntetického, vysklení všech rámů a nové zasklení ","m2",188,null,{"$f":"E110*F110","v":0}]
[null,null,"cca:235*0,80",null,188]
["Díl:",787,"Zasklívání",null,null,null,{"$f":"SUBTOTAL(9,G113:G122)","v":0}]
[{"$f":"A110+1","v":40},"787  Zp/16  -D1","Zasklení nadstřešní svislé části sklem DITHERM kalené sklo matné","m2",65.228800000000007,null,{"$f":"E113*F113","v":0}]
[null,null,"0,98*0,52*128",null,65.228800000000007]
[{"$f":"A113+1","v":41},"787 77       D2","Zasklení zastřešení světlíku polykarbonátem ","m2",92.175600000000003,null,{"$f":"E115*F115","v":0}]
[null,null,"0,649*2+1,9428*2+3,226*2+4,027*20",null,92.175600000000003]
[{"$f":"A115+1","v":42},"787 77       D3","Zasklení vnitřní část světlíku sklem CONEX jednoduché sklo matné kalené","m2",246.06399999999999,null,{"$f":"E117*F117","v":0}]
[null,null,"1-4patro:1,38*0,91*144",null,180.83519999999999]
[null,null,"nadstřešní svislá část:0,98*0,52*128",null,65.228800000000007]
[{"$f":"A117+1","v":43},"787 77       D4","Zasklení vnitřní části světlíku sklem CONEX jednoduché sklo matné kalené","m2",39.649500000000003,null,{"$f":"E120*F120","v":0}]
[null,null,"mezipatro:1,335*0,825*36",null,39.649500000000003]
[{"$f":"A120+1","v":44},"998 78-7103.R00","Přesun hmot pro zasklívání, výšky do 24 m ","t",14.135999999999999,null,{"$f":"E122*F122","v":0}]

{"sheet":"27_SO 11 - Stav arch část","index":30,"n_rows":173,"n_cols":7,"rows_kept":173,"cut":false,"hidden":false,"merged":[[171,2,171,3],[24,3,24,6],[25,2,25,6],[42,3,42,6],[49,2,49,6],[52,2,52,3],[56,2,56,3],[59,2,59,3],[61,2,61,3],[161,2,161,3],[164,2,164,3],[166,2,166,3],[125,2,125,3],[128,2,128,3],[132,2,132,3],[145,2,145,3],[63,2,63,3],[65,2,65,3],[66,2,66,3],[67,2,67,3],[68,2,68,3],[144,2,144,3],[71,2,71,3],[143,2,143,3],[80,2,80,3],[82,2,82,3],[126,2,126,3],[127,2,127,3]]}
[{"$f":"CONCATENATE('Rekapitulace stavby'!C87,\"_\",'Rekapitulace stavby'!I87)","v":"27_SO 11 - Stavebně - architektonická část"}]
[]
["SPECIFIKACE DODÁVEK A PRACÍ "]
["Název akce:"]
[{"$f":"'Identifikační údaje'!B1","v":"ČRo Brno – III. etapa rekonstrukce budovy Beethovenova 25/4"}]
[]
["Zadavatel:",null,{"$f":"'Identifikační údaje'!E7","v":"Český rozhlas, Vinohradská 12, 120 99 Praha 2"}]
[null,"IČ:",{"$f":"'Identifikační údaje'!B9","v":45245053}]
[null,"DIČ:",{"$f":"'Identifikační údaje'!B10","v":"CZ45245053"}]
[]
["Projektant:",null,{"$f":"'Identifikační údaje'!E12","v":"Ing. arch. Klement Miloš, Nejedlého 381/19, 638 00 Brno - Lesná"}]
[null,"IČ:",{"$f":"'Identifikační údaje'!B14","v":15188736}]
[null,"DIČ:",{"$f":"'Identifikační údaje'!B15","v":"CZ6101021344"}]
[]
["Uchazeč:",null,{"$f":"'Identifikační údaje'!E19","v":", ,  "}]
[null,"IČ:",{"$f":"'Identifikační údaje'!B23","v":0}]
[null,"DIČ:",{"$f":"'Identifikační údaje'!B24","v":0}]
[]
["Místo stavby:",null,{"$f":"'Identifikační údaje'!B3","v":"Budova Českého rozhlasu Brno na adrese Beethovenova 25/4, 657 42 Brno"}]
[]
["Datum vyplnění:",null,{"$f":"'Identifikační údaje'!B5","v":"00:00:00"}]
[]
[{"$f":"CONCATENATE(\"REKAPITULACE DODÁVEK A PRACÍ OBJEKTU \",'Rekapitulace stavby'!I87)","v":"REKAPITULACE DODÁVEK A PRACÍ OBJEKTU SO 11 - Stavebně - architektonická část"}]
[]
["P.č.","Číslo položky","Název položky","Kč bez DPH"]
[]
["Díl:",{"$f":"B51","v":"3"},{"$f":"C51","v":"Svislé a kompletní konstrukce"},null,null,null,{"$f":"G51","v":0}]
["Díl:",{"$f":"B55","v":"43"},{"$f":"C55","v":"Schodiště"},null,null,null,{"$f":"G55","v":0}]
["Díl:",{"$f":"B58","v":"61"},{"$f":"C58","v":"Upravy povrchů vnitřní"},null,null,null,{"$f":"G58","v":0}]
["Díl:",{"$f":"B70","v":63},{"$f":"C70","v":"Podlahy a podlahové konstrukce"},null,null,null,{"$f":"G70","v":0}]
["Díl:",{"$f":"B73","v":94},{"$f":"C73","v":"Lešení a stavební výtahy"},null,null,null,{"$f":"G73","v":0}]
["Díl:",{"$f":"B75","v":"95"},{"$f":"C75","v":"Dokončovací kce na pozem.stav."},null,null,null,{"$f":"G75","v":0}]
["Díl:",{"$f":"B79","v":"96"},{"$f":"C79","v":"Bourání konstrukcí"},null,null,null,{"$f":"G79","v":0}]
["Díl:",{"$f":"B93","v":"766"},{"$f":"C93","v":"Konstrukce truhlářské"},null,null,null,{"$f":"G93","v":0}]
["Díl:",{"$f":"B102","v":767},{"$f":"C102","v":"Konstrukce zámečnické"},null,null,null,{"$f":"G102","v":0}]
["Díl:",{"$f":"B124","v":"776"},{"$f":"C124","v":"Podlahy povlakové"},null,null,null,{"$f":"G124","v":0}]
["Díl:",{"$f":"B131","v":772},{"$f":"C131","v":"Kamenné dlažby"},null,null,null,{"$f":"G131","v":0}]
["Díl:",{"$f":"B139","v":782},{"$f":"C139","v":"Konstrukce z přírodního kamene"},null,null,null,{"$f":"G139","v":0}]
["Díl:",{"$f":"B160","v":784},{"$f":"C160","v":"Malby"},null,null,null,{"$f":"G160","v":0}]
["Díl:",{"$f":"B163","v":40},{"$f":"C163","v":"Podhledy"},null,null,null,{"$f":"G163","v":0}]
["Díl:",{"$f":"B168","v":310},{"$f":"C168","v":"Doplňky z 1. etapy"},null,null,null,{"$f":"G168","v":0}]
[]
[{"$f":"CONCATENATE(\"CELKEM ZA OBJEKT \",'Rekapitulace stavby'!I87, \" v Kč bez DPH\")","v":"CELKEM ZA OBJEKT SO 11 - Stavebně - architektonická část v Kč bez DPH"},null,null,{"$f":"SUM(G27:G41)","v":0}]
[]
[]
[]
[]
[]
["P.č.","Číslo položky","Název položky","MJ","množství","cena / MJ","celkem"]
[null,"Ceník, kapitola","Poznámka uchazeče"]
["Díl:","3","Svislé a kompletní konstrukce",null,null,null,{"$f":"SUBTOTAL(9,G52:G54)","v":0}]
[{"$f":"1","v":1},"342 28-00","Opláštění zatepleného SDK rozvodů VZT a ÚT vč.povrchoé úpravy P07A","m2",9.1199999999999992,null,{"$f":"E52*F52","v":0}]
[null,null,"(0,515+1,535+0,515)*3,55",null,9.1199999999999992]
[{"$f":"A52+1","v":2},"31003","I 100  dl.700 mm D+M vč.plentování cihlami a rabicem","ks",10,null,{"$f":"E54*F54","v":0}]
["Díl:","43","Schodiště",null,null,null,{"$f":"SUBTOTAL(9,G56:G57)","v":0}]
[{"$f":"A54+1","v":3},"431        Kp/1","Restaurátorská obnova stávajícího teracového schodiště vč.soklíku repade, impregnace povrchu","ks",27,null,{"$f":"E56*F56","v":0}]
[null,null,";vč.doplnění chybějících částí:27",null,27]
["Díl:","61","Upravy povrchů vnitřní",null,null,null,{"$f":"SUBTOTAL(9,G59:G69)","v":0}]
[{"$f":"A56+1","v":4},"61142113","Oprava váp.omítek stropů - vyspravení pod podhledy ","m2",162.4,null,{"$f":"E59*F59","v":0}]
[null,null,"22,40+36,20+28,20+42,30+33,30",null,162.4]
[{"$f":"A59+1","v":5},"61142114","Oprava váp.omítek stropů - vč.malby (kde není podhled)","m2",64.3,null,{"$f":"E61*F61","v":0}]
[null,null,"97,60-33,30",null,64.3]
[{"$f":"A61+1","v":6},"612 40-339","Hrubá výplň rýh ve stěnách maltou, zapravení svislých drážek po rozvodech ÚT  poz.5","m2",6.39,null,{"$f":"E63*F63","v":0}]
[null,null,"0,30*3,55*6",null,6.39]
[{"$f":"A63+1","v":7},"612 10-003","Oprava omítek stěn vnitřních vápenocem. štukových oprava, malba","m2",307.43,null,{"$f":"E65*F65","v":0}]
[null,null,"P06:(4,81+7,24)*2*3,55",null,85.56]
[null,null,"P07:(6,88+5,79)*2*3,55",null,89.96]
[null,null,"P07A:(7,50+3,785)*2*3,55",null,80.16]
[null,null,"P23:(5,945+3,49+5,945)*3,30",null,50.75]
["Díl:",63,"Podlahy a podlahové konstrukce",null,null,null,{"$f":"SUBTOTAL(9,G71:P72)","v":0}]
[{"$f":"A65+1","v":8},"63248","Vyspravení podkladu pod podlahy cca","m2",128.19999999999999,null,{"$f":"E71*F71","v":0}]
[null,null,"36,20+28,20+42,30+21,50",null,128.19999999999999]
["Díl:",94,"Lešení a stavební výtahy",null,null,null,{"$f":"SUBTOTAL(9,G74:P74)","v":0}]
[{"$f":"A71+1","v":9},"941955002","Lešení lehké pomocné výška podlahy do 1,90m pro podhledy","m2",162.4,null,{"$f":"E74*F74","v":0}]
["Díl:","95","Dokončovací kce na pozem.stav.",null,null,null,{"$f":"SUBTOTAL(9,G76:G78)","v":0}]
[{"$f":"A74+1","v":10},"95001","HZS - nezměřitelné práce ","hod",400,null,{"$f":"E76*F76","v":0}]
[{"$f":"A76+1","v":11},"95003","Vyklizení mobiliáře vč.ekologické likvidace ","kpl.",1,null,{"$f":"E77*F77","v":0}]
[{"$f":"A77+1","v":12},"95004","Uzavření rekonstruovaného prostoru proti šíření prašnosti","kpl.",1,null,{"$f":"E78*F78","v":0}]
["Díl:","96","Bourání konstrukcí",null,null,null,{"$f":"SUBTOTAL(9,G80:G92)","v":0}]
[{"$f":"A78+1","v":13},"968 06-1125.R00","Vyvěšení dřevěných dveřních křídel pl. do 2 m2 ","kus",6,null,{"$f":"E80*F80","v":0}]
[null,null,6,null,6]
[{"$f":"A80+1","v":14},"776 51-18","Odstranění PVC a koberců lepených ","m2",106.7,null,{"$f":"E82*F82","v":0}]
[null,null,"36,20+28,20+42,30",null,106.7]
[{"$f":"A82+1","v":15},"9601","Rozebrání podlahy pro napojení elektra na novýREK z 1.etapy","kpl.",1,null,{"$f":"E84*F84","v":0}]
[{"$f":"A84+1","v":16},"97801","Prostupy pro specialisty","kpl.",1,null,0]
[{"$f":"A85+1","v":17},"9601","Bourací práce  výše nespecifikované ","kpl.",1,null,0]
[18,"979 08-2111.R00","Vnitrostaveništní doprava suti do 10 m ","t",1,null,0]
[19,"979 08-2121.R00","Příplatek k vnitrost. dopravě suti za dalších 5 m ","t",1,null,0]
[20,"979 08-1111.R00","Odvoz suti a vybour. hmot na skládku do 1 km ","t",1,null,0]
[21,"979 09-3111","Uložení suti na skládku bez zhutnění ","t",1,null,0]
[22,"979 08-1121.R00","Příplatek k odvozu za každý další 1 km ","t",19,null,0]
[23,"979 99-999","Poplatek za skladku ","t",1,null,0]
["Díl:","766","Konstrukce truhlářské",null,null,null,{"$f":"SUBTOTAL(9,G94:G101)","v":0}]
[{"$f":"A92+1","v":24},"766      Tpd/1","Restaurátorská obnova dveří dýhovaných 1kř.850/1970 mm  - přilepení a doplnění dýhy, replika historického kování","ks",2,null,{"$f":"E94*F94","v":0}]
[{"$f":"A94+1","v":25},"766      Tpd/15","Dveře 1kř.plné laminátové 850/1980 mm repase","ks",4,null,0]
[{"$f":"A95+1","v":26},"766      Tpo/2a","Dřevěné okno vč.parapetu 1350/2700 mm repase","ks",1,null,0]
[{"$f":"A96+1","v":27},"766      Tpo/2b","Dřevěné okno vč.parapetu 2800/2700 mm repase","ks",2,null,0]
[{"$f":"A97+1","v":28},"766      Tpo/2c","Dřevěné okno vč.parapetu 4250/2900 mm repase","ks",1,null,0]
[{"$f":"A98+1","v":29},"766      Tpo/5","Dřevěné okno vč.parapetu 550/1360-550/1680 mm repase","ks",1,null,0]
[null,"poznámka 1","Truhlářské  konstrukce jsou kompletní výrobky dle tabulek"]
[null,"poznámka 2","Truhlářské  konstrukce jsou vč.přesunu hmot "]
["Díl:",767,"Konstrukce zámečnické",null,null,null,{"$f":"SUBTOTAL(9,G103:G123)","v":0}]
[{"$f":"A99+1","v":30},"767       Zp/1","Restaurátorská obnova stáv.zábradlí schod.vč.madla  - očištění, odstranění stávajících nátěrů, obroušení, tmelení, nový nátěr","m",7.4,null,{"$f":"E103*F103","v":0}]
[{"$f":"A103+1","v":31},"767       Zp/4c","Restaurátorská obnova stáv.zábradlí schod.vč.madla před oknem očištění, odstranění stávajících nátěrů, obroušení, tmelení, nový nátěr  ","m",1.08,null,{"$f":"E104*F104","v":0}]
[{"$f":"A104+1","v":32},"767       Zp/10","Dvířka do niky na schodišti - repase 560/1570mm očištění, obroušení, nový nátěr","ks",2,null,0]
[33,"767      Znd/11","Dveře do schod.s mříží 1kř.proskl.815/1970 mm vč.zárubně  EI 30 DP1-C3-Sm","ks",2,null,0]
[34,"767      Zn/5","Replika historického stáv.zábradlí  vč.ukotvení do zdiva D+M (Zp/4a)","ks",1,null,0]
[35,"767      Zn/10","Dvířka zakrývající šachtu pro silnoproud D+M 580/800 mm","ks",1,null,0]
[36,"767R    Zp/3","Restaurátorská obnova zábradlí schodiště "," m",11.7,null,0]
[37,"767R    Zp/7a","Okenní mříže v přízemí 1350/2700 mm repase"," ks",8,null,0]
[38,"767R    Zpd/1","Restaurátorská obnova prosklené stěny se vstup.dveřmi 4910/3200 mm - odstranění stávajících nátěrů, tmelení, aplikace nátěrového systému, nové zasklení, nové kování - replika stávajícího"," ks",1,null,0]
[39,"767R    Zp/21","Okenní perforovaná mříž - suterén 1350/540 mm repase  - restaurátor"," ks",1,null,0]
[40,"767R    Zp/22","Dvířka do skříně elektra ve fasádě repase"," ks",1,null,0]
[41,"767R    Zpd/2","Restaurátorská obnova prosklené stěny do haly 4550/3500 mm - odstranění stávajících nátěrů, tmelení, aplikace nátěrového systému, nové zasklení, nové kování - replika stávajícího"," ks",2,null,0]
[42,"767R    Zpo/1a","Rám okna do schodiště 1020/2130 mm  - restaurátor repase"," ks",1,null,0]
[43,"767R    Zp/7b","Okenní mříže v přízemí 1350/540 mm repase"," ks",2,null,0]
[44,"767R    Zpo/1a","Venkovní mříž okna do schodiště 890/9960 mm repase  - restaurátor"," ks",1,null,0]
[45,"767R    Zn/2","Tyč na držení koberce - mosaz vč. kotevních prvků - D+M"," ks",30,null,0]
[46,"767R    Zn/8","Stojan na kola  D+M "," ks",5,null,0]
[47,"767R    Zn/29","Trezor na klíček vč.vysekání otvoru ve fasádě obložené ryolitem  D+M "," ks",1,null,0]
[48,"767R    GK","Generální klíč "," kpl.",1,null,0]
[null,"poznámka 2","Zámečnické konstrukce jsou vč.přesunu hmot "]
[null,"poznámka 1","Zámečnické konstrukce jsou kompletní výrobky dle tabulek"]
["Díl:","776","Podlahy povlakové",null,null,null,{"$f":"SUBTOTAL(9,G125:G130)","v":0}]
[{"$f":"A121+1","v":49},"776 57-2     P8","Položení podlah z pásů textilních včetně dodávky zátěžového antistatického koberce","m2",117.37,null,{"$f":"E125*F125","v":0}]
[null,null,";zátěžový koberec tl. 8 mm antistatický ze spodu opatřen",null,0]
[null,null,";gumovou vrstvou",null,0]
[null,null,";vč.olištování dubovými lištami ",null,0]
[null,null,"(36,20+28,20+42,30)*1,10",null,117.37]
[{"$f":"A125+1","v":50},"998 77-6104.R00","Přesun hmot pro podlahy povlakové, výšky do 36 m ","t",0.18,null,{"$f":"E130*F130","v":0}]
["Díl:",772,"Kamenné dlažby",null,null,null,{"$f":"SUBTOTAL(9,G132:G138)","v":0}]
[{"$f":"A130+1","v":51},"7702   Kn/4=P2c","Mramorová podlaha nová vč.mranorového soklu v=300mm","m2",28.8,null,{"$f":"E132*F132","v":0}]
[null,null,"(21,50+(5,945+3,695+5,945)*0,30)*1,10",null,28.8]
[{"$f":"A132+1","v":52},"7707R   KP/5b","Restaurátorská obnova mramorové dlažby vč.soklu v=300mm ","m2",114.7,null,{"$f":"E134*F134","v":0}]
[{"$f":"A134+1","v":53},"7707R   KP/5b","Doplnění  mramorové dlažby vč.soklu v=300mm ","m2",4.4000000000000004,null,{"$f":"E135*F135","v":0}]
[{"$f":"A135+1","v":54},"7707R   KP/5c","Restaurátorská obnova mramorové dlažby vč.soklu v=300mm v hale","m2",25.12,null,{"$f":"E136*F136","v":0}]
[{"$f":"A136+1","v":55},"7706","Restaurátorská obnova mramorové podesty ","m2",4.4000000000000004,null,{"$f":"E137*F137","v":0}]
[{"$f":"A137+1","v":56},"701R   P2a","Restaurování stáv.dlažby z riolitu repase - očištěni,vytmelení a .impregnace","m2",22.4,null,{"$f":"E138*F138","v":0}]
["Díl:",782,"Konstrukce z přírodního kamene",null,null,null,{"$f":"SUBTOTAL(9,G140:G159)","v":0}]
[{"$f":"A138+1","v":57},"7702R   KP/6b","Restaurátorská obnova mramorového kamen. obkladu stěn vč.impregnace ","m2",28,null,{"$f":"E140*F140","v":0}]
[{"$f":"A140+1","v":58},"7702R   Kn/5","Mramorový kamenný obklad stěn  D+M ","m2",4.2,null,{"$f":"E141*F141","v":0}]
[{"$f":"A141+1","v":59},"7702R   KP/8a","Ostění a parapet oken 1650/3000 mm - ryolit repease - očištěni,vytmelení a přebrouš.impregnace","ks",1,null,{"$f":"E142*F142","v":0}]
[{"$f":"A142+1","v":60},"7702R   KP/14","Hlavní vstup - schody s podestou a portál - ryolit repease - očištěni,vytmelení a přebrouš.impregnace","ks",1,null,{"$f":"E143*F143","v":0}]
[null,null,";restaurátor ",null,0]
[null,null,";vč.nového oplechování horní římsy z Cu plechu",null,0]
[null,null,"7820/4510mm :1",null,1]
[{"$f":"A143+1","v":61},"7702R   KP/8b","Ostění a parapet oken 3100/3000 mm - ryolit repease - očištěni,vytmelení a přebrouš.impregnace","ks",2,null,{"$f":"E147*F147","v":0}]
[{"$f":"A147+1","v":62},"7702R   KP/10b","Ostění a parapet oken 795/1650 mm - ryolit repease - očištěni,vytmelení a přebrouš.impregnace","ks",1,null,0]
[{"$f":"A148+1","v":63},"7705R    KP/3","Restaurátorská obnova mramorového schodiště - schod.stupně dl.1425 mm","ks",30,null,0]
[64,"7702R   KP/6c","Restaurátorská obnova mramorového obkladu stěn vč. impregnace","m2",42.76,null,0]
[65,"7702R   KP/16","Restaurátorská obnova kamenné římsy dl.31 200 mm - ryolit - očištěni,vytmelení a přebrouš.impregnace","ks",1,null,0]
[66,"7702R   KP/6d","Restaurátorská obnova mramorového parapetu u okna schodiště vč. impregnace","m2",0.48,null,0]
[67,"7705R    KP/3","Restaurátorská obnova mramorového schodiště-výměna schod.stupně dl.1425 mm","ks",4,null,0]
[68,"7702R   KP/13c","Parapet oken dl. 4350 mm - ryolit repease - očištěni,vytmelení a přebrouš.impregnace","ks",2,null,0]
[69,"7702R   KP/17","Kamenný sokl dl.14 700 mm v=1220-1700 mm - ryolit repease - očištěni,vytmelení a přebrouš.impregnace","ks",1,null,0]
[70,"7702R   KP/18","Travertinová kamenná fasáda repase - očištěni,vyspravení","m2",124.5,null,0]
[71,"7708","Restaurátorská obnova mramorového obkladu stěn vč.lizén - součástí položky je rovněž impregnace","m2",151.4,null,0]
[null,"poznámka 1","Kamenné konstrukce jsou kompletní výrobky dle tabulek"]
[null,"poznámka 2","Kamenné konstrukce jsou vč.přesunu hmot "]
["Díl:",784,"Malby",null,null,null,{"$f":"SUBTOTAL(9,G161:G162)","v":0}]
[{"$f":"A157+1","v":72},"784 45-0030","Malba ze směsi , penetrace 1x, bílá 2x ","m2",307.43,null,{"$f":"E161*F161","v":0}]
[null,null,307.43,null,307.43]
["Díl:",40,"Podhledy",null,null,null,{"$f":"SUBTOTAL(9,G164:G167)","v":0}]
[{"$f":"A161+1","v":73},"40      A","Sádrokartonový podhled ","m2",55.7,null,{"$f":"E164*F164","v":0}]
[null,null,"22,40+33,30",null,55.7]
[{"$f":"A164+1","v":74},"4001  C","Akustický podhled ","m2",106.7,null,{"$f":"E166*F166","v":0}]
[null,null,"36,20+28,20+42,30",null,61]
["Díl:",310,"Doplňky z 1. etapy",null,null,null,{"$f":"SUBTOTAL(9,G169:G173)","v":0}]
[{"$f":"A166+1","v":75},"31001","I 160 vevařen mezi stáv.profily dl.3900mm D+M vč.opláštění SDK EI 60DP1 z obou stran","ks",1,null,{"$f":"E169*F169","v":0}]
[{"$f":"A169+1","v":76},"31002","I 160 vevařen mezi sloupy dl.3650mm D+M vč.opláštění SDK EI 60DP1 z obou stran","ks",1,null,{"$f":"E170*F170","v":0}]
[{"$f":"A170+1","v":77},"34201","Stávající SDK příčku v m.č.P19 demontovat pro připojení VZT a opět namontovat","m2",12.6,null,{"$f":"E171*F171","v":0}]
[null,null,"3,60*3,50",null,12.6]
[{"$f":"A171+1","v":78},"96   poz.9","Sejmutí podlahových dílců 600/600mm vč.koberců pro montáž SLP rozvodů","kpl.",1,null,{"$f":"E173*F173","v":0}]

{"sheet":"28_SO 11 - Silnoproud","index":31,"n_rows":119,"n_cols":9,"rows_kept":119,"cut":false,"hidden":false,"merged":[[26,1,26,2],[26,3,26,4],[26,5,26,6],[26,7,26,8],[4,0,4,8],[24,1,24,2],[24,3,24,4],[24,5,24,6],[24,7,24,8],[27,1,27,2],[27,3,27,4],[27,5,27,6],[27,7,27,8],[28,1,28,2],[28,3,28,4],[28,5,28,6],[28,7,28,8],[29,1,29,2],[29,3,29,4],[29,5,29,6],[29,7,29,8],[30,1,30,2],[30,3,30,4],[30,5,30,6],[30,7,30,8],[31,1,31,2],[31,3,31,4],[31,5,31,6],[31,7,31,8],[33,1,33,2],[33,3,33,4],[33,5,33,6],[33,7,33,8],[32,3,32,4],[32,5,32,6],[32,7,32,8],[32,1,32,2],[113,5,113,6],[113,7,113,8],[96,5,96,6],[96,7,96,8],[56,5,56,6],[56,7,56,8],[71,5,71,6],[71,7,71,8],[78,5,78,6],[78,7,78,8],[88,5,88,6],[88,7,88,8],[92,5,92,6],[92,7,92,8],[35,7,35,8],[38,0,38,8],[41,5,41,6],[41,7,41,8],[43,5,43,6],[43,7,43,8]]}
[{"$f":"CONCATENATE('Rekapitulace stavby'!C88,\"_\",'Rekapitulace stavby'!I88)","v":"28_SO 11 - Silnoproudá elektroinstalace "}]
[]
["SPECIFIKACE DODÁVEK A PRACÍ "]
["Název akce:"]
[{"$f":"'Identifikační údaje'!B1","v":"ČRo Brno – III. etapa rekonstrukce budovy Beethovenova 25/4"}]
[]
["Zadavatel:",null,{"$f":"'Identifikační údaje'!E7","v":"Český rozhlas, Vinohradská 12, 120 99 Praha 2"}]
[null,"IČ:",{"$f":"'Identifikační údaje'!B9","v":45245053}]
[null,"DIČ:",{"$f":"'Identifikační údaje'!B10","v":"CZ45245053"}]
[]
["Projektant:",null,{"$f":"'Identifikační údaje'!E12","v":"Ing. arch. Klement Miloš, Nejedlého 381/19, 638 00 Brno - Lesná"}]
[null,"IČ:",{"$f":"'Identifikační údaje'!B14","v":15188736}]
[null,"DIČ:",{"$f":"'Identifikační údaje'!B15","v":"CZ6101021344"}]
[]
["Uchazeč:",null,{"$f":"'Identifikační údaje'!E19","v":", ,  "}]
[null,"IČ:",{"$f":"'Identifikační údaje'!B23","v":0}]
[null,"DIČ:",{"$f":"'Identifikační údaje'!B24","v":0}]
[]
["Místo stavby:",null,{"$f":"'Identifikační údaje'!B3","v":"Budova Českého rozhlasu Brno na adrese Beethovenova 25/4, 657 42 Brno"}]
[]
["Datum:",null,{"$f":"'Identifikační údaje'!B5","v":"00:00:00"}]
[]
[{"$f":"CONCATENATE(\"REKAPITULACE DODÁVEK A PRACÍ OBJEKTU \",'Rekapitulace stavby'!I88)","v":"REKAPITULACE DODÁVEK A PRACÍ OBJEKTU SO 11 - Silnoproudá elektroinstalace "}]
[]
["P.č.","Ozn.",null,"Materiál celkem",null,"Montáž celkem",null,"M+M celkem"]
[]
[{"$f":"B44","v":"A."},{"$f":"C44","v":"Svítidla a příslušenství"},null,{"$f":"F44","v":0},null,{"$f":"H44","v":0},null,{"$f":"D27+F27","v":0}]
[{"$f":"B57","v":"B."},{"$f":"C57","v":"Spínače, zásuvky a ostatní přístroje "},null,{"$f":"F57","v":0},null,{"$f":"H57","v":0},null,{"$f":"D28+F28","v":0}]
[{"$f":"B72","v":"C."},{"$f":"C72","v":"Instalační, úložný a ochranný materiál"},null,{"$f":"F72","v":0},null,{"$f":"H72","v":0},null,0]
[{"$f":"B79","v":"D."},{"$f":"C79","v":"Kabely a vodiče"},null,{"$f":"F79","v":0},null,{"$f":"H79","v":0},null,0]
[{"$f":"B89","v":"E."},{"$f":"C89","v":"Pospojování, uzemnění"},null,{"$f":"F89","v":0},null,{"$f":"H89","v":0},null,0]
[{"$f":"B93","v":"F."},{"$f":"C93","v":"Rozvaděče"},null,{"$f":"F93","v":0},null,{"$f":"H93","v":0},null,0]
[{"$f":"B97","v":"G."},{"$f":"C97","v":"Elektroinstalace trezor"},null,{"$f":"F97","v":0},null,{"$f":"H97","v":0},null,{"$f":"D33+F33","v":0}]
[{"$f":"B114","v":"H."},{"$f":"C114","v":"Ostatní"},null,{"$f":"F114","v":0},null,{"$f":"H114","v":0},null,0]
[]
[{"$f":"CONCATENATE(\"CELKEM ZA OBJEKT \",'Rekapitulace stavby'!I88, \" v Kč bez DPH\")","v":"CELKEM ZA OBJEKT SO 11 - Silnoproudá elektroinstalace  v Kč bez DPH"},null,null,null,null,null,null,{"$f":"SUBTOTAL(9,H27:I34)","v":0}]
[]
[]
["Textová, výkresová i tabulková část projektové dokumentace tvoří jeden vzájemně se doplňující a provázaný celek. Jednotliví účastníci výběrového řízení se musí seznámit s projektojektovou dokumentací v návaznosti na soupis prací a na základě těchto informací části díla nacenit. Dále je potřeba při stanovení ceny dle vykázané výměry započítat všechny předpokládané doplňkové prvky a činnosti s touto položkou související tak, aby cena byla kompletní a prvek funkční."]
[]
[1]
[null,null,null,null,null,"Materiál",null,"Montáž"]
["poř.č.","položka","popis položky","MJ","množství","jedn.cena","celkem [Kč]","jedn.cena","celkem [Kč]"]
[null,"A.","Svítidla a příslušenství",null,null,{"$f":"SUBTOTAL(9,G46:G56)","v":0},null,{"$f":"SUBTOTAL(9,I46:I56)","v":0}]
[null,null," (komplet, včetně zdrojů, závěsů, pomocného materiálu, osazení zapojení, vyzkoušení apod.)"]
[1,null,"svítidlo typ A1- Svítidlo stropní přisazené, dle původního svítidla, mísa Ø 650 mm sklo kalené mat + základna Ø 950 mm, úchyty nikl lesk, LED LGP, 3000K, 48W, 3500 lm","ks",1,null,{"$f":"E46*F46","v":0},null,{"$f":"E46*H46","v":0}]
[{"$f":"A46+1","v":2},null,"svítidlo typ A17 - Svítidlo přisazené, základna stříbrně šedá barva, difuzor sklo opál, Ø 500 mm, rámeček leštěný nerez, Ø 630 mm, v=128 mm, LED 21W, 3000 K, 1800 lm, IP65","ks",1,null,{"$f":"E47*F47","v":0},null,{"$f":"E47*H47","v":0}]
[3,null,"svítidlo typ B2 - Svítidlo stropní závěsné, měděný korpus + tvar dle historické předlohy + nikl leštěný, difuzor sklo satin, Ø 680 mm, v=75 mm, svícení přímé, LED 88W, 3000K, 9023 lm, svícení nepřímé LED 15W, 3000 K, 1440 lm, vč. driverů,zavěšeno na trubce, nikl leštěný, l=cca 500 mm","ks",4,null,0,null,{"$f":"E48*H48","v":0}]
[4,null,"svítidlo typ C1 - Svítidlo vestavné do podhledu SDK, bezrámečkové, bílá barva, hluboce odsazený opálový difuzor, Ø 120 mm, vestavná hloubka 100 mm, LED 17W, 3000 K, 1300 lm","ks",4,null,0,null,0]
[5,null,"svítidlo typ C2 - Svítidlo vestavné do podhledu SDK, bílá barva, odsazený opálový difuzor, Ø 335 mm, vestavná hloubka 99 mm, LED 39W, 3000K, 6000 lm, IP43","ks",2,null,0,null,0]
[6,null,"svítidlo typ D2 - Svítidlo nástěnné, kopie původního svítidla, korpus mosaz, povrch lesklý nikl, difuzor sklo opál, Ø 200 mm, vyložení 300 mm, 1xE27, 40W max - LED zdroj 13W, 1520 lm, 3000 K","ks",4,null,0,null,0]
[7,null,"svítidlo typ D3 - Svítidlo přisazené, bílá barva, difuzor opál, 80x30x600 mm, LED 20W, 3000 K, 1700 lm","ks",2,null,0,null,0]
[8,null,"svítidlo typ D4 - Svítidlo přisazené, bílá barva, difuzor opál, 80x30x600 mm, LED 20W, 3000 K, 1700 lm","ks",1,null,0,null,0]
[9,null,"svítidlo typ B1 - Svítidlo stropní závěsné, korpus bílá barva PMMA čirá optika, úhel vyzařování 60°, 62x90x1720 mm, LED 39W, 3000K, 6123 lm- profil- LED- závěs 2m- napájení","ks",1,null,0,null,0]
[10,null,"svítidlo typ J1 - Dvojitý světlomet, bílá barva, základna 84x90 mm, zdroj Ø 31 mm, l=41 mm, LED 2x4,5, 3000 K, 2x61 lm - optika široká 53°, bílá barva","ks",2,null,0,null,0]
[11,null,"NOUZOVÉ OSVĚTLENÍ s připojením k CBS Inotec","ks",8,null,0,null,0]
[null,"B.","Spínače, zásuvky a ostatní přístroje ",null,null,{"$f":"SUBTOTAL(9,G60:G70)","v":0},null,{"$f":"SUBTOTAL(9,I60:I70)","v":0}]
[null,null,"(komplet, včetně příslušenství, pomocného materiálu, osazení, zapojení, vyzkoušení apod.)"]
[null,null,"Návazně na předchozí etapy rekonstrukce budou osaztovány výrobky z řady ABB Time"]
[{"$f":"A56+1","v":12},null,"Domovní spínač řazení 1, komplet","ks",3,null,{"$f":"E60*F60","v":0},null,{"$f":"E60*H60","v":0}]
[13,null,"Domovní spínač řazení 5, komplet ","ks",1,null,{"$f":"E61*F61","v":0},null,{"$f":"E61*H61","v":0}]
[14,null,"Domovní spínač řazení 6, komplet ","ks",1,null,0,null,0]
[15,null,"Ovládací modul sestava 7x spínač řazení 1modul 45 230V 10A ve společném vícerámečku ","ks",1,null,0,null,0]
[16,null,"Tlačítkový ovladač 1x přepínací kontakt se sklem - červená barva -total stop respektive central stop","ks",2,null,0,null,0]
[17,null,"Domovní tlačítko řazení 1/0 s popisem větrání , komplet","ks",1,null,0,null,0]
[18,null,"Napojení osoušeče rukou 230V, dle montážního návodu ","ks",1,null,0,null,0]
[19,null,"Domovní zásuvka 230V 16A,napájení z trafa  komplet","ks",18,null,{"$f":"E67*F67","v":0},null,{"$f":"E67*H67","v":0}]
[20,null,"Domovní zásuvka 230V 16A s vestavěnou přepěťovou ochranou ,napájení z trafa  komplet","ks",2,null,0,null,0]
[21,null,"Časový doběh pro ventilátor montáž do krabice","ks",1,null,{"$f":"E69*F69","v":0},null,{"$f":"E69*H69","v":0}]
[22,null,"Napojení VZT zařízení 230V, dle montážního návodu ","ks",1,null,{"$f":"E70*F70","v":0},null,{"$f":"E70*H70","v":0}]
[]
[null,"C.","Instalační, úložný a ochranný materiál",null,null,{"$f":"SUBTOTAL(9,G73:G77)","v":0},null,{"$f":"SUBTOTAL(9,I72:I77)","v":0}]
[null,null," (komplet, včetně příslušenství, pomocného materiálu, výkopu, záhozu výkopu, vytyčení trasy, osazení, zapojení, vyzkoušení apod.)"]
[{"$f":"A70+1","v":23},null,"Krabice přístrojová","ks",25,null,{"$f":"E74*F74","v":0},null,{"$f":"E74*H74","v":0}]
[{"$f":"A74+1","v":24},null,"Krabice odbočná včetně wago svorek","ks",15,null,{"$f":"E75*F75","v":0},null,{"$f":"E75*H75","v":0}]
[{"$f":"A75+1","v":25},null,"Kabelový drátový žlab 200x100 včetně příslušenství a závěsů","m",30,null,{"$f":"E76*F76","v":0},null,{"$f":"E76*H76","v":0}]
[{"$f":"A76+1","v":26},null,"Krabice odbočná včetně wago svorek s funkční schopností při požáru","ks",3,null,{"$f":"E77*F77","v":0},null,{"$f":"E77*H77","v":0}]
[]
[null,"D.","Kabely a vodiče",null,null,{"$f":"SUBTOTAL(9,G80:G87)","v":0},null,{"$f":"SUBTOTAL(9,I79:I87)","v":0}]
[null,null,"(komplet, včetně vyhotovení drážky, zapravení drážky, vytyčení trasy, pomocného materiálu, příchytek, spojek, odlehčovacích oblouků, zapojení, vyzkoušení apod.)"]
[{"$f":"A77+1","v":27},null,"CYKY J 3x1,5","m",200,null,{"$f":"E81*F81","v":0},null,{"$f":"E81*H81","v":0}]
[{"$f":"A81+1","v":28},null,"CYKY J 3x2,5","m",150,null,0,null,0]
[29,null,"CYKY O 3x1,5","m",30,null,0,null,0]
[30,null,"Bezhalogenový kabel -J 3x1,5 B2CAS1D0","m",40,null,0,null,0]
[31,null,"Bezhalogenový kabel -J 3x2,5 B2CAS1D0","m",100,null,0,null,0]
[32,null,"Kabel s funkční schopností P30-R -O 3x1,5 B2CAS1D0","m",40,null,0,null,0]
[33,null,"Rozvody pro NO kabel s funkční schopností P60R -O 3x1,5  B2CAS1D0","m",80,null,0,null,0]
[]
[null,"E.","Pospojování, uzemnění",null,null,{"$f":"SUBTOTAL(9,G90:G91)","v":0},null,{"$f":"SUBTOTAL(9,I89:I91)","v":0}]
[null,null,"(komplet, včetně příslušenství, svorek, pomocného materiálu, osazení, zapojení, vyzkoušení apod.) "]
[{"$f":"A87+1","v":34},null,"Vodič CYA4 žlutozelený včetně svorek - doplňkové pospojení","m",30,null,{"$f":"E91*F91","v":0},null,{"$f":"E91*H91","v":0}]
[]
[null,"F.","Rozvaděče",null,null,{"$f":"SUBTOTAL(9,G94:G95)","v":0},null,{"$f":"SUBTOTAL(9,I93:I95)","v":0}]
[null,null,"(komplet, včetně příslušenství, svorek, pomocného materiálu, osazení, zapojení, vyzkoušení apod.) "]
[{"$f":"A91+1","v":35},null,"Doplnění stávajícího rozvaděče R2","ks",1,null,{"$f":"E95*F95","v":0},null,{"$f":"E95*H95","v":0}]
[]
[null,"G.","Elektroinstalace trezor",null,null,{"$f":"SUBTOTAL(9,G98:G112)","v":0},null,{"$f":"SUBTOTAL(9,I97:I112)","v":0}]
[null,null,"(komplet, včetně zdrojů, závěsů, příslušenství,  pomocného materiálu, osazení, zapravení,  zapojení, vyzkoušení apod.)"]
[{"$f":"A95+1","v":36},null,"Svitidlo K4 Svítidlo stropní přisazené, korpus ocelový plech, bílá barva,37x65x1175 mm, zářivka 1x28W, G5, EP, chráněna clonou","ks",12,null,{"$f":"E99*F99","v":0},null,{"$f":"E99*H99","v":0}]
[{"$f":"A99+1","v":37},null,"Svtidlo L4 Svítidlo přisazené, korpus ocelový plech, galvanicky zinkováno, 35x35x875 mm, pro zářivku 1x39W, G5, EP","ks",9,null,{"$f":"E100*F100","v":0},null,{"$f":"E100*H100","v":0}]
[{"$f":"A100+1","v":38},null,"Svitidlo F4 Svítidlo vestavné do podhledu SDK, korpus hliníkový odlitek, bílá barva, difuzer opál, odsazený, Ø 235 mm, vestavná hloubka 75 mm,LED 30W, 4000 K, 2100 lm, 120° včetně driveru","ks",4,null,0,null,0]
[39,null,"Svitidlo F5 Svítidlo vestavné do podhledu SDK, korpus hliníkový odlitek, bílá barva,difuzer opál, odsazený, Ø 160 mm, vestavná hloubka 60 mm,LED 15W, 3000 K, 1050 lm, 120° včetně driveru","ks",3,null,0,null,0]
[40,null,"Domovní spínač řazení 1, komplet","ks",4,null,0,null,0]
[41,null,"Domovní spínač řazení 5, komplet ","ks",1,null,0,null,0]
[42,null,"Domovní spínač řazení 6, komplet ","ks",2,null,0,null,0]
[43,null,"Domovní spínač řazení 7, komplet ","ks",2,null,0,null,0]
[44,null,"Domovní dvojzásuvka 230V 16A,  komplet","ks",13,null,0,null,0]
[45,null,"CYKY J 3x1,5","m",160,null,0,null,0]
[46,null,"CYKY J 3x2,5","m",200,null,0,null,0]
[47,null,"CYKY O 3x1,5","m",25,null,0,null,0]
[48,null,"Krabice přístrojová","ks",22,null,0,null,0]
[49,null,"Krabice odbočná včetně wago svorek","ks",10,null,0,null,0]
[]
[null,"H.","Ostatní",null,null,{"$f":"SUBTOTAL(9,G115:G119)","v":0},null,{"$f":"SUBTOTAL(9,I114:I119)","v":0}]
[{"$f":"A112+1","v":50},null,"Výchozí revize","hod",15,null,{"$f":"E115*F115","v":0},null,{"$f":"E115*H115","v":0}]
[{"$f":"A115+1","v":51},null,"Demontáže včetně likvidace odpadu","hod",80,null,{"$f":"E116*F116","v":0},null,{"$f":"E116*H116","v":0}]
[{"$f":"A116+1","v":52},null,"Pomocný a podružný materiál upevňovací","kpl",1,null,{"$f":"E117*F117","v":0},null,{"$f":"E117*H117","v":0}]
[{"$f":"A117+1","v":53},null,"Zednické výpomoci (PPV)","kpl",1," ---"," ---",null,{"$f":"E118*H118","v":0}]
[{"$f":"A118+1","v":54},null,"Doprava materiálu","kpl",1," ---"," ---",null,{"$f":"E119*H119","v":0}]

{"sheet":"29_SO 11 - VZT","index":32,"n_rows":76,"n_cols":10,"rows_kept":76,"cut":false,"hidden":false,"merged":[[16,9,19,9],[17,5,17,6],[17,7,17,8],[18,3,19,3],[18,4,19,4],[16,0,19,0],[16,1,19,1],[16,2,19,2],[16,3,17,4],[16,5,16,8],[50,4,51,4],[75,0,75,4],[75,5,75,6],[23,0,23,9],[34,0,34,1],[34,7,34,9],[48,0,51,0],[48,1,51,1],[48,2,51,2],[48,3,49,4],[48,5,48,8],[48,9,51,9],[50,3,51,3]]}
[{"$f":"CONCATENATE('Rekapitulace stavby'!C89,\"_\",'Rekapitulace stavby'!I89)","v":"29_SO 11 - Vzduchotechnika a chlazení"}]
[]
["SPECIFIKACE DODÁVEK A PRACÍ "]
["Název akce:"]
[{"$f":"'Identifikační údaje'!B1","v":"ČRo Brno – III. etapa rekonstrukce budovy Beethovenova 25/4"}]
[]
["Zadavatel:",null,{"$f":"'Identifikační údaje'!E7","v":"Český rozhlas, Vinohradská 12, 120 99 Praha 2"},"Projektant:",null,{"$f":"'Identifikační údaje'!E12","v":"Ing. arch. Klement Miloš, Nejedlého 381/19, 638 00 Brno - Lesná"}]
[null,"IČ",{"$f":"'Identifikační údaje'!B9","v":45245053},null,"IČ",{"$f":"'Identifikační údaje'!B14","v":15188736}]
[null,"DIČ",{"$f":"'Identifikační údaje'!B10","v":"CZ45245053"},null,"DIČ",{"$f":"'Identifikační údaje'!B15","v":"CZ6101021344"}]
[]
["Uchazeč:",null,{"$f":"'Identifikační údaje'!E19","v":", ,  "},"Místo stavby:",null,{"$f":"'Identifikační údaje'!B3","v":"Budova Českého rozhlasu Brno na adrese Beethovenova 25/4, 657 42 Brno"}]
[null,"IČ",{"$f":"'Identifikační údaje'!B23","v":0}]
[null,"DIČ",{"$f":"'Identifikační údaje'!B24","v":0}]
[]
["Datum:",null,{"$f":"'Identifikační údaje'!B5","v":"00:00:00"}]
[]
["P.Č.","Č.Z"," Popis položky:","Měrná jednotka",null,"Cena",null,null,null,"Poznámka"]
[null,null,null,null,null,"Jednotková",null,"Celkem"]
[null,null,null,"-","počet","Dodávka","Montáž","Dodávka","Montáž"]
[null,null,null,null,null,"[ Kč ]","[ Kč ]","[ Kč ]","[ Kč ]"]
[null,null,{"$f":"CONCATENATE(\"REKAPITULACE OBJEKTU  \",'Rekapitulace stavby'!I89)","v":"REKAPITULACE OBJEKTU  SO 11 - Vzduchotechnika a chlazení"}]
[1,1,{"$f":"C53","v":"Zařízení č.2.3 - Větrání a chlazení – studio S6 a studio S6 – přízemí (místnost č.P06, P07)"},"kpl",1," - "," - ",{"$f":"H76","v":0},{"$f":"I76","v":0},"-"]
[null,null,"Mezisoučet",null,null,null,null,{"$f":"SUM(H22:H22)","v":0},{"$f":"SUM(I22:I22)","v":0},"Kč bez DPH"]
[]
[{"$f":"A22+1","v":2},"-","Protipožární ucpávky","ks",3,null,null,{"$f":"E25*F25","v":0},{"$f":"E25*G25","v":0},"-"]
[{"$f":"A25+1","v":3},"-","Materiál pro spoje, montáž, závěsy, atd.","kpl",1,null,null,{"$f":"E26*F26","v":0},{"$f":"E26*G26","v":0},"-"]
[{"$f":"A26+1","v":4},"-","Doprava","kpl",1," - ",null," - ",{"$f":"E27*G27","v":0},"-"]
[5,"-","Přesuny","kpl",1," - ",null," - ",0,"-"]
[6,"-","Uvedení do provozu, zaregulování, vyzkoušení, předávací řízení","kpl",1," - ",null," - ",0,"-"]
[7,"-","Inženýrská a koordinační činnost","kpl",1," - ",null," - ",0,"-"]
[8,"-","Prováděcí a výrobní projektová dokumentace","kpl",1," - ",null," - ",0,"-"]
[9,"-","Dokumentace konečného provedení, návody, atesty, prohlášení o shodě","kpl",1," - ",null," - ",0,"-"]
[null,null,"Mezisoučet",null,null,null,null,{"$f":"SUM(H25:H32)","v":0},{"$f":"SUM(I25:I32)","v":0},"Kč bez DPH"]
[]
["CELKEM D+M",null,{"$f":"CONCATENATE(\"OBJEKT \",'Rekapitulace stavby'!I89,\" v Kč bez DPH\")","v":"OBJEKT SO 11 - Vzduchotechnika a chlazení v Kč bez DPH"},null,null,null,null,{"$f":"H23+H33+I23+I33","v":0}]
[]
[]
[]
[]
[]
[]
[]
[]
[]
[]
[]
[]
[]
["P.Č.","Č.P."," Popis položky:","Měrná jednotka",null,"Cena",null,null,null,"Poznámka"]
[null,null,null,null,null,"Jednotková cena",null,"Celková cena"]
[null,null,null,"-","počet","Dodávka","Montáž","Dodávka","Montáž"]
[null,null,null,null,null,"[ Kč ]","[ Kč ]","[ Kč ]","[ Kč ]"]
[null,null,"Zařízení č.2.3 - Větrání a chlazení – studio S6 a studio S6 – přízemí (místnost č.P06, P07)"]
[{"$f":"A32+1","v":10},"2.3.1","Větrací jednotka Systemair - namontována v II. TSK","ks",1,null,null,{"$f":"E54*F54","v":0},{"$f":"E54*G54","v":0}]
[{"$f":"A54+1","v":11},"2.3.2","Venkovní kondenzační jednotka Standard Invertor - referenční výrobek LG UU30W.U44","ks",1,null,null,0,0]
[{"$f":"A55+1","v":12},null,"Řídící box - referenční výrobek LG KM113.05OU","ks",1,null,null,0,0]
[13,null,"Předizolované Cu potrubí včetně prodrátování a zalištování","bm",40,null,null,0,0]
[14,null,"Doplnění chladiva R410A","kg",1,null,null,0,0]
[15,"2.3.3","Odporový parní vyvíječ - referenční výrobek Flair Condair RS Visual 8","ks",1,null,null,0,0]
[16,null,"Trubice 81-500 (min.šíře potrubí 550mm)","ks",1,null,null,{"$f":"E60*F60","v":0},{"$f":"E60*G60","v":0}]
[17,null,"Parní hadice Condair - referenční výrobek Flair DS80 (D=57/45mm)","bm",4,null,null,0,0]
[18,null,"Kondenzační hadice KS 10 (D=12/8mm)","bm",4,null,null,0,0]
[19,"2.3.4","Regulační klapka - referenční výrobek RKN 300 x 300  včetně servopohonu LM 230A","ks",4,null,null,0,0]
[20,"2.3.5","Tlumič hluku - referenční výrobek JTH 300/300/1000","ks",16,null,null,0,0]
[21,"2.3.6","Výustka - referenční výrobek NOVA - A - 2 - 1 - 500 x 300 - R1 - nátěr RAL……","ks",5,null,null,0,0]
[22,"2.3.7","Výustka - referenční výrobek NOVA - A - 1 - 1 - 500 x 300 - R1 - nátěr RAL……","ks",9,null,null,0,0]
[23,"PK2.3.1","Požární klapka - referenční výrobek Mandík PKTM III-C 300x300/375 - .40 TPM 075/09","ks",1,null,null,0,0]
[24,"PK2.3.2","Požární klapka - referenční výrobek Mandík PKTM III-C 300x300/375 - .40 TPM 075/09","ks",1,null,null,0,0]
[25,null,"Čtyřhranné ocel. potrubí sk. I včetně tvarovek","m2",105,null,null,0,0]
[26,null,"Černý nátěr potrubí","m2",73,null,null,0,0]
[27,null,"Tep a protihluk.izol.tl. 4 cm - iz. deskami nebo pásy","m2",22,null,null,0,0]
[28,null,"Těžká hluková izolace Orstech 65H - tl. 4 cm - iz. deskami nebo pásy - provedení dle požadavku profese akustika","m2",82,null,null,0,0]
[29,null,"Demontáž stávající VZT jednotky","ks",1,null,null,0,0]
[30,null,"Demontáž tlumičů hluku a koncových elementů","ks",16,null,null,0,0]
[31,null,"Demontáž potrubí","m2",70,null,null,0,0]
[{"$f":"CONCATENATE(C53,\" - celkem\")","v":"Zařízení č.2.3 - Větrání a chlazení – studio S6 a studio S6 – přízemí (místnost č.P06, P07) - celkem"},null,null,null,null,null,null,{"$f":"SUM(H54:H75)","v":0},{"$f":"SUM(I54:I75)","v":0},"bez DPH"]

{"sheet":"30_SO 12 - Stav arch část","index":33,"n_rows":200,"n_cols":36,"rows_kept":200,"cut":false,"hidden":false,"merged":[[110,2,110,3],[114,2,114,3],[101,2,101,3],[64,2,64,3],[67,2,67,3],[72,2,72,3],[74,2,74,3],[96,2,96,3],[97,2,97,3],[61,2,61,3],[54,2,54,3],[55,2,55,3],[57,2,57,3],[58,2,58,3],[59,2,59,3],[24,3,24,6],[25,2,25,6],[53,2,53,3],[39,2,39,6],[42,2,42,3],[43,2,43,3],[44,2,44,3],[45,2,45,3],[46,2,46,3],[47,2,47,3],[48,2,48,3],[50,2,50,3],[51,2,51,3],[52,2,52,3]]}
[{"$f":"CONCATENATE('Rekapitulace stavby'!C91,\"_\",'Rekapitulace stavby'!I91)","v":"30_SO 12 - Stavebně - architektonická část"}]
[]
["SPECIFIKACE DODÁVEK A PRACÍ "]
["Název akce:"]
[{"$f":"'Identifikační údaje'!B1","v":"ČRo Brno – III. etapa rekonstrukce budovy Beethovenova 25/4"}]
[]
["Zadavatel:",null,{"$f":"'Identifikační údaje'!B7","v":"Český rozhlas"}]
[null,"IČ:",{"$f":"'Identifikační údaje'!B9","v":45245053}]
[null,"DIČ:",{"$f":"'Identifikační údaje'!B10","v":"CZ45245053"}]
[]
["Projektant:",null,{"$f":"'Identifikační údaje'!B12","v":"Ing. arch. Klement Miloš"}]
[null,"IČ:",{"$f":"'Identifikační údaje'!B9","v":45245053}]
[null,"DIČ:",{"$f":"'Identifikační údaje'!B15","v":"CZ6101021344"}]
[]
["Uchazeč:",null,{"$f":"'Identifikační údaje'!B19","v":0}]
[null,"IČ:",{"$f":"'Identifikační údaje'!B23","v":0}]
[null,"DIČ:",{"$f":"'Identifikační údaje'!B24","v":0}]
[]
["Místo stavby:",null,{"$f":"'Identifikační údaje'!B3","v":"Budova Českého rozhlasu Brno na adrese Beethovenova 25/4, 657 42 Brno"}]
[]
["Datum vyplnění:",null,{"$f":"'Identifikační údaje'!B5","v":"00:00:00"}]
[]
[{"$f":"CONCATENATE(\"REKAPITULACE DODÁVEK A PRACÍ OBJEKTU \",'Rekapitulace stavby'!I91)","v":"REKAPITULACE DODÁVEK A PRACÍ OBJEKTU SO 12 - Stavebně - architektonická část"}]
[]
["P.č.","Číslo položky","Název položky","Kč bez DPH"]
[null,"Ceník, kapitola"]
["Díl:",{"$f":"B41","v":1},{"$f":"C41","v":"Stavební práce navazující na rekonstrukcí systému ÚT"},null,null,null,{"$f":"G41","v":0}]
["Díl:",{"$f":"B78","v":2},{"$f":"C78","v":"Stavební práce navazující na rekonstrukcí silnoproudé části elektro"},null,null,null,{"$f":"G78","v":0}]
["Díl:",{"$f":"B116","v":3},{"$f":"C116","v":"Stavební práce navazující na první etapu"},null,null,null,{"$f":"G116","v":0}]
["Díl:",{"$f":"B192","v":4},{"$f":"C192","v":"Dočasné stavební práce a konstrukce"},null,null,null,{"$f":"G192","v":0}]
[]
[{"$f":"CONCATENATE(\"CELKEM ZA OBJEKT \",'Rekapitulace stavby'!I91, \" v Kč bez DPH\")","v":"CELKEM ZA OBJEKT SO 12 - Stavebně - architektonická část v Kč bez DPH"},null,null,null,null,null,{"$f":"SUM(G27:G31)","v":0}]
[]
[]
[]
[]
[]
[]
["P.č.","Číslo položky","Název položky","MJ","množství","cena / MJ","celkem"]
[null,"Ceník, kapitola","Poznámka uchazeče"]
["Díl:",1,"Stavební práce navazující na rekonstrukcí systému ÚT",null,null,null,{"$f":"SUBTOTAL(9,G42:G77)","v":0},null,null,null,null,null,null,null,null,null,null,null,null,null,null,null,null,null,null,null,null,"POL",null,null,null,null,null,null,null,21]
[1,"73001   pol.3","Protipožární utěsnění stupaček ÚT","ks",{"$f":"SUM(E43:E49)","v":7},null,{"$f":"E42*F42","v":0}]
[null,null,"přízemí:4",null,4]
[null,null,"mezipatro:3",null,3]
[null,null,"1.patro:0"]
[null,null,"2.patro:0"]
[null,null,"3.patro:0"]
[null,null,"4.patro:0"]
[null,null,"5.patro:0"]
[{"$f":"A42+1","v":2},"73001   pol.4","Akustické utěsnění stupaček tvrdou minerální vatou","ks",{"$f":"SUM(E51:E56)","v":29},null,{"$f":"E50*F50","v":0}]
[null,null,"přízemí:10",null,10]
[null,null,"mezipatro:6",null,6]
[null,null,"1.patro:9",null,9]
[null,null,"2.patro:4",null,4]
[null,null,"3.patro:5"]
[null,null,"4.patro:4"]
[{"$f":"A50+1","v":3},"73001   pol.8","Stupačky ÚT budou opláštěny SDK obkladem vč.akustického utěsnění prostupu stropem","m2",{"$f":"SUM(E58:E71)","v":85.61},null,{"$f":"E57*F57","v":0}]
[null,null,"přízemí:"]
[null,null,"mezipatro:(0,15+0,39)*3,70+(0,15+0,73)*3,70",null,3.3]
[null,null,"1.patro:(0,20+0,32)*3,00+(0,20+0,817)*3,00+(0,20+0,574)*3,00",null,6.93]
[null,null,"(0,20+0,325)*3,00+(0,20+0,533)*3,00+(0,20+0,865)*3,00+(0,20+1,20)*3,00",null,11.18]
[null,null,"2.patro:(0,20+0,32)*3,00+(0,20+0,67)*3,00+(0,20+0,325)*3,00",null,5.75]
[null,null,"(0,20+0,39)*3,00+(0,20+0,635)*3,00+(0,20+0,80)*3,00",null,7.28]
[null,null,"(0,20+0,82)*3,00",null,3.06]
[null,null,"3.patro:(0,20+0,32)*2,80+(0,20+0,543)*2,80+(0,20+0,43)*2,80",null,5.26]
[null,null,"(0,20+0,67)*2,80+(0,20+0,44)*2,80+(0,20+0,53)*2,80+(0,20+0,43)*2,80",null,8.0299999999999994]
[null,null,"(0,20+0,59)*2,80+(0,20+0,50)*2,80+(0,20+0,87)*2,80",null,7.17]
[null,null,"4.patro:(0,20+0,32)*2,95+(0,20+1,05+0,20)*2,95",null,5.81]
[null,null,"(0,20+1,05+0,20)*2,95+(0,20+0,545)*2,95+(0,20+0,57)*2,95",null,8.75]
[null,null,"(0,20+0,635)*2,95+(0,20+0,76)*2,95+(0,20+0,45)*2,95",null,7.21]
[null,null,"(0,20+0,45)*2,95+(0,20+0,30)*2,95+(0,20+0,64)*2,95",null,5.88]
[{"$f":"A57+1","v":4},"73002   ","Zateplení za radiátory - PIR tl.30 mm kontaktně přilepený a překrytý flexilepidlem s výztužnou síťkou a štukovou omítkou","m2",{"$f":"SUM(E73:E73)","v":37.53},null,{"$f":"E72*F72","v":0}]
[null,null,"2,75*0,84*11+2,65*0,84*3+1,175*0,84*2+4,125*0,84",null,37.53]
[{"$f":"A72+1","v":5},"73003   ","Zateplení niky pěnosklem tl.30mm","m2",1.26,null,{"$f":"E74*F74","v":0}]
[null,null,"přízemí:(0,20+1,10+0,20)*0,84",null,1.26]
[{"$f":"A74+1","v":6},"73004   ","Zasekaní potrubí ÚT v 5.np","kpl.",1,null,{"$f":"E76*F76","v":0}]
[]
["Díl:",2,"Stavební práce navazující na rekonstrukcí silnoproudé části elektro",null,null,null,{"$f":"SUBTOTAL(9,G79:G115)","v":0}]
[{"$f":"A76+1","v":7},"M2102","Opláštění vnitřního povrchu nik pro rozvaděče protipožárním sádrokartonem","m2",{"$f":"SUM(E80:E86)","v":31.569999999999997},null,{"$f":"E79*F79","v":0}]
[null,null,"přízemí:(2*0,45+0,90)*3,50",null,6.3]
[null,null,"mezipatro:(2*0,30+0,90)*3,70",null,5.55]
[null,null,"1.patro:(2*0,30+0,845)*2,95",null,4.28]
[null,null,"2.patro:(2*0,30+0,895)*2,95",null,3.54]
[null,null,"3.patro:(2*0,30+0,65)*2,80",null,3.5]
[null,null,"4.patro:(2*0,30+0,895)*2,80",null,4.2]
[null,null,"5.patro:(2*0,30+0,895)*2,80",null,4.2]
[{"$f":"A79+1","v":8},"M2103","Dočasná SDK předstěna včetně konstrukce před rozvaděči na hlavním schodišti. Požární odolnost SDK předstěny posusovaná v kopletu s revizními dvířky - viz. položka níže, je EI 30.","m2",{"$f":"SUM(E88:E94)","v":35.699999999999989},null,{"$f":"E87*F87","v":0}]
[null,null,"přízemí:(2*0,2+1)*5,1",null,{"$f":"(2*0.2+1)*5.1","v":7.1399999999999988}]
[null,null,"mezipatro:(2*0,2+1)*3,4",null,{"$f":"(2*0.2+1)*3.4","v":4.76}]
[null,null,"1.patro:(2*0,2+1)*3,4",null,4.76]
[null,null,"2.patro:(2*0,2+1)*3,4",null,4.76]
[null,null,"3.patro:(2*0,2+1)*3,4",null,4.76]
[null,null,"4.patro:(2*0,2+1)*3,4",null,4.76]
[null,null,"5.patro:(2*0,2+1)*3,4",null,4.76]
[{"$f":"A87+1","v":9},"M2103","Otevíravá revizní dvířka velikosti 800 x 800 EI 30 kouřotěsná (S200) pro osazení do SDK předstěny.","ks",7,null,{"$f":"E95*F95","v":0}]
[{"$f":"A95+1","v":10},"631 32-0024.RAB","Mazanina vyztužená sítí, beton C 12/15, tl. 15 cm vyztužená sítí - drát 6,0 oka 100/100 mm","m2",6.69,null,{"$f":"E96*F96","v":0}]
[null,null,";zvednutí podlahy",null,0]
[null,null,"1,50*2,975+1,35*1,65",null,6.69]
[{"$f":"A96+1","v":11},"76601","Úprave dveří zvednutím ","ks",1,null,{"$f":"E99*F99","v":0}]
[{"$f":"A99+1","v":12},"76602     Zn/10","Dvířka SDK EW30 DP1 š.850 mm  D+M ","ks",1,null,{"$f":"E100*F100","v":0}]
[{"$f":"A100+1","v":13},"631 31-002","Mazanina z betonu C 12/15, tloušťka 0-15 cm nová vyrovnávací rampa","m2",1.125,null,{"$f":"E101*F101","v":0}]
[null,null,"0,90*1,25",null,1.125]
[{"$f":"A101+1","v":14},"971 10-0","Vybourání otvorů ve zdivu cihelném 100/300 mm , vč.odvozu suti a poplatku","ks",1,null,{"$f":"E103*F103","v":0}]
[{"$f":"A103+1","v":15},null,"Provedení požární ucpávky otvoru 100/300 mm s průchozími instalacemi ","ks",1,null,0]
[16,"971 10-1","Vybourání otvorů ve stropu 100/100 mm , vč.požární ucpávky, vč.odvozu suti a poplatku","ks",1,null,0]
[17,null,"Provedení požární ucpávky otvoru 100/100 mm s průchozími instalacemi ","ks",1,null,0]
[18,"63102","Rošt kabelový šířky 2 x 300 mm vč. kotevních prvků pro uchycení na stěnu","m",4.6349999999999998,null,0]
[19,"63102","Vybourání otvoru 800 x 250 mm do betonové zdi tl. 450 mm a jeho následné zednické začištění včetně sražení hran tak, aby nebyly poškozeny elektroinstalační kabely.","ks",1,null,0]
[{"$f":"A108+1","v":20},"63102","Zednické zapravení elektroinstalačního kanálu v suterénu do pravoúhlého profilu v řezu, finálně zapravený povrch kanálu bude natřen polyuretanovým nátěrem na beton. Profil elektrokanálu je 600 x 250. Vše dle výkresu D.1.1.B.9.","m",7.6349999999999998,null,0]
[21,"63102","Zámečnicky provedený kanál rozvodu elektro 450/150 mm  D+M s překrytím splzičkovým nerez plechem tl. 8 mm do rámu z L profilů dle výkresu D.1.1.B.9.","m",7.6349999999999998,null,0]
[null,null,"2,975+4,66",null,7.6349999999999998]
[{"$f":"A110+1","v":22},"63103","Kastlík z SDK  EI 60 DP1  D+M","m",3.5,null,{"$f":"E112*F112","v":0}]
[]
[{"$f":"A112+1","v":23},"771 55-001","Dlažba z dlaždic teracových 30 x 30 cm vč.soklíku  D+M, pokládaná na nerez slzičkový plech","m2",7.359,null,{"$f":"E114*F114","v":0}]
[null,null,"6,69*1,10",null,7.359]
["Díl:",3,"Stavební práce navazující na první etapu",null,null,null,{"$f":"SUBTOTAL(9,G117:G191)","v":0}]
[{"$f":"A114+1","v":24},null,"Zasekání stávajícího trezoru na klíče od branky za únikovým schodištěm do betonové opěrné stěny dvora. Klíčový trezor má rozměry 300 x 300 x 250 mm. Součástí položky je i začištění stěny po osazení klíčového trezoru a úprava stávající kabeláže.","kpl",1,null,{"$f":"E117*F117","v":0}]
[{"$f":"A117+1","v":25},"ZN 26a","Schody do chodby za trezor - materiál schodnice – poporost, podkonstrukce – 4ks U profil 100 dl. 1200 kotvené do zdi 2x chemická kotva pr. 10 mm. Povrchová úprava pozink","kpl",1,null,{"$f":"E118*F118","v":0}]
[{"$f":"A118+1","v":26},null,"Nátěr fasády do ulice Beethovenova na úrovni 5. patra budovy. Nátěru bude předcházet očištění stávající fasády. Nátěr bude vzorkován a výsledný barevný odstín musí být schválen objednatelem. Součástí položky je i příplatek za práce prováděné ve výškách.","m2",52,null,{"$f":"E119*F119","v":0}]
[{"$f":"A119+1","v":27},null,"Doplnění druhých dveří na vstup do studia S8 vysílacího komplexu v přízemí budovy. Doplněny budou plné dřevěné dveře, povrch dýha americký javor v odstínu stávajících dveří Sapeli. Neprůzvučnost dveří je předepsána na 38 dB, součástí položky je i dodávka a montáž obložkových zárubní stejného povrchu.  ","ks",1,null,{"$f":"E120*F120","v":0}]
[{"$f":"A120+1","v":28},null,"Demontáž a opětovná montáž stávajících dveří Sapeli včetně obložkové zárubně na vstupu do studia S8 vysílacího komplexu v přízemí budovy. Dveře budou montovány do mírně posunuté pozice.","ks",1,null,0]
[29,null,"Truhlářská úprava akustického obkladu studia S8 spočívající v demontáži obkladu lemujícího stávající dřevěné dveře, jeho rozměrová úprava a opětovná montáž do upravené pozice navazující na doplněné druhé dveře. ","m2",6,null,0]
[30,null,"Akustické utěsnění mezery zdvojené podlahy chodby studiového komplexu v přízemí. Do dutiny bude celoplošně na celou výšku 70 mm doplněna minerální vata objemové hmotnosti 60 kg/m3. Součástí položky je i roznoměrné rozprostření kabelových svazků tak, aby bylo možné rovnoměrně rozmístit minerální vatu. ","m2",14,null,0]
[31,null,"Demontáž a opětovná montáž zdvojené podlahy Kingspan s deskami celoobvodově krytými plechem. Součástí položky je i následné vyrovnání podlahy tak, aby neklapala.","m2",14,null,0]
[32,null,"Demontáž a opětovná pokládka kobercových čtverců lepených na lepidlo non pernament kryjící zdvojenou podlahu Kingspan s deskami celoobvodově krytými plechem. ","m2",17,null,0]
[33,null,"Provedení izolovaného podlahového stupně v machineroomu studiového komplexu přízemí budovy o rozměrech 1200 x 700 x 300 mm, včetně kovové konstrukce. Povrch stupně bude proveden z 2x natírané desky CETRIS. Celý objem stupně bude vyplněn minerální vatou o objemové hmotnosti 60 kg/m3. Dodávka a montáž.","ks",1,null,0]
[]
[null,null,"Mezipatro"]
[{"$f":"A126+1","v":34},"1        Tn/18","Zakrytí stávajících rozvodů vedle kuchyňské linky - dýhovaná dřevotříska  500+300/2700 mm","ks",1,null,{"$f":"E129*F129","v":0}]
[{"$f":"A129+1","v":35},"2        Zn/23","Žaluzie VZT 400/300 mm  D+M","ks",4,null,{"$f":"E130*F130","v":0}]
[]
[null,null,"Přízemí"]
[{"$f":"A130+1","v":36},"1    Zn/23","Žaluzie VZT 400/300 mm  D+M","ks",4,null,{"$f":"E133*F133","v":0}]
[{"$f":"A133+1","v":37},"2","Demontáž stávajících sádrokartonů podhled, chodba","kpl.",1,null,0]
[{"$f":"A134+1","v":38},"3","Podepření stropu 2xI 160 vč.obalení SDK požár.","kpl.",1,null,0]
[{"$f":"A135+1","v":39},"4","Vybourání stropu mezi přízemím a mezipatrem vč.monierky tl.50 mm","kpl.",1,null,0]
[{"$f":"A136+1","v":40},"5","Navázání vedení VZT na stáv.vedení VZT do mezipatr ","kpl.",1,null,0]
[{"$f":"A137+1","v":41},"6","Zasekání hydrantu a přívodu vody na sch.P24 ","kpl.",1,null,0]
[]
[null,null,"Suterén"]
[{"$f":"A138+1","v":42},"1","Bourací práce pro VZT ","kpl.",1,null,{"$f":"E141*F141","v":0}]
[{"$f":"A141+1","v":43},"2","Osazení VZT potrubí ","kpl.",1,null,0]
[{"$f":"A142+1","v":44},"3","Zapravení stropních konstrukcí okolo VZT ","kpl.",1,null,0]
[45,"4","Vrácení všech vrstev podhledů ","kpl.",1,null,0]
[46,"5    Tp/6","Korková podlaha v trezoru - nová  6850/7500 mm,  D+M ","m2",51.38,null,0]
[47,"6    Zp/19","Přepážka u trezoru - očištění, opískování a nový nátěr, opětná instalace 2ks původních dveří, nové prosklení  3425+2625/2400 mm","ks",1,null,0]
[48,"7    Zp/12","Dveře do trezoru - repase - očištění, opískování, nový nátěr, repase původního kování 1250/2200 mm","ks",1,null,0]
[49,"8","Rekonstrukce historického trezoru nové omítky, elektro,","kpl.",1,null,0]
[]
[null,null,"Přízemí"]
[{"$f":"A148+1","v":50},"1","Úpravy podlah v předsálí studia 7 ","kpl.",1,null,{"$f":"E151*F151","v":0}]
[]
[null,null,"Suterén"]
[{"$f":"A151+1","v":51},"1     Zn/22","Vedení páteřního rozvodu silnoproudu v šachtách ÚT - kanály el.rozvodů 250/50 mm (KOPOS) vč.doplňků","m",16,null,{"$f":"E154*F154","v":0}]
[{"$f":"A154+1","v":52},"2     Zn/24","Krycí stěna z tahokovu - viz. samostatný výkres ozn. D.1.1.C.1. - označení ohradní zdi přední a zadní","m",16,null,{"$f":"E155*F155","v":0}]
[{"$f":"A155+1","v":53},"3","Sejmutí požárního SDK  krycí VZT ","kpl.",1,null,{"$f":"E156*F156","v":0}]
[]
[null,null,"Přízemí"]
[{"$f":"A156+1","v":54},"1","Odstranění krytí elektrošachty z SDK, nová SDK stěna EI 60 DP1","kpl.",1,null,{"$f":"E159*F159","v":0}]
[]
[null,null,"Vysokopřetlakový nerezový fasádní komín s teplotní odolností na 600°C, nerezová ocel s teplotní třídou T 600°C, celková délka spalinové cesty cca 41 m, od spotřebiče dieselagregát SMDO JS 40 Silent"]
[{"$f":"A159+1","v":55},"Kouřovod","Roura 360 mm s měřícím prvkem","ks",1,null,{"$f":"E162*F162","v":0}]
[{"$f":"A162+1","v":56},null,"Přechodka spalinovod/komín se zakrytím izolace,","ks",1,null,0]
[{"$f":"A163+1","v":57},null,"připojení medi","ks",1,null,0]
[58,null,"Roura 1080 mm (zkracovatelná na min. 270mm)","ks",1,null,0]
[59,null,"Kontrolní prvek - víčko medi","ks",1,null,0]
[60,null,"Koleno 90° pro spoj. potrubí","ks",1,null,0]
[61,null,"Roura s měřícím hrdlem pro spojovací potrubí","ks",1,null,0]
[62,null,"Upevňovací spona, venkovní pro spojovací potrubí","ks",1,null,0]
[63,null,"Roura 540 mm (zkracovatelná na min. 270mm","ks",1,null,0]
[64,null,"Kontrolní prvek - víčko medi","ks",1,null,0]
[65,null,"Roura 1080 mm","ks",5,null,0]
[66,null,"Roura 1080 mm (zkracovatelná na min. 270mm)","ks",1,null,0]
[67,null,"Upevňovací spona, vnitřní","ks",15,null,0]
[68,null,"ATP DW, Stěnová objímka 60 - 120 mm, D100/160, kotvení z boku","ks",5,null,0]
[69,null,"Kompenzátor s ochrannou trubkou","ks",1,null,0]
[70,"Komín","Zakládací prvek s otočným kolenem 87°","ks",1,null,0]
[71,null,"Stěnová konzola 50-90 mm","ks",2,null,0]
[72,null,"Upevňovací spona, vnitřní","ks",5,null,0]
[73,null,"Roura 1080 mm","ks",35,null,0]
[74,null,"Roura 1080 mm (zkracovatelná na min. 270mm)","ks",1,null,0]
[75,null,"Roura 540 mm","ks",1,null,0]
[76,null,"Kompenzátor s ochrannou trubkou","ks",1,null,0]
[77,null,"Komínové ukončení","ks",1,null,0]
[78,null,"ATP DW, Stěnová objímka 30 - 60  mm, D100/160, kotvení z boku","ks",12,null,0]
[79,"Montáž","Drobný spojovací a kotevní materiál","kpl",1,null,0]
[80,null,"Montáž komínu, včetně drobných bouracách a zednických prací","kpl",1,null,0]
[]
[null,null,"Schodolez "]
[{"$f":"A187+1","v":81},null,"Schodolez pro přepravu osob usazených během přepravy na vlastním invalidním vozíku. Schodolez musí splňovat nebo být vybaven minimálně takto:\n- 3 nastavení rychlosti\n- rychlost až 18 kroků za minutu\n- jednostupňový a nepřetržitý režim\n- nosnost pro stoupání s lidmi o hmotnosti až 160 kg\n- součástí dodávky mobilní nabíječka \n- rychlá výměna baterií\n- na schodech ani podlažích nesmí nezanechávat žádné značky\n- přepínání mezi režimem s jedním krokem a režimem nepřetržitého provozu na schodech\n- modulární konstrukce: rychlá a snadná demontáž do tří částí a opětovné sestavení\n- spolehlivé boční brzdy\n- elektrická a mechanická ochrana proti přetížení\n- ergonomické, protiskluzové a výškově nastavitelné rukojeti\n- ukazatel úhlu pro dokonalé vyvážení během provozu\nreferenční výrobek např.: Schodolez LIFTKAR PT UNI 160 \nhttps://www.lift4u.cz/schodolez-liftkar-pt-uni-160-nosnost-do-160-kg-p120\n","ks",1,null,{"$f":"E190*F190","v":0}]
[]
["Díl:",4,"Dočasné stavební práce a konstrukce",null,null,null,{"$f":"SUBTOTAL(9,G193:G195)","v":0}]
[{"$f":"A190+1","v":82},null,"SDK stavební předěly jednostranně opláštěnou SDK příčkou z desky bílé, netmelené, s konstrukcí rozepřenou (nelze kotvit do podlahy). Předěly zajišťují protiprašné oddělení staveniště od prostoru, kde probíhá provoz ČRo Brno.","m2",230.6,null,{"$f":"E193*F193","v":0}]
[{"$f":"A193+1","v":83},null,"Dočasné stavební dveře ve stavebních předělech minimálního rozměru 800 x 1970 mm.","ks",18,null,{"$f":"E194*F194","v":0}]
[{"$f":"A194+1","v":84},null,"Vyklizení prostoru vrátnice (3 x stůl, 1 šatní skříň, 4x skřín policová, 2x nástěnka) stěhování mezi provizorní vrátnicí v hale a prostorem vrátnice","kpl",2,null,{"$f":"E195*F195","v":0}]
[]
[]
[]
[]
[null,null,null,null,null,null,null,null,null,null,null,null,null,null,null,null,null," "]

{"sheet":"31_SO 12 - Silnoproud","index":34,"n_rows":121,"n_cols":9,"rows_kept":121,"cut":false,"hidden":false,"merged":[[114,5,114,6],[114,7,114,8],[50,5,50,6],[50,7,50,8],[94,5,94,6],[94,7,94,8],[99,5,99,6],[99,7,99,8],[32,7,32,8],[35,0,35,8],[38,5,38,6],[38,7,38,8],[40,5,40,6],[40,7,40,8],[29,1,29,2],[29,3,29,4],[29,5,29,6],[29,7,29,8],[30,1,30,2],[30,3,30,4],[30,5,30,6],[30,7,30,8],[27,1,27,2],[27,3,27,4],[27,5,27,6],[27,7,27,8],[28,1,28,2],[28,3,28,4],[28,5,28,6],[28,7,28,8],[26,1,26,2],[26,3,26,4],[26,5,26,6],[26,7,26,8],[4,0,4,8],[24,1,24,2],[24,3,24,4],[24,5,24,6],[24,7,24,8]]}
[{"$f":"CONCATENATE('Rekapitulace stavby'!C92,\"_\",'Rekapitulace stavby'!I92)","v":"31_SO 12 - Silnoproudá elektroinstalace "}]
[]
["SPECIFIKACE DODÁVEK A PRACÍ "]
["Název akce:"]
[{"$f":"'Identifikační údaje'!B1","v":"ČRo Brno – III. etapa rekonstrukce budovy Beethovenova 25/4"}]
[]
["Zadavatel:",null,{"$f":"'Identifikační údaje'!B7","v":"Český rozhlas"}]
[null,"IČ:",{"$f":"'Identifikační údaje'!B9","v":45245053}]
[null,"DIČ:",{"$f":"'Identifikační údaje'!B10","v":"CZ45245053"}]
[]
["Projektant:",null,{"$f":"'Identifikační údaje'!B12","v":"Ing. arch. Klement Miloš"}]
[null,"IČ:",{"$f":"'Identifikační údaje'!B9","v":45245053}]
[null,"DIČ:",{"$f":"'Identifikační údaje'!B15","v":"CZ6101021344"}]
[]
["Uchazeč:",null,{"$f":"'Identifikační údaje'!B19","v":0}]
[null,"IČ:",{"$f":"'Identifikační údaje'!B23","v":0}]
[null,"DIČ:",{"$f":"'Identifikační údaje'!B24","v":0}]
[]
["Místo stavby:",null,{"$f":"'Identifikační údaje'!B3","v":"Budova Českého rozhlasu Brno na adrese Beethovenova 25/4, 657 42 Brno"}]
[]
["Datum:",null,{"$f":"'Identifikační údaje'!B5","v":"00:00:00"}]
[]
[{"$f":"CONCATENATE(\"REKAPITULACE DODÁVEK A PRACÍ OBJEKTU \",A1)","v":"REKAPITULACE DODÁVEK A PRACÍ OBJEKTU 31_SO 12 - Silnoproudá elektroinstalace "}]
[]
["P.č.","Ozn.",null,"Materiál celkem",null,"Montáž celkem",null,"M+M celkem"]
[]
[{"$f":"B41","v":"A."},{"$f":"C41","v":"Instalační, úložný a ochranný materiál"},null,{"$f":"F41","v":0},null,{"$f":"H41","v":0},null,{"$f":"D27+F27","v":0}]
[{"$f":"B51","v":"B."},{"$f":"C51","v":"Kabely a vodiče"},null,{"$f":"F51","v":0},null,{"$f":"H51","v":0},null,{"$f":"D28+F28","v":0}]
[{"$f":"B95","v":"C."},{"$f":"C95","v":"Pospojování, uzemnění"},null,{"$f":"F95","v":0},null,{"$f":"H95","v":0},null,{"$f":"D29+F29","v":0}]
[{"$f":"B100","v":"D."},{"$f":"C100","v":"Rozvaděče"},null,{"$f":"F100","v":0},null,{"$f":"H100","v":0},null,{"$f":"D30+F30","v":0}]
[{"$f":"B115","v":"E."},{"$f":"C115","v":"Ostatní"},null,{"$f":"F115","v":0},null,{"$f":"H115","v":0},null,{"$f":"D31+F31","v":0}]
[]
[{"$f":"CONCATENATE(\"CELKEM ZA OBJEKT \",'Rekapitulace stavby'!I92, \" v Kč bez DPH\")","v":"CELKEM ZA OBJEKT SO 12 - Silnoproudá elektroinstalace  v Kč bez DPH"},null,null,null,null,null,null,{"$f":"SUBTOTAL(9,H27:I31)","v":0}]
[]
[]
["Textová, výkresová i tabulková část projektové dokumentace tvoří jeden vzájemně se doplňující a provázaný celek. Jednotliví účastníci výběrového řízení se musí seznámit s projektojektovou dokumentací v návaznosti na soupis prací a na základě těchto informací části díla nacenit. Dále je potřeba při stanovení ceny dle vykázané výměry započítat všechny předpokládané doplňkové prvky a činnosti s touto položkou související tak, aby cena byla kompletní a prvek funkční."]
[]
[{"$f":"A1","v":"31_SO 12 - Silnoproudá elektroinstalace "}]
[null,null,null,null,null,"Materiál",null,"Montáž"]
["poř.č.","položka","popis položky","MJ","množství","jedn.cena","celkem [Kč]","jedn.cena","celkem [Kč]"]
[null,"A.","Instalační, úložný a ochranný materiál",null,null,{"$f":"SUBTOTAL(9,G42:G49)","v":0},null,{"$f":"SUBTOTAL(9,I41:I49)","v":0}]
[null,null," (komplet, včetně příslušenství, pomocného materiálu, výkopu, záhozu výkopu, vytyčení trasy, osazení, zapojení, vyzkoušení apod.)"]
[1,null,"Kabelová lávka 60x300 do stoupačky, komplet včetně příslušenství","m",25,null,{"$f":"E43*F43","v":0},null,{"$f":"E43*H43","v":0}]
[{"$f":"A43+1","v":2},null,"Kabelový drátový žlab 200x100 včetně příslušenství a závěsů","m",25,null,0,null,0]
[3,null,"Protipožární ucpávka pro průchod kabelů stěnou nebo stropem, požární odolnost dle požadavku specialisty PO, materiál: var.- požárně ochranná malta, var.-minerální vlna + desky z minerální vlny + požárně ochranná stěrková hmota, var.- protipožární polštáře ","m2",0.5,null,0,null,0]
[4,null,"Podlahový kanál pro uložení do betonu OBO Bettermann 350x38","m",4.5,null,0,null,0]
[5,null,"Podlahový kanál pro kabely s funkční schopností uložení do betonu OBO Bettermann 190x28","m",4.5,null,0,null,0]
[6,null,"Kabelová lávka 60x150 s funkční schopností při požáru P60-R do stoupačky, komplet včetně příslušenství","m",25,null,0,null,0]
[7,null,"Kabelový drátový žlab 100x100 s funkční schopností při požáru P60R včetně příslušenství a závěsů","m",30,null,0,null,0]
[]
[null,"B.","Kabely a vodiče",null,null,{"$f":"SUBTOTAL(9,G52:G93)","v":0},null,{"$f":"SUBTOTAL(9,I51:I93)","v":0}]
[null,null,"(komplet, včetně vyhotovení drážky, zapravení drážky, vytyčení trasy, pomocného materiálu, příchytek, spojek, odlehčovacích oblouků, zapojení, vyzkoušení apod.)"]
[{"$f":"A49+1","v":8},null,"Přívod pro patrový rozvaděč RM1 CYKY-J 5x16","m",55,null,{"$f":"E53*F53","v":0},null,{"$f":"E53*H53","v":0}]
[{"$f":"A53+1","v":9},null,"Rezerva pro patrový rozvaděč RM1 CYKY-J 5x6 diesel","m",55,null,0,null,0]
[10,null,"Rezerva pro patrový rozvaděč RM1 CYKY-J 5x6 UPS","m",55,null,0,null,0]
[11,null,"Přívod pro patrový rozvaděč RM1.1 trafo CYKY-J 5x6","m",70,null,0,null,0]
[12,null,"Přívod pro patrový rozvaděč RM1.1 diesel CYKY-J 5x6","m",70,null,0,null,0]
[13,null,"Přívod pro patrový rozvaděč RM1.1 UPS CYKY-J 5x6","m",70,null,0,null,0]
[14,null,"Přívod pro patrový rozvaděč RM1.2 trafo CYKY-J 5x6","m",65,null,0,null,0]
[15,null,"Přívod pro patrový rozvaděč RM1.2 diesel CYKY-J 5x6","m",65,null,0,null,0]
[16,null,"Přívod pro patrový rozvaděč RM1.2 UPS CYKY-J 5x6","m",65,null,0,null,0]
[17,null,"Přívod pro patrový rozvaděč R11 trafo přeložení (výměna)","m",55,null,0,null,0]
[18,null,"Přívod pro patrový rozvaděč R11 diesel přeložení (výměna)","m",55,null,0,null,0]
[19,null,"Přívod pro patrový rozvaděč R21 CYKY-J 5x16","m",65,null,0,null,0]
[20,null,"Rezerva pro patrový rozvaděč R21 CYKY-J 5x6 diesel","m",65,null,0,null,0]
[21,null,"Rezerva pro patrový rozvaděč R21 CYKY-J 5x6 UPS","m",65,null,0,null,0]
[22,null,"Přívod pro  rozvaděč server RS2 trafo CYKY-J 5x6","m",75,null,0,null,0]
[23,null,"Přívod pro  rozvaděč server RS2 diesel CYKY-J 5x10","m",75,null,0,null,0]
[24,null,"Rezerva pro  rozvaděč server RS2 CYKY-J 5x10 UPS","m",75,null,0,null,0]
[25,null,"Přívod pro patrový rozvaděč R31 CYKY-J 5x25","m",65,null,0,null,0]
[26,null,"Rezerva pro patrový rozvaděč R31 CYKY-J 5x6 diesel","m",65,null,0,null,0]
[27,null,"Rezerva pro patrový rozvaděč R31 CYKY-J 5x6 UPS","m",65,null,0,null,0]
[28,null,"Přívod pro patrový rozvaděč R41 CYKY-J 5x25","m",70,null,0,null,0]
[29,null,"Rezerva pro patrový rozvaděč R41 CYKY-J 5x6 diesel","m",70,null,0,null,0]
[30,null,"Rezerva pro patrový rozvaděč R41 CYKY-J 5x6 UPS","m",70,null,0,null,0]
[31,null,"Přívod pro patrový rozvaděč R51 CYKY-J 5x16","m",65,null,0,null,0]
[32,null,"Rezerva pro patrový rozvaděč R51 CYKY-J 5x6 diesel","m",65,null,0,null,0]
[33,null,"Rezerva pro patrový rozvaděč R51 CYKY-J 5x6 UPS","m",65,null,0,null,0]
[34,null,"Přívod pro rozvaděč O2 přeložení (výměna)","m",70,null,0,null,0]
[35,null,"Provizorní napojení stávající RV1 v 6np CYKY-J 5x4","m",30,null,0,null,0]
[36,null,"Provizorní napojení stávající RM1 CYKY-J 5x6","m",10,null,0,null,0]
[37,null,"Provizorní napojení stávající R21 CYKY-J 5x10","m",10,null,0,null,0]
[38,null,"Provizorní napojení stávající R31 CYKY-J 5x10","m",25,null,0,null,0]
[39,null,"Provizorní napojení stávající R41 CYKY-J 5x10","m",10,null,0,null,0]
[40,null,"Provizorní napojení stávající R42 CYKY-J 5x10","m",20,null,0,null,0]
[41,null,"Provizorní napojení stávající R51CYKY-J 5x10","m",10,null,0,null,0]
[42,null,"Přívod pro technologii machineroom diesel CYKY-J 5x6","m",70,null,0,null,0]
[43,null,"Přívod pro technologii machineroom UPS CYKY-J 5x6","m",70,null,0,null,0]
[44,null,"Přívod pro technologii machineroom trafo CYKY-J 5x6","m",70,null,0,null,0]
[45,null,"Přívod pro technologii studio UPS CYKY-J 5x6","m",150,null,{"$f":"E90*F90","v":0},null,{"$f":"E90*H90","v":0}]
[{"$f":"A90+1","v":46},null,"Příprava pro termostat z VS do 5NP JYTY-O 3x1","m",150,null,0,null,0]
[47,null,"JE-Y(ST)Y 4x2x0.8 signalizace výpadku jističe do NO","m",250,null,0,null,0]
[48,null,"Rozvody pro NO kabel s funkční schopností P60R -O 3x1,5","m",600,null,0,null,0]
[]
[null,"C.","Pospojování, uzemnění",null,null,{"$f":"SUBTOTAL(9,G96:G98)","v":0},null,{"$f":"SUBTOTAL(9,I95:I98)","v":0}]
[null,null,"(komplet, včetně příslušenství, svorek, pomocného materiálu, osazení, zapojení, vyzkoušení apod.) "]
[{"$f":"A93+1","v":49},null,"Vodič CYA25 žlutozelený včetně svorek - hlavní pospojení","m",100,null,{"$f":"E97*F97","v":0},null,{"$f":"E97*H97","v":0}]
[{"$f":"A97+1","v":50},null,"Vodič CYA16 žlutozelený včetně svorek - hlavní pospojení","m",10,null,{"$f":"E98*F98","v":0},null,{"$f":"E98*H98","v":0}]
[]
[null,"D.","Rozvaděče",null,null,{"$f":"SUBTOTAL(9,G101:G113)","v":0},null,{"$f":"SUBTOTAL(9,I100:I113)","v":0}]
[null,null,"(komplet, včetně příslušenství, svorek, pomocného materiálu, osazení, zapojení, vyzkoušení apod.) "]
[{"$f":"A98+1","v":51},null,"Úpravy v rozvaděči RE","ks",1,null,{"$f":"E102*F102","v":0},null,{"$f":"E102*H102","v":0}]
[{"$f":"A102+1","v":52},null,"Úpravy hlavní rozvaděč RH","ks",1,null,0,null,0]
[53,null,"Úpravy hlavní rozvaděče UPS","ks",1,null,0,null,0]
[54,null,"Patrový rozvaděč RM1","ks",1,null,0,null,0]
[55,null,"Patrový rozvaděč RM1.1","ks",1,null,0,null,0]
[56,null,"Patrový rozvaděč RM1.2","ks",1,null,0,null,0]
[57,null,"Patrový rozvaděč R21","ks",1,null,0,null,0]
[58,null,"Patrový rozvaděč R31","ks",1,null,0,null,0]
[59,null,"Patrový rozvaděč R41","ks",1,null,0,null,0]
[60,null,"Patrový rozvaděč R51","ks",1,null,0,null,0]
[61,null,"Přepojení stávající rozvaděč server RS2","ks",1,null,0,null,0]
[62,null,"Úpravy stávající CBS Inotec","ks",1,null,0,null,0]
[]
[null,"E.","Ostatní",null,null,{"$f":"SUBTOTAL(9,G116:G121)","v":0},null,{"$f":"SUBTOTAL(9,I115:I121)","v":0}]
[{"$f":"A113+1","v":63},null,"Výchozí revize","hod",30,null,{"$f":"E116*F116","v":0},null,{"$f":"E116*H116","v":0}]
[{"$f":"A116+1","v":64},null,"Demontáže včetně likvidace odpadu","hod",50,null,{"$f":"E117*F117","v":0},null,0]
[{"$f":"A117+1","v":65},null,"Stavební přípomoce ","kpl",1," ---"," ---",null,0]
[{"$f":"A118+1","v":66},null,"Pomocný a podružný materiál upevňovací","kpl",1,null,{"$f":"E119*F119","v":0},null,0]
[{"$f":"A119+1","v":67},null,"Zednické výpomoci (PPV)","kpl",1," ---"," ---",null,0]
[{"$f":"A120+1","v":68},null,"Doprava materiálu","kpl",1," ---"," ---",null,0]

{"sheet":"32_SO 12 - ÚT","index":35,"n_rows":108,"n_cols":9,"rows_kept":108,"cut":false,"hidden":false,"merged":[[107,0,107,8],[97,5,97,6],[97,7,97,8],[31,7,31,8],[34,0,34,8],[37,5,37,6],[37,7,37,8],[39,5,39,6],[39,7,39,8],[57,5,57,6],[57,7,57,8],[71,5,71,6],[71,7,71,8],[27,1,27,2],[27,3,27,4],[27,5,27,6],[27,7,27,8],[29,1,29,2],[29,3,29,4],[29,5,29,6],[29,7,29,8],[28,3,28,4],[28,5,28,6],[28,7,28,8],[26,1,26,2],[26,3,26,4],[26,5,26,6],[26,7,26,8],[4,0,4,8],[24,1,24,2],[24,3,24,4],[24,5,24,6],[24,7,24,8]]}
[{"$f":"CONCATENATE('Rekapitulace stavby'!C93,\"_\",'Rekapitulace stavby'!I93)","v":"32_SO 12 - Ústřední vytápění"}]
[]
["SPECIFIKACE DODÁVEK A PRACÍ "]
["Název akce:"]
[{"$f":"'Identifikační údaje'!B1","v":"ČRo Brno – III. etapa rekonstrukce budovy Beethovenova 25/4"}]
[]
["Zadavatel:",null,{"$f":"'Identifikační údaje'!E7","v":"Český rozhlas, Vinohradská 12, 120 99 Praha 2"}]
[null,"IČ:",{"$f":"'Identifikační údaje'!B9","v":45245053}]
[null,"DIČ:",{"$f":"'Identifikační údaje'!B10","v":"CZ45245053"}]
[]
["Projektant:",null,{"$f":"'Identifikační údaje'!E12","v":"Ing. arch. Klement Miloš, Nejedlého 381/19, 638 00 Brno - Lesná"}]
[null,"IČ:",{"$f":"'Identifikační údaje'!B14","v":15188736}]
[null,"DIČ:",{"$f":"'Identifikační údaje'!B15","v":"CZ6101021344"}]
[]
["Uchazeč:",null,{"$f":"'Identifikační údaje'!E19","v":", ,  "}]
[null,"IČ:",{"$f":"'Identifikační údaje'!B23","v":0}]
[null,"DIČ:",{"$f":"'Identifikační údaje'!B24","v":0}]
[]
["Místo stavby:",null,{"$f":"'Identifikační údaje'!B3","v":"Budova Českého rozhlasu Brno na adrese Beethovenova 25/4, 657 42 Brno"}]
[]
["Datum:",null,{"$f":"'Identifikační údaje'!B5","v":"00:00:00"}]
[]
[{"$f":"CONCATENATE(\"REKAPITULACE DODÁVEK A PRACÍ OBJEKTU \",'Rekapitulace stavby'!I93)","v":"REKAPITULACE DODÁVEK A PRACÍ OBJEKTU SO 12 - Ústřední vytápění"}]
[]
["P.č.","Ozn.",null,"Materiál celkem",null,"Montáž celkem",null,"M+M celkem"]
[]
[{"$f":"B40","v":"A."},{"$f":"C40","v":"ZAŘÍZENÍ A ARMATURY"},null,{"$f":"F40","v":0},null,{"$f":"H40","v":0},null,{"$f":"D27+F27","v":0}]
[{"$f":"B58","v":"B."},{"$f":"C58","v":"POTRUBÍ"},null,{"$f":"F58","v":0},null,{"$f":"H58","v":0},null,{"$f":"D28+F28","v":0}]
[{"$f":"B72","v":"C."},{"$f":"C72","v":"TĚLESA"},null,{"$f":"F72","v":0},null,{"$f":"H72","v":0},null,{"$f":"D29+F29","v":0}]
[{"$f":"B98","v":"D."},{"$f":"C98","v":"OSTATNÍ"},null,{"$f":"F98","v":0},null,{"$f":"H98","v":0},null,{"$f":"D30+F30","v":0}]
[]
[{"$f":"CONCATENATE(\"CELKEM ZA OBJEKT \",'Rekapitulace stavby'!I93, \" v Kč bez DPH\")","v":"CELKEM ZA OBJEKT SO 12 - Ústřední vytápění v Kč bez DPH"},null,null,null,null,null,null,{"$f":"SUBTOTAL(9,H27:I30)","v":0}]
[]
[]
["Textová, výkresová i tabulková část projektové dokumentace tvoří jeden vzájemně se doplňující a provázaný celek. Jednotliví účastníci výběrového řízení se musí seznámit s projektojektovou dokumentací v návaznosti na soupis prací a na základě těchto informací části díla nacenit. Dále je potřeba při stanovení ceny dle vykázané výměry započítat všechny předpokládané doplňkové prvky a činnosti s touto položkou související tak, aby cena byla kompletní a prvek funkční."]
[]
[{"$f":"A1","v":"32_SO 12 - Ústřední vytápění"}]
[null,null,null,null,null,"Materiál",null,"Montáž"]
["poř.č.","položka","popis položky","MJ","množství","jedn.cena","celkem [Kč]","jedn.cena","celkem [Kč]"]
[null,"A.","ZAŘÍZENÍ A ARMATURY",null,null,{"$f":"SUBTOTAL(9,G41:G56)","v":0},null,{"$f":"SUBTOTAL(9,I41:I56)","v":0}]
[1,null,"Oběhové teplovodní čerpadlo montované do potrubí typ KSB Calio S 15/40 ( 230V/23W )","kpl",4,null,{"$f":"E41*F41","v":0},null,{"$f":"E41*H41","v":0}]
[{"$f":"A41+1","v":2},null,"Trojcestná směšovací armatura komplet včetně regulátoru,  servopohonu, čidel a kabeláže  Dn 15, kv = 0,6 m3/h ","kpl",3,null,{"$f":"E42*F42","v":0},null,{"$f":"E42*H42","v":0}]
[3,null,"Trojcestná směšovací armatura komplet včetně regulátoru,  servopohonu, čidel a kabeláže  Dn 15, kv = 1,0 m3/h ","kpl",1,null,{"$f":"E43*F43","v":0},null,{"$f":"E43*H43","v":0}]
[4,null,"Automatický vyvažovací ventil kazetový K 38 x typ K 380.15.F 360101","kpl",3,null,{"$f":"E44*F44","v":0},null,{"$f":"E44*H44","v":0}]
[5,null,"Automatický vyvažovací ventil kazetový K 38 x typ K 380.20.F 360108","kpl",1,null,{"$f":"E45*F45","v":0},null,{"$f":"E45*H45","v":0}]
[6,null,"Kohout uzavírací závitový kulový Dn 15","kpl",4,null,{"$f":"E46*F46","v":0},null,{"$f":"E46*H46","v":0}]
[7,null,"Ruční regulační ventil Dn 10","kpl",2,null,0,null,0]
[8,null,"Zpětná klapka závitová do potrubí EURA Dn 10","kpl",4,null,0,null,0]
[9,null,"Kohout vypouštěcí a napouštěcí kulový Dn 10","kpl",6,null,0,null,0]
[10,null,"Automatický odvzdušňovač MINIVAL Dn 10","kpl",6,null,0,null,0]
[11,null,"Šroubení závitové přímé, uzavírací Dn 10","kpl",26,null,0,null,0]
[12,null,"Šroubení závitové přímé neuzavírací Dn 15","kpl",10,null,0,null,0]
[13,null,"Termoregulační ventil HEIMEIER s hlavicí  termoregulace Dn 10","kpl",26,null,0,null,0]
[14,null,"Termoregulační ventil HEIMEIER s hlavicí  termoregulace Dn 15","kpl",10,null,0,null,0]
[15,null,"Hlavice termoregulačního ovládání HEIMEIER","kpl",7,null,0,null,0]
[16,null,"Programovatelný prostorový termostat","kpl",1,null,0,null,0]
[]
[null,"B.","POTRUBÍ",null,null,{"$f":"SUBTOTAL(9,G59:G70)","v":0},null,{"$f":"SUBTOTAL(9,I58:I70)","v":0}]
[{"$f":"A56+1","v":17},null,"Potrubí systému IVAR.C-STEEL provedené z lisované pozinkované uhlíkové oceli Dn 10 ( 3/8\" )","m",210,null,{"$f":"E59*F59","v":0},null,{"$f":"E59*H59","v":0}]
[{"$f":"A59+1","v":18},null,"Potrubí systému IVAR.C-STEEL provedené z lisované pozinkované uhlíkové oceli Dn 15 ( 1/2\" )","m",72,null,{"$f":"E60*F60","v":0},null,{"$f":"E60*H60","v":0}]
[{"$f":"A60+1","v":19},null,"Potrubí systému IVAR.C-STEEL provedené z lisované pozinkované uhlíkové oceli Dn 20 ( 3/4“ )","m",42,null,0,null,0]
[20,null,"Potrubí systému IVAR.C-STEEL provedené z lisované pozinkované uhlíkové oceli Dn 25  ( 1“ )","m",38,null,0,null,0]
[21,null,"Potrubí systému IVAR.C-STEEL provedené z lisované pozinkované uhlíkové oceli Dn 32  ( 5/4“ )","m",30,null,0,null,0]
[22,null,"Potrubí z trubek měděných přesných, včetně příslušných tvarovek a přechodových kusů rozm. 15 x 1","m",65,null,0,null,0]
[23,null,"Potrubí z trubek měděných přesných, včetně příslušných tvarovek a přechodových kusů rozm. 18 x 1","m",45,null,0,null,0]
[24,null,"Potrubí z trubek měděných přesných, včetně příslušných tvarovek a přechodových kusů rozm. 22 x 1","m",14,null,0,null,0]
[25,null,"Potrubí z trubek měděných přesných, včetně příslušných tvarovek a přechodových kusů rozm. 28 x 1,5","m",6,null,0,null,0]
[26,null,"Přechodový kus měď ocel  15x1/dn10","ks",36,null,{"$f":"E68*F68","v":0},null,{"$f":"E68*H68","v":0}]
[27,null,"Přechodový kus měď ocel  28 x 1,5/dn 25","ks",2,null,{"$f":"E69*F69","v":0},null,{"$f":"E69*H69","v":0}]
[28,null,"Svorkové šroubení na měděné trubky 15 x 1","ks",16,null,{"$f":"E70*F70","v":0},null,{"$f":"E70*H70","v":0}]
[]
[null,"C.","TĚLESA",null,null,{"$f":"SUBTOTAL(9,G73:G96)","v":0},null,{"$f":"SUBTOTAL(9,I72:I96)","v":0}]
[{"$f":"A70+1","v":29},null,"Otopná tělesa litinová článková   -  stávající. Tělesa budou demontována včetně podpůrných konzol, vyčištěna, nově natřena a znovu namontována v souladu s projektovou dokumentací na nově osazené konzoly.","kpl",8,null,{"$f":"E73*F73","v":0},null,{"$f":"E73*H73","v":0}]
[{"$f":"A73+1","v":30},null,"Koupelnové trubkové těleso KORALUX LINEAR MAX  rozm. KLM 1820/600","kpl",2,null,0,null,0]
[{"$f":"A74+1","v":31},null,"Otopná tělesa ocelová desková RADIK VK komplet, včetně připojovací armatury VEKOLUX rozm. 21/600/600 VK","kpl",2,null,0,null,0]
[32,null,"Otopná tělesa ocelová desková RADIK VK komplet, včetně připojovací armatury VEKOLUX rozm. 22/600/1200 VK","kpl",1,null,{"$f":"E76*F76","v":0},null,0]
[33,null,"Otopná tělesa ocelová desková RADIK VK komplet, včetně připojovací armatury VEKOLUX rozm. 22/600/1400 VK","kpl",3,null,0,null,0]
[34,null,"Otopná tělesa ocelová desková RADIK VK komplet, včetně připojovací armatury VEKOLUX rozm. 21/900/600 VK","kpl",1,null,0,null,0]
[35,null,"Otopná tělesa ocelová desková RADIK VK komplet, včetně připojovací armatury VEKOLUX rozm. 22/900/1100 VK","kpl",1,null,0,null,0]
[36,null,"Otopná tělesa ocelová desková RADIK klasik komplet včetně upevňovacích prvků ","kpl",null,null,0,null,0]
[37,null,"Otopná tělesa ocelová desková RADIK klasik komplet včetně upevňovacích prvků rozm. 10/600/600","kpl",11,null,0,null,0]
[38,null,"Otopná tělesa ocelová desková RADIK klasik komplet včetně upevňovacích prvků rozm. 10/600/700","kpl",2,null,0,null,0]
[39,null,"Otopná tělesa ocelová desková RADIK klasik komplet včetně upevňovacích prvků rozm. 10/600/900","kpl",1,null,0,null,0]
[40,null,"Otopná tělesa ocelová desková RADIK klasik komplet včetně upevňovacích prvků rozm. 10/900/700","kpl",1,null,0,null,0]
[41,null,"Otopná tělesa ocelová desková RADIK klasik komplet včetně upevňovacích prvků rozm. 21/600/500","kpl",1,null,0,null,0]
[42,null,"Otopná tělesa ocelová desková RADIK klasik komplet včetně upevňovacích prvků rozm. 21/600/600","kpl",4,null,0,null,0]
[43,null,"Otopná tělesa ocelová desková RADIK klasik komplet včetně upevňovacích prvků rozm. 21/600/700","kpl",2,null,0,null,0]
[44,null,"podlahový konvektor FOX Silent N-110 PV218 - dl. 3.500 mm komplet včetně krycí mřížky","kpl",16,null,0,null,0]
[45,null,"Montážní, kotevní, těsnící a jiný materiál","kpl",1,null,{"$f":"E89*F89","v":0},null,0]
[{"$f":"A89+1","v":46},null,"Tepelná izolace ocelového potrubí minerální plstí tl. dle dimenze potrubí, s povrchovou úpravou FLEXIPAN nebo jinou vhodnou Dn 10 ( 3/8\" )","m",295,null,{"$f":"E90*F90","v":0},null,{"$f":"E90*H90","v":0}]
[47,null,"Tepelná izolace ocelového potrubí minerální plstí tl. dle dimenze potrubí, s povrchovou úpravou FLEXIPAN nebo jinou vhodnou Dn 15 ( 1/2\" )","m",655,null,0,null,0]
[48,null,"Tepelná izolace ocelového potrubí minerální plstí tl. dle dimenze potrubí, s povrchovou úpravou FLEXIPAN nebo jinou vhodnou Dn 20 ( 3/4“ )","m",290,null,0,null,0]
[49,null,"Tepelná izolace ocelového potrubí minerální plstí tl. dle dimenze potrubí, s povrchovou úpravou FLEXIPAN nebo jinou vhodnou Dn 25  ( 1“ )","m",269,null,0,null,0]
[50,null,"Tepelná izolace ocelového potrubí minerální plstí tl. dle dimenze potrubí, s povrchovou úpravou FLEXIPAN nebo jinou vhodnou Dn 32  ( 5/4“ )","m",111,null,{"$f":"E94*F94","v":0},null,{"$f":"E94*H94","v":0}]
[{"$f":"A94+1","v":51},null,"Ocelové prvky  -  L profil 50 x 50 x 5 vč. povrchové úpravy","m",10,null,0,null,0]
[52,null,"Ocelové prvky  -  tyč průměru 10 mm vč. povrchové úpravy","m",10,null,0,null,0]
[]
[null,"D.","OSTATNÍ",null,null,{"$f":"SUBTOTAL(9,G99:G104)","v":0},null,{"$f":"SUBTOTAL(9,I98:I105)","v":0}]
[{"$f":"A96+1","v":53},null,"HZS  vypuštění systému","hod",48," ---"," ---",null,{"$f":"E99*H99","v":0}]
[54,null,"HZS  demontáž stávajícího nepotřebného potrubí včetně zajištění jeho likvidace v souladu s platnou legislativou na území ČR. Součástí položky je i související doprava.","hod",25," ---"," ---",null,0]
[55,null,"HZS propláchnutí systému, napuštění systému upravenou vodou","hod",48," ---"," ---",null,0]
[56,null,"HZS topná zkoužka","hod",72," ---"," ---",null,0]
[57,null,"HZS seřízení a přezkoušení systému","hod",60," ---"," ---",null,0]
[58,null,"Protipožární ucpávky","kpl",1,null,{"$f":"E104*F104","v":0},null,0]
[59,null,"Stavební výpomoci, drážky, prostupy","hod",28," ---"," ---",null,0]
[]
[]
["V souladu se zákonem o veřejných zakázkách č. 137/2006 Sb. bylo ve vyjímečných a nezbytných případech pro dostatečně přesný a srozumitelný popis použito odkazu na typový výrobek. Ten je možné dle tohoto zákona nahradit kvalitativně a technicky obdobným řešením. Uvedené odkazy na typový výrobek v této dokumentaci slouží pouze pro specifikaci technických parametrů a jejich kvalitativního standardu."]

{"sheet":"33_SO 12 - EPS","index":36,"n_rows":97,"n_cols":9,"rows_kept":97,"cut":false,"hidden":false,"merged":[[79,5,79,6],[79,7,79,8],[90,5,90,6],[90,7,90,8],[37,5,37,6],[37,7,37,8],[39,5,39,6],[39,7,39,8],[63,5,63,6],[63,7,63,8],[34,0,34,8],[27,1,27,2],[27,3,27,4],[27,5,27,6],[27,7,27,8],[28,1,28,2],[28,3,28,4],[28,5,28,6],[28,7,28,8],[29,1,29,2],[29,3,29,4],[29,5,29,6],[29,7,29,8],[31,7,31,8],[26,1,26,2],[26,3,26,4],[26,5,26,6],[26,7,26,8],[4,0,4,8],[24,1,24,2],[24,3,24,4],[24,5,24,6],[24,7,24,8]]}
[{"$f":"CONCATENATE('Rekapitulace stavby'!C94,\"_\",'Rekapitulace stavby'!I94)","v":"33_SO 12 - EPS"}]
[]
["SPECIFIKACE DODÁVEK A PRACÍ "]
["Název akce:"]
[{"$f":"'Identifikační údaje'!B1","v":"ČRo Brno – III. etapa rekonstrukce budovy Beethovenova 25/4"}]
[]
["Zadavatel:",null,{"$f":"'Identifikační údaje'!B7","v":"Český rozhlas"}]
[null,"IČ:",{"$f":"'Identifikační údaje'!B9","v":45245053}]
[null,"DIČ:",{"$f":"'Identifikační údaje'!B10","v":"CZ45245053"}]
[]
["Projektant:",null,{"$f":"'Identifikační údaje'!B12","v":"Ing. arch. Klement Miloš"}]
[null,"IČ:",{"$f":"'Identifikační údaje'!B9","v":45245053}]
[null,"DIČ:",{"$f":"'Identifikační údaje'!B15","v":"CZ6101021344"}]
[]
["Uchazeč:",null,{"$f":"'Identifikační údaje'!B19","v":0}]
[null,"IČ:",{"$f":"'Identifikační údaje'!B23","v":0}]
[null,"DIČ:",{"$f":"'Identifikační údaje'!B24","v":0}]
[]
["Místo stavby:",null,{"$f":"'Identifikační údaje'!B3","v":"Budova Českého rozhlasu Brno na adrese Beethovenova 25/4, 657 42 Brno"}]
[]
["Datum:",null,{"$f":"'Identifikační údaje'!B5","v":"00:00:00"}]
[]
[{"$f":"CONCATENATE(\"REKAPITULACE DODÁVEK A PRACÍ OBJEKTU \",'Rekapitulace stavby'!I94)","v":"REKAPITULACE DODÁVEK A PRACÍ OBJEKTU SO 12 - EPS"}]
[]
["P.č.","Ozn.",null,"Materiál celkem",null,"Montáž celkem",null,"M+M celkem"]
[]
[{"$f":"B40","v":"A."},{"$f":"C40","v":"Dodávka zařízení"},null,{"$f":"F40","v":0},null,{"$f":"H40","v":0},null,{"$f":"D27+F27","v":0}]
[{"$f":"B64","v":"B."},{"$f":"C64","v":"Nosný materiál"},null,{"$f":"F64","v":0},null,{"$f":"H64","v":0},null,{"$f":"D28+F28","v":0}]
[{"$f":"B80","v":"C."},{"$f":"C80","v":"C 22 M - zařízení"},null," ---",null,{"$f":"H80","v":0},null,{"$f":"F29","v":0}]
[{"$f":"B91","v":"D."},{"$f":"C91","v":"C 22 M - rozvody"},null," ---",null,{"$f":"H91","v":0},null,{"$f":"F30","v":0}]
[]
[{"$f":"CONCATENATE(\"CELKEM ZA OBJEKT \",'Rekapitulace stavby'!I94, \" v Kč bez DPH\")","v":"CELKEM ZA OBJEKT SO 12 - EPS v Kč bez DPH"},null,null,null,null,null,null,{"$f":"SUBTOTAL(9,H27:I30)","v":0}]
[]
[]
["Textová, výkresová i tabulková část projektové dokumentace tvoří jeden vzájemně se doplňující a provázaný celek. Jednotliví účastníci výběrového řízení se musí seznámit s projektojektovou dokumentací v návaznosti na soupis prací a na základě těchto informací části díla nacenit. Dále je potřeba při stanovení ceny dle vykázané výměry započítat všechny předpokládané doplňkové prvky a činnosti s touto položkou související tak, aby cena byla kompletní a prvek funkční."]
[]
[{"$f":"A1","v":"33_SO 12 - EPS"}]
[null,null,null,null,null,"Materiál",null,"Montáž"]
["poř.č.","položka","popis položky","MJ","množství","jedn.cena","celkem [Kč]","jedn.cena","celkem [Kč]"]
[null,"A.","Dodávka zařízení",null,null,{"$f":"SUBTOTAL(9,G41:G62)","v":0},null,{"$f":"SUBTOTAL(9,I40:I62)","v":0}]
[null,"Automatické hlásiče a příslušenství"]
[1,"MTD 533X","multisenzorový hlásič MTD 533X","ks",146,null,{"$f":"E42*F42","v":0},null,{"$f":"E42*H42","v":0}]
[{"$f":"A42+1","v":2},"USB 501-6","sokl USB 501-6, bez loop kontaktu","ks",146,null,0,null,0]
[{"$f":"A43+1","v":3},"S USB 501","popisný štítek pro USB501","ks",146,null,0,null,0]
[null,"Manuální tlačítkový hlásič"]
[{"$f":"A44+1","v":4},"MCP545X-1R","tlačítkový hlásič MCP545X-1R - červený, IP24","ks",18,null,0,null,0]
[{"$f":"A46+1","v":5},"MCP535 AK","štítek se symbolem pro MCP535","ks",18,null,0,null,0]
[null,"Moduly na kruhovou linku"]
[{"$f":"A47+1","v":6},"BX-OI3","v/v modul BX-OI3, vč. zkrat. izolátoru","ks",4,null,0,null,0]
[{"$f":"A49+1","v":7},"BX-IM4","vstupní modul BX-IM4, vč. zkrat. izolátoru","ks",4,null,0,null,0]
[{"$f":"A50+1","v":8},"GEH MOD IP66","krabice pro moduly IP66, 94x94x57 mm","ks",8,null,0,null,0]
[{"$f":"A51+1","v":9},"MM ANB M16","šroubovací průchodka M16","ks",16,null,0,null,0]
[{"$f":"A52+1","v":10},"MM GM M16","kontramatka  PG16","ks",16,null,0,null,0]
[null,"Optické a akustické signalizační zařízení"]
[{"$f":"A53+1","v":11},"VTB-32E-DB-RB/AL","kombinované siréna/maják, červená, IP65","ks",1,null,0,null,0]
[{"$f":"A55+1","v":12},"BL V4 RT","maják V4 červeny","ks",10,null,0,null,0]
[{"$f":"A56+1","v":13},"CS200-SV/R","siréna CS 200 červená, 32 tónů, IP 21c","ks",17,null,0,null,0]
[null,"Ostatní"]
[{"$f":"A57+1","v":14},"PRUEFGAS","láhev zkušebního plynu 918/5 ","ks",5,null,0,null,0]
[15,null,"obslužné pole požární ochrany ","ks",1,null,0,null,0]
[16,null,"klíčový trezor MOT provedení (vč. motýlkového zámku - č. HZS)","ks",1,null,0,null,0]
[17,null,"Obslužné pole požární ochrany - OPPO","ks",1,null,0,null,0]
[]
[null,"B.","Nosný materiál",null,null,{"$f":"SUBTOTAL(9,G65:G78)","v":0},null,{"$f":"SUBTOTAL(9,I64:I78)","v":0}]
[{"$f":"A62+1","v":18},null,"Elektroinstal. PVC trubka ohebná 16mm","m",60,null,{"$f":"E65*F65","v":0},null,{"$f":"E65*H65","v":0}]
[{"$f":"A65+1","v":19},null,"Elektroinstal. PVC trubka ohebná 29mm","m",40,null,0,null,0]
[20,null,"Kabel 1x2x0,8  třída reakce na oheň B2(ca)s1d0, funkční odolnost při požáru, P90-R - pevně uložen","m",1384,null,0,null,0]
[21,null,"Kabel 2x2x0,8  třída reakce na oheň B2(ca)s1d0, funkční odolnost při požáru, P90-R - pevně uložen, pod omítkou","m",13,null,0,null,0]
[22,null,"Kabel 5x2x0,8  třída reakce na oheň B2(ca)s1d0, funkční odolnost při požáru, P90-R - pevně uložen","m",13,null,0,null,0]
[23,null,"Kabel 2x1,5  třída reakce na oheň B2(ca)s1d0, funkční odolnost při požáru P60-R - pevně uložen, pod omítkou","m",420,null,0,null,0]
[24,null,"Kabel 2x1,5  třída reakce na oheň B2(ca)s1d0, funkční odolnost při požáru P90-R - pevně uložen, pod omítkou","m",12,null,0,null,0]
[25,null,"Krabice univers. KU68/2 vč. víčka","ks",24,null,0,null,0]
[26,null,"Elektroinstlační rozvodná krabice s funkční odolností při požáru se zachováním integrity kabelové trasy P90-R","ks",6,null,0,null,0]
[27,null,"Požární příchytka kabelů jednotranná (kabel Ø8mm)","ks",4982,null,0,null,0]
[28,null,"Požární příchytka kabelů jednotranná (kabel Ø10mm)","ks",93,null,0,null,0]
[29,null,"Požární příchytka kabelů jednotranná (kabel Ø14mm)","ks",1555,null,0,null,0]
[30,null,"Šroub do betonu","ks",6630,null,0,null,0]
[31,null,"Podružný materiál","kpl",1,null,0,null,0]
[]
[null,"C.","C 22 M - zařízení",null,null,null,null,{"$f":"SUBTOTAL(9,I80:I89)","v":0}]
[{"$f":"A78+1","v":32},220111436,"Kontrolní zavěrečné měření na kabelu","vod",336," ---"," ---",null,{"$f":"E81*H81","v":0}]
[{"$f":"A81+1","v":33},220260106,"Vyhledání vývodu nebo krabice","ks",24," ---"," ---",null,0]
[34,220260111,"Odv. a zavičk. krab. s víčkem na závit","ks",24," ---"," ---",null,0]
[35,220300001,"Forma kabelova do 5x2","ks",336," ---"," ---",null,0]
[36,220330741,"Revize EPS","ks",1," ---"," ---",null,0]
[37,null,"Přeprogramování stávající ústředny","hod",6," ---"," ---",null,0]
[38,null,"Vytvoření grafických obrazovek, napojení na stávající  SW vč. oživení SW s technologií, předání funkčního SW uživateli","dat.body",168," ---"," ---",null,0]
[39,null,"Zaškolení obsluhy","hod",5," ---"," ---",null,0]
[40,null,"Demontáž a ekologická likvidace stávajících požárních hlásičů","hod",35," ---"," ---",null,0]
[]
[null,"D.","C 22 M - rozvody",null,null,null,null,{"$f":"SUBTOTAL(9,I91:I97)","v":0}]
[{"$f":"A89+1","v":41},220261622,"Osazení hmoždinky 8mm v cihl. zdivu","ks",7830," ---"," ---",null,{"$f":"E92*H92","v":0}]
[{"$f":"A92+1","v":42},220261661,"Značení trasy vedení","m",1600," ---"," ---",null,0]
[{"$f":"A93+1","v":43},22011346,"Štítek kabelový","ks",170," ---"," ---",null,0]
[{"$f":"A94+1","v":44},null,"Demontáž stávající kabeláže a hlásičů vč. ekol. likvidace","hod",35," ---"," ---",null,0]
[{"$f":"A95+1","v":45},null,"Montáž požární kabelové ucpávky vč. materiálu, do 30mm","ks",10," ---"," ---",null,0]
[{"$f":"A96+1","v":46},null,"Montáž požární kabelové ucpávky vč. materiálu, do 100mm","ks",4," ---"," ---",null,0]

{"sheet":"34_SO 12 - MaR","index":37,"n_rows":148,"n_cols":9,"rows_kept":148,"cut":false,"hidden":false,"merged":[[26,1,26,2],[26,3,26,4],[26,5,26,6],[26,7,26,8],[125,5,125,6],[125,7,125,8],[29,1,29,2],[29,3,29,4],[29,5,29,6],[29,7,29,8],[35,0,35,8],[27,1,27,2],[27,3,27,4],[27,5,27,6],[27,7,27,8],[28,1,28,2],[4,0,4,8],[24,1,24,2],[24,3,24,4],[24,5,24,6],[24,7,24,8],[28,3,28,4],[28,5,28,6],[28,7,28,8],[30,1,30,2],[30,3,30,4],[30,5,30,6],[30,7,30,8],[32,7,32,8],[113,5,113,6],[113,7,113,8],[140,5,140,6],[140,7,140,8],[38,5,38,6],[38,7,38,8],[40,5,40,6],[40,7,40,8],[77,5,77,6],[77,7,77,8]]}
[{"$f":"CONCATENATE('Rekapitulace stavby'!C95,\"_\",'Rekapitulace stavby'!I95)","v":"34_SO 12 - MaR"}]
[]
["SPECIFIKACE DODÁVEK A PRACÍ "]
["Název akce:"]
[{"$f":"'Identifikační údaje'!B1","v":"ČRo Brno – III. etapa rekonstrukce budovy Beethovenova 25/4"}]
[]
["Zadavatel:",null,{"$f":"'Identifikační údaje'!B7","v":"Český rozhlas"}]
[null,"IČ:",{"$f":"'Identifikační údaje'!B9","v":45245053}]
[null,"DIČ:",{"$f":"'Identifikační údaje'!B10","v":"CZ45245053"}]
[]
["Projektant:",null,{"$f":"'Identifikační údaje'!B12","v":"Ing. arch. Klement Miloš"}]
[null,"IČ:",{"$f":"'Identifikační údaje'!B9","v":45245053}]
[null,"DIČ:",{"$f":"'Identifikační údaje'!B15","v":"CZ6101021344"}]
[]
["Uchazeč:",null,{"$f":"'Identifikační údaje'!B19","v":0}]
[null,"IČ:",{"$f":"'Identifikační údaje'!B23","v":0}]
[null,"DIČ:",{"$f":"'Identifikační údaje'!B24","v":0}]
[]
["Místo stavby:",null,{"$f":"'Identifikační údaje'!B3","v":"Budova Českého rozhlasu Brno na adrese Beethovenova 25/4, 657 42 Brno"}]
[]
["Datum:",null,{"$f":"'Identifikační údaje'!B5","v":"00:00:00"}]
[]
[{"$f":"CONCATENATE(\"REKAPITULACE DODÁVEK A PRACÍ OBJEKTU \",'Rekapitulace stavby'!I95)","v":"REKAPITULACE DODÁVEK A PRACÍ OBJEKTU SO 12 - MaR"}]
[]
["P.č.","Ozn.",null,"Materiál celkem",null,"Montáž celkem",null,"M+M celkem"]
[]
[{"$f":"B41","v":"A."},{"$f":"C41","v":"Dodávka zařízení"},null,{"$f":"F41","v":0},null,{"$f":"H41","v":0},null,{"$f":"D27+F27","v":0}]
[{"$f":"B78","v":"B."},{"$f":"C78","v":"Nosný materiál"},null,{"$f":"F78","v":0},null,{"$f":"H78","v":0},null,{"$f":"D28+F28","v":0}]
[{"$f":"B114","v":"C."},{"$f":"C114","v":"C 22 M - ostatní montáže - zařízení"},null," ---",null,{"$f":"H114","v":0},null,{"$f":"F29","v":0}]
[{"$f":"B126","v":"D."},{"$f":"C126","v":"C 22 M - ostatní montáže - rozvody"},null," ---",null,{"$f":"H126","v":0},null,{"$f":"F30","v":0}]
[{"$f":"B141","v":"E."},{"$f":"C141","v":"Software, oživení systému, nadstavbový systém, zkoušky apod."},null," ---",null,{"$f":"H141","v":0},null,{"$f":"F31","v":0}]
[]
[{"$f":"CONCATENATE(\"CELKEM ZA OBJEKT \",'Rekapitulace stavby'!I95, \" v Kč bez DPH\")","v":"CELKEM ZA OBJEKT SO 12 - MaR v Kč bez DPH"},null,null,null,null,null,null,{"$f":"SUBTOTAL(9,H27:I31)","v":0}]
[]
[]
["Systém MaR navazuje na již instalovanou část systému MaR budovy ČRo Brno a centrály Českého rozhlasu - Siemens Desigo. S tímto systémem musí být 100% kompatibilní.\nTextová, výkresová i tabulková část projektové dokumentace tvoří jeden vzájemně se doplňující a provázaný celek. Jednotliví účastníci výběrového řízení se musí seznámit s projektojektovou dokumentací v návaznosti na soupis prací a na základě těchto informací části díla nacenit. Dále je potřeba při stanovení ceny dle vykázané výměry započítat všechny předpokládané doplňkové prvky a činnosti s touto položkou související tak, aby cena byla kompletní a prvek funkční."]
[]
[{"$f":"A1","v":"34_SO 12 - MaR"}]
[null,null,null,null,null,"Materiál",null,"Montáž"]
["poř.č.","položka","popis položky","MJ","množství","jedn.cena","celkem [Kč]","jedn.cena","celkem [Kč]"]
[null,"A.","Dodávka zařízení",null,null,{"$f":"SUBTOTAL(9,G42:G76)","v":0},null,{"$f":"SUBTOTAL(9,I41:I76)","v":0}]
[null,"Řídící systém - rozvaděč RC"]
[1,"PXC100.D","Podstanice 200 I/O, BacNET/LON","ks",1,null,{"$f":"E43*F43","v":0},null,{"$f":"E43*H43","v":0}]
[{"$f":"A43+1","v":2},"PXM20","Ovládací panel pro podstanice PX","ks",1,null,{"$f":"E44*F44","v":0},null,{"$f":"E44*H44","v":0}]
[{"$f":"A44+1","v":3},"PXA-C1","Kabel 3m pro panel PXM20","ks",1,null,{"$f":"E45*F45","v":0},null,{"$f":"E45*H45","v":0}]
[4,"TXM1.8U","Univerzální modul, 8 I/O","ks",2,null,{"$f":"E46*F46","v":0},null,{"$f":"E46*H46","v":0}]
[5,"TXM1.16D","Modul digitálních vstupů, 16 I/O","ks",3,null,0,null,0]
[6,"TXM1.6R","Modul digitálních výstupů, 6 I/O","ks",4,null,0,null,0]
[7,"TXS1.12F10","Napájecí modul 1.2 A,  pojistka 10A","ks",1,null,0,null,0]
[8,"TXA1.K12","Adresovací kolíčky   1 ... 12, + resetovací (2x)","ks",1,null,0,null,0]
[9,null,"Ukončovač sběrnice","ks",2,null,0,null,0]
[null,"Rozvaděče"]
[{"$f":"A51+1","v":10},"RC ","Oceloplechová rozvodnice 2000x800x400mm (výzbroj a skutečná velikost rozvaděče budou upřesněny dílenskou dokumentací zapojení rozvaděče). Rozvaděč bude vybaven jističi,  svorkovnicemi, relé, pojistkami, signalizačními prvky, přepínači, přepěťovými ochranami, apod. Rozvaděč bude zapojen dle funkčních schémat zpracovaných dílenskou dokumentací rozvaděče.","ks",1,null,{"$f":"E53*F53","v":0},null,{"$f":"E53*H53","v":0}]
[null,"Snímače"]
[{"$f":"A53+1","v":11},"QAA24","Prostorové teplotní čidlo LG-Ni1000, 0…+50°C","ks",1,null,{"$f":"E55*F55","v":0},null,{"$f":"E55*H55","v":0}]
[{"$f":"A55+1","v":12},"QAE2120.010","Ponorné teplotní čidlo Ni1000 - s jímkou 100mm, -30…+130°C","ks",4,null,{"$f":"E56*F56","v":0},null,{"$f":"E56*H56","v":0}]
[{"$f":"A56+1","v":13},"QAM2120.040","Kanálové teplotní čidlo Ni1000 - 0,4m, -50…+80°C","ks",7,null,{"$f":"E57*F57","v":0},null,{"$f":"E57*H57","v":0}]
[{"$f":"A57+1","v":14},"QFM2160","Kanálové čidlo rel. vlhkosti a teploty 2x 0-10V","ks",4,null,{"$f":"E58*F58","v":0},null,{"$f":"E58*H58","v":0}]
[{"$f":"A58+1","v":15},"QBM2030-30","Čidlo dp pro vzduch, 0…1000 / 0…1500 / 0…3000[Pa], 0…10[V], lineární char.","ks",6,null,{"$f":"E59*F59","v":0},null,{"$f":"E59*H59","v":0}]
[null,"Regulátory"]
[{"$f":"A59+1","v":16},"QBM81-3","Diferenční tlakový spínač 20...300 Pa, filtry","ks",9,null,{"$f":"E61*F61","v":0},null,{"$f":"E61*H61","v":0}]
[{"$f":"A61+1","v":17},"QBM81-5","Diferenční tlakový spínač 50...500 Pa, ventilátory","ks",7,null,{"$f":"E62*F62","v":0},null,{"$f":"E62*H62","v":0}]
[{"$f":"A62+1","v":18},"QFM81.21","Kanálový hygrostat 15..95% rv, nastav. uvnitř","ks",4,null,{"$f":"E63*F63","v":0},null,{"$f":"E63*H63","v":0}]
[{"$f":"A63+1","v":19},"QAF81.3","Protizámraz. termostat -5..+15°C, kapilára 3m","ks",4,null,{"$f":"E64*F64","v":0},null,{"$f":"E64*H64","v":0}]
[null,"Servopohony, ventily"]
[{"$f":"A64+1","v":20},"VXG44.15-0.63","3-cestný ventil, PN16, DN15, Kvs=0,63m3/h, zdvih 5,5mm, teplota média 2...120°C","ks",3,null,{"$f":"E66*F66","v":0},null,{"$f":"E66*H66","v":0}]
[{"$f":"A66+1","v":21},"VXG44.15-1","3-cestný ventil, PN16, DN15, Kvs=1m3/h, zdvih 5,5mm, teplota média 2...120°C","ks",1,null,0,null,0]
[22,"SAS61.03","Pohon AC/DC 24V, 400N, DC 0…10V, 4…20mA, 30s, 5,5mm, teplota média 1 až 130 °C, ruční ovládání, certifikát CE","ks",4,null,0,null,0]
[23,"GMA121.1E","Klapkový pohon 24V, toč. 2-bod, 7 Nm, havar. fce","ks",3,null,0,null,0]
[24,"GMA161.1E","Klapkový pohon 24V, toč. 0..10V, 7 Nm, havar. fce","ks",8,null,0,null,0]
[25,"GSD161.1A","Klapkový pohon AC/DC 24V, toč., 2-bod, 2Nm,  2 konc.přep.","ks",20,null,0,null,0]
[null,"Ostatní"]
[{"$f":"A71+1","v":26},"PRUEFGAS","Houkačka 230V/105dB","ks",1,null,{"$f":"E73*F73","v":0},null,{"$f":"E73*H73","v":0}]
[27,null,"MG kontakt čtyřdrátový s pracovní mezerou 20 mm","ks",85,null,{"$f":"E74*F74","v":0},null,{"$f":"E74*H74","v":0}]
[28,"OP2.3, 2.4, 2.5, 2.6","Ovládací panel VZT pro režii v rozsahu technolg. schémat (viz. Technologická schémata MaR) zapojený dle dílenské dokumentace a umístění dle požadavků investora)","ks",4,null,{"$f":"E75*F75","v":0},null,{"$f":"E75*H75","v":0}]
[29,null,"Talčítko pod omítku pro ovládání VZT klapek","ks",7,null,{"$f":"E76*F76","v":0},null,{"$f":"E76*H76","v":0}]
[]
[null,"B.","Nosný materiál",null,null,{"$f":"SUBTOTAL(9,G79:G112)","v":0},null,{"$f":"SUBTOTAL(9,I78:I112)","v":0}]
[{"$f":"A76+1","v":30},null,"Elektroinstal. PVC trubka ohebná 16mm","m",59,null,{"$f":"E79*F79","v":0},null,{"$f":"E79*H79","v":0}]
[{"$f":"A79+1","v":31},null,"Elektroinstal. PVC trubka ohebná 23mm","m",59,null,0,null,0]
[32,null,"Kabel JYTY 2x1 - volně uložen","m",348,null,0,null,0]
[33,null,"Kabel JYTY 4x1 - volně uložen","m",1534,null,0,null,0]
[34,null,"Kabel CYKY-O 2x1,5 - volně uložen","m",731,null,0,null,0]
[35,null,"Kabel CYKY-O 3x1,5 - volně uložen","m",424,null,0,null,0]
[36,null,"Kabel CYKY-J 5x1,5 - volně uložen","m",413,null,0,null,0]
[37,null,"Kabel CYKY-J 7x1,5 - volně uložen","m",47,null,0,null,0]
[38,null,"Kabel J-Y(st)Y 1x2x0,8 - v trubce, liště,  žlabu","m",849,null,0,null,0]
[39,null,"Krabice univers. KU68/2 vč. víčka a svorkovnice","ks",30,null,0,null,0]
[40,null,"Krabice  vč. svorkovnice (6455-11)","ks",25,null,0,null,0]
[41,null,"Lista plastová 18x13","ks",35,null,0,null,0]
[42,null,"Lišta plastová 24x22","ks",29,null,0,null,0]
[43,null,"Lista plastová 40x15","ks",17,null,0,null,0]
[44,null,"Lista plastová 40x40","ks",18,null,{"$f":"E93*F93","v":0},null,{"$f":"E93*H93","v":0}]
[45,null,"Kabelový žlab kovotý 40/20","m",5,null,0,null,0]
[46,null,"Víko žlabu 40/20","m",5,null,0,null,0]
[47,null,"Kabelový žlab kovotý 62/50","m",100,null,0,null,0]
[48,null,"Víko žlabu 62/50","m",100,null,0,null,0]
[49,null,"Nosník \"62\"","ks",105,null,0,null,0]
[50,null,"T-kus \"62\"","ks",4,null,0,null,0]
[51,null,"T-kus \"62\" - víko","ks",4,null,0,null,0]
[52,null,"Kabelový žlab kovotý 125/50","m",20,null,0,null,0]
[53,null,"Víko žlabu 125/50","m",20,null,0,null,0]
[54,null,"Nosnik \"125\"","ks",20,null,0,null,0]
[55,null,"Kabelový žlab kovotý 250/100","m",15,null,0,null,0]
[56,null,"Víko žlabu 250/50","m",15,null,0,null,0]
[57,null,"Nosnik \"250\"","ks",15,null,0,null,0]
[58,null,"Koleno \"250/100\"","ks",2,null,0,null,0]
[59,null,"Koleno \"250\" - víko","ks",2,null,0,null,0]
[60,null,"Spojovaci mater. 100ks (srouby,matice)","ks",7,null,0,null,0]
[61,null,"Spojka","ks",70,null,0,null,0]
[62,null,"Kabelová chránička   ϕ40mm","m",82,null,0,null,0]
[63,null,"Materiál podružný","kpl",1,null,0,null,0]
[]
[null,"C.","C 22 M - ostatní montáže - zařízení",null,null,null,null,{"$f":"SUBTOTAL(9,I114:I124)","v":0}]
[{"$f":"A112+1","v":64},null,"Demontáž výstroje stávajících rozvaděčů vč. ekologické likvidace","hod",10," ---"," ---",null,{"$f":"E115*H115","v":0}]
[{"$f":"A115+1","v":65},null,"Kontrola a vyzkoušení správného zapojení","ks",136," ---"," ---",null,0]
[66,null,"Prozvonění vodiče","ks",408," ---"," ---",null,0]
[67,null,"Vyzkoušení spínací funkce regulátoru","ks",24," ---"," ---",null,0]
[68,null,"Seříz. konc. poloh serv. s přímočar. pohybem","ks",4," ---"," ---",null,0]
[69,null,"Seříz. konc. poloh serv. s pákovým pohybem","ks",31," ---"," ---",null,0]
[70,null,"Nastavení klapky přívodu čerstvého vzduchu","ks",5," ---"," ---",null,0]
[71,null,"Justování vedení na jedno měřící místo","ks",26," ---"," ---",null,0]
[72,null,"Revize zařízení","hod",16," ---"," ---",null,0]
[73,null,"Spolupráce s ostatími profesemi","hod",36," ---"," ---",null,{"$f":"E124*H124","v":0}]
[]
[null,"D.","C 22 M - ostatní montáže - rozvody",null,null,null,null,{"$f":"SUBTOTAL(9,I126:I139)","v":0}]
[{"$f":"A124+1","v":74},null,"Demontáž stávající kabeláže, vč. ekolog. likvidace","hod",20," ---"," ---",null,{"$f":"E127*H127","v":0}]
[{"$f":"A127+1","v":75},null,"Vyvrtání otvoru o 8-12mm do beton. zdiva","ks",860," ---"," ---",null,0]
[76,null,"Upevňovací bod s hmoždinkou, osaz. vč. šroubu","ks",860," ---"," ---",null,0]
[77,null,"Ukončení jednoho vodiče v rozvaděči","ks",408," ---"," ---",null,0]
[78,null,"Ukončení celoplastových kabelů smršťovací záklopkou nebo páskou do 5x4mm2","ks",85," ---"," ---",null,0]
[79,null,"Ukončení celoplastových kabelů smršťovací  záklopkou nebo páskou do 7x4mm2 ","ks",2," ---"," ---",null,0]
[80,null,"Ukončení stíněného kabelu v plášti vč. zapojení","ks",66," ---"," ---",null,0]
[{"$f":"A133+1","v":81},null,"Značení trasy vedení","m",750," ---"," ---",null,0]
[82,null,"Štítek kabelový","ks",136," ---"," ---",null,{"$f":"E135*H135","v":0}]
[83,null,"Uzemění kabelu","ks",66," ---"," ---",null,{"$f":"E136*H136","v":0}]
[84,null,"Zhotovení prostupů vč. zapravení","ks",15," ---"," ---",null,{"$f":"E137*H137","v":0}]
[85,null,"Montáž požární kabelové ucpávky vč. materiálu, do 30mm","ks",10," ---"," ---",null,{"$f":"E138*H138","v":0}]
[86,null,"Montáž požární kabelové ucpávky vč. materiálu, do 100mm","ks",4," ---"," ---",null,{"$f":"E139*H139","v":0}]
[]
[null,"E.","Software, oživení systému, nadstavbový systém, zkoušky apod.",null,null,null,null,{"$f":"SUBTOTAL(9,I141:I148)","v":0}]
[{"$f":"A139+1","v":87},null,"Dílenská dokumentace vč. skut stavu projekt","ks",1," ---"," ---",null,{"$f":"E142*H142","v":0}]
[{"$f":"A142+1","v":88},null,"Uživatelský SW pro DDC podstanice","dat.body",48," ---"," ---",null,0]
[89,null,"Instalace grafického SW, vytvoření grafických obrazovek","dat.body",48," ---"," ---",null,0]
[90,null,"Odladění SW s technologií","dat.body",48," ---"," ---",null,0]
[91,null,"Jednorázové zaškolení obsluhy","hod",8," ---"," ---",null,0]
[92,null,"Test 1:1","hod",32," ---"," ---",null,0]
[93,null,"Komplexní zkoušky","hod",40," ---"," ---",null,{"$f":"E148*H148","v":0}]

{"sheet":"35_SO 12 - Slaboproud","index":38,"n_rows":233,"n_cols":9,"rows_kept":233,"cut":false,"hidden":false,"merged":[[137,5,137,6],[137,7,137,8],[184,5,184,6],[184,7,184,8],[222,5,222,6],[222,7,222,8],[31,7,31,8],[34,0,34,8],[37,5,37,6],[37,7,37,8],[39,5,39,6],[39,7,39,8],[29,1,29,2],[29,3,29,4],[29,5,29,6],[29,7,29,8],[27,1,27,2],[27,3,27,4],[27,5,27,6],[27,7,27,8],[28,1,28,2],[28,3,28,4],[28,5,28,6],[28,7,28,8],[26,1,26,2],[26,3,26,4],[26,5,26,6],[26,7,26,8],[4,0,4,8],[24,1,24,2],[24,3,24,4],[24,5,24,6],[24,7,24,8]]}
[{"$f":"CONCATENATE('Rekapitulace stavby'!C96,\"_\",'Rekapitulace stavby'!I96)","v":"35_SO 12 - Slaboproud"}]
[]
["SPECIFIKACE DODÁVEK A PRACÍ "]
["Název akce:"]
[{"$f":"'Identifikační údaje'!B1","v":"ČRo Brno – III. etapa rekonstrukce budovy Beethovenova 25/4"}]
[]
["Zadavatel:",null,{"$f":"'Identifikační údaje'!B7","v":"Český rozhlas"}]
[null,"IČ:",{"$f":"'Identifikační údaje'!B9","v":45245053}]
[null,"DIČ:",{"$f":"'Identifikační údaje'!B10","v":"CZ45245053"}]
[]
["Projektant:",null,{"$f":"'Identifikační údaje'!B12","v":"Ing. arch. Klement Miloš"}]
[null,"IČ:",{"$f":"'Identifikační údaje'!B9","v":45245053}]
[null,"DIČ:",{"$f":"'Identifikační údaje'!B15","v":"CZ6101021344"}]
[]
["Uchazeč:",null,{"$f":"'Identifikační údaje'!B19","v":0}]
[null,"IČ:",{"$f":"'Identifikační údaje'!B23","v":0}]
[null,"DIČ:",{"$f":"'Identifikační údaje'!B24","v":0}]
[]
["Místo stavby:",null,{"$f":"'Identifikační údaje'!B3","v":"Budova Českého rozhlasu Brno na adrese Beethovenova 25/4, 657 42 Brno"}]
[]
["Datum:",null,{"$f":"'Identifikační údaje'!B5","v":"00:00:00"}]
[]
[{"$f":"CONCATENATE(\"REKAPITULACE DODÁVEK A PRACÍ OBJEKTU \",'Rekapitulace stavby'!I96)","v":"REKAPITULACE DODÁVEK A PRACÍ OBJEKTU SO 12 - Slaboproud"}]
[]
["P.č.","Ozn.",null,"Materiál celkem",null,"Montáž celkem",null,"M+M celkem"]
[]
[{"$f":"B40","v":"A."},{"$f":"C40","v":"Dodávka zařízení"},null,{"$f":"F40","v":0},null,{"$f":"H40","v":0},null,{"$f":"D27+F27","v":0}]
[{"$f":"B138","v":"B."},{"$f":"C138","v":"Nosný materiál"},null,{"$f":"F138","v":0},null,{"$f":"H138","v":0},null,{"$f":"D28+F28","v":0}]
[{"$f":"B185","v":"C."},{"$f":"C185","v":"C 22 M - zařízení"},null," ---",null,{"$f":"H185","v":0},null,{"$f":"F29","v":0}]
[{"$f":"B223","v":"D."},{"$f":"C223","v":"C 22 M - ostatní montáže - rozvody"},null," ---",null,{"$f":"H223","v":0},null,{"$f":"F30","v":0}]
[]
[{"$f":"CONCATENATE(\"CELKEM ZA OBJEKT \",'Rekapitulace stavby'!I96, \" v Kč bez DPH\")","v":"CELKEM ZA OBJEKT SO 12 - Slaboproud v Kč bez DPH"},null,null,null,null,null,null,{"$f":"SUBTOTAL(9,H27:I30)","v":0}]
[]
[]
["Systém MaR navazuje na již instalovanou část systému MaR budovy ČRo Brno a centrály Českého rozhlasu - Siemens Desigo. S tímto systémem musí být 100% kompatibilní.\nTextová, výkresová i tabulková část projektové dokumentace tvoří jeden vzájemně se doplňující a provázaný celek. Jednotliví účastníci výběrového řízení se musí seznámit s projektojektovou dokumentací v návaznosti na soupis prací a na základě těchto informací části díla nacenit. Dále je potřeba při stanovení ceny dle vykázané výměry započítat všechny předpokládané doplňkové prvky a činnosti s touto položkou související tak, aby cena byla kompletní a prvek funkční."]
[]
[{"$f":"A1","v":"35_SO 12 - Slaboproud"}]
[null,null,null,null,null,"Materiál",null,"Montáž"]
["poř.č.","položka","popis položky","MJ","množství","jedn.cena","celkem [Kč]","jedn.cena","celkem [Kč]"]
[null,"A.","Dodávka zařízení",null,null,{"$f":"SUBTOTAL(9,G41:G136)","v":0},null,{"$f":"SUBTOTAL(9,I40:I136)","v":0}]
[null,"PZS"]
[1,"P026-B","Modul posilovacího zdroje 2,75A v krytu s vestavěným koncentrátorem","ks",2,null,{"$f":"E42*F42","v":0},null,{"$f":"E42*H42","v":0}]
[{"$f":"A42+1","v":2},"PS12170 VdS","AKU 12V/17Ah se šroubovými svorkami M5 a životností až 5 let, VdS","ks",2,null,{"$f":"E43*F43","v":0},null,{"$f":"E43*H43","v":0}]
[{"$f":"A43+1","v":3},"IS3016","PIR detektor s dosahem 16m, EOL resistory, pohled pod sebe a PLUG-IN konstrukce","ks",7,null,{"$f":"E44*F44","v":0},null,{"$f":"E44*H44","v":0}]
[{"$f":"A44+1","v":4},"MAS203","MG kontakt čtyřdrátový s pracovní mezerou 25mm","ks",6,null,{"$f":"E45*F45","v":0},null,{"$f":"E45*H45","v":0}]
[{"$f":"A45+1","v":5},"KHS12ZS","Svorkovnice (8kont.+tamper) do KO68","ks",5,null,{"$f":"E46*F46","v":0},null,{"$f":"E46*H46","v":0}]
[null,"Strukturovaná kabeláž"]
[{"$f":"A46+1","v":6},"DRH6","19' rozvaděč stojanový 42U/600x600 - DOPLNĚNÝ o:","ks",1,null,{"$f":"E48*F48","v":0},null,{"$f":"E48*H48","v":0}]
[{"$f":"A48+1","v":7},null," - 19\" ventilátor do stropu rozvaděče,","ks",1,null,{"$f":"E49*F49","v":0},null,{"$f":"E49*H49","v":0}]
[{"$f":"A49+1","v":8},null," - 19\" osvětlení rozvaděče 1U","ks",1,null,0,null,0]
[9,null," - 19\" rozvodný panel 5x230V 1,5U 19“ 3m černý vč. přepěťové ochrany","ks",1,null,0,null,0]
[10,null," - 19\"2U Patch Panel Cat.5e 48xRJ45 kompletní","ks",6,null,0,null,0]
[11,null," - 19\" 1U vyvazovací panel,","ks",6,null,0,null,0]
[12,null," - Patchkord RJ45/RJ45, cat.5e - 2m","ks",89,null,0,null,0]
[13,null," - Patchcord RJ45/RJ45, cat.5e - 1m, šedý","ks",200,null,0,null,0]
[14,null," - ostatní drobný materiál nutný k montáži a zprovoznění rozvaděče","ks",1,null,0,null,0]
[15,"DRH7","19' rozvaděč stojanový 42U/600x600 skleněné dveře - skříň vč.:","ks",1,null,0,null,0]
[16,null," - 19\" optická vana vč .organizéru optického kabelu a optických konektorů, ukkončení všech vláken ","ks",1,null,0,null,0]
[17,null," - 19\" ventilátor do stropu rozvaděče,","ks",1,null,0,null,0]
[18,null," - 19\" osvětlení rozvaděče 1U","ks",1,null,0,null,0]
[19,null," - 19\"1U Patch Panel Cat.6A U/FTP,24xRJ45 kompletní","ks",1,null,0,null,0]
[20,null," - 19\" 1U vyvazovací panel,","ks",6,null,0,null,0]
[21,null," - 19\" 1U Patch Panel 16x BNC koax. konektor","ks",1,null,0,null,0]
[22,null," - 19\" 2U  Patch Panel 32xXLR Port","ks",3,null,0,null,0]
[23,null," - Patchcord RJ45/RJ45, cat.5e (STP) - 1m","ks",24,null,0,null,0]
[24,null," - ostatní drobný materiál nutný k montáži a zprovoznění rozvaděče","ks",1,null,0,null,0]
[25,"DRRT1","19' rozvaděč stojanový 42U/600x600 skleněné dveře - skříň vč.:","ks",1,null,0,null,0]
[26,null," - 19\" optická vana vč .organizéru optického kabelu a optických konektorů, ukkončení všech vláken ","ks",1,null,0,null,0]
[27,null," - 19\" ventilátor do stropu rozvaděče,","ks",1,null,0,null,0]
[28,null," - 19\" osvětlení rozvaděče 1U","ks",1,null,0,null,0]
[29,null," - 19\"1U Patch Panel Cat.5e 24xRJ45 kompletní","ks",1,null,0,null,0]
[30,null," - 19\"1U Patch Panel Cat.6A U/FTP,24xRJ45 kompletní","ks",3,null,0,null,0]
[31,null," - 19\" 1U vyvazovací panel,","ks",9,null,0,null,0]
[32,null," - 19\" 1U Patch Panel 16x BNC koax. konektor","ks",2,null,0,null,0]
[33,null," - 19\" 2U  Patch Panel 32xXLR Port","ks",3,null,0,null,0]
[34,null," - Patchcord RJ45/RJ45, cat.5e (STP) - 1m","ks",12,null,0,null,0]
[35,null," - Patchkord RJ45/RJ45, cat.6 - 2m","ks",60,null,0,null,0]
[36,null," - ostatní drobný materiál nutný k montáži a zprovoznění rozvaděče","ks",1,null,0,null,0]
[37,"DRRT2-3","19' rozvaděč stojanový 42U/600x600 skleněné dveře - skříň vč.:","ks",2,null,0,null,0]
[38,null," - 19\" rozvodný panel 5x230V 1,5U 19“ 3m černý vč. přepěťové ochrany","ks",2,null,0,null,0]
[39,null," - 19\" osvětlení rozvaděče 1U","ks",2,null,0,null,0]
[40,null," - ostatní drobný materiál nutný k montáži a zprovoznění rozvaděče","ks",2,null,0,null,0]
[41,"zásuvky - ABB TIME","Keystone  1xRJ45, kat.5e, nestíněný","ks",228,null,0,null,0]
[42,null,"Maska nosná pro 2xRJ45, ","ks",114,null,0,null,0]
[43,null,"Kryt zásuvky komunikační ","ks",114,null,0,null,0]
[44,null,"Rámeček jednonásobný, bílý ","ks",114,null,0,null,0]
[45,"Rozvody","Kabel U/UTP 4-pár kat. 5e, LSZH, ","m",17958,null,0,null,0]
[null,"Společná TV anténa (STA)"]
[{"$f":"A87+1","v":46},null,"Úprava hlavní rozvodnice a doplnění o rozbočovače, apod. - dle skutečnosti","ks",1,null,{"$f":"E89*F89","v":0},null,{"$f":"E89*H89","v":0}]
[{"$f":"A89+1","v":47},"zásuvky - ABB TIME","Koaxiální dvojzásuvka koncová, max. -2dB, SAT/TV/R, -strojek","ks",18,null,{"$f":"E90*F90","v":0},null,{"$f":"E90*H90","v":0}]
[{"$f":"A90+1","v":48},null,"Kryt zásuvky TV-R-SAT, bílý, + rámeček, ","ks",18,null,{"$f":"E91*F91","v":0},null,{"$f":"E91*H91","v":0}]
[null,"Jednotný čas (JČ)"]
[{"$f":"A91+1","v":49},null,"Hlavní hodiny ETC 14 R","ks",1,null,{"$f":"E93*F93","v":0},null,{"$f":"E93*H93","v":0}]
[{"$f":"A93+1","v":50},null,"AD 650 přijímač radiosignálu","ks",1,null,0,null,0]
[{"$f":"A94+1","v":51},null,"DA.57.6.R.N.N.STD černý rám (studia a režie)","ks",10,null,0,null,0]
[{"$f":"A95+1","v":52},null,"DC.57.4.R.N.N.STD černý rám","ks",6,null,0,null,0]
[{"$f":"A96+1","v":53},null,"DC.100.4.R.D.X.STD černý rám","ks",1,null,0,null,0]
[{"$f":"A97+1","v":54},null,"závěs stropní digit. hodin na","ks",1,null,0,null,0]
[null,"Rozhlasová technologie"]
[{"$f":"A98+1","v":55},null,"24.vláknový optický MM kabel 50/125µm, OM3, LS0H","m",70,null,{"$f":"E100*F100","v":0},null,{"$f":"E100*H100","v":0}]
[{"$f":"A100+1","v":56},null,"Kabel S/FTP 4-pár kat.7, LSZH, ","m",2402,null,0,null,0]
[{"$f":"A101+1","v":57},null,"Koaxiální kabel","m",1231,null,0,null,0]
[58,null,"Multikabel 8-mi párový","m",257,null,0,null,0]
[59,null,"Multikabel 12-ti párový","m",341,null,0,null,0]
[60,null,"Multikabel 24. párový","m",83,null,0,null,0]
[null,"Elektronická kontrola vstupu (EKV)"]
[{"$f":"A105+1","v":61},"PRO32IC","Kontrolér (IC) systému PRO-3200","ks",1,null,{"$f":"E107*F107","v":0},null,{"$f":"E107*H107","v":0}]
[{"$f":"A107+1","v":62},"PRO32R2","Modul pro 2 čtečky systému PRO-3200 nebo PRO-2200","ks",6,null,0,null,0]
[63,"PRO22ENC2","Kryt do 19\" rozváděče pro až 9 modulů PRO-3200+PRO32E1PS","ks",1,null,0,null,0]
[64,"PRO32E1PS","Modul nap.zdroje pro kryty PRO22ENC1 a ENC2","ks",1,null,0,null,0]
[65,"iclass SE RP10","Bezkontaktní čtečka HID Prox","ks",11,null,0,null,0]
[66,"MC2304","MG kontakt čtyřdrátový s pracovní mezerou 20 mm","ks",20,null,0,null,0]
[67,31211,"Reverzní zámek BEFO 12VDC/170mA","ks",2,null,{"$f":"E113*F113","v":0},null,{"$f":"E113*H113","v":0}]
[68,"ABLOY EL560 ","Elektromechanický zámek, 12V referenční výrobek - ABLOY EL560 ","ks",12,null,0,null,0]
[69,"UNIPOWER 2000/K40T","Napájecí zdroj 13,8V/5,5A","ks",1,null,0,null,0]
[70,"PS12380 ","Akumulátor 12V/38Ah","ks",1,null,0,null,0]
[71,"WPS4U5A","WIN-PAK SE 4.x pro správu EKV, 5 uživatelů, integr. CCTV","ks",1,null,0,null,0]
[72,"S-4","Protizákmitová ochrana na zámky, sada 2 ks","ks",6,null,0,null,0]
[73,"J80","Plastová nízká propojovací krabice, 8+1 šroubovací svorka","ks",11,null,0,null,0]
[74,null,"Bezkontaktní karta","ks",100,null,0,null,0]
[null,"Uzavřený TV okruh (CCTV)"]
[{"$f":"A120+1","v":75},"QNO-6070RP","Venkovní IP bullet kamera, TD/N, HD 1080p, 2MP, f=2.8-12mm, WDR , IR 30m, IP66","ks",2,null,{"$f":"E122*F122","v":0},null,{"$f":"E122*H122","v":0}]
[{"$f":"A122+1","v":76},"QND-6070RP","Vnitřní IP dome kamera, TD/N, HD 1080p, 2MP, f=2.8-12mm, WDR 120dB, IR 20m","ks",10,null,0,null,0]
[77,"TPE-1020WS","Switch 10 portů Gigabit (8x PoE/PoE+, 1x Bez PoE), 2x SFP, 20Gbps, 75W, kov","ks",1,null,0,null,0]
[78,"TPE-1620WS","Switch 16 portů Gigabit (16x PoE/PoE+), 2x SFP, 32Gbps, 185W, kov","ks",1,null,0,null,0]
[79,"QRN-810P0T","NVR pro 8 IP kamer až 8MP, HDMI, H.245/265, bez HDD, I/O, audio","ks",1,null,0,null,0]
[80,"XRN-1610SP0T","Výkonný NVR pro 16 IP kamer až 12MP, 16xPoE, HDMI, H.245/265, až 4 HDD, bez HDD","ks",1,null,0,null,0]
[81,"ST2000VX008","Přídavný HDD k rekordérům SkyHawk, 2TB","ks",2,null,{"$f":"E128*F128","v":0},null,{"$f":"E128*H128","v":0}]
[82,"OVP-100M-HIPOE-BOX","Přepěťová ochrana 10/100M Ethernet + PoE A/B nebo Hi PoE (max.70W)","ks",2,null,{"$f":"E129*F129","v":0},null,{"$f":"E129*H129","v":0}]
[null,"Signalizační systém pro invalidní osoby"]
[{"$f":"A129+1","v":83},null,"Transformátor","ks",5,null,{"$f":"E131*F131","v":0},null,{"$f":"E131*H131","v":0}]
[84,null,"Modul kontrolní s alarmem, bílé","ks",5,null,0,null,0]
[85,null,"Tlačítko prosvětlené, bílé","ks",5,null,0,null,0]
[86,null,"Tlačítko signální táhové, bílé","ks",5,null,0,null,0]
[87,null,"Dvojrámeček dle silnoproudu svislý, bílý","ks",5,null,0,null,0]
[88,null,"Jednoduchý rámeček dle silnoproudu bílý","ks",5,null,0,null,0]
[]
[null,"B.","Nosný materiál",null,null,{"$f":"SUBTOTAL(9,G139:G183)","v":0},null,{"$f":"SUBTOTAL(9,I138:I183)","v":0}]
[{"$f":"A136+1","v":89},null,"Elektroinstal. PVC trubka ohebná 16mm","m",376.20000000000005,null,{"$f":"E139*F139","v":0},null,{"$f":"E139*H139","v":0}]
[{"$f":"A139+1","v":90},null,"Elektroinstal. PVC trubka ohebná 23mm","m",20.900000000000002,null,0,null,0]
[91,null,"Elektroinstal. PVC trubka ohebná 29mm","m",57.2,null,0,null,0]
[92,null,"Elektroinstal. PVC trubka ohebná 36mm","m",4.4000000000000004,null,0,null,0]
[93,null,"Elektroinstal. PVC trubka ohebná 48mm","m",4.4000000000000004,null,0,null,0]
[94,null,"Kabel F/UTP 4P cat 6","m",84,null,0,null,0]
[95,null,"SYKFY 3x2x0,5 - volně uložen","m",159,null,0,null,0]
[96,null,"Kabel CYKY O-2x1,5 - pevně uložen","m",165,null,0,null,0]
[97,null,"Kabel CYSY 2x1","m",1012,null,0,null,0]
[98,null,"Kabel CYKY J-5x1,5 - volně ve žlabu, liště","m",110,null,0,null,0]
[99,null,"Krabice univers. KU68/2 vč. víčka","ks",150,null,0,null,0]
[100,null,"Krabice univ. vč. svorkovnice KU 68-1903","ks",30,null,0,null,0]
[101,null,"Krabice KO 97 vč. víčka","ks",5,null,0,null,0]
[102,null,"Krabice KO 125","ks",5,null,0,null,0]
[103,null,"Vicko KO 125","ks",5,null,0,null,0]
[104,null,"Krabice KT 250","ks",2,null,0,null,0]
[105,null,"Páska stahovací","ks",278,null,0,null,0]
[106,null,"Příchytka stahovacích pásek","ks",278,null,0,null,0]
[107,null,"Hmoždinka Φ6mm vč. vrutu","ks",278,null,0,null,0]
[108,null,"Lista plastová 18x13","ks",61,null,0,null,0]
[109,null,"Lišta plastová 24x22","ks",315,null,0,null,0]
[110,null,"Lista plastová 40x15","ks",99,null,0,null,0]
[111,null,"Lista plastová 40x40","ks",12,null,0,null,0]
[112,null,"Kabelový žlab kovový 40/20","m",18,null,0,null,0]
[113,null,"Víko žlabu 40/20","m",18,null,0,null,0]
[114,null,"Kabelový žlab kovový 62/50","m",170,null,0,null,0]
[115,null,"Víko žlabu 62/50","m",170,null,0,null,0]
[116,null,"Nosník \"62\"","ks",188,null,0,null,0]
[117,null,"Kabelový žlab kovový 125/50","m",73,null,0,null,0]
[118,null,"Víko žlabu 125/50","m",73,null,0,null,0]
[119,null,"Nosnik \"125\"","ks",73,null,0,null,0]
[120,null,"Koleno \"125\"","ks",4,null,0,null,0]
[121,null,"Koleno \"125\" - víko","ks",4,null,0,null,0]
[122,null,"Kabelový žlab kovový 250/50","m",60,null,0,null,0]
[123,null,"Kabelový žlab kovový 250/100","m",120,null,{"$f":"E173*F173","v":0},null,{"$f":"E173*H173","v":0}]
[124,null,"Víko žlabu 250/50","m",180,null,0,null,0]
[125,null,"Nosnik \"250\"","ks",180,null,0,null,0]
[126,null,"T-kus \"250/100\"","ks",8,null,0,null,0]
[127,null,"T-kus \"250\" - víko","ks",8,null,0,null,0]
[128,null,"Koleno \"250/100\"","ks",4,null,0,null,0]
[129,null,"Koleno \"250\" - víko","ks",4,null,0,null,0]
[130,null,"Spojovaci mater. 100ks (srouby,matice)","ks",22.05,null,0,null,0]
[131,null,"Spojka","ks",220.5,null,0,null,0]
[132,null,"Protahovaci vodic AY2.5","m",50,null,0,null,0]
[133,null,"Podružný materiál ","kpl",1,null,0,null,0]
[]
[null,"C.","C 22 M - zařízení",null,null,null,null,{"$f":"SUBTOTAL(9,I185:I221)","v":0}]
[{"$f":"A183+1","v":134},220111436,"Kontrolní zavěrečné měření na kabelu","vod",268," ---"," ---",null,{"$f":"E186*H186","v":0}]
[{"$f":"A186+1","v":135},220260106,"Vyhledání vývodu nebo krabice","ks",150," ---"," ---",null,0]
[{"$f":"A187+1","v":136},220260111,"Odv. a zavičk. krab. s víčkem na závit","ks",150," ---"," ---",null,0]
[{"$f":"A188+1","v":137},220260113,"Odv. a zav. krab. s víčkem na šrouby","ks",5," ---"," ---",null,0]
[{"$f":"A189+1","v":138},220300004,"Forma kabelová do 20x2","ks",42," ---"," ---",null,0]
[{"$f":"A190+1","v":139},220300178," -S Forma kabelová 100x2","ks",2," ---"," ---",null,0]
[null,"PZS"]
[{"$f":"A191+1","v":140},220321756,"Revize koncového spínače (krabice)","ks",5," ---"," ---",null,{"$f":"E193*H193","v":0}]
[{"$f":"A193+1","v":141},220321761,"Závěr. oživení a odzkoušení zařízení v rozsahu 1. ústředny","ks",1," ---"," ---",null,0]
[{"$f":"A194+1","v":142},220321771,"Revize zařízení v rozsahu 1. ústředny","ks",1," ---"," ---",null,0]
[null,"EKV"]
[{"$f":"A195+1","v":143},null," -S Revize EKV","ks",1," ---"," ---",null,0]
[null,"SK"]
[{"$f":"A197+1","v":144},220500841," -S Montáž RJ45 ","ks",114," ---"," ---",null,0]
[{"$f":"A199+1","v":145},220280001," -S Kabelová forma UTP kabelu","ks",228," ---"," ---",null,0]
[{"$f":"A200+1","v":146},220111422," -S Měření kabelu, zpacování protokolu","ks",114," ---"," ---",null,0]
[{"$f":"A201+1","v":147},null," -S Revize SK","ks",1," ---"," ---",null,0]
[null,"STA"]
[{"$f":"A202+1","v":148},220730406,"Měření na účastnické zásuvce - všechny TV kanály","ks",18," ---"," ---",null,0]
[{"$f":"A204+1","v":149},null," -S Revize STA","ks",1," ---"," ---",null,0]
[null,"CCTV"]
[{"$f":"A205+1","v":150},220731041,"Nastaveni vnitrni kamery","ks",9," ---"," ---",null,0]
[{"$f":"A207+1","v":151},220731061,"Uvedeni vnitrni kamery do chodu","ks",9," ---"," ---",null,0]
[{"$f":"A208+1","v":152},220731062,"Uvedeni venk. pevne kamery do chodu","ks",2," ---"," ---",null,0]
[{"$f":"A209+1","v":153},220740303," -S Osazení pracoviště, vyzkoušení, nastavení úrovní apod.","ks",1," ---"," ---",null,0]
[{"$f":"A210+1","v":154},220321771," -S Revize zařízení CCTV","ks",1," ---"," ---",null,0]
[null,"JČ"]
[{"$f":"A211+1","v":155},220321771," -S Revize zarizeni ","ks",1," ---"," ---",null,0]
[null,"Optika"]
[{"$f":"A213+1","v":156},null,"Montáž FO konektoru","ks",48," ---"," ---",null,0]
[{"$f":"A215+1","v":157},null,"Odstranění ochrany FO vlákna vlákna","ks",48," ---"," ---",null,0]
[158,null,"Měření FO vláken vč. vystavení protokolu","ks",24," ---"," ---",null,0]
[159,null,"Ukončení vlákna pigtailem","ks",48," ---"," ---",null,0]
[160,null,"upevnění FO kab.v FO rozvaděči vč.odizol.primární a sekund.izolace","ks",2," ---"," ---",null,0]
[161,null,"Uchycení rezervy FO kabelu","ks",2," ---"," ---",null,0]
[162,null,"kompletace a instalace FO rozvaděče do datové skříně","ks",2," ---"," ---",null,0]
[]
[null,"D.","C 22 M - ostatní montáže - rozvody",null,null,null,null,{"$f":"SUBTOTAL(9,I223:I233)","v":0}]
[{"$f":"A221+1","v":163},220261622,"Osazení hmoždinky 8mm v cihl. zdivu","ks",4990," ---"," ---",null,{"$f":"E224*H224","v":0}]
[{"$f":"A224+1","v":164},220261661,"Značení trasy vedení","m",1200," ---"," ---",null,0]
[165,220261611,"Zhotovení kruhových otvorů","ks",6," ---"," ---",null,0]
[166,220500801,"Kontrola stavební připravenosti","ks",7," ---"," ---",null,0]
[167,220521001," -S Převzetí prostor","ks",7," ---"," ---",null,0]
[168,220550801,"-S Seznameni s projektem","ks",1," ---"," ---",null,0]
[169,22011346,"Štítek kabelový","ks",248," ---"," ---",null,0]
[{"$f":"A230+1","v":170},220111761,"Uzemění kabelu","ks",10," ---"," ---",null,0]
[171,null,"Montáž požární kabelové ucpávky vč. materiálu, do 30mm","ks",10," ---"," ---",null,0]
[172,null,"Montáž požární kabelové ucpávky vč. materiálu, do 50mm","ks",5," ---"," ---",null,0]

{"sheet":"36 - VRN","index":39,"n_rows":51,"n_cols":51,"rows_kept":51,"cut":false,"hidden":false,"merged":[[5,0,5,6],[26,2,26,6],[26,7,26,8],[27,4,27,8],[28,7,28,8],[29,7,29,8],[28,5,28,6],[29,5,29,6],[29,2,29,4],[28,2,28,4],[31,0,31,4],[46,2,46,6],[50,5,50,8],[50,0,50,4],[38,2,38,6],[39,5,39,6],[41,2,41,6],[43,2,43,6],[44,5,44,6],[31,5,31,8]]}
[]
[{"$f":"CONCATENATE('Rekapitulace stavby'!C97,\" - \",'Rekapitulace stavby'!I97)","v":"36 - Vedlejší a ostatní náklady stavby"}]
[]
["SOUPIS VEDLEJŠÍCH A OSTATNÍCH NÁKLADŮ STAVBY"]
["Název akce:"]
[{"$f":"'Identifikační údaje'!B1","v":"ČRo Brno – III. etapa rekonstrukce budovy Beethovenova 25/4"}]
[]
["Zadavatel:",null,{"$f":"'Identifikační údaje'!E7","v":"Český rozhlas, Vinohradská 12, 120 99 Praha 2"}]
[null,"IČ:",{"$f":"'Identifikační údaje'!B9","v":45245053}]
[null,"DIČ:",{"$f":"'Identifikační údaje'!B10","v":"CZ45245053"}]
[]
["Projektant:",null,{"$f":"'Identifikační údaje'!E12","v":"Ing. arch. Klement Miloš, Nejedlého 381/19, 638 00 Brno - Lesná"}]
[null,"IČ:",{"$f":"'Identifikační údaje'!B14","v":15188736}]
[null,"DIČ:",{"$f":"'Identifikační údaje'!B15","v":"CZ6101021344"}]
[]
["Uchazeč:",null,{"$f":"'Identifikační údaje'!E19","v":", ,  "}]
[null,"IČ:",{"$f":"'Identifikační údaje'!B23","v":0}]
[null,"DIČ:",{"$f":"'Identifikační údaje'!B24","v":0}]
[]
["Místo stavby:",null,{"$f":"'Identifikační údaje'!B3","v":"Budova Českého rozhlasu Brno na adrese Beethovenova 25/4, 657 42 Brno"}]
[]
["Datum:",null,{"$f":"'Identifikační údaje'!B5","v":"00:00:00"}]
[]
[]
[{"$f":"CONCATENATE(\"REKAPITULACE OBJEKTU \",'Rekapitulace stavby'!C97,\" - \",'Rekapitulace stavby'!I97)","v":"REKAPITULACE OBJEKTU 36 - Vedlejší a ostatní náklady stavby"}]
[]
["P.č.","Ozn.","Název položky",null,null,null,null,"Kč bez DPH"]
[]
["Díl:",{"$f":"B40","v":"VN"},{"$f":"C40","v":"Vedlejší náklady"},null,null,{"$f":"F40","v":0},null,{"$f":"H136","v":0}]
["Díl:",{"$f":"B45","v":"ON"},{"$f":"C45","v":"Ostatní náklady"},null,null,{"$f":"F45","v":0},null,{"$f":"H145","v":0}]
[]
[{"$f":"CONCATENATE(\"CELKEM ZA OBJEKT \",A2, \" v Kč bez DPH\")","v":"CELKEM ZA OBJEKT 36 - Vedlejší a ostatní náklady stavby v Kč bez DPH"},null,null,null,null,{"$f":"SUM(F29:G30)","v":0}]
[]
[]
[]
[]
[]
["P.č.","Číslo položky","Název položky","MJ","množství","cena / MJ","celkem"]
[null,"Ceník, kapitola"]
["Díl:","VN","Vedlejší náklady",null,null,{"$f":"SUM(G41:G44)","v":0}]
[1,"005121 R","Zařízení staveniště","Soubor",1,null,{"$f":"ROUND(E41*F41,2)","v":0},null,null,null,null,null,null,null,null,null,null,null,null,null,null,null,null,null,null,null,null,null,null,null,null,null,null,null,null,null,21]
[null,null,"Veškeré náklady spojené s vybudováním, provozem a odstraněním zařízení staveniště. Poplatky za zábor chodníku a komunikace. Montáž, provozování i demontáž stavebního výtahu v prostoru zařízení staveniště při fasádě u kostela, případná montáž i demontáž dalšího stavebního výtahu, plošin i lešení.",null,null,null,null,null,null,null,null,null,null,null,null,null,null,null,null,null,null,null,null,null,null,null,null,null,null,null,null,null,null,null,null,null,null,null,null,null,null,null,null,null,null,null,null,null,null,null,{"$f":"C42","v":"Veškeré náklady spojené s vybudováním, provozem a odstraněním zařízení staveniště. Poplatky za zábor chodníku a komunikace. Montáž, provozování i demontáž stavebního výtahu v prostoru zařízení staveniště při fasádě u kostela, případná montáž i demontáž dalšího stavebního výtahu, plošin i lešení."}]
[2,"005122 R","Provozní vlivy","Soubor",1,null,{"$f":"ROUND(E43*F43,2)","v":0},null,null,null,null,null,null,null,null,null,null,null,null,null,null,null,null,null,null,null,null,null,null,null,null,null,null,null,null,null,21]
[null,null,"Náklady na ztížené podmínky provádění tam, kde jsou stavební práce zcela nebo zčásti omezovány provozem jiných osob. Jde zejména o zvýšené náklady související s omezením provozem v areálu objednatele nebo o náklady v důsledku nezbytného respektování stávající dopravy ovlivňující stavební práce. Vyvázání větví stromů. Zakrývání nábytku, dveří, akustických obkladů, koberců, ostatního vybavení a rozhlasové techniky proti poškození a prachu. Odsávání prachu při bourání, průběžný uklid pracoviště. Protiprašné předěly. Kontrola funkčnosti zabezpečení stavby proti zatečení vody ",null,null,null,null,null,null,null,null,null,null,null,null,null,null,null,null,null,null,null,null,null,null,null,null,null,null,null,null,null,null,null,null,null,null,null,null,null,null,null,null,null,null,null,null,null,null,null,{"$f":"C44","v":"Náklady na ztížené podmínky provádění tam, kde jsou stavební práce zcela nebo zčásti omezovány provozem jiných osob. Jde zejména o zvýšené náklady související s omezením provozem v areálu objednatele nebo o náklady v důsledku nezbytného respektování stávající dopravy ovlivňující stavební práce. Vyvázání větví stromů. Zakrývání nábytku, dveří, akustických obkladů, koberců, ostatního vybavení a rozhlasové techniky proti poškození a prachu. Odsávání prachu při bourání, průběžný uklid pracoviště. Protiprašné předěly. Kontrola funkčnosti zabezpečení stavby proti zatečení vody "}]
["Díl:","ON","Ostatní náklady",null,null,{"$f":"SUM(G46:G47)","v":0}]
[3,"006T","Ostatní náklady dle zadávací dokumentace","Soubor",1,null,{"$f":"ROUND(E46*F46,2)","v":0},null,null,null,null,null,null,null,null,null,null,null,null,null,null,null,null,null,null,null,null,null,null,null,null,null,null,null,null,null,21]
[null,null,"Ostatními náklady dodavatele spojené se splněním povinností dodavatele vyplývajících z obchodních či jiných podmínek zadávací dokumentace. Patří do nich zejména náklady na vyhotovení dokumentace skutečného provedení stavby, náklady spojené s podmínkami pro publicitu projektu, náklady na dílenskou či výrobní dokumentaci, náklady na vyhotovení provozních řádů, návodů na údržbu, zaškolení pracovníků obsluhy. ",null,null,null,null,null,null,null,null,null,null,null,null,null,null,null,null,null,null,null,null,null,null,null,null,null,null,null,null,null,null,null,null,null,null,null,null,null,null,null,null,null,null,null,null,null,null,null,{"$f":"C47","v":"Ostatními náklady dodavatele spojené se splněním povinností dodavatele vyplývajících z obchodních či jiných podmínek zadávací dokumentace. Patří do nich zejména náklady na vyhotovení dokumentace skutečného provedení stavby, náklady spojené s podmínkami pro publicitu projektu, náklady na dílenskou či výrobní dokumentaci, náklady na vyhotovení provozních řádů, návodů na údržbu, zaškolení pracovníků obsluhy. "}]
[null,null,null,null,null,null,null,null,null,null,null,null,null,null,null,null,null,null,null,null,null,null,null,null,null,null,null,null,null,null,null,null,null,null,{"$f":"SUM(AI1:AI47)","v":0},{"$f":"SUM(AJ1:AJ47)","v":0},null,15,21]
[null,"Celkem za objekt",null,null,null,null,{"$f":"F40+F45","v":0},null,null,null,null,null,null,null,null,null,null,null,null,null,null,null,null,null,null,null,null,null,null,null,null,null,null,null,null,null,null,{"$f":"SUMIF(AK40:AK48,AL48,G40:G48)","v":0},{"$f":"SUMIF(AK40:AK48,AM48,G40:G48)","v":0}]
[]
[{"$f":"CONCATENATE(\"CELKEM ZA OBJEKT \",A2, \" v Kč bez DPH\")","v":"CELKEM ZA OBJEKT 36 - Vedlejší a ostatní náklady stavby v Kč bez DPH"},null,null,null,null,{"$f":"F45+F40","v":0}]