{"text_format":"1","workbook":"xlsx","n_sheets":20,"sheets":["VzorPolozky","Identifikační údaje","Pokyny pro vyplnění","Rekapitulace stavby","01_SO O1 - Stav arch část","02_SO 01 - ZTI","03_SO 01 - VZT","04_SO 01 - ÚT","05_SO 01 - Plyn","06_SO 01 - MaR","07_SO 01 - Silnoproud","08_SO 01 - Slaboproud","09_SO 01 - EPS","10_SO 01 - akustika","11_SO 01 - RT","12_Interiér","13_IO 01 - Přípojka vody","14_IO 02 - Přípojka kanalizace","15_SO O2 - Garáž","16 - VRN"],"not_rendered":{"charts":0,"images":1,"macros":1,"external_links":1,"defined_names":44,"comments":0,"pivot_tables":0},"unopened":[],"bounds":{"document_bytes":16777216,"sheet_cells":100000,"rows_first":2000,"rows_last":500,"rows_between":2000,"halvings":0,"cell_chars":16384,"cell_head_chars":4096},"cells_cut":0,"cells_raw":0,"read":"whole","date_system":"1900"}

{"sheet":"VzorPolozky","index":0,"n_rows":6,"n_cols":7,"rows_kept":6,"cut":false,"hidden":true,"merged":[[0,0,0,6],[1,2,1,6],[2,2,2,6],[3,2,3,6]]}
["Položkový rozpočet "]
["S:"]
["O:"]
["R:"]
[]
["P.č.","Číslo položky","Název položky","MJ","množství","cena / MJ","celkem"]

{"sheet":"Identifikační údaje","index":1,"n_rows":33,"n_cols":5,"rows_kept":33,"cut":false,"hidden":false,"merged":[[32,0,32,6]]}
["Akce:","ČRo Olomouc – rekonstrukce objektu Pavelčákova 2/19"]
[]
["Místo plnění: ","Budova Českého rozhlasu Olomouc na adrese Pavelčákova 2/19, 779 00 Olomouc"]
[]
["Datum vyplnění:"]
[]
["Zadavatel:","Český rozhlas",null,null,{"$f":"CONCATENATE(B7,\", \",B8)","v":"Český rozhlas, Vinohradská 12, 120 99 Praha 2"}]
[null,"Vinohradská 12, 120 99 Praha 2"]
["IČ:",45245053]
["DIČ:","CZ45245053"]
[]
["Projektant:","ATELIER 38 s.r.o.",null,null,{"$f":"CONCATENATE(B12,\", \",B13)","v":"ATELIER 38 s.r.o., Porážková 1424/20, 702 00 Ostrava – Moravská Ostrava"}]
[null,"Porážková 1424/20, 702 00 Ostrava – Moravská Ostrava"]
["IČ:","258 58 343"]
["DIČ:","CZ25858343"]
[]
["Uchazeč:"]
[]
["Obchodní název",null,null,null,{"$f":"CONCATENATE(B19,\", \",B20,\", \",B22,\" \",B21)","v":", ,  "}]
["Ulice a č.p. "]
["Město "]
["PSČ "]
["IČ"]
["DIČ"]
[]
["Kontaktní osoba "]
["                telefon"]
["                e-mail "]
[]
[]
[]
["Poznámka :"]
["Ve všech listech tohoto souboru můžete měnit pouze buňky s modrým pozadím. Jedná se o tyto údaje : \n- údaje o firmě\n- jednotkové ceny položek zadané na maximálně dvě desetinná místa"]

{"sheet":"Pokyny pro vyplnění","index":2,"n_rows":96,"n_cols":4,"rows_kept":96,"cut":false,"hidden":false,"merged":[[3,2,3,9],[93,1,93,9],[95,1,95,9],[5,1,5,9],[11,1,11,9],[88,1,88,9],[90,1,90,9],[91,1,91,9],[79,1,79,9],[80,1,80,9],[82,1,82,9],[84,1,84,9],[85,1,85,9],[87,1,87,9],[66,1,66,9],[67,1,67,9],[71,1,71,9],[73,1,73,9],[76,1,76,9],[78,1,78,9],[64,1,64,9],[60,1,60,9],[61,1,61,9],[47,1,47,9],[49,1,49,9],[51,1,51,9],[52,1,52,9],[54,1,54,9],[63,1,63,9],[46,1,46,9],[31,1,31,9],[32,1,32,9],[33,1,33,9],[34,1,34,9],[35,1,35,9],[36,1,36,9],[38,1,38,9],[40,1,40,9],[41,1,41,9],[43,1,43,9],[44,1,44,9],[56,1,56,9],[57,1,57,9],[59,1,59,9],[22,1,22,9],[24,1,24,9],[26,1,26,9],[27,1,27,9],[29,1,29,9]]}
[-1]
[null,"POKYNY A PODMÍNKY PRO VYPLNĚNÍ TABULKY PRO VÝPOČET NABÍDKOVÉ CENY - VV"]
[null,null,null," "]
[null,"AKCE:",{"$f":"'Identifikační údaje'!B1","v":"ČRo Olomouc – rekonstrukce objektu Pavelčákova 2/19"}]
[]
[null,"Pozn.:"]
[null,null,"Tato tabulka pro výpočet nabídkové ceny nahrazuje výkaz výměr, jež byl zpracován jako součást "]
[null,"dokumentace pro provedení stavby, zhotovené společností ATELIER 38 s.r.o., Porážková 1424/20, 702 00  "]
[null,"Ostrava, v únoru 2020, pod zakázkovým číslem A3819002, jež je přílohou zadávací dokumenatce této "]
[null,"veřejné zakázky. "]
[]
[null,"1. POKYNY K VYPLŇOVÁNÍ TABULKY"]
[]
[null,"Ve všech listech tohoto souboru můžete měnit pouze buňky s modrým pozadím. Jedná se o tyto údaje : "]
[]
[null,"¨- datum"]
[null," - údaje o uchazeči"]
[null," - jednotkové ceny položek zadané na maximálně dvě desetinná místa"]
[]
[null,"V titulním listu (identifikační údaje) stavby vyplňte údaje o Uchazeči (přenesou se do ostatních sestav i v jiných listech)"]
[]
[]
[null,"2. PODMÍNKY PRO ZPRACOVÁNÍ NABÍDKOVÉ CENY"]
[]
[null,"        Preambule"]
[]
[null,"Tento soupis stavebních prací, dodávek a služeb je sestaven jako podklad pro zpracování nabídek dodavatelů na veřejnou zakázku na stavební práce a obsahuje podmínky a požadavky zadavatele, za kterých má být zpracována nabídková cena dodavatelů. Účelem tohoto soupisu je zabezpečit obsahovou shodu všech nabídkových cen a usnadnit následné posouzení předložených cenových nabídek."]
[null,"Předpokládá se, že dodavatel před zpracováním cenové nabídky pečlivě prostuduje všechny pokyny a podmínky pro zpracování nabídkové ceny obsažené v zadávacích podmínkách a bude se jimi při zpracování nabídkové ceny řídit. Soupis stavebních prací, dodávek a služeb je sestaven v souladu s podmínkami vyhlášky Ministerstva pro místní rozvoj č.230/2012 Sb. v platném znění."]
[]
[null,"        Vymezení některých pojmů"]
[]
[null,"Pro účely zpracování nabídkové ceny se jsou použity některé pojmy, pod kterými se rozumí:"]
[null,"        Soupisem stavebních prací dodávek a služeb dokument, ve kterém jsou definovány zadavatelem požadované stavební práce, dodávky a služby v podrobnostech nezbytných pro zpracování cenové nabídky dodavatele. Soupis obsahuje i vymezení požadovaného množství stavebních prací, dodávek a služeb."]
[null,"Cenovou soustavou uspořádaný soubor informací o stavebních a montážních pracích, materiálech a výrobcích obsahující zatřídění položek, podrobný popis a měrnou jednotku, způsob měření a další technické a cenové podmínky pro možnost stanovení jednotkové ceny."]
[null,"        Ostatními náklady náklady dodavatele spojené se splněním povinností dodavatele vyplývajících z obchodních či jiných podmínek zadávací dokumentace. Patří do nich zejména náklady na vyhotovení dokumentace skutečného provedení stavby, náklady na geodetické zaměření dokončeného díla, náklady spojené s podmínkami pro publicitu projektu, náklady na dílenskou či výrobní dokumentaci apod."]
[null,"        Položkovým rozpočtem dokument odpovídající svým obsahem a strukturou soupisu stavebních prací, dodávek a služeb, předaného zadavatelem dodavateli ke zpracování nabídky, v němž dodavatel doplní k jednotlivým položkám stavebních prací, dodávek nebo služeb svoje nabídkové jednotkové ceny a stanoví i celkovou nabídkovou cenu příslušné položky a dále stanoví nabídkové ceny dle struktury soupisu až po celkovou nabídkovou cenu za veškeré stavební práce, dodávky nebo služby, které jsou obsahem soupisu stavebních prací, dodávek a služeb."]
[null,"        Vedlejšími náklady náklady na činností zhotovitele, které nejsou zahrnuty v položkách soupisu stavebních prací, dodávek nebo služeb, ale se zhotovením stav-by souvisí a jsou pro realizaci stavby nezbytné. Někdy se definují jako vedlejší rozpočtové náklady a zahrnují zejména náklady na vybudování, provoz a odstranění zařízení staveniště."]
[]
[null,"        Cenová soustava"]
[]
[null,"        Použitá cenová soustava"]
[null,"Soupisy stavebních prací, dodávek a služeb jsou zpracovány s použitím cenové soustavy zpracované společností RTS, a.s.. Položky z cenové soustavy mají uveden odkaz na cenovou soustavu včetně označení příslušného ceníku."]
[]
[null,"        Technické podmínky"]
[null,"Obsah jednotlivých položek, způsob měření a ostatní další podmínky definující obsah a použití jednotlivých položek jsou obsaženy v cenových a technických podmínkách příslušných ceníků (viz zařazení u položky), které jsou volně dostupné na elektronické adrese www.cenovasoustava.cz"]
[]
[null,"Individuální položky"]
[null,"Položky soupisu prací, které cenová soustava neobsahuje, jsou označeny popisem „vlastní“. Pro tyto položky jsou cenové a technické podmínky definovány jejich popisem, případně odkazem na konkrétní část příslušné dokumentace."]
[]
[null,"        Závaznost a změna soupisu"]
[]
[null,"        Závaznost soupisu"]
[null,"Poskytnuté soupisy jsou pro zpracování nabídkové ceny závazné. Je vyloučeno jakékoliv vyřazení položek ze soupisu, doplnění položek do soupisu, slučování položek a jakýkoliv zásah do popisu položky, množství měrných jednotek nebo jakkoliv měnit či upravovat jakýkoliv jiný údaj v soupisu."]
[]
[null,"        Zvláštní podmínky pro stanovení nabídkové ceny"]
[]
[null,"        Přeprava vybouraných hmot, suti a vytěžené zeminy"]
[null,"Pokud soupis obsahuje i některé technologické položky vztahující se k uložení vytěžené zeminy nebo vybouraných hmot, vodorovné přesuny zeminy nebo vybouraných hmot pak v takových případech zpracovatel soupisu předpokládá určitou přepravní vzdálenost. Pokud z technologického postupu dodavatele vyplývá jiná přepravní vzdálenost, je povinností dodavatele stanovit takovou jednotkovou cenu, aby celková cena položky odpovídala jeho konkrétním technologickým podmínkám a konkrétní přepravní vzdálenosti, při soupisem vymezeném množství měrných jednotek."]
[]
[null,"        Vnitrostaveništní přesun stavebního materiálu"]
[null,"Pokud soupis obsahuje i položky vztahující se ke vnitrostaveništnímu přesunu materiálů (položky označené jako přesun hmot), pak v takových případech je povinností dodavatele stanovit takovou jednotkovou cenu, aby celková cena položky odpovídala jeho konkrétním technologickým podmínkám a konkrétní přepravní vzdálenosti, při soupisem vymezeném množství měrných jednotek."]
[null,"Vnitrostaveništní přesun hmot prací PSV (pomocná stavební výroba) může být v soupisu stanoven procenticky z hodnoty ceny za provedení příslušných řemeslných prací, dodávek a služeb. V takovém případě není v soupisu uvedeno množství měrných jednotek. Dodavatel ocení celkovou cenu u takové položky přesunu hmot vždy konkrétní částkou v Kč, bez ohledu na to, jakým způsobem k jejímu výpočtu dospěl."]
[]
[null,"        Příplatky za ztížené podmínky prací"]
[null,"Pokud soupis položku příplatku za ztížené podmínky obsahuje, je dodavatel povinen ji ocenit bez ohledu na to, že tento příplatek dodavatel standardně neuplatňuje."]
[]
[null,"        Vedlejší a ostatní náklady"]
[null,"Tyto náklady jsou popsány v samostatném soupisu stavebních prací, dodávek a služeb s tím, že dodavatel je povinen v rámci těchto nákladů ocenit všechny definované náklady souhrnně pro celou stavbu."]
[]
[]
[]
[null,"3. SPECIFICKÉ PODMÍNKY PRO ZPRACOVÁNÍ NABÍDKOVÉ CENY"]
[]
[null,"Zde doplní zpracovatel soupisu  případná specifika týkající se konkrétní zakázky."]
[]
[]
[null,"4. ELEKTRONICKÁ PODOBA SOUPISU"]
[]
[null,"        Elektronická podoba soupisu"]
[null,"V souladu se zákonem jsou předložené soupisy zpracovány i v elektronické podobě.  Elektronickou podobou soupisu stavebních prací, dodávek a služeb je formát MS EXCEL."]
[null,"Popis formátu soupisu odpovídá svou strukturou vzorovému soupisu volně dostupnému na internetové adrese:"]
[]
[null,"www.stavebnionline.cz/soupis"]
[]
[null,"        Zpracování elektronické podoby soupisu"]
[null,"Předaný formát MS EXCEL je nepřístupným (uzamčeným) souborem, do kterého dodavatel doplňuje pouze jednotkové ceny ke všem položkám. Ostatní cenové údaje, jako celková cena položky, mezisoučty za stavební či funkční díly nebo součty celkové ceny stavebního objektu, jakož i cena stavby jsou výsledkem vložených matematických vzorců v příslušných pozicích souboru."]
[]
[null,"        Jiný formát soupisu"]
[null,"Pokud by kterýkoliv dodavatel měl problémy s předaným formátem, lze na požádání poskytnout soupis stavebních prací také ve formátu *.xml, což je standardní formát používaný pro přenosy dat. Dokumentace tohoto formátu je volně přístupná na webových stránkách MMR."]
[]
[null,"        Závěrečné ustanovení"]
[null,"Ostatní podmínky vztahující se ke zpracování nabídkové ceny jsou uvedeny v zadávací dokumentaci."]
[]
[null,"5. OBCHODNÍ NÁZVY MATERIÁLŮ A VÝROBKŮ"]
[]
[null,"         V případě, že položka tabulky pro výpočet nabídkové ceny obsahuje konkrétní obchodní označení výrobku či materiálu (referenční výrobek), je zhotovitel oprávněn jej nahradit výrobkem či materiálem stejných technických parametrů a jakosti."]

{"sheet":"Rekapitulace stavby","index":3,"n_rows":67,"n_cols":40,"rows_kept":67,"cut":false,"hidden":false,"merged":[[53,2,53,6],[53,8,53,30],[53,31,53,40],[56,2,56,6],[56,8,56,30],[56,31,56,40],[54,2,54,6],[54,8,54,30],[50,39,50,40],[62,2,62,6],[62,8,62,30],[62,31,62,40],[51,2,51,6],[51,8,51,30],[54,31,54,40],[51,31,51,40],[60,2,60,6],[60,8,60,30],[60,31,60,40],[52,2,52,6],[52,8,52,30],[52,31,52,40],[58,2,58,6],[58,8,58,30],[41,10,41,39],[43,37,43,38],[45,37,45,40],[48,1,48,5],[48,7,48,30],[48,31,48,40],[3,9,3,39],[4,9,4,39],[12,3,12,34],[18,3,18,38],[21,35,21,39],[58,31,58,40],[66,2,66,6],[66,8,66,30],[66,31,66,40],[65,2,65,6],[65,8,65,30],[65,31,65,40],[64,31,64,40],[61,2,61,6],[61,8,61,30],[61,31,61,40],[63,31,63,40],[59,2,59,6],[59,8,59,30],[59,31,59,40],[57,2,57,6],[57,8,57,30],[57,31,57,40],[55,2,55,6],[55,8,55,30],[55,31,55,40]]}
[]
[]
[null,null,"REKAPITULACE STAVBY"]
[null,null,"Kód:"]
[null,null,"Stavba:",null,null,null,null,null,null,{"$f":"'Identifikační údaje'!B1","v":"ČRo Olomouc – rekonstrukce objektu Pavelčákova 2/19"}]
[null,null,"KSO:",null,null,null,null,null,null,null,null,null,null,null,null,null,null,null,null,null,null,null,null,null,null,null,null,null,null,null,null,null,null,null,null,"CC-CZ:"]
[null,null,"Místo:",null,null,null,null,null,null,{"$f":"'Identifikační údaje'!B3","v":"Budova Českého rozhlasu Olomouc na adrese Pavelčákova 2/19, 779 00 Olomouc"},null,null,null,null,null,null,null,null,null,null,null,null,null,null,null,null,null,null,null,null,null,null,null,null,null,"Datum:",null,null,{"$f":"'Identifikační údaje'!B5","v":"00:00:00"}]
[]
[null,null,"Zadavatel:",null,null,null,null,null,null,null,null,null,null,null,null,null,null,null,null,null,null,null,null,null,null,null,null,null,null,null,null,null,null,null,null,"IČ:",null,null,{"$f":"'Identifikační údaje'!B9","v":45245053}]
[null,null,null,{"$f":"'Identifikační údaje'!E7","v":"Český rozhlas, Vinohradská 12, 120 99 Praha 2"},null,null,null,null,null,null,null,null,null,null,null,null,null,null,null,null,null,null,null,null,null,null,null,null,null,null,null,null,null,null,null,"DIČ:",null,null,{"$f":"'Identifikační údaje'!B10","v":"CZ45245053"}]
[]
[null,null,"Uchazeč:",null,null,null,null,null,null,null,null,null,null,null,null,null,null,null,null,null,null,null,null,null,null,null,null,null,null,null,null,null,null,null,null,"IČ:",null,null,{"$f":"'Identifikační údaje'!B23","v":0}]
[null,null,null,{"$f":"'Identifikační údaje'!E19","v":", ,  "},null,null,null,null,null,null,null,null,null,null,null,null,null,null,null,null,null,null,null,null,null,null,null,null,null,null,null,null,null,null,null,"DIČ:",null,null,{"$f":"'Identifikační údaje'!B24","v":0}]
[]
[null,null,"Projektant:",null,null,null,null,null,null,null,null,null,null,null,null,null,null,null,null,null,null,null,null,null,null,null,null,null,null,null,null,null,null,null,null,"IČ:",null,null,{"$f":"'Identifikační údaje'!B14","v":"258 58 343"}]
[null,null,null,{"$f":"'Identifikační údaje'!E12","v":"ATELIER 38 s.r.o., Porážková 1424/20, 702 00 Ostrava – Moravská Ostrava"},null,null,null,null,null,null,null,null,null,null,null,null,null,null,null,null,null,null,null,null,null,null,null,null,null,null,null,null,null,null,null,"DIČ:",null,null,{"$f":"'Identifikační údaje'!B15","v":"CZ25858343"}]
[]
[null,null,"Poznámka:"]
[]
[]
[]
[null,null,"CENA ZA STAVBU CELKEM BEZ DPH",null,null,null,null,null,null,null,null,null,null,null,null,null,null,null,null,null,null,null,null,null,null,null,null,null,null,null,null,null,null,null,null,{"$f":"AN51+AF64+AF65+AF66+AF67","v":0}]
[]
[]
[]
[]
[]
[]
[]
[]
[]
[]
[]
[]
[]
[]
[]
[]
[null,"REKAPITULACE OBJEKTŮ STAVBY A SOUPISŮ PRACÍ"]
[]
[]
[null,"Stavba:",null,null,null,null,null,null,null,null,{"$f":"'Identifikační údaje'!B1","v":"ČRo Olomouc – rekonstrukce objektu Pavelčákova 2/19"}]
[]
[null,"Místo:",null,null,null,null,null,null,null,null,{"$f":"IF($J$7=\"\",\"\",$J$7)","v":"Budova Českého rozhlasu Olomouc na adrese Pavelčákova 2/19, 779 00 Olomouc"},null,null,null,null,null,null,null,null,null,null,null,null,null,null,null,null,null,null,null,null,null,null,"Datum:",null,null,null,{"$f":"IF($AM$7=\"\",\"\",$AM$7)","v":"00:00:00"}]
[]
[null,"Zadavatel:",null,null,null,null,null,null,null,null,{"$f":"IF($D$10=\"\",\"\",$D$10)","v":"Český rozhlas, Vinohradská 12, 120 99 Praha 2"},null,null,null,null,null,null,null,null,null,null,null,null,null,null,null,null,null,null,null,null,null,null,"Projektant:",null,null,null,{"$f":"IF($D$16=\"\",\"\",$D$16)","v":"ATELIER 38 s.r.o., Porážková 1424/20, 702 00 Ostrava – Moravská Ostrava"}]
[null,"Uchazeč:",null,null,null,null,null,null,null,null,{"$f":"IF($D$13=\"Vyplň údaj\",\"\",$D$13)","v":", ,  "}]
[]
[null,"Kód",null,null,null,null,null,"Objekt, Soupis prací",null,null,null,null,null,null,null,null,null,null,null,null,null,null,null,null,null,null,null,null,null,null,null,"Cena bez DPH [CZK]"]
[]
[null,"Objekt SO 01 celkem",null,null,null,null,null,null,null,null,null,null,null,null,null,null,null,null,null,null,null,null,null,null,null,null,null,null,null,null,null,null,null,null,null,null,null,null,null,{"$f":"SUM(AF52:AO63)","v":0}]
[null,null,"01",null,null,null,null,null,"SO 01 - Stavebně - architektonická část ",null,null,null,null,null,null,null,null,null,null,null,null,null,null,null,null,null,null,null,null,null,null,{"$f":"'01_SO O1 - Stav arch část'!D66:D66","v":0}]
[null,null,"02",null,null,null,null,null,"SO 01 - Zdravotně technické instalace",null,null,null,null,null,null,null,null,null,null,null,null,null,null,null,null,null,null,null,null,null,null,{"$f":"'02_SO 01 - ZTI'!D44:D44","v":0}]
[null,null,"03",null,null,null,null,null,"SO 01 - Vzduchotechnika",null,null,null,null,null,null,null,null,null,null,null,null,null,null,null,null,null,null,null,null,null,null,{"$f":"'03_SO 01 - VZT'!E31:E31","v":0}]
[null,null,"04",null,null,null,null,null,"SO 01 - Ústřední vytápění",null,null,null,null,null,null,null,null,null,null,null,null,null,null,null,null,null,null,null,null,null,null,{"$f":"'04_SO 01 - ÚT'!D37:D37","v":0}]
[null,null,"05",null,null,null,null,null,"SO 01 - Plynoinstalace",null,null,null,null,null,null,null,null,null,null,null,null,null,null,null,null,null,null,null,null,null,null,{"$f":"'05_SO 01 - Plyn'!D33:D33","v":0}]
[null,null,"06",null,null,null,null,null,"SO 01 - Měření a regulace",null,null,null,null,null,null,null,null,null,null,null,null,null,null,null,null,null,null,null,null,null,null,{"$f":"'06_SO 01 - MaR'!F35:F35","v":0}]
[null,null,"07",null,null,null,null,null,"SO 01 - Silnoproudá elektroinstalace ",null,null,null,null,null,null,null,null,null,null,null,null,null,null,null,null,null,null,null,null,null,null,{"$f":"'07_SO 01 - Silnoproud'!H36:H36","v":0}]
[null,null,"08",null,null,null,null,null,"SO 01 - Slaboproudá elektroinstalace",null,null,null,null,null,null,null,null,null,null,null,null,null,null,null,null,null,null,null,null,null,null,{"$f":"'08_SO 01 - Slaboproud'!D36:D36","v":0}]
[null,null,"09",null,null,null,null,null,"SO 01 - EPS - Elektrická požární signalizace",null,null,null,null,null,null,null,null,null,null,null,null,null,null,null,null,null,null,null,null,null,null,{"$f":"'09_SO 01 - EPS'!D29:D29","v":0}]
[null,null,"10",null,null,null,null,null,"SO 01 - Prostorová akustika",null,null,null,null,null,null,null,null,null,null,null,null,null,null,null,null,null,null,null,null,null,null,{"$f":"'10_SO 01 - akustika'!I33:I33","v":0}]
[null,null,"11",null,null,null,null,null,"SO 01 - Rozhlasové technologie",null,null,null,null,null,null,null,null,null,null,null,null,null,null,null,null,null,null,null,null,null,null,{"$f":"'11_SO 01 - RT'!D30:D30","v":0}]
[null,null,"12",null,null,null,null,null,"SO 01 - Interiér hlavního objektu",null,null,null,null,null,null,null,null,null,null,null,null,null,null,null,null,null,null,null,null,null,null,{"$f":"'12_Interiér'!G30:G30","v":0}]
[null,null,13,null,null,null,null,null,"IO 01 - Přípojka vodovodu",null,null,null,null,null,null,null,null,null,null,null,null,null,null,null,null,null,null,null,null,null,null,{"$f":"'13_IO 01 - Přípojka vody'!G37:G37","v":0}]
[null,null,14,null,null,null,null,null,"IO 02 - Přípojka jednotné kanalizace",null,null,null,null,null,null,null,null,null,null,null,null,null,null,null,null,null,null,null,null,null,null,{"$f":"'14_IO 02 - Přípojka kanalizace'!G34","v":0}]
[null,null,"15",null,null,null,null,null,"SO 02 - Garáže",null,null,null,null,null,null,null,null,null,null,null,null,null,null,null,null,null,null,null,null,null,null,{"$f":"'15_SO O2 - Garáž'!G37:G37","v":0}]
[null,null,"16",null,null,null,null,null,"Vedlejší a ostatní náklady stavby",null,null,null,null,null,null,null,null,null,null,null,null,null,null,null,null,null,null,null,null,null,null,{"$f":"'16 - VRN'!F32","v":0}]

{"sheet":"01_SO O1 - Stav arch část","index":4,"n_rows":3074,"n_cols":7,"rows_kept":3074,"cut":false,"hidden":false,"merged":[[24,3,24,6],[25,2,25,6],[65,3,65,6]]}
[{"$f":"CONCATENATE('Rekapitulace stavby'!C52,\"_\",'Rekapitulace stavby'!I52)","v":"01_SO 01 - Stavebně - architektonická část "}]
[]
["SPECIFIKACE DODÁVEK A PRACÍ "]
["Název akce:"]
[{"$f":"'Identifikační údaje'!B1","v":"ČRo Olomouc – rekonstrukce objektu Pavelčákova 2/19"}]
[]
["Zadavatel:",null,{"$f":"'Identifikační údaje'!E7","v":"Český rozhlas, Vinohradská 12, 120 99 Praha 2"}]
[null,"IČ:",{"$f":"'Identifikační údaje'!B9","v":45245053}]
[null,"DIČ:",{"$f":"'Identifikační údaje'!B10","v":"CZ45245053"}]
[]
["Projektant:",null,{"$f":"'Identifikační údaje'!E12","v":"ATELIER 38 s.r.o., Porážková 1424/20, 702 00 Ostrava – Moravská Ostrava"}]
[null,"IČ:",{"$f":"'Identifikační údaje'!B14","v":"258 58 343"}]
[null,"DIČ:",{"$f":"'Identifikační údaje'!B15","v":"CZ25858343"}]
[]
["Uchazeč:",null,{"$f":"'Identifikační údaje'!E19","v":", ,  "}]
[null,"IČ:",{"$f":"'Identifikační údaje'!B23","v":0}]
[null,"DIČ:",{"$f":"'Identifikační údaje'!B24","v":0}]
[]
["Místo stavby:",null,{"$f":"'Identifikační údaje'!B3","v":"Budova Českého rozhlasu Olomouc na adrese Pavelčákova 2/19, 779 00 Olomouc"}]
[]
["Datum vyplnění:",null,{"$f":"'Identifikační údaje'!B5","v":"00:00:00"}]
[]
[{"$f":"CONCATENATE(\"REKAPITULACE DODÁVEK A PRACÍ OBJEKTU \",'Rekapitulace stavby'!I52)","v":"REKAPITULACE DODÁVEK A PRACÍ OBJEKTU SO 01 - Stavebně - architektonická část "}]
[]
["P.č.","Číslo položky","Název položky","Kč bez DPH"]
[]
["Díl:",{"$f":"B98","v":"1"},{"$f":"C98","v":"Zemní práce"},null,null,null,{"$f":"G98","v":0}]
["Díl:",{"$f":"B150","v":"21"},{"$f":"C150","v":"Úprava podloží a základ.spáry"},null,null,null,{"$f":"G150","v":0}]
["Díl:",{"$f":"B199","v":"22"},{"$f":"C199","v":"Piloty"},null,null,null,{"$f":"G199","v":0}]
["Díl:",{"$f":"B209","v":"27"},{"$f":"C209","v":"Základy"},null,null,null,{"$f":"G209","v":0}]
["Díl:",{"$f":"B301","v":"28"},{"$f":"C301","v":"Zpevňování hornin a konstrukcí"},null,null,null,{"$f":"G301","v":0}]
["Díl:",{"$f":"B314","v":"3"},{"$f":"C314","v":"Svislé a kompletní konstrukce"},null,null,null,{"$f":"G314","v":0}]
["Díl:",{"$f":"B451","v":"342"},{"$f":"C451","v":"Sádrokartonové konstrukce"},null,null,null,{"$f":"G451","v":0}]
["Díl:",{"$f":"B658","v":"4"},{"$f":"C658","v":"Vodorovné konstrukce"},null,null,null,{"$f":"G658","v":0}]
["Díl:",{"$f":"B743","v":"43"},{"$f":"C743","v":"Schodiště"},null,null,null,{"$f":"G743","v":0}]
["Díl:",{"$f":"B757","v":"5"},{"$f":"C757","v":"Komunikace"},null,null,null,{"$f":"G757","v":0}]
["Díl:",{"$f":"B792","v":"61"},{"$f":"C792","v":"Úpravy povrchů vnitřní"},null,null,null,{"$f":"G792","v":0}]
["Díl:",{"$f":"B1112","v":"62"},{"$f":"C1112","v":"Úpravy povrchů vnější"},null,null,null,{"$f":"G1112","v":0}]
["Díl:",{"$f":"B1281","v":"63"},{"$f":"C1281","v":"Podlahy a podlahové konstrukce"},null,null,null,{"$f":"G1281","v":0}]
["Díl:",{"$f":"B1339","v":"64"},{"$f":"C1339","v":"Výplně otvorů"},null,null,null,{"$f":"G1339","v":0}]
["Díl:",{"$f":"B1342","v":"94"},{"$f":"C1342","v":"Lešení a stavební výtahy"},null,null,null,{"$f":"G1342","v":0}]
["Díl:",{"$f":"B1394","v":"95"},{"$f":"C1394","v":"Dokončovací konstrukce na pozemních stavbách"},null,null,null,{"$f":"G1394","v":0}]
["Díl:",{"$f":"B1404","v":"96"},{"$f":"C1404","v":"Bourání konstrukcí"},null,null,null,{"$f":"G1404","v":0}]
["Díl:",{"$f":"B1750","v":"99"},{"$f":"C1750","v":"Staveništní přesun hmot"},null,null,null,{"$f":"G1750","v":0}]
["Díl:",{"$f":"B1752","v":"711"},{"$f":"C1752","v":"Izolace proti vodě"},null,null,null,{"$f":"G1752","v":0}]
["Díl:",{"$f":"B1810","v":"712"},{"$f":"C1810","v":"Povlakové krytiny"},null,null,null,{"$f":"G1810","v":0}]
["Díl:",{"$f":"B1915","v":"713"},{"$f":"C1915","v":"Izolace tepelné"},null,null,null,{"$f":"G1915","v":0}]
["Díl:",{"$f":"B2013","v":"728"},{"$f":"C2013","v":"Vzduchotechnika"},null,null,null,{"$f":"G2013","v":0}]
["Díl:",{"$f":"B2037","v":"762"},{"$f":"C2037","v":"Konstrukce tesařské"},null,null,null,{"$f":"G2037","v":0}]
["Díl:",{"$f":"B2070","v":"764"},{"$f":"C2070","v":"Konstrukce klempířské"},null,null,null,{"$f":"G2070","v":0}]
["Díl:",{"$f":"B2191","v":"766"},{"$f":"C2191","v":"Konstrukce truhlářské"},null,null,null,{"$f":"G2191","v":0}]
["Díl:",{"$f":"B2477","v":"767"},{"$f":"C2477","v":"Konstrukce zámečnické"},null,null,null,{"$f":"G2477","v":0}]
["Díl:",{"$f":"B2748","v":"771"},{"$f":"C2748","v":"Podlahy z dlaždic a obklady"},null,null,null,{"$f":"G2748","v":0}]
["Díl:",{"$f":"B2776","v":"775"},{"$f":"C2776","v":"Podlahy vlysové a parketové"},null,null,null,{"$f":"G2776","v":0}]
["Díl:",{"$f":"B2779","v":"776"},{"$f":"C2779","v":"Podlahy povlakové"},null,null,null,{"$f":"G2779","v":0}]
["Díl:",{"$f":"B2859","v":"777"},{"$f":"C2859","v":"Podlahy ze syntetických hmot"},null,null,null,{"$f":"G2859","v":0}]
["Díl:",{"$f":"B2882","v":"781"},{"$f":"C2882","v":"Obklady keramické"},null,null,null,{"$f":"G2882","v":0}]
["Díl:",{"$f":"B2971","v":"782"},{"$f":"C2971","v":"Konstrukce z přírodního kamene"},null,null,null,{"$f":"G2971","v":0}]
["Díl:",{"$f":"B2979","v":"783"},{"$f":"C2979","v":"Nátěry"},null,null,null,{"$f":"G2979","v":0}]
["Díl:",{"$f":"B2999","v":"784"},{"$f":"C2999","v":"Malby"},null,null,null,{"$f":"G2999","v":0}]
["Díl:",{"$f":"B3039","v":"787"},{"$f":"C3039","v":"Zasklívání"},null,null,null,{"$f":"G3039","v":0}]
["Díl:",{"$f":"B3043","v":"799"},{"$f":"C3043","v":"Ostatní"},null,null,null,{"$f":"G3043","v":0}]
["Díl:",{"$f":"B3062","v":"M33"},{"$f":"C3062","v":"Montáže dopravních zařízení a vah-výtahy"},null,null,null,{"$f":"G3062","v":0}]
["Díl:",{"$f":"B3065","v":"D96"},{"$f":"C3065","v":"Přesuny suti a vybouraných hmot"},null,null,null,{"$f":"G3065","v":0}]
[]
[{"$f":"CONCATENATE(\"CELKEM ZA OBJEKT \",'Rekapitulace stavby'!I52, \" v Kč bez DPH\")","v":"CELKEM ZA OBJEKT SO 01 - Stavebně - architektonická část  v Kč bez DPH"},null,null,{"$f":"SUM(G27:G64)","v":0}]
[]
[]
[]
[]
[]
[]
[]
[]
[]
[]
[]
[]
[]
[]
[]
[]
[]
[]
[]
[]
[]
[]
[]
[]
[]
[]
[]
[]
[]
[]
["P.č.","Číslo položky","Název položky","MJ","množství","cena / MJ","celkem"]
["Díl:","1","Zemní práce",null,null,null,{"$f":"SUBTOTAL(9,G99:G149)","v":0}]
[1,"115101201R00","Čerpání vody na výšku do 10 m, přítok do 500 l/min","h",500,null,{"$f":"E99*F99","v":0}]
[null,null,"Množství měrných jednotek je doba, po kterou je čerpadlo v provozu. Množství m.j. je uvedeno dle předpokladu, celková cena této práce se stanoví podle skutečnosti při provádění stavebních prací.",null," "]
[{"$f":"A99+1","v":2},"115101301R00","Pohotovost čerp.soupravy, výška 10 m, přítok 500 l","den",30,null,{"$f":"E101*F101","v":0}]
[{"$f":"A101+1","v":3},"122201101R00","Odkopávky nezapažené v hor. 3 do 100 m3","m3",68.099999999999994,null,0]
[null,null,"pro zpevněné plochy : ",null," "]
[null,null," mn. položky pořadí 142 : 196,00000*0,3",null,58.800000000000004]
[null,null," mn. položky pořadí 143 : 31,00000*0,3",null,9.3000000000000007]
[{"$f":"A102+1","v":4},"131201119R00","Příplatek za lepivost - hloubení nezap.jam v hor.3","m3",227.72,null,{"$f":"E106*F106","v":0}]
[null,null," mn. položky pořadí 5 : 227,71368",null,227.72]
[{"$f":"A106+1","v":5},"139601102R00","Ruční výkop jam, rýh a šachet v hornině tř. 3","m3",227.72,null,{"$f":"E108*F108","v":0}]
[null,null,"1PP - S01 - sonda P10+P11+P12 - odkop : 0,20*180,0*1,05",null,37.800000000000004]
[null,null,"1PP - S02 - sonda P9 - odkop : 0,30*29,0*1,05",null,9.14]
[null,null,"1PP - pásy pro piloty : (0,30*0,45*(4,10+3,20)+0,30*0,40*(4,10+3,20))*1,05",null,1.96]
[null,null,"1PP - čerpací jímka : 2*(1,50*1,50*1,50)",null,6.75]
[null,null,"1PP - pro VZT mezi S12 a S13 : 2,10*7,000*1,05",null,15.44]
[null,null,"1PP - pro VZT z S13 : (3,00*1,80*2,40)*1,05",null,13.61]
[null,null,"(0,40+0,60)*1,26*2,20",null,2.7800000000000002]
[null,null,"základy pod VZT jednotky : 0,10*((3*(4,00*1,06))+(3,80*0,75)+(4,00*1,50))*1,05",null,2.27]
[null,null,"pro uzemňovací pásek : 225*(0,15*0,15)",null,5.07]
[null,null,"pod podkladní deskou pod 1NP : 0,35*(72,0+22,0+29,0+38,0+23,0+8,0)",null,67.2]
[null,null,"odkop vlhké zeminy navíc u zadního přístřešku pod 1NP : 0,40*(22,200+7,500)",null,11.88]
[null,null,"přístřešek - patky : 5*(0,35*0,35*1,20)*1,05",null,0.78]
[null,null,"přístřešek pásy : 0,40*1,00*(3,80*2+2,20)*1,05   +8",null,12.120000000000001]
[null,null,"dvorní část - kolem objektu : 1,00*0,80*(8,5+1,0+6,0)*1,1",null,13.64]
[null,null,"2,30*1,20*(9,0)*1,1",null,27.330000000000002]
[{"$f":"A108+1","v":6},"151101201R00","Pažení stěn výkopu - příložné - hloubky do 4 m","m2",22.5,null,{"$f":"E124*F124","v":0}]
[null,null,"dvůr - u starého schodiště : 2,50*9,00",null,22.5]
[{"$f":"A124+1","v":7},"151101211R00","Odstranění pažení stěn - příložné - hl. do 4 m","m2",22.5,null,{"$f":"E126*F126","v":0}]
[null,null," mn. položky pořadí 6 : 22,50000",null,22.5]
[{"$f":"A126+1","v":8},"151101301R00","Rozepření stěn pažení - příložné -  hl. do 4 m","m3",42.25,null,{"$f":"E128*F128","v":0}]
[null,null,"dvůr - u starého schodiště : 2,50*(1,30*13,0)",null,42.25]
[{"$f":"A128+1","v":9},"151101311R00","Odstranění rozepření stěn - příložné - hl. do 4 m","m3",42.25,null,{"$f":"E130*F130","v":0}]
[null,null," mn. položky pořadí 8 : 42,25000",null,42.25]
[{"$f":"A130+1","v":10},"161101102R00","Svislé přemístění výkopku z hor.1-4 do 4,0 m","m3",227.72,null,{"$f":"E132*F132","v":0}]
[null,null," mn. položky pořadí 5 : 227,71368",null,227.72]
[{"$f":"A132+1","v":11},"162201102R00","Vodorovné přemístění výkopku z hor.1-4 do 50 m","m3",227.72,null,{"$f":"E134*F134","v":0}]
[null,null," mn. položky pořadí 5 : 227,71368",null,227.72]
[{"$f":"A134+1","v":12},"162701105R00","Vodorovné přemístění výkopku z hor.1-4 do 10000 m","m3",295.82,null,{"$f":"E136*F136","v":0}]
[null,null," mn. položky pořadí 5 : 227,71368",null,227.72]
[null,null," mn. položky pořadí 3 : 68,10000",null,68.099999999999994]
[{"$f":"A136+1","v":13},"162701109R00","Příplatek k vod. přemístění hor.1-4 za další 1 km","m3",1479.07,null,{"$f":"E139*F139","v":0}]
[null,null," mn. položky pořadí 12 : 295,81368*5",null,1479.07]
[{"$f":"A139+1","v":14},"174101101R00","Zásyp jam, rýh, šachet se zhutněním","m3",1,null,{"$f":"E141*F141","v":0}]
[null,null,"včetně strojního přemístění materiálu pro zásyp ze vzdálenosti do 10 m od okraje zásypu",null," "]
[null,null,"rušená jímka : 1,0*1,0*1,0",null,1]
[{"$f":"A141+1","v":15},"175101201R00","Obsyp objektu bez prohození sypaniny","m3",25.35,null,{"$f":"E144*F144","v":0}]
[null,null,"dvůr - u starého schodiště : 1,50*(1,30*13,0)",null,25.35]
[{"$f":"A144+1","v":16},"199000002R00","Poplatek za skládku horniny 1- 4","m3",295.82,null,{"$f":"E146*F146","v":0}]
[null,null," mn. položky pořadí 12 : 295,81368",null,295.82]
[{"$f":"A146+1","v":17},"583418036R","Kamenivo drcené frakce  16/32 D Olomoucký kraj","t",43.1,null,{"$f":"E148*F148","v":0}]
[null,null,"dvůr - u starého schodiště : 1,50*(1,30*13,0)*1,7",null,43.1]
["Díl:","21","Úprava podloží a základ.spáry",null," ",null,{"$f":"SUBTOTAL(9,G151:G198)","v":0}]
[{"$f":"A148+1","v":18},"212561111R00","Výplň odvodňov. trativodů kam. hrubě drcen. 16 mm","m3",17.04,null,{"$f":"E151*F151","v":0}]
[null,null,"drenáž kolem objektu : 0,80*0,60*(13,0+16,0+1,5 +5)",null,17.04]
[{"$f":"A151+1","v":19},"212753113R00","Montáž ohebné dren. trubky do rýhy DN 80, bez lože","m",35.5,null,{"$f":"E153*F153","v":0}]
[null,null,"drenáž kolem objektu : 13,0+16,0+1,5 +5",null,35.5]
[{"$f":"A153+1","v":20},"212753114R00","Montáž ohebné dren. trubky do rýhy DN 100,bez lože","m",51.5,null,{"$f":"E155*F155","v":0}]
[null,null,"potrubí pro odvětrání pod 1PP : 5,0+8,5+11,0",null,24.5]
[null,null,"potrubí pro odvětrání radonu pod 1NP : 15,0+12,0",null,27]
[{"$f":"A155+1","v":21},"212753115R00","Montáž ohebné dren. trubky do rýhy DN 125,bez lože","m",46,null,{"$f":"E158*F158","v":0}]
[null,null,"potrubí pro odvětrání pod 1PP : 46,0",null,46]
[{"$f":"A158+1","v":22},"212753116R00","Montáž ohebné dren. trubky do rýhy DN 160,bez lože","m",61,null,{"$f":"E160*F160","v":0}]
[null,null,"potrubí pro odvětrání pod 1PP : 5,0",null,5]
[null,null,"potrubí pro odvětrání radonu pod 1NP : (16,0+8,0 + 14,0+10,0) + (3,0 + 5,0)",null,56]
[{"$f":"A160+1","v":23},"212971110R00","Opláštění trativodů z geotext., do sklonu 1:2,5","m2",71,null,{"$f":"E163*F163","v":0}]
[null,null,"drenáž kolem objektu : 2,00*(13,0+16,0+1,5 +5)",null,71]
[{"$f":"A163+1","v":24},"215901101RT5","Zhutnění podloží z hornin nesoudržných do 92% PS vibrační deskou","m2",456.5,null,{"$f":"E165*F165","v":0}]
[null,null,"1PP - úprava podkladu po odkopu : (253,00+7,00+6,00)",null,266]
[null,null,"podkladní základová deska pod 1NP : (72,0+21,5+28,5+22,5+8,0+38,0)",null,190.5]
[{"$f":"A165+1","v":25},"271531113R00","Polštář základu z kameniva hr. drceného 16-32 mm","m3",83.05,null,{"$f":"E168*F168","v":0}]
[null,null,"pod 1PP : 0,10*(253,00+7,00+6,00)*1,10",null,29.26]
[null,null,"pod podkladní základovou desku pod 1NP : 0,20*(72,0+21,5+28,5+22,5+8,0+38,0)*1,10",null,41.910000000000004]
[null,null,"odkop vlhké zeminy navíc u zadního přístřešku pod 1NP - výměna za kamenivo : 0,40*(22,200+7,500)",null,11.88]
[{"$f":"A168+1","v":26},"271531114R00","Polštář základu z kameniva drceného 8-16 mm","m3",14.63,null,{"$f":"E172*F172","v":0}]
[null,null,"pod 1PP : 0,05*(253,00+7,00+6,00)*1,10",null,14.63]
[{"$f":"A172+1","v":27},"289970111R00","Vrstva geotextilie Geofiltex 300g/m2","m2",580.25,null,{"$f":"E174*F174","v":0}]
[null,null,"pod 1PP : (253,00+7,00+6,00)*1,1",null,292.60000000000002]
[null,null,"pod podkladní základovou desku pod 1NP : (72,0+21,5+28,5+22,5+8,0+38,0)*1,1",null,209.55]
[null,null,"drenáž kolem objektu : 2,00*(13,0+16,0+1,5 +5)*1,1",null,78.100000000000009]
[{"$f":"A174+1","v":28},"871313121R00","Montáž trub z plastu, gumový kroužek, DN 150","m",66,null,{"$f":"E178*F178","v":0}]
[null,null,"odvětrání na fasádu z 1PP : 2*3,0",null,6]
[null,null,"odvětrání z 1PP vnitřek : 3*3,5",null,10.5]
[null,null,"1NP : 2,5 + 2,0 + 2*(2,5)",null,9.5]
[null,null,"odvětrání na střechu z 1NP : 2*20,0",null,40]
[{"$f":"A178+1","v":29},"894432-1","revizní plastová šachta prům.315 mm - dodávka a montáž","kus",3,null,{"$f":"E183*F183","v":0}]
[null,null,"kompletní šachta - dno, šachtová roura a poklop - hl. cca. 1,5m",null," "]
[null,null,"drenáže : 3",null,3]
[{"$f":"A183+1","v":30},"28611152.AR","Trubka kanalizační KGEM SN 4 PVC 150x4,0x2000 mm","kus",36,null,{"$f":"E186*F186","v":0}]
[null,null," mn. položky pořadí 28 : 66,00000*0,5",null,33]
[null,null,"+3",null,3]
[{"$f":"A186+1","v":31},"28611222.AR","Trubka PVC drenážní flexibilní d 80 mm","m",39.050000000000004,null,{"$f":"E189*F189","v":0}]
[null,null," mn. položky pořadí 19 : 35,50000*1,1",null,39.050000000000004]
[{"$f":"A189+1","v":32},"28611223.AR","Trubka PVC drenážní flexibilní d 100 mm","m",39.050000000000004,null,{"$f":"E191*F191","v":0}]
[null,null," mn. položky pořadí 19 : 35,50000*1,1",null,39.050000000000004]
[{"$f":"A191+1","v":33},"28611224.AR","Trubka PVC drenážní flexibilní d 125 mm","m",50.6,null,{"$f":"E193*F193","v":0}]
[null,null," mn. položky pořadí 21 : 46,00000*1,1",null,50.6]
[{"$f":"A193+1","v":34},"28611225.AR","Trubka PVC drenážní flexibilní d 160 mm","m",67.099999999999994,null,{"$f":"E195*F195","v":0}]
[null,null," mn. položky pořadí 22 : 61,00000*1,1",null,67.099999999999994]
[{"$f":"A195+1","v":35},"28651664.AR","Koleno kanalizační KGB 160/ 87° PVC","kus",16,null,{"$f":"E197*F197","v":0}]
[null,null,"2+4+2*2+3*2",null,16]
["Díl:","22","Piloty",null," ",null,{"$f":"SUBTOTAL(9,G200:G208)","v":0}]
[{"$f":"A197+1","v":36},"2299400-01","Trubkové mikropiloty D 89/10mm, včetně injektáže a hlavy","ks",22,null,{"$f":"E200*F200","v":0}]
[null,null,"dle výkr.č. D.1.2b-03:",null," "]
[null,null,"trubka pr. 89/10 (11 523) celková délka 7,0m, kořen pr. 0,2m, výška kořene 6,5m,",null," "]
[null,null,"únosnost kořene 218,17kN,",null," "]
[null,null,"cementová směs CEM II/A-S (tř. 32,5)",null," "]
[null,null,"hlava piloty - ocelová plotna P20-250/250mm se středovým otvorem pr. 30mm",null," "]
[null,null,"kompletní dodávka včetně vyčištění vrtu, dodání a výrobu cementové zálivky, sestavení mikropiloty a veškerých úprav po injektování + hlava piloty",null," "]
[null,null,"včetně přesunu pilotovací soupravy na stavbu a zpět",null," "]
[null,null,"mikropiloty - hl. 7m : 22",null,22]
["Díl:","27","Základy",null," ",null,{"$f":"SUBTOTAL(9,G210:G300)","v":0}]
[{"$f":"A200+1","v":37},"273313611R00","Beton základových desek prostý C 16/20 XC2","m3",7.22,null,{"$f":"E210*F210","v":0}]
[null,null,"pod ZP1 - ZP4 : 0,40*0,10*(4,10+3,20)*1,05",null,0.31]
[null,null,"0,45*0,10*(4,10+3,20)*1,05",null,0.35000000000000003]
[null,null,"pod kanály VZT : 0,07*(5,40+6,00)*1,1",null,0.88]
[null,null,"pod drenáž kolem objektu : 0,80*0,15*(13,0+16,0+1,5 +5)*1,1   +1",null,5.69]
[{"$f":"A210+1","v":38},"273321321R00","Železobeton základových desek C 20/25 XC2","m3",81.95,null,{"$f":"E215*F215","v":0}]
[null,null,"deska na ztrac. bednění v 1PP : (0,05+0,13/2)*(248,0)*1,05",null,29.95]
[null,null,"podkladní základová deska pod 1NP : 0,15*(89,4+75,4+42,0+52,40)*1,05",null,40.83]
[null,null,"024 - pod stojan na kola : 0,15*(1,20*2,70)*1,05    +5",null,5.5200000000000005]
[null,null,"základy pod VZT jednotky : 0,25*((3*(4,00*1,06))+(3,80*0,75)+(4,00*1,50))*1,05",null,5.67]
[{"$f":"A215+1","v":39},"273323611RV1","Železobeton základ. desek vodostavební C 30/37 PERMACRETE 90d X0,XC1-4,XD1-2,XF1,XA1-2","m3",3.39,null,{"$f":"E220*F220","v":0}]
[null,null,"desky VZT kanálů - č.1 : 0,20*(6,000)*1,1",null,1.32]
[null,null,"desky VZT kanálů - č.2 - ve spádu vč. svislého pásu : (0,15*2,20*2,60)+(0,40*2,20*1,25)*1,1",null,2.0699999999999998]
[{"$f":"A220+1","v":40},"273351215R00","Bednění stěn základových desek - zřízení","m2",43.42,null,{"$f":"E223*F223","v":0}]
[null,null,"desky VZT kanálů - č.1 : 0,20*(4,0)",null,0.8]
[null,null,"desky VZT kanálů - č.2 - ve spádu vč. svislého pásu : (2*2,60)+(0,40*2*1,25)",null,6.2]
[null,null,"deska 1PP : 10",null,10]
[null,null,"podkladní základová deska pod 1NP : 10",null,10]
[null,null,"024 - pod stojan na kola : 0,15*(2*(1,20+2,70))    +2",null,3.17]
[null,null,"základy pod VZT jednotky : 0,25*((3*(2*(4,00+1,06)))+(2*(3,80+0,75))+(2*(4,00+1,50)))*1,05",null,13.25]
[{"$f":"A223+1","v":41},"273351216R00","Bednění stěn základových desek - odstranění","m2",43.42,null,{"$f":"E230*F230","v":0}]
[null,null,"Včetně očištění, vytřídění a uložení bednicího materiálu.",null," "]
[null,null," mn. položky pořadí 40 : 43,41575",null,43.42]
[{"$f":"A230+1","v":42},"273361921RT5","Výztuž základových desek ze svařovaných sítí průměr drátu  6,0, oka 150/150 mm KH20","t",3.58,null,{"$f":"E233*F233","v":0}]
[null,null,"desky VZT kanálů - výztuž je součástí výpisů stropů 1PP : 0",null," "]
[null,null,"deska na ztrac. bednění v 1PP : 1*0,00303*(253,0)*1,15",null,0.89]
[null,null,"podkladní základová deska pod 1NP : 2*0,00303*(89,4+75,4+42,0+52,40)*1,15",null,1.81]
[null,null,"024 - pod stojan na kola : 2*0,00303*(1,20*2,70)*1,15    +0,8",null,0.83000000000000007]
[null,null,"základy pod VZT jednotky : 1*0,00303*((3*(4,00*1,06))+(3,80*0,75)+(4,00*1,50))*1,05",null,7.0000000000000007E-2]
[{"$f":"A233+1","v":43},"274313621R00","Beton základových pasů prostý C 20/25  XC2","m3",12.46,null,{"$f":"E239*F239","v":0}]
[null,null,"1PP - dobetonovávky stěn a základů D.1.2c-08 : 2,5",null,2.5]
[null,null,"obetonování uzemňovacího pásku : 225*(0,15*0,15)",null,5.07]
[null,null,"přístřešek pásy : 0,40*1,20*(3,50*2+2,70)*1,05",null,4.8899999999999997]
[{"$f":"A239+1","v":44},"274321321R00","Železobeton základových pasů C 20/25  XC2","m3",4.17,null,{"$f":"E243*F243","v":0}]
[null,null,"ZP1 - ZP4 - na mikropiloty : 0,40*0,55*(4,10+3,20)*1,05",null,1.69]
[null,null,"0,45*0,55*(4,10+3,20)*1,05",null,1.9000000000000001]
[null,null,"základový trám v desce pod 1.NP (výztuž se stropy a kanály v.č.D.1.2c-08) : 0,30*0,30*(2*3,10)*1,05",null,0.59]
[{"$f":"A243+1","v":45},"274351215R00","Bednění stěn základových pasů - zřízení","m2",43.39,null,{"$f":"E247*F247","v":0}]
[null,null,"ZP1 - ZP4 - na mikropiloty : 0,55*(4,10+3,20)",null,4.0200000000000005]
[null,null,"0,55*(4,10+3,20)",null,4.0200000000000005]
[null,null,"přístřešek pásy : 2*0,60*(3,50*2+2,70)",null,11.64]
[null,null,"1PP - dobetonovávky stěn a základů D.1.2b-08 : 20",null,20]
[null,null,"základový trám v desce pod 1.NP (výztuž se stropy a kanály v.č.D.1.2b-08) : 2*0,30*(2*3,10)",null,3.72]
[{"$f":"A247+1","v":46},"274351216R00","Bednění stěn základových pasů - odstranění","m2",43.39,null,{"$f":"E253*F253","v":0}]
[null,null,"Včetně očištění, vytřídění a uložení bednicího materiálu.",null," "]
[null,null," mn. položky pořadí 45 : 43,39000",null,43.39]
[{"$f":"A253+1","v":47},"274361821R00","Výztuž základ. pasů z betonářské oceli 10505 (R)","t",0.42,null,{"$f":"E256*F256","v":0}]
[null,null,"viz. D.1.2c-03 : 0,38*1,08",null,0.42]
[null,null,"další výztuž součástí jiných součtů : ",null," "]
[{"$f":"A256+1","v":48},"275313621R00","Beton základových patek prostý C 20/25 XC2","m3",0.78,null,{"$f":"E259*F259","v":0}]
[null,null,"přístřešek - patky : 5*(0,35*0,35*1,20)*1,05",null,0.78]
[{"$f":"A259+1","v":49},"275351215R00","Bednění stěn základových patek - zřízení","m2",2.94,null,{"$f":"E261*F261","v":0}]
[null,null,"přístřešek - patky : 5*(4*0,35*0,40)*1,05",null,2.94]
[{"$f":"A261+1","v":50},"275351216R00","Bednění stěn základových patek - odstranění","m2",2.94,null,{"$f":"E263*F263","v":0}]
[null,null,"Včetně očištění, vytřídění a uložení bednícího materiálu.",null," "]
[null,null," mn. položky pořadí 49 : 2,94000",null,2.94]
[{"$f":"A263+1","v":51},"279323411RV1","Železobeton základ. zdí vodostavební C 25/30 PERMACRETE 90d X0,XC1-4,XD1-2,XF1,XA1-2","m3",2.42,null,{"$f":"E266*F266","v":0}]
[null,null,"1PP - kanály VZT : (0,20*1,55*4,00)+(0,20*(3,000+2,900))",null,2.42]
[{"$f":"A266+1","v":52},"279351105R00","Bednění stěn základových zdí, oboustranné-zřízení","m2",24.2,null,{"$f":"E268*F268","v":0}]
[null,null,"1PP - kanály VZT : (2*1,55*4,00)+(2*(3,000+2,900))",null,24.2]
[{"$f":"A268+1","v":53},"279351106R00","Bednění stěn základových zdí, oboustranné-odstran.","m2",24.2,null,{"$f":"E270*F270","v":0}]
[null,null,"Včetně  očištění, vytřídění a uložení bednicího materiálu.",null," "]
[null,null," mn. položky pořadí 52 : 24,20000",null,24.2]
[{"$f":"A270+1","v":54},"279361821R00","Výztuž základových zdí z betonář. oceli 10 505 (R)","t",0,null,{"$f":"E273*F273","v":0}]
[null,null,"součást soupisu výztuže stropů D.1.2c-08 : 0",null," "]
[{"$f":"A273+1","v":55},"380932227R00","Vlepení výztuže D 16, beton, malta HIT - HY","m",6,null,{"$f":"E275*F275","v":0}]
[null,null,"viz. D.1.2c-03 : 30*0,20",null,6]
[{"$f":"A275+1","v":56},"386381115R00","Jímka ŽB v kotelnách 110 x 110 x 110 cm","kus",2,null,{"$f":"E277*F277","v":0}]
[null,null,"kompletní žb jímka - deska+stěny vč. výztuže a bednění.",null," "]
[null,null,"beton C20/25 XC2",null," "]
[null,null,"uvedené rozměry jsou vnitřní",null," "]
[null,null,"1PP : 2",null,2]
[{"$f":"A277+1","v":57},"631316231R00","Hlazení betonových mazanin, strojně","m2",248,null,{"$f":"E282*F282","v":0}]
[null,null,"hladká finální povrchová úprava betonové deska na ztrac. bednění v 1PP : 248,00000",null,248]
[{"$f":"A282+1","v":58},"631319151R00","Příplatek za přehlaz. mazanin pod povlaky tl. 8 cm","m3",29.95,null,{"$f":"E284*F284","v":0}]
[null,null,"hladká finální povrchová úprava betonové deska na ztrac. bednění v 1PP : (0,05+0,13/2)*(248,0)*1,05",null,29.95]
[{"$f":"A284+1","v":59},"931981011R00","Těsnění prac.spár bentonit.páskou 20x25 mm,mřížka","m",90,null,{"$f":"E286*F286","v":0}]
[null,null,"Bentonitové bobtnající těsnění k utěsnění spár v betonech proti tlakové i netlakové vodě. Používá se ve všech pracovních spárách v betonech. Je odolný proti lehkým kyselinám a louhům.",null," "]
[null,null,"Položka obsahuje montáž a dodávku těsnění včetně LT mřížky s hřebíky.",null," "]
[{"$f":"A286+1","v":60},"2733521-1","systém plast. ztraceného bednění s provětrávanou vzduchou mezerou výšky 7cm","m2",161.15,null,{"$f":"E289*F289","v":0}]
[null,null,"systému plastového ztraceného bednění  pro provětrání podlah s provětrávanou vzduchou mezerou výšky 7cm - např. referenční výrobek -  Geoplast systém Multimodulo H13",null," "]
[null,null,"dodávka a montáž",null," "]
[null,null,"pod podlahu 1PP - v ploše : (9,0+3,5+53,0+30,0+28,0+23,0)*1,1",null,161.15]
[{"$f":"A289+1","v":61},"2733521-2","systém plast. ztraceného bednění s provětrávanou vzduchou mezerou výšky 14cm","m2",80.3,null,{"$f":"E293*F293","v":0}]
[null,null,"systému plastového ztraceného bednění  pro provětrání podlah s provětrávanou vzduchou mezerou výšky 14cm - např. referenční výrobek -  Geoplast systém Multimodulo H20",null," "]
[null,null,"dodávka a montáž",null," "]
[null,null,"pod podlahu 1PP podél stěn : (2*9,0+9,0+46,0)*1,1",null,80.3]
[{"$f":"A293+1","v":62},"2733521-V12","V12 - antivibrační separace/dilatace základů VZT jednotek","m2",13.25,null,{"$f":"E297*F297","v":0}]
[null,null,"dodávka a montáž",null," "]
[null,null,"V.12 ANTIVIBRAČNÍ DILATAČNÍ PÁSEK - dle PD",null," "]
[null,null,"základy pod VZT jednotky : 0,25*((3*(2*(4,00+1,06)))+(2*(3,80+0,75))+(2*(4,00+1,50)))*1,05",null,13.25]
["Díl:","28","Zpevňování hornin a konstrukcí",null," ",null,{"$f":"SUBTOTAL(9,G302:G313)","v":0}]
[{"$f":"A297+1","v":63},"281606212R00","Nízkotlaká injektáž cihelného zdiva tl. do 60 cm","m",286.95,null,{"$f":"E302*F302","v":0}]
[null,null,"Vyvrtání otvorů (10 ks/m zdi), vyčištění vrtu od hrubých nečistot, osazení pakrů,nízkotlaká injektáž do 10 bar ( spotřeba 1,33 l látky/m2 půdorysné plochy zdiva, ředí se vodou 1:10), dodávka injektážní silikonové mikroemulze. Aplikce injektážním zařízením.",null," "]
[null,null,"1PP - paty pilířů a sch. stěny : 4*0,65+4*1,05 + 5,2+2*1,3",null,14.6]
[null,null,"1PP - obvodové zdivo v 1PP : ",null," "]
[null,null,"m.č. S01+S02+S05 : (3,10+7,90+4,10 +1,75)",null,16.850000000000001]
[null,null,"m.č. S03 : (2,65+2*1,95)",null,6.55]
[null,null,"m.č. S06 : (2*(12,3+5,4))",null,35.4]
[null,null,"m.č. S11 : (4*3,0+2*1,1+2*0,9+2*6,8+3,3+4,0)",null,36.9]
[null,null,"m.č. S12 : (2,8+11,9+3,8+1,7)",null,20.2]
[null,null,"m.č. S13 : (0,75+3,1+2*8,0+5,7+0,9+0,8)",null,27.25]
[null,null,"VZT kanály : (1,7+2,5+1,2) +25",null,30.400000000000002]
[null,null,"1NP - pata obvodového zdiva (mimo již řešeného v 1PP) : 49,00+12,00+ 23,0+14,00+0,80",null,98.8]
["Díl:","3","Svislé a kompletní konstrukce",null," ",null,{"$f":"SUBTOTAL(9,G315:G450)","v":0}]
[{"$f":"A302+1","v":64},"310236241R00","Zazdívka otvorů pl. 0,09 m2 cihlami, tl. zdi 30 cm","kus",50,null,{"$f":"E315*F315","v":0}]
[null,null,"1PP - odhad rekonstrukce - účtováno dle skutečnosti : 50",null,50]
[{"$f":"A315+1","v":65},"310238211R00","Zazdívka otvorů plochy do 1 m2 cihlami na MVC","m3",3.25,null,{"$f":"E317*F317","v":0}]
[null,null,"1NP - dveře D02 : 0,60*(0,70*1,10)",null,0.47000000000000003]
[null,null,"1NP - okna JV fasáda : 0,50*(2,05*(3*0,40))",null,1.23]
[null,null,"2NP - okna JV fasáda : 0,50*(2,05*(2*0,40))",null,0.82000000000000006]
[null,null,"3NP - okna JV fasáda : 0,50*(2,10*(0,40+0,30))",null,0.74]
[{"$f":"A317+1","v":66},"310239211R00","Zazdívka otvorů plochy do 4 m2 cihlami na MVC","m3",15.65,null,{"$f":"E322*F322","v":0}]
[null,null,"1PP - m.č. S06 : 0,920*1,35*0,70",null,0.87]
[null,null,"1PP - m.č. S13 : 0,60*(1,00*2,20+1,70*0,90)",null,2.2400000000000002]
[null,null,"1NP - u výtahové šachty : 2,25*2,05*0,60",null,2.77]
[null,null,"1NP - m.č. 022 : 1,00*2,50*0,20",null,0.5]
[null,null,"2NP - m.č. 111 : 4,20*3,20*0,20",null,2.69]
[null,null,"5NP - m.č. 406 : 1,15*1,50*0,60",null,1.04]
[null,null,"střecha - m.č. 501 : 1,95*0,80*0,35",null,0.55000000000000004]
[null,null,"rezerva rekonstrukce - účtováno dle skutečnosti : 5",null,5]
[{"$f":"A322+1","v":67},"311112125RT4","Stěna z tvárnic ztraceného bednění, tl. 25 cm zalití tvárnic betonem C 25/30","m2",6.2,null,{"$f":"E331*F331","v":0}]
[null,null,"1PP - pro VZT kanál č.1 : 1,55*(4,00)",null,6.2]
[{"$f":"A331+1","v":68},"311238112R00","Zdivo POROTHERM 17,5 P+D P10 na MVC 5, tl. 175 mm","m2",17.47,null,{"$f":"E333*F333","v":0}]
[null,null,"1NP - m.č.006 : (4,10*4,65) - 1,60",null,17.47]
[{"$f":"A333+1","v":69},"311238114R00","Zdivo POROTHERM 24 P+D P15 na MC 10, tl. 240 mm","m2",31.900000000000002,null,{"$f":"E335*F335","v":0}]
[null,null,"světlík - podezdívka betonového věnce : 0,50*(2*(8,0+21,0))*1,1",null,31.900000000000002]
[{"$f":"A335+1","v":70},"311231126RT2","Zdivo nosné cihelné z CP 29 P25 na MC 10 tloušťka zdiva 30 cm","m3",36.86,null,{"$f":"E337*F337","v":0}]
[null,null,"Včetně pomocného lešení o výšce podlahy do 1,90 m a pro zatížení do 1,5 kPa.",null," "]
[null,null,"1PP - m.č. S13 : 0,30*2,50*(4,10+3,20) - 0,30*1,40*1,00",null,5.0600000000000005]
[null,null,"1NP - m.č. 017 : 0,30*3,70*(2*(3,30+3,45)) - 0,30*1,30*1,50",null,14.4]
[null,null,"2NP - m.č. 120 : 0,30*3,70*(2*(3,30+3,45)) - 0,30*1,30*1,50  +3",null,17.400000000000002]
[{"$f":"A337+1","v":71},"311231126RT3","Zdivo nosné cihelné z CP 29 P25 na MC 10 tloušťka zdiva 45 cm","m3",8.2200000000000006,null,{"$f":"E342*F342","v":0}]
[null,null,"Včetně pomocného lešení o výšce podlahy do 1,90 m a pro zatížení do 1,5 kPa.",null," "]
[null,null,"1PP : 0,45*2,50*(4,10+3,20)",null,8.2200000000000006]
[{"$f":"A342+1","v":72},"317314130R00","Podbetonování zhlaví nosníků, zdivo šířky 300 mm","kus",10,null,{"$f":"E345*F345","v":0}]
[null,null,"1PP : 6",null,6]
[null,null,"v m.č.501 - kce pro DA : 2",null,2]
[null,null,"výtah - 140 - nv1+plotny : 2",null,2]
[{"$f":"A345+1","v":73},"317314160R00","Podbetonování zhlaví nosníků, zdivo šířky 600 mm","kus",26,null,{"$f":"E349*F349","v":0}]
[null,null,"Položka obsahuje dodávku a uložení betonového polštáře šířky 600 mm, délky 200 mm a tloušťky 50 mm. Položka je určena pro 1 ks zhlaví.",null," "]
[null,null,"1PP : 26",null,26]
[{"$f":"A349+1","v":74},"317944311R00","Válcované nosníky do č.12 do připravených otvorů","t",0.03,null,{"$f":"E352*F352","v":0}]
[null,null,"1PP - HEB100 - p6 : 0,0204*(1*1,40)",null,0.03]
[{"$f":"A352+1","v":75},"317944311RT2","Válcované nosníky do č.12 do připravených otvorů včetně dodávky profilu I č.10","t",0.42,null,{"$f":"E354*F354","v":0}]
[null,null,"1PP - 100 - p3.1 : 0,00834*(2*4*1,10)",null,0.08]
[null,null,"1PP - 100 - výtahová šachta : 0,00834*(2*1,10)",null,0.02]
[null,null,"1NP - 100 - p3.2 : 0,00834*(10*1,20)",null,0.11]
[null,null,"2NP - 100 - p3.3 : 0,00834*(4*1,20)",null,0.05]
[null,null,"střecha - 100 - p3.4 + p5 : 0,00834*(2*2,10+4*1,30)  +0,1",null,0.18]
[{"$f":"A354+1","v":76},"317944313RT2","Válcované nosníky č.14-22 do připravených otvorů včetně dodávky profilu  I č.14","t",1.74,null,{"$f":"E360*F360","v":0}]
[null,null,"1PP - 140 - z2.1 až z2.5 : 0,0143*(16*1,35+8*1,6+8*1,9+4*1,81+3*2,50)",null,0.93]
[null,null,"1NP - 140 - p4.1 : 0,0143*(3*1,80)",null,0.08]
[null,null,"1NP - 140 - p7.1 : 0,0143*(2*1,70)",null,0.05]
[null,null,"2NP - 140 - p4.2 : 0,0143*(3*1,70)",null,0.08]
[null,null,"2NP - 140 - p7.2 : 0,0143*(2*1,70)",null,0.05]
[null,null,"3NP - 140 - p4.3 : 0,0143*(3*1,70)",null,0.08]
[null,null,"4NP - 140 - p4.4 : 0,0143*(3*1,70)",null,0.08]
[null,null,"5NP - 140 - p4.5 : 0,0143*(3*1,70)   +0,3",null,0.38]
[null,null,"výtah - 140 - nv1+plotny : 0,0143*(3,00)*1,15",null,0.05]
[{"$f":"A360+1","v":77},"317944313RT4","Válcované nosníky č.14-22 do připravených otvorů včetně dodávky profilu  I č.18","t",0.15,null,{"$f":"E370*F370","v":0}]
[null,null,"1PP - 180 - p1 : 0,0219*(2*3,41)",null,0.15]
[{"$f":"A370+1","v":78},"317944313RT5","Válcované nosníky č.14-22 do připravených otvorů včetně dodávky profilu  I č.20","t",0.21,null,{"$f":"E372*F372","v":0}]
[null,null,"1PP - 200 - p2.1+p2.2 : 0,0262*(2*2*2,00)",null,0.21]
[{"$f":"A372+1","v":79},"318951216R00","Dodateč. zesílení lamelami Sika CarboDur S1014/180","m",42.7,null,{"$f":"E374*F374","v":0}]
[null,null,"viz. statická část PD - D.1.2.",null," "]
[null,null,"Vždy ověřte pevnost podkladu. Průměrná hodnota odtrhové pevnosti povrchových vrstev má být v rozmezí 1,5 – 2,0 N/mm2, (prokazuje se vždy provedením několika odtrhových zkoušek, nejlépe nezávislou organizací).",null," "]
[null,null,"Cena zahrnuje:",null," "]
[null,null," - očištění povrchu betonu (jehličkování, pemrlování atd.), odsátí prachu, kontrola rovinnosti podkladu",null," "]
[null,null," - dodávka lamel",null," "]
[null,null," - příprava lamel - nařezání, očištění, odmaštění",null," "]
[null,null," - nalepení lamel - epoxidový tmel",null," "]
[null,null,"aplikace na spodní stranu průvlaků - viz. část D.1.2 : ",null," "]
[null,null,"1NP - průvlak D1-D3 : 4,00+3,50",null,7.5]
[null,null,"2NP - průvlak D1-D3 : 4,20+4,30",null,8.5]
[null,null,"4NP - průvlak D0-D3 + C0-C3 : 2*(4,70+4,35+4,30)",null,26.7]
[{"$f":"A374+1","v":80},"319201311R00","Vyrovnání povrchu zdiva maltou tl.do 3 cm","m2",100,null,{"$f":"E386*F386","v":0}]
[null,null,"rezerva rekonstrukce - účtováno dle skutečnosti : 100",null,100]
[{"$f":"A386+1","v":81},"342241162R00","Příčky z cihel plných CP29  tl. 140 mm","m2",89.3,null,{"$f":"E388*F388","v":0}]
[null,null,"Včetně pomocného lešení výšky do 1900 mm a pro zatížení do 1,5 kPa.",null," "]
[null,null,"1NP - viz. D.1.2c-23 - SCH1 - m.č. 020 : (0,60*(2,0+1,8+1,6))",null,3.24]
[null,null,"1NP - zadní trakt : (3,70*11,90) - (3*1,6)",null,39.230000000000004]
[null,null,"2NP - zadní trakt : (3,70*11,90) - (3*1,6)",null,39.230000000000004]
[null,null,"střecha - střešní výlez : 0,50*(2*(1,60+1,00))  +5",null,7.6000000000000005]
[{"$f":"A388+1","v":82},"342248114R00","Příčky POROTHERM 14 P+D na MVC 5, tl. 140 mm","m2",31.34,null,{"$f":"E394*F394","v":0}]
[null,null,"1PP : 2,50*(1,05+1,30+1,60+2,20 +1,80)",null,19.88]
[null,null,"2NP - m.č. 102 : 3,70*0,60",null,2.2200000000000002]
[null,null,"3NP - m.č. 202 : 3,60*0,60",null,2.16]
[null,null,"4NP - m.č. 302 : 3,50*0,60",null,2.1]
[null,null,"5NP - m.č. 402 : 3,30*0,60  +3",null,4.9800000000000004]
[{"$f":"A394+1","v":83},"342248120R00","Příčky POROTHERM 11,5 AKU na MVC 5, tl. 115 mm","m2",22.94,null,{"$f":"E400*F400","v":0}]
[null,null,"1NP : 3,75*(1,90+1,65+1,50) +4",null,22.94]
[{"$f":"A400+1","v":84},"346244381R00","Plentování ocelových nosníků výšky do 20 cm","m2",19.27,null,{"$f":"E402*F402","v":0}]
[null,null,"1PP - HEB100 - p6 : 0,1*2*(1,40)",null,0.28000000000000003]
[null,null,"1PP - 100 - p3.1 : 0,1*2*(2*1,10)",null,0.44]
[null,null,"1PP - 100 - výtahová šachta : 0,1*2*(1,10)",null,0.22]
[null,null,"1NP - 100 - p3.2 : 0,1*2*(3*1,20)",null,0.72]
[null,null,"2NP - 100 - p3.3 : 0,1*2*(1,20)",null,0.24]
[null,null,"střecha - 100 - p3.4 + p5 : 0,1*2*(2,10+2*1,30)",null,0.94000000000000006]
[null,null,"1PP - HEB200 - z6 : 0,2*2*(1*1,60)",null,0.64]
[null,null,"1PP - 140 - z2.1 až z2.5 : 0,14*2*(4*1,35+2*1,6+2*1,9+4*1,81+3*2,50)",null,7.6000000000000005]
[null,null,"1NP - 140 - p4.1 : 0,14*2*(1,80)",null,0.51]
[null,null,"1NP - 140 - p7.1 : 0,14*2*(1,70)",null,0.48]
[null,null,"2NP - 140 - p4.2 : 0,14*2*(1,70)",null,0.48]
[null,null,"2NP - 140 - p7.2 : 0,14*2*(1,70)",null,0.48]
[null,null,"3NP - 140 - p4.3 : 0,14*2*(1,70)",null,0.48]
[null,null,"4NP - 140 - p4.4 : 0,14*2*(1,70)",null,0.48]
[null,null,"5NP - 140 - p4.5 : 0,14*2*(1,70)",null,0.48]
[null,null,"1PP - 180 - p1 : 0,18*2*(3,41)",null,1.23]
[null,null,"1PP - 200 - p2.1+p2.2 : 0,20*2*(2*2,00)  +2",null,3.6]
[{"$f":"A402+1","v":85},"349231811R00","Přizdívka ostění s ozubem z cihel, kapsy do 15 cm","m2",26.080000000000002,null,{"$f":"E420*F420","v":0}]
[null,null,"1PP - dveře výtahová šachta : 0,25*2,20",null,0.55000000000000004]
[null,null,"1NP - otvory SZ fasáda : 2*(0,60*3,40)",null,4.08]
[null,null,"1NP - dveře D02 : 0,60*2,20",null,1.32]
[null,null,"1 - 5NP - dveře výtahová šachta : 5*(0,25*2,20)",null,2.75]
[null,null,"okna JV : 8*(0,45*2,05)     +10",null,17.38]
[{"$f":"A420+1","v":86},"380941213RT3","Výztuž helikální 1 x D 8 mm, drážka, ŽB Helibar 1 x D 8 mm, P v tahu 1128 MPa, drážka, ŽB","m",50,null,{"$f":"E426*F426","v":0}]
[null,null,"V položce jsou zakalkulovány náklady:",null," "]
[null,null,"- frézování drážek v ŽB",null," "]
[null,null,"- zbavení drážky hrubších nečistot a prachových částí",null," "]
[null,null,"- vypláchnutí drážky vodou",null," "]
[null,null,"- vlepení výztuže (pevnost v tahu 1128 MPa) do kotevní malty včetně dodávky materiálu",null," "]
[null,null,"- včetně pomocného pracovního lešení o výšce podlahy do 1900 mm a pro zatížení do 1,5 kPa.",null," "]
[null,null,"odhad rekonstrukce - bude použito dle prozkoumání objevených trhlin v objektu a účtováno dle skutečnosti : 50",null,50]
[{"$f":"A426+1","v":87},"31794-01","ocelové plotny pod uložení nosníků dodávka + montáž","t",0.3,null,{"$f":"E434*F434","v":0}]
[null,null,"dodávka ocelových ploten z P8. otryskané + základní nátěr.",null," "]
[null,null,"osazení do vyrovnávací vrstvy cem. směsi s pevností v tlaku min. 30MPa",null," "]
[null,null,"1PP - D.1.2c-05 : 0,09*1,08",null,0.1]
[null,null,"1PP - pod překlady : (0,05+0,02)*1,08",null,0.08]
[null,null,"1NP - pod překlady : (0,02+0,01)*1,08",null,0.04]
[null,null,"2NP - pod překlady : (0,02+0,01)*1,08",null,0.04]
[null,null,"3NP - pod překlady : (0,01)*1,08",null,0.02]
[null,null,"4NP - pod překlady : (0,01)*1,08",null,0.02]
[null,null,"5NP - pod překlady : (0,01)*1,08",null,0.02]
[null,null,"střecha - pod překlady : (0,02)*1,08",null,0.03]
[{"$f":"A434+1","v":88},"317944313RU7","Válcované nosníky č.14-22 do připravených otvorů včetně dodávky profilu HEB200","t",0.11,null,{"$f":"E445*F445","v":0}]
[null,null,"1PP - HEB200 - z6 : 0,0613*(1*1,60)*1,08",null,0.11]
[{"$f":"A445+1","v":89},"3809322-3","nerez trny D  8, vlepené do zdiva/betonu, malta 2složk epoxi","m",93.16,null,{"$f":"E447*F447","v":0}]
[null,null,"Položka obsahuje vyvrtání otvoru průměru 10 mm a hloubky 250 mm, dvojnásobné vyfouknutí prachu z otvoru, dvojnásobné protažení kartáčkem, opět dvojnásobné vyfouknutí, vyplnění otvoru chemickou maltou do 2/3 hloubky otvoru a zasunutí nerez trnu D 8 mm - délky 400mm, ohnutého do tvaru L. Včetně dodávky chemické malty a výztuže.",null," "]
[null,null,"viz. D.1.2 - m.č. S13 - propojení staré a nové stěny 300mm v ploše : ((2,50*(4,1+3,2))*6)*0,25",null,27.38]
[null,null,"propojení starého a nového zdiva v každé 3.spáře - 1+2NP : ((16*3,7)/0,225)*0,25",null,65.78]
["Díl:","342","Sádrokartonové konstrukce",null," ",null,{"$f":"SUBTOTAL(9,G452:G657)","v":0}]
[{"$f":"A447+1","v":90},"342012123R00","Příčka SDK tl.75 mm,ocel.kce,1x oplášť.,RBI 12,5mm","m2",60,null,{"$f":"E452*F452","v":0}]
[null,null,"Příčka sádrokartonová, jednoduchá ocelová konstrukce, 1x opláštěná, tl. 75 mm, s minerální izolací tl. 50 mm, desky impregnované RBI (H2)  tl. 12,5 mm.",null," "]
[null,null,"3.40.01  systém SK12 odpovídá W111",null," "]
[null,null,"ozn. W2.5 : ",null," "]
[null,null,"2NP : 20,0",null,20]
[null,null,"3NP : 20,0",null,20]
[null,null,"4NP : 20,0",null,20]
[{"$f":"A452+1","v":91},"342012221R00","Příčka SDK tl.100 mm,ocel.kce,1x oplášť.,RB 12,5mm","m2",1060,null,{"$f":"E459*F459","v":0}]
[null,null,"Příčka sádrokartonová, jednoduchá ocelová konstrukce, 1x opláštěná, tl. 100 mm, s minerální izolací tl. 50 mm, desky standard RB (A)  tl. 12,5 mm.",null," "]
[null,null,"3.40.02  systém SK12 odpovídá W111",null," "]
[null,null,"ozn. W1.1 : ",null," "]
[null,null,"1NP : 230,0",null,230]
[null,null,"2NP : 200,0",null,200]
[null,null,"3NP : 250,0",null,250]
[null,null,"4NP : 310,0",null,310]
[null,null,"5NP : 20,0  +50",null,70]
[{"$f":"A459+1","v":92},"342012223R00","Příčka SDK tl.100mm,ocel.kce,1x oplášť.,RBI 12,5mm","m2",168,null,{"$f":"E468*F468","v":0}]
[null,null,"Příčka sádrokartonová, jednoduchá ocelová konstrukce, 1x opláštěná, tl. 100 mm, s minerální izolací tl. 50 mm, desky impregnované RBI (H2)  tl. 12,5 mm.",null," "]
[null,null,"3.40.02  systém SK12 odpovídá W111",null," "]
[null,null,"ozn. W2.1 : ",null," "]
[null,null,"1NP : 25,0",null,25]
[null,null,"2NP : 45,0",null,45]
[null,null,"3NP : 42,0",null,42]
[null,null,"4NP : 46,0 +10",null,56]
[{"$f":"A468+1","v":93},"342012321R00","Příčka SDK tl. 125mm,ocel.kce,1x oplášť.,RB 12,5mm","m2",20,null,{"$f":"E476*F476","v":0}]
[null,null,"Příčka sádrokartonová, jednoduchá ocelová konstrukce, 1x opláštěná, tl. 125 mm, s minerální izolací tl. 50 mm, desky standard RB (A)  tl. 12,5 mm.",null," "]
[null,null,"3.40.03  systém SK12 odpovídá W111",null," "]
[null,null,"ozn. W1.4 : ",null," "]
[null,null,"2NP : 20,0",null,20]
[{"$f":"A476+1","v":94},"342012323R00","Příčka SDK tl.125mm,ocel.kce,1x oplášť.,RBI 12,5mm","m2",10,null,{"$f":"E481*F481","v":0}]
[null,null,"Příčka sádrokartonová, jednoduchá ocelová konstrukce, 1x opláštěná, tl. 125 mm, s minerální izolací tl. 50 mm, desky impregnované RBI (H2)  tl. 12,5 mm.",null," "]
[null,null,"3.40.03  systém SK12 odpovídá W111",null," "]
[null,null,"ozn. W2.2 : ",null," "]
[null,null,"1NP : 10,0",null,10]
[{"$f":"A481+1","v":95},"342013122R00","Příčka SDK tl.100 mm,ocel.kce,2x oplášť.,RF 12,5mm","m2",403,null,{"$f":"E486*F486","v":0}]
[null,null,"Příčka sádrokartonová, jednoduchá ocelová konstrukce, 2x opláštěná, tl. 100 mm, s minerální izolací tl. 40 mm, desky protipožární RF (DF)  tl. 12,5 mm. Požární odolnost EI 90.",null," "]
[null,null,"3.40.04 systém SK14 odpovídá W112",null," "]
[null,null,"ozn. W3.1 : ",null," "]
[null,null,"1NP : 85,0",null,85]
[null,null,"2NP : 56,0",null,56]
[null,null,"3NP : 55,0",null,55]
[null,null,"4NP : 79,0",null,79]
[null,null,"5NP : 96,0",null,96]
[null,null,"ozn. W3.3 : ",null," "]
[null,null,"4NP : 12,0  +20",null,32]
[{"$f":"A486+1","v":96},"342013322R00","Příčka SDK tl.150 mm,ocel.kce,2x oplášť.,RF 12,5mm","m2",36,null,{"$f":"E497*F497","v":0}]
[null,null,"Příčka sádrokartonová, jednoduchá ocelová konstrukce, 2x opláštěná, tl. 150 mm, s minerální izolací tl. 40 mm, desky protipožární RF (DF)  tl. 12,5 mm. Požární odolnost EI 90.",null," "]
[null,null,"3.40.06 systém SK14 odpovídá W112",null," "]
[null,null,"kce příčky ukotvena mezi ocelovou jackelovou kci ve výtahové šachtě",null," "]
[null,null,"ozn. W3.4 : ",null," "]
[null,null,"1PP : 12,0",null,12]
[null,null,"1NP : 12,0",null,12]
[null,null,"2NP : 12,0",null,12]
[{"$f":"A497+1","v":97},"342017123R00","Příčka inst.tl.>155,2x ocel.kce,2xoplášť.,RBI 12,5","m2",35,null,{"$f":"E505*F505","v":0}]
[null,null,"Příčka instalační, dvojitá ocelová konstrukce, 2x opláštěná, tl. min. 155 mm, s minerální izolací tl. 50+50 mm, desky impregnované RBI (H2)  tl. 12,5 mm.",null," "]
[null,null,"3.41.04 systém IK24 odpovídá W115",null," "]
[null,null,"ozn. W2.3 - tl. 175mm : ",null," "]
[null,null,"1NP : 15,0",null,15]
[null,null,"ozn. W2.4 - tl. 250mm : ",null," "]
[null,null,"1NP : 10,0",null,10]
[null,null,"ozn. W2.8 - tl. 155mm : ",null," "]
[null,null,"1NP : 10,0",null,10]
[{"$f":"A505+1","v":98},"342062122R00","Př.oblouk.Rigips tl.115 mm,1xCW,2x opl.,Riflex10mm","m2",66,null,{"$f":"E514*F514","v":0}]
[null,null,"Stěna oblouková, jednoduchá ocelová konstrukce, 2x opláštěná, tl. 115 mm, s minerální izolací tl.40 mm, desky flexibilní tl. 10 mm.",null," "]
[null,null,"3.75.10 systém SK14",null," "]
[null,null,"ozn. W4.1 : ",null," "]
[null,null,"1NP : 17,0",null,17]
[null,null,"2NP : 23,0",null,23]
[null,null,"3NP : 12,0",null,12]
[null,null,"4NP : 9,0 +5",null,14]
[{"$f":"A514+1","v":99},"342263420R00","Osazení revizních dvířek do SDK příček, do 0,50 m2","kus",4,null,{"$f":"E522*F522","v":0}]
[null,null,"Včetně vytvoření otvoru a osazení rámu s dvířky a prošroubování.",null," "]
[null,null,"V.08 - 600x600 : 4",null,4]
[{"$f":"A522+1","v":100},"342264514RT2","Revizní dvířka Promat do SDK podhledu, 400x400 mm typ SP, požární odolnost EI 30","kus",1,null,{"$f":"E525*F525","v":0}]
[null,null,"viz. výpis ostatních výrobků - V.09 : 1",null,1]
[{"$f":"A525+1","v":101},"342264516RT2","Revizní dvířka Promat do SDK podhledu, 600x600 mm typ SP, požární odolnost EI 30","kus",10,null,{"$f":"E527*F527","v":0}]
[null,null,"Protipožární revizní dvířka SP jsou vhodná k vestavbě do lehkých i masivních stavebních konstrukcí. Stavební dílce, do nichž jsou dvířka osazována, musí vykazovat minimálně stejnou hodnotu požární odolnosti jako revizní dvířka.",null," "]
[null,null,"Položka obsahuje dodávku, prořezání otvoru, osazení a dodávku rámu s dvířky včetně prošroubování a tmelení.",null," "]
[null,null,"viz. výpis ostatních výrobků - V.09 : 8  +2",null,10]
[{"$f":"A527+1","v":102},"347014111R00","Předstěna SDK,tl.55mm,1xoc.kce CD,1xRB 12,5mm,-izo","m2",22,null,{"$f":"E531*F531","v":0}]
[null,null,"Předsazené stěny, spřažené, jednoduchá ocelová konstrukce z profilů CD a UD, 1x opláštěná, tl. 55 mm, bez minerální izolace, desky standard RB (A) tl. 12,5 mm.",null," "]
[null,null,"3.21.00a systém OK11 odpovídá W623",null," "]
[null,null,"ve výtahové šachtě od 3NP - nahoru : 2,00*11,0",null,22]
[{"$f":"A531+1","v":103},"347015111R00","Předstěna SDK,tl.65mm,oc.kce CW,1x RB 12,5mm,izol.","m2",260,null,{"$f":"E535*F535","v":0}]
[null,null,"Předsazené stěny, volně stojící, samostatná ocelová konstrukce z profilů CW 50 a UW 50, 1x opláštěná, tl. 65 mm, s minerální izolací tl. 40 mm, desky standard RB (A) tl. 12,5 mm.",null," "]
[null,null,"systém OK11 odpovídá W625",null," "]
[null,null,"ozn. W1.2 : ",null," "]
[null,null,"1NP : 52,0",null,52]
[null,null,"pod stropem : 9,0",null,9]
[null,null,"2NP : 47,0",null,47]
[null,null,"3NP : 50,0",null,50]
[null,null,"4NP : 56,0",null,56]
[null,null,"5NP : 23,0",null,23]
[null,null,"ozn. W1.3 : ",null," "]
[null,null,"1NP : 8,0   +15",null,23]
[{"$f":"A535+1","v":104},"347015113R00","Předstěna SDK,tl.65mm,oc.kce CW,1x RBI 12,5mm,izol","m2",137,null,{"$f":"E547*F547","v":0}]
[null,null,"Předsazené stěny, volně stojící, samostatná ocelová konstrukce z profilů CW 50 a UW 50, 1x opláštěná, tl. 65 mm, s minerální izolací tl. 40 mm, desky impregnované RBI (H2) tl. 12,5 mm.",null," "]
[null,null,"systém OK11 odpovídá W625",null," "]
[null,null,"ozn. W2.6 : ",null," "]
[null,null,"1NP : 30,0",null,30]
[null,null,"2NP : 30,0",null,30]
[null,null,"3NP : 30,0",null,30]
[null,null,"4NP : 33,0",null,33]
[null,null,"ozn. W2.7 : ",null," "]
[null,null,"1NP : 9,0 +5",null,14]
[{"$f":"A547+1","v":105},"347051522R00","Stěna šachty tl.80 mm,2xCW,2xopl.,deska RF 15 mm","m2",175,null,{"$f":"E557*F557","v":0}]
[null,null,"Stěna šachty, ocelová konstrukce 2 x CW 50, 2x opláštěná, tl. 80 mm, s minerální izolací tl. 50 mm, desky protipožární RF (DF) tl. 15 mm. Požární odolnost EI 60.",null," "]
[null,null,"3.80.50 systém OK12 odpovídá W629",null," "]
[null,null,"ozn. W3.2 : ",null," "]
[null,null,"1PP : 3,0",null,3]
[null,null,"1NP : 21,0",null,21]
[null,null,"2NP : 40,0",null,40]
[null,null,"3NP : 27,0",null,27]
[null,null,"4NP : 44,0",null,44]
[null,null,"5NP : 30,0 +10",null,40]
[{"$f":"A557+1","v":106},"416021221R00","Podhledy SDK, kovová.kce CD. 2x deska RB 12,5 mm","m2",100,null,{"$f":"E567*F567","v":0}]
[null,null,"Podhledy sádrokartonové, kovová konstrukce CD s přímým uchycením, 2x opláštěná, s minerální izolací 40mm, desky standard RB (A) tl. 12,5mm",null," "]
[null,null,"Podhledy sádrokartonové, kovová konstrukce CD s přímým uchycením, 2x opláštěná, s minerální izolací 40mm, desky standard RB (A) tl. 12,5mm",null," "]
[null,null,"4.05.23 systém PK12",null," "]
[null,null,"ozn. P08 : ",null," "]
[null,null,"1NP : 100,0",null,100]
[{"$f":"A567+1","v":107},"416022123R00","Podhled SDK,ocel.dvouúrov.křížový rošt,1x RBI 12,5","m2",109,null,{"$f":"E573*F573","v":0}]
[null,null,"Podhledy sádrokartonové, zavěšený ocelový dvouúrovňový křížový rošt z profil CD, 1x opláštěný, bez minerální izolace, desky impregnované RBI (H2) tl. 12,5mm",null," "]
[null,null,"4.05.24 systém PK21 odpovídá D112",null," "]
[null,null,"ozn. P02 : ",null," "]
[null,null,"1NP : 33,0",null,33]
[null,null,"2NP : 22,0",null,22]
[null,null,"3NP : 22,0",null,22]
[null,null,"4NP : 22,0 +10",null,32]
[{"$f":"A573+1","v":108},"342264101R00","Osazení reviz. dvířek do SDK podhledu, do 0,25 m2","kus",55,null,{"$f":"E581*F581","v":0}]
[null,null,"s vyřezáním otvoru, osazením rámu s dvířky, prošroubováním a úpravou parotěsné zábrany,",null," "]
[null,null,"V.08 - 300x300 : 14",null,14]
[null,null,"V.08 - 500x500 : 41",null,41]
[{"$f":"A581+1","v":109},"342264102R00","Osazení reviz. dvířek do SDK podhledu, do 0,50 m2","kus",7,null,{"$f":"E585*F585","v":0}]
[null,null,"s vyřezáním otvoru, osazením rámu s dvířky, prošroubováním a úpravou parotěsné zábrany,",null," "]
[null,null,"V.07 - 500x1000 : 5",null,5]
[null,null,"V.08 - 600x600 : 2",null,2]
[{"$f":"A585+1","v":110},"3420341-1","Příčka vysokopevnostní H,tl.75,1xR-CW,1xopl.,deska DFRI 12,5mm","m2",32,null,{"$f":"E589*F589","v":0}]
[null,null,"Příčka sádrokartonová H, jednoduchá ocelová konstrukce R-CW 50, 1x opláštěná, tloušťka 75 mm, s minerální izolací tl. 40 mm, desky vysokopevnostní sádrokartonové H (DFRI) tloušťky 12,5 mm.",null," "]
[null,null,"3.40.01 HB  systém SK12",null," "]
[null,null,"ozn. W6.2 : ",null," "]
[null,null,"1NP : 8,0",null,8]
[null,null,"2NP : 8,0",null,8]
[null,null,"3NP : 8,0",null,8]
[null,null,"5NP : 8,0",null,8]
[{"$f":"A589+1","v":111},"3420341-2","Předstěna vysokopevnostní H,tl.62,5mm,1xR-CW,1xopl.,deska DFRI 12,5mm","m2",10,null,{"$f":"E597*F597","v":0}]
[null,null,"Předstěna sádrokartonová H, jednoduchá ocelová konstrukce R-CW 50, 1x opláštěná, tloušťka 62,5 mm, s minerální izolací tl. 40 mm, desky vysokopevnostní sádrokartonové H (DFRI) tloušťky 12,5 mm.",null," "]
[null,null,"ozn. W6.1 : ",null," "]
[null,null,"1NP : 10,0",null,10]
[{"$f":"A597+1","v":112},"3420463-4","Příčka SDK akustická tl.305mm, 2xocel.kce, 2xopl. DF 12,5 + 1x RF 25","m2",82,null,{"$f":"E601*F601","v":0}]
[null,null,"sádrokartonová akustická příčka, dvojitá ocelová konstrukce z profilů CW 100 a UW 100, 3 x opláštěná, s minerální izolací tl. 100 mm, 2 x deska akustická MA (DF) tl. 12,5 mm + 1 x deska protipožární RF (DF) 25mm",null," "]
[null,null,"systém SK26",null," "]
[null,null,"ozn. W5.3 : ",null," "]
[null,null,"2NP : 41,0",null,41]
[null,null,"3NP : 41,0",null,41]
[{"$f":"A601+1","v":113},"3420463-5","Předstěna SDK akustická tl.150mm, 1xocel.kce, 2xopl. DF 12,5 + 1x RF 25","m2",261,null,{"$f":"E607*F607","v":0}]
[null,null,"sádrokartonová akustická předstěna, ocelová konstrukce z profilů CW 100 a UW 100, 3 x opláštěná, s minerální izolací tl. 100 mm, 2 x deska akustická MA (DF) tl. 12,5 mm + 1 x deska protipožární RF (DF) 25mm",null," "]
[null,null,"ozn. W5.1 : ",null," "]
[null,null,"2NP : 20,0",null,20]
[null,null,"3NP : 20,0",null,20]
[null,null,"ozn. W5.2 : ",null," "]
[null,null,"1NP : 145,0",null,145]
[null,null,"2NP : 76,0",null,76]
[{"$f":"A607+1","v":114},"3420621-4","Př.oblouk.Rigips tl.95 mm,1xCW, jednostraně 2x opl.,Riflex10mm","m2",39,null,{"$f":"E615*F615","v":0}]
[null,null,"Předstěna oblouková, jednoduchá ocelová konstrukce, 2x opláštěná, tl. 95 mm, s minerální izolací tl.40 mm, desky flexibilní tl. 10 mm.",null," "]
[null,null,"ozn. W4.2 : ",null," "]
[null,null,"1NP : 12,0",null,12]
[null,null,"2NP : 3,0",null,3]
[null,null,"3NP : 12,0",null,12]
[null,null,"4NP : 12,0",null,12]
[{"$f":"A615+1","v":115},"4160262-1","Podhled SDK,ocel.dvouúrov.kříž.rošt, 1x RF 12,5 mm + 1x DF 12,5mm","m2",328,null,{"$f":"E622*F622","v":0}]
[null,null,"Podhledy sádrokartonové, zavěšený ocelový dvouúrovňový křížový rošt, 2x opláštěný, bez minerální izolace, 1 x deska protipožární RF (DF) tl. 12,5 mm + 1 x deska akustická MA (DF) tl. 12,5mm.",null," "]
[null,null,"4.10.13 systém PK22 odpovídá D112",null," "]
[null,null,"ozn. P03 : ",null," "]
[null,null,"1NP : 60,0",null,60]
[null,null,"2NP : 35,0",null,35]
[null,null,"ozn. P04 : ",null," "]
[null,null,"1PP : 190,0",null,190]
[null,null,"1NP : 7,0",null,7]
[null,null,"2NP : 2,0",null,2]
[null,null,"ozn. P07 : ",null," "]
[null,null,"2NP : 12,0",null,12]
[null,null,"3NP : 12,0  +10",null,22]
[{"$f":"A622+1","v":116},"9541252-2","Obklad ocel.nosníků,3str.spec.držák,2x RF tl.12,5","m",250.8,null,{"$f":"E635*F635","v":0}]
[null,null,"Sádrokartonový protipožární obklad ocelových nosníků do 300x300mm, třístranný, 2x opláštěný, speciální držák, desky protipožární RF (DF) tl. 12,5mm, pro dosažení R45",null," "]
[null,null,"6.20.22 systém OK 12",null," "]
[null,null,"jackely : ",null," "]
[null,null,"1NP : (3,5+4,1+3,8+3,7+4,0+4,3+2*1,9+4,4+3,8)",null,35.4]
[null,null,"2NP : (3,7+4,4+2*3,6+4,0+2,0+3*1,9+4,4+4,0+4,0)",null,39.4]
[null,null,"3NP : (3,8+4,0+4,3+3,9+3,7+4,0+2,0+2*1,9+2*3,4+3+2,7+2,3+1,9+3+3,3+4,4+5+4,0)",null,65.900000000000006]
[null,null,"4NP : (3,8+4,0+3,2+3,4+2,3+1,9+3,1+3,3+2*1,9+3,7+4,4+2,0+4,0)",null,42.9]
[null,null,"HEB : ",null," "]
[null,null,"1NP : (12,0+4*5,4)",null,33.6]
[null,null,"2NP : (12,0+4*5,4)",null,33.6]
[{"$f":"A635+1","v":117},"553602-1","revizní dvířka do SDK, 300 x 300 mm jednokřídlá, světlý otvor 300 x 300 mm","kus",14,null,{"$f":"E646*F646","v":0}]
[null,null,"rám z hliníkových profilů, výplň SDK deska 12,5mm",null," "]
[null,null,"V.08 - 300x300 : 14",null,14]
[{"$f":"A646+1","v":118},"553602-2","revizní dvířka do SDK, 500 x 500 mm jednokřídlá, světlý otvor 500 x 500 mm","kus",41,null,{"$f":"E649*F649","v":0}]
[null,null,"rám z hliníkových profilů, výplň SDK deska 12,5mm",null," "]
[null,null,"V.08 - 500x500 : 41",null,41]
[{"$f":"A649+1","v":119},"553602-3","revizní dvířka do SDK, 600 x 600 mm jednokřídlá, světlý otvor 600 x 600 mm","kus",6,null,{"$f":"E652*F652","v":0}]
[null,null,"rám z hliníkových profilů, výplň SDK deska 12,5mm",null," "]
[null,null,"V.08 - 600x600 : 2+4",null,6]
[{"$f":"A652+1","v":120},"553602-4","revizní dvířka do SDK, 500 x 1000 mm dvoukřídlá, světlý otvor 500 x 1000 mm","kus",5,null,{"$f":"E655*F655","v":0}]
[null,null,"rám z hliníkových profilů, výplň SDK deska 12,5mm",null," "]
[null,null,"V.07 - 500x1000 : 5",null,5]
["Díl:","4","Vodorovné konstrukce",null," ",null,{"$f":"SUBTOTAL(9,G659:G742)","v":0}]
[{"$f":"A655+1","v":121},"380932227R00","Vlepení výztuže D 16, beton, malta HIT - HY","m",4.76,null,{"$f":"E659*F659","v":0}]
[null,null,"V položce je zakalkulováno vyvrtání a vyčištění otvoru požadovaného průměru a hloubky, vyplnění otvoru chemickou maltou pomocí aplikační pistole z patrony a zasunutí betonářské výztuže D 16 mm.",null," "]
[null,null,"žb rám světlíku - kotvení svislých sloupků : 14*2*0,17",null,4.76]
[{"$f":"A659+1","v":122},"411321414R00","Stropy deskové ze železobetonu C 25/30","m3",19.82,null,{"$f":"E662*F662","v":0}]
[null,null,"položka je použita pro zabetonování větších ploch i dobetonování menších otvorů ve stropech",null," "]
[null,null,"nad 1PP : ",null," "]
[null,null,"ds.1 : 0,15*((7,5+11,5+9,0) + 4,600 + 2,200)+2",null,7.22]
[null,null,"ds.2 : 0,10*(2*(1,90*4,60))",null,1.75]
[null,null,"ds.3 : 0,15*(3,0*2,0)",null,0.9]
[null,null,"ds.4 : 0,30*(2,8*3,0)*1,1",null,2.7800000000000002]
[null,null,"doplnění stropu na 1PP : 0,10*(0,65+0,20)*1,1",null,0.1]
[null,null,"nad 1NP - doplnění stropů  -d1 - X2-X7 : 0,10*(0,70+0,40+0,20+1,90+1,70+0,40)*1,1",null,0.59]
[null,null,"nad 2NP - doplnění stropů  -d1 - X2-X9 : 0,10*(0,70+1,90+1,70+0,40+0,90+0,50)*1,1",null,0.68]
[null,null,"nad 3NP - doplnění stropů  -d1 - X2-X11 : 0,10*(0,70+1,90+0,90+1,70+0,30)*1,1",null,0.61]
[null,null,"nad 4NP - doplnění stropů  -d1 - X2-X11 : 0,10*(1,90+0,60+1,70+0,80+0,90+1,00)*1,1",null,0.76]
[null,null,"nad 5NP - doplnění stropů  -d1 - X10-X20 : 0,10*(2*1,95+2*0,90+1,30+0,80+1,00+3,00+1,50)*1,1  +3",null,4.47]
[{"$f":"A662+1","v":123},"411351211R00","Bednění stropů deskových, podepření, do 5,9m, 5kPa","m2",114.41,null,{"$f":"E675*F675","v":0}]
[null,null,"nad 1PP : ",null," "]
[null,null,"ds.1 : ((7,5+11,5+9,0) + 4,600 + 2,200)+2",null,36.800000000000004]
[null,null,"ds.2 : (2*(1,90*4,60))",null,17.48]
[null,null,"ds.3 : (3,0*2,0)",null,6]
[null,null,"ds.4 : (2,8*3,0)+(0,30*(3,0+3,0)*1,1)",null,10.38]
[null,null,"doplnění stropu na 1PP : (0,65+0,20)*1,1",null,0.94000000000000006]
[null,null,"nad 1NP - doplnění stropů  -d1 - X2-X7 : (0,70+0,40+0,20+1,90+1,70+0,40)*1,1",null,5.83]
[null,null,"nad 2NP - doplnění stropů  -d1 - X2-X9 : (0,70+1,90+1,70+0,40+0,90+0,50)*1,1",null,6.71]
[null,null,"nad 3NP - doplnění stropů  -d1 - X2-X11 : (0,70+1,90+0,90+1,70+0,30)*1,1",null,6.05]
[null,null,"nad 4NP - doplnění stropů  -d1 - X2-X11 : (1,90+0,60+1,70+0,80+0,90+1,00)*1,1",null,7.59]
[null,null,"nad 5NP - doplnění stropů  -d1 - X10-X20 : (2*1,95+2*0,90+1,30+0,80+1,00+3,00+1,50)*1,1+2",null,16.63]
[{"$f":"A675+1","v":124},"411351212R00","Odstranění bednění stropů deskových do 5,9m, 5kPa","m2",114.41,null,{"$f":"E687*F687","v":0}]
[null,null," mn. položky pořadí 126 : 114,40500",null,114.41]
[{"$f":"A687+1","v":125},"411361921R00","Výztuž stropů svařovanou sítí ","t",2.12,null,{"$f":"E689*F689","v":0}]
[null,null,"vč. distančních pásů, kozlíků apod. : ",null," "]
[null,null,"1PP - KY50 - 8/8-150/150 - v.č. D1.2c-08 : (1,07)*1,1",null,1.18]
[null,null,"ds.4 : 0,0054*(2*2,8*3,0)*1,15",null,0.11]
[null,null,"1NP - KZ20 - 6/6-150/150 - v.č. D1.2c-08 : (0,055)*1,1",null,7.0000000000000007E-2]
[null,null,"2NP - KZ20 - 6/6-150/150 - v.č. D1.2c-11 : (0,055)*1,1",null,7.0000000000000007E-2]
[null,null,"3NP - KZ20 - 6/6-150/150 + KY50 - 8/8-150/150 - v.č. D1.2c-13 : (0,055)*1,1",null,7.0000000000000007E-2]
[null,null,"4NP - KZ20 - 6/6-150/150 + KY50 - 8/8-150/150 - v.č. D1.2c-15 : (0,065)*1,1",null,0.08]
[null,null,"5NP - KZ20 - 6/6-150/150 + KY50 - 8/8-150/150 - v.č. D1.2c-17 : (0,075)*1,1    +0,5",null,0.59]
[{"$f":"A689+1","v":126},"411361821R00","Výztuž stropů z betonářské oceli 10505(R)","t",0.36,null,{"$f":"E698*F698","v":0}]
[null,null,"1PP - v.č. D1.2c-08 : 0,33*1,08",null,0.36]
[{"$f":"A698+1","v":127},"411387531R00","Zabetonování otvorů 0,25 m2 ve stropech a klenbách","kus",10,null,{"$f":"E700*F700","v":0}]
[{"$f":"A700+1","v":128},"413232221R00","Zazdívka zhlaví válcovaných nosníků výšky do 30cm","kus",106,null,{"$f":"E701*F701","v":0}]
[null,null,"nad 1PP : 31",null,31]
[null,null,"nad 1NP : 23",null,23]
[null,null,"nad 2NP : 23",null,23]
[null,null,"nad 3NP : 17",null,17]
[null,null,"nad 4NP : 8",null,8]
[null,null,"v m.č.501 - kce pro DA : 2",null,2]
[null,null,"výtah - 140 - nv1+plotny : 2",null,2]
[{"$f":"A701+1","v":129},"417321414R00","Ztužující pásy a věnce z betonu železového C 25/30","m3",8.02,null,{"$f":"E709*F709","v":0}]
[null,null,"ve zdivu tl. 300mm : ",null," "]
[null,null,"1NP - m.č. 017 : 0,30*0,25*(2*(3,30+3,45))",null,1.02]
[null,null,"2NP - m.č. 120 : 0,30*0,25*(2*(3,30+3,45))",null,1.02]
[null,null,"žb rám světlíku : ",null," "]
[null,null,"horizontální věnec : 0,25*0,30*(2*(8,0+21,0))",null,4.3500000000000005]
[null,null,"svislé sloupky : 14*0,25*0,25*0,50",null,0.44]
[null,null,"dobetonovávka : +1,2",null,1.2]
[{"$f":"A709+1","v":130},"417351115R00","Bednění ztužujících pásů a věnců - zřízení","m2",56.800000000000004,null,{"$f":"E717*F717","v":0}]
[null,null,"ve zdivu tl. 300mm : ",null," "]
[null,null,"1NP - m.č. 017 : 2*0,25*(2*(3,30+3,45))",null,6.75]
[null,null,"2NP - m.č. 120 : 2*0,25*(2*(3,30+3,45))",null,6.75]
[null,null,"žb rám světlíku : ",null," "]
[null,null,"horizontální věnec : 2*0,30*(2*(8,0+21,0))",null,34.800000000000004]
[null,null,"svislé sloupky : 14*(2*0,25*0,50)",null,3.5]
[null,null,"dobetonovávka : +5",null,5]
[{"$f":"A717+1","v":131},"417351116R00","Bednění ztužujících pásů a věnců - odstranění","m2",56.800000000000004,null,{"$f":"E725*F725","v":0}]
[null,null," mn. položky pořadí 133 : 56,80000",null,56.800000000000004]
[{"$f":"A725+1","v":132},"417361821R00","Výztuž ztužujících pásů a věnců z oceli 10505(R)","t",1.98,null,{"$f":"E727*F727","v":0}]
[null,null,"viz. D.1.2c-21 : 1,83*1,08",null,1.98]
[{"$f":"A727+1","v":133},"41-z","ocelová kce - dodatečné podchycení a doplnění stropů - jackely apod. dodávka a montáž + povrchová úprava","t",19.080000000000002,null,{"$f":"E729*F729","v":0}]
[null,null,"materiál+svařování+montáž+chemické kotvy M16-M20",null," "]
[null,null,"prvky dodané otryskané a se základním nátěrem - dle poznámky na výkrese",null," "]
[null,null,"1PP - zesílení stropů  - jackely+IPN + plotny - v.č. D1.2c-06 : (3,80+0,04)*1,08",null,4.1500000000000004]
[null,null,"1PP - doplnění stropů - L + plotny - v.č. D1.2c-08 : (0,27)*1,08",null,0.3]
[null,null,"1NP - zesílení stropů  - jackely+HEB + plotny - v.č. D1.2c-09 : (3,50+0,14)*1,08",null,3.94]
[null,null,"1NP - doplnění stropů - L + plotny - v.č. D1.2c-09 : (0,22)*1,08",null,0.24]
[null,null,"2NP - zesílení stropů  - jackely+HEB + plotny - v.č. D1.2c-11 : (3,50+0,13)*1,08",null,3.93]
[null,null,"2NP - doplnění stropů - L + plotny - v.č. D1.2c-11 : (0,26)*1,08",null,0.28999999999999998]
[null,null,"3NP - zesílení stropů  - jackely+ plotny - v.č. D1.2c-13 : (2,05+0,13)*1,08",null,2.36]
[null,null,"3NP - doplnění stropů - U+L + plotny - v.č. D1.2c-13 : (0,21)*1,08",null,0.23]
[null,null,"4NP - zesílení stropů  - jackely+ plotny - v.č. D1.2c-15 : (1,31+0,10)*1,08",null,1.53]
[null,null,"4NP - doplnění stropů - U+L + plotny - v.č. D1.2c-15 : (0,26)*1,08",null,0.28999999999999998]
[null,null,"5NP - doplnění stropů - U+L + plotny - v.č. D1.2c-17 : (0,35)*1,08    +1,5",null,1.8800000000000001]
["Díl:","43","Schodiště",null," ",null,{"$f":"SUBTOTAL(9,G744:G756)","v":0}]
[{"$f":"A729+1","v":134},"411354255R00","Bednění stropů plech pozink. vlna 50 mm tl. 0,8 mm","m2",6,null,{"$f":"E744*F744","v":0}]
[null,null,"Položka je určena pro zabudované bednění ze širokých tenkostěnných ohýbaných profilů (hraněných trapézových vln), bez podpěrné konstrukce, s osazením nasucho.",null," "]
[null,null,"viz. D.1.2c-23 - SCH1 - m.č. 020 : 6,00",null,6]
[{"$f":"A744+1","v":135},"430321313R00","Beton schodišťových konstrukcí železový C 16/20","m3",1,null,{"$f":"E747*F747","v":0}]
[null,null,"Položka je určena pro železobeton stupňů, schodnic, ramen a podest s nosníky.",null," "]
[null,null,"Položka obsahuje náklady na dodávku a uložení betonu do připravené konstrukce. Bednění a výztuž se oceňuje samostatně.",null," "]
[null,null,"viz. D.1.2c-23 - SCH1 - m.č. 020 : 1,0",null,1]
[{"$f":"A747+1","v":136},"430361921RT9","Výztuž schodišťových konstrukcí svařovanou sítí průměr drátu  8,0, oka 150/150 mm KY80","t",0.08,null,{"$f":"E751*F751","v":0}]
[null,null,"viz. D.1.2c-23 - SCH1 - m.č. 020 : 0,065*1,10",null,0.08]
[{"$f":"A751+1","v":137},"434351141R00","Bednění stupňů přímočarých - zřízení","m2",2.84,null,{"$f":"E753*F753","v":0}]
[null,null,"viz. D.1.2c-23 - SCH1 - m.č. 020 : 0,15*(4*2,60) + 1,60*0,80",null,2.84]
[{"$f":"A753+1","v":138},"434351142R00","Bednění stupňů přímočarých - odstranění","m2",2.84,null,{"$f":"E755*F755","v":0}]
[null,null," mn. položky pořadí 140 : 2,84000",null,2.84]
["Díl:","5","Komunikace",null," ",null,{"$f":"SUBTOTAL(9,G758:G791)","v":0}]
[{"$f":"A755+1","v":139},"113106221R00","Rozebrání dlažeb z drobných kostek v kam. těženém","m2",196,null,{"$f":"E758*F758","v":0}]
[null,null,"rozebrání žulové dlažby - u ul. Uhelná : 196,0",null,196]
[{"$f":"A758+1","v":140},"113106231R00","Rozebrání dlažeb ze zámkové dlažby v kamenivu","m2",31,null,{"$f":"E760*F760","v":0}]
[null,null,"dvůr za domem : 31,0",null,31]
[{"$f":"A760+1","v":141},"564751111R00","Podklad z kameniva drceného vel.32-63 mm,tl. 15 cm","m2",333,null,{"$f":"E762*F762","v":0}]
[null,null," mn. položky pořadí 146 : 274,00000",null,274]
[null,null," mn. položky pořadí 147 : 43,00000",null,43]
[null,null," mn. položky pořadí 149 : 16,00000",null,16]
[{"$f":"A762+1","v":142},"564851111R00","Podklad ze štěrkodrti po zhutnění tloušťky 15 cm","m2",333,null,{"$f":"E766*F766","v":0}]
[null,null," mn. položky pořadí 146 : 274,00000",null,274]
[null,null," mn. položky pořadí 147 : 43,00000",null,43]
[null,null," mn. položky pořadí 149 : 16,00000",null,16]
[{"$f":"A766+1","v":143},"591111111R00","Kladení dlažby velké kostky,lože z kamen.tl. 5 cm","m2",274,null,{"$f":"E770*F770","v":0}]
[null,null,"V položce jsou zakalkulovány i náklady na dodání hmot pro lože a na dodání téhož materiálu na výplň spár. V položce nejsou zakalkulovány náklady na dodání dlažebních kostek, které se oceňuje ve specifikaci, ztratné se doporučuje ve výši 1%.",null," "]
[null,null,"přeložení žulové dlažby - u ul. Uhelná : 196,0",null,196]
[null,null,"nová žulová dlažba : 78,0",null,78]
[{"$f":"A770+1","v":144},"596215040R00","Kladení zámkové dlažby tl. 8 cm do drtě tl. 4 cm","m2",43,null,{"$f":"E774*F774","v":0}]
[null,null,"V položce jsou zakalkulovány i náklady na dodání hmot pro lože a na dodání materiálu na výplň spár. V položce nejsou zakalkulovány náklady na dodání zámkové dlažby, která se oceňuje ve specifikaci, ztratné se doporučuje ve výši 5%.",null," "]
[null,null,"dvůr za domem - přeložení : 31,0",null,31]
[null,null,"nová plocha po schodišti : 12,0",null,12]
[{"$f":"A774+1","v":145},"596291113R00","Řezání zámkové dlažby tl. 80 mm ","m",20,null,{"$f":"E778*F778","v":0}]
[{"$f":"A778+1","v":146},"596811111RV2","Kladení dlaždic kom.pro pěší, lože z kameniva těž. včetně dlažby betonové vymývané VMD 40/40/4,5 cm","m2",16,null,{"$f":"E779*F779","v":0}]
[null,null,"dvorek sousední m.č. 026 - T02 : 16,0",null,16]
[{"$f":"A779+1","v":147},"596841111RV2","Kladení dlažby z dlaždic kom.pro pěší do lože z MC vč.dlažby betonové vymývané VMD 40/40/4,5 cm","m2",17,null,{"$f":"E781*F781","v":0}]
[null,null,"dvorek sousední m.č. 026 - T03 : 17,0",null,17]
[{"$f":"A781+1","v":148},"979071121R00","Očištění vybour. kostek drobných s výplní kam. těž","m2",227,null,{"$f":"E783*F783","v":0}]
[null,null," mn. položky pořadí 142 : 196,00000",null,196]
[null,null," mn. položky pořadí 143 : 31,00000",null,31]
[{"$f":"A783+1","v":149},"58380129R","Kostka dlažební drobná 10/12 štípaná Itř. 1t=4,0m2","t",22.44,null,{"$f":"E786*F786","v":0}]
[null,null,"nová žulová dlažba : 78,0/4,0*1,02",null,19.89]
[null,null,"přeložení žulové dlažby - u ul. Uhelná - náhrada cca. 10m2 : 10,0/4,0*1,02",null,2.5500000000000003]
[{"$f":"A786+1","v":150},"59245292R","Dlažba BEST BASE přírodní  22,5x11,2x8","m2",17.850000000000001,null,{"$f":"E789*F789","v":0}]
[null,null,"nová plocha : 12,0*1,05",null,12.6]
[null,null,"dvůr za domem - přeložení - náhrada cca. 5,0m2 : 5,0*1,05",null,5.25]
["Díl:","61","Úpravy povrchů vnitřní",null," ",null,{"$f":"SUBTOTAL(9,G793:G1111)","v":0}]
[{"$f":"A789+1","v":151},"610991111R00","Zakrývání výplní vnitřních otvorů","m2",124.05,null,{"$f":"E793*F793","v":0}]
[null,null,"otvory fasáda z vnitřní strany : ",null," "]
[null,null," mn. položky pořadí 180 : 124,04050",null,124.05]
[{"$f":"A793+1","v":152},"610991004R00","Začišťovací okenní lišta pro vnitř.omítku tl. 15mm","m",217.64000000000001,null,{"$f":"E796*F796","v":0}]
[null,null,"otvory v obvodovém zdivu : ",null," "]
[null,null," mn. položky pořadí 186 : 217,64000",null,217.64000000000001]
[{"$f":"A796+1","v":153},"611423135R00","Omítka vnitřní stropů žebrových, MVC, štuková","m2",90.7,null,{"$f":"E799*F799","v":0}]
[null,null,"V položce jsou zakalkulovány náklady na pomocné pracovní lešení o výšce podlahy do 1900 mm a pro zatížení do 1,5 kPa.",null," "]
[null,null,"1PP : 9,0+9,0+21,7+29,0",null,68.7]
[null,null,"5NP - 403 : 6,0",null,6]
[null,null,"střecha - 501 : 16,0",null,16]
[{"$f":"A799+1","v":154},"611451753R00","Omítka vnitřní stropů žebrových, MC, ocelí hlazená","m2",12.81,null,{"$f":"E804*F804","v":0}]
[null,null," V položce jsou zakalkulovány náklady na pomocné pracovní lešení o výšce podlahy do 1900 mm a pro zatížení do 1,5 kPa.",null," "]
[null,null,"krycí omítka uhlíkových lamel zajišťující požární odolnost R45 : ",null," "]
[null,null,"aplikace na spodní stranu průvlaků - viz. část D.1.2 : ",null," "]
[null,null," mn. položky pořadí 172 : 12,81000",null,12.81]
[{"$f":"A804+1","v":155},"611474612R00","Omítka stropů vnitřní, VPC jádro,sádr.štuk, ručně","m2",1815.41,null,{"$f":"E809*F809","v":0}]
[null,null,"Položka obsahuje cementový postřik podkladu tl. 3 mm, vápenocementové jádro tl. 15 mm a sádrovou stěrku tl. 3 mm.",null," "]
[null,null,"včetně pomocného lešení",null," "]
[null,null,"pohledové plochy stropů mimo podhledy. započítány boky průvlaků : ",null," "]
[null,null,"***1PP : 0",null," "]
[null,null,"***1NP : ",null," "]
[null,null,"008 - část mimo podhledy : 32,0",null,32]
[null,null,"průvlaky : 0,26*(2*3,50 + 2*3,72 + 2*4,00)",null,5.84]
[null,null,"průvlak atria - spodní strana+vnitřní bok : 8*((0,32+0,35)*3,60)+4*((0,32+0,65)*3,80)+2*(0,60*2,10)",null,36.56]
[null,null,"lávka v atriu : (1,80*4,51)+2*(0,30+0,40)*4,51",null,14.44]
[null,null,"018 : 14,0",null,14]
[null,null,"019 : 11,0",null,11]
[null,null,"020 : 30,0",null,30]
[null,null,"022 : 15,0*1,2",null,18]
[null,null,"023 : 10,0",null,10]
[null,null,"***2NP : ",null," "]
[null,null,"101 : 18,0*1,2",null,21.6]
[null,null,"102 : 23,0 + (0,26*(2*(3*2,00)))",null,26.12]
[null,null,"104  - část mimo podhledy : 56,0",null,56]
[null,null,"průvlaky : 0,32*(2*(2*8,70)) + 0,26*(2*(3,0+1,0+9,0+3*2,0))",null,21.02]
[null,null,"průvlak atria - spodní strana+vnitřní bok : 8*((0,32+0,35)*3,70)+4*((0,32+0,65)*3,80)+2*(0,60*2,15)",null,37.160000000000004]
[null,null,"lávka v atriu : (1,85*4,51)+2*(0,30+0,40)*4,51",null,14.66]
[null,null,"114 : 15,0  + 0,26*(2*(3,30+3*2,00))",null,19.84]
[null,null,"121 : 15,0  + 0,35*(2*(2,30)) + 0,26*(2*(3,70+3,40))",null,20.309999999999999]
[null,null,"***3NP : ",null," "]
[null,null,"201 : 18,0*1,2",null,21.6]
[null,null,"202 : 23,0 + (0,26*(2*(3*2,00)))",null,26.12]
[null,null,"204  - část mimo podhledy : 56,0",null,56]
[null,null,"průvlaky : 0,32*(2*(2*8,70)) + 0,26*(2*(3,0+1,0+9,0+3*2,0))",null,21.02]
[null,null,"průvlak atria - spodní strana+vnitřní bok : 8*((0,32+0,35)*3,80)+4*((0,32+0,65)*3,80)+2*(0,60*2,15)",null,37.700000000000003]
[null,null,"lávka v atriu : (1,85*4,51)+2*(0,30+0,40)*4,51",null,14.66]
[null,null,"217 : 33,0  + 0,26*(2*(5*3,0))",null,40.800000000000004]
[null,null,"220 : 80,0  + 0,55*(2*(11,50)) + 0,26*(2*(6*8,00))",null,117.61]
[null,null,"***4NP : ",null," "]
[null,null,"301 : 18,0*1,2",null,21.6]
[null,null,"302 : 23,0 + (0,26*(2*(3*2,00)))",null,26.12]
[null,null,"304 : 85,0",null,85]
[null,null,"průvlaky : 0,32*(2*(2*4,3+10,5)) + 0,26*(2*(3,0+3,5+9,0+3*2,0+2*2,7+2*3,1+2*3,5+2*3,8+3*4,2+3*1,5+2*4,0))",null,50.08]
[null,null,"průvlak atria - spodní strana+vnitřní bok : 8*((0,32+0,35)*3,90)+4*((0,32+0,65)*3,95)+2*(0,60*2,15)",null,38.81]
[null,null,"309 : 10,0  + 0,26*(2*(3,05))",null,11.59]
[null,null,"313-319 : 17,0+10,0+10,67+16,0+7,0",null,60.67]
[null,null,"***5NP : ",null," "]
[null,null,"401 : 2,5*8,0",null,20]
[null,null,"402 : 22,0 + (0,26*(2*(3*2,0+3*4,5)))",null,32.14]
[null,null,"404 : 160,0*1,1",null,176]
[null,null,"405 : 22,0",null,22]
[null,null,"406 : 170,0",null,170]
[null,null,"408 : 10,0",null,10]
[null,null,"průvlaky : 0,32*(2*(2*13,0+2*(8+4,7+6,7)+12,0+11,5))",null,56.52]
[null,null,"0,30*(2*(3,5+3,8+4,1+3,9+3,6+2*2,7+2*3,1+2*3,4+2*3,7+2*4,1+4,4))",null,34.380000000000003]
[null,null,"0,26*(2*(6*4,6+6*3,6+3,2+3,5+4,2+3,4+3,0+2,8))",null,36.04]
[null,null,"průvlak atria - spodní strana+vnitřní bok : 8*((0,32+0,35)*4,10)+4*((0,32+0,65)*4,10)+2*(0,60*2,15)",null,40.47]
[null,null,"+200",null,200]
[{"$f":"A809+1","v":156},"612401903R00","Příplatek za zaoblení omítky štukov","m2",697.59,null,{"$f":"E862*F862","v":0}]
[null,null,"lomený roh na sloupech : ",null," "]
[null,null," mn. položky pořadí 168 : 697,59000",null,697.59]
[{"$f":"A862+1","v":157},"612403386R00","Hrubá výplň rýh ve stěnách do 10x10cm maltou z SMS","m",100,null,{"$f":"E865*F865","v":0}]
[{"$f":"A865+1","v":158},"612421626R00","Omítka vnitřní zdiva, MVC, hladká","m2",3164.4,null,{"$f":"E866*F866","v":0}]
[null,null,"Tato položka je určena pro jakýkoliv druh podkladu.",null," "]
[null,null,"cementový postřik + omítka na zdivo - celková tl. cca. 20mm",null," "]
[null,null,"***1NP : ",null," "]
[null,null,"001+003 : 3,90*(0,30+9,50+4,60)",null,56.160000000000004]
[null,null,"004 : 3,65*(3,30)",null,12.05]
[null,null,"006 : 3,90*(0,40+9,60+4,60)",null,56.94]
[null,null,"007 : 3,65*(4,70)",null,17.16]
[null,null,"008 : 3,65*(0,20+2,40+2*1,30) +3,65*(5,20)",null,37.96]
[null,null,"009 : 3,65*(3,10) +3,65*(2,00)",null,18.62]
[null,null,"010 : 3,65*(2,00)",null,7.3]
[null,null,"011 : 3,65*(3,10)",null,11.32]
[null,null,"012+013 : 3,65*(1,50+2,00)",null,12.780000000000001]
[null,null,"014 : 3,65*(8,50)",null,31.03]
[null,null,"015 : 3,65*(5,50+5,60)",null,40.520000000000003]
[null,null,"016 : 3,65*(7,00+4,10+7,00+3,30) - (1,6)",null,76.510000000000005]
[null,null,"017 : 3,65*(2*(7,00+5,00)) - (1,6)",null,86]
[null,null,"018 : 3,65*(7,20+1,50+4,90+1,50+1,65+1,85+0,65+2,0+0,20) + 3,65*(1,70)",null,84.5]
[null,null,"019 : 3,65*(2,00+1,65+0,75+2,60)",null,25.55]
[null,null,"020 : 3,65*(2,60+2,10+3,50+0,50+4,01+2*0,90) - (0,6*2,6+1,1*2,05)",null,49.15]
[null,null,"021 : 3,80*(2*(2,00+2,70))  - (1,1*2,05)",null,33.47]
[null,null,"022+023 : 3,65*(2*(2,50+8,00))",null,76.650000000000006]
[null,null,"***2NP : ",null," "]
[null,null,"101 : 3,80*(8,0+2*2,5+2*(2*(0,48+0,95)))",null,71.14]
[null,null,"102 : 3,65*(0,60+0,40+2*0,50+3,50)  - (1,1*2,05)",null,17.82]
[null,null,"104 : 3,65*(2,30)",null,8.4]
[null,null,"105 : 3,65*(2,10) + 3,65*(3,60)",null,20.81]
[null,null,"106+107+108+109 : 3,65*(12,00)",null,43.800000000000004]
[null,null,"110 : 3,65*(7,20+2,60) -(2,10*2,20)",null,31.150000000000002]
[null,null,"111 : 3,65*(4,80+13,50) -(2*2,10*2,20)",null,57.56]
[null,null,"112 : 3,65*(2,10)",null,7.67]
[null,null,"113 : 3,65*(2,10) + 3,65*(2,10)",null,15.33]
[null,null,"114 : 3,65*(2,10)",null,7.67]
[null,null,"116 : 3,65*(4,30) + 3,65*(2,30)",null,24.09]
[null,null,"117 : 3,65*(4,40)",null,16.059999999999999]
[null,null,"118 : 3,65*(5,60+11,80+1,50) - (3*1,6)",null,64.19]
[null,null,"119 : 3,65*(7,00+4,20+7,00+3,40) - (1,6)",null,77.239999999999995]
[null,null,"120 : 3,65*(2*(7,00+5,00)) - (1,6)",null,86]
[null,null,"121 : 3,65*(7,00+1,40+7,20+2,90) - (1,6)",null,65.930000000000007]
[null,null,"122 : 3,65*(0,75+5,30+2,00)",null,29.39]
[null,null,"***3NP : ",null," "]
[null,null,"201 : 3,65*(8,0+2*2,5+2*(2*(0,48+0,95)))",null,68.33]
[null,null,"202 : 3,50*(0,60+0,40+2*0,50+3,50)  - (1,1*2,05)",null,17]
[null,null,"204 : 3,50*(2,30)",null,8.0500000000000007]
[null,null,"205 : 3,50*(2,10) + 3,50*(3,60)",null,19.95]
[null,null,"206+207+208+209 : 3,50*(12,00)",null,42]
[null,null,"210 : 3,50*(7,20+2,60) -(2,10*2,20)",null,29.68]
[null,null,"211 : 3,50*(2,30) -(2,10*2,20)",null,3.43]
[null,null,"212 : 3,50*(2,50+6,90) -(2,10*2,20)",null,28.28]
[null,null,"214 : 3,50*(6,80)",null,23.8]
[null,null,"215 : 3,50*(2,10)",null,7.3500000000000005]
[null,null,"216 : 3,50*(4,30) + 3,50*(2,20+2,20)",null,30.45]
[null,null,"217 : 3,50*(8,60)",null,30.1]
[null,null,"219 : 3,50*(5,60)",null,19.600000000000001]
[null,null,"220 : 3,50*(7,10+11,10+7,30)",null,89.25]
[null,null,"221 : 3,50*(1,60+0,80+5,30+2,10)",null,34.300000000000004]
[null,null,"***4NP : ",null," "]
[null,null,"301 : 3,55*(8,0+2*2,5+2*(2*(0,48+0,95)))",null,66.460000000000008]
[null,null,"302 : 3,40*(0,60+0,40+2*0,50+3,50)  - (1,1*2,05)",null,16.45]
[null,null,"305 : 3,40*(2,10) + 3,40*(3,60)",null,19.38]
[null,null,"306+307+308+309 : 3,40*(10,70)",null,36.380000000000003]
[null,null,"310 : 3,40*(4,60)",null,15.64]
[null,null,"311 : 3,40*(3,40)",null,11.56]
[null,null,"312 : 3,40*(5,00+7,40+4,60) -(3*2,10*2,20)",null,43.94]
[null,null,"313 : 3,40*(15,10) + 3,40*(2,20)",null,58.82]
[null,null,"314 : 3,40*(4,30)",null,14.620000000000001]
[null,null,"315 : 3,40*(4,30)",null,14.620000000000001]
[null,null,"316 : 3,40*(5,60)",null,19.04]
[null,null,"318 : 3,40*(5,20)",null,17.68]
[null,null,"319 : 3,40*(2,20)",null,7.48]
[null,null,"320 : 3,40*(5,00+4,10)",null,30.94]
[null,null,"321 : 3,40*(2,00+7,20)",null,31.28]
[null,null,"322 : 3,40*(1,60+0,90+5,40+2,20)",null,34.340000000000003]
[null,null,"***5NP : ",null," "]
[null,null,"401 : 3,30*(8,0+2*2,5) + 1,20*(2*(2*(0,48+0,95)))",null,49.77]
[null,null,"402 : 3,30*(0,60+0,40+3,50)  - (1,1*2,05)",null,12.6]
[null,null,"404+406 : 3,30*(18,30+7,80+17,80+21,20+11,50+8,70+0,90+5,40+2,20)",null,309.54000000000002]
[null,null,"405 : 3,30*(6,50) + 3,30*(2,40)",null,29.37]
[null,null,"408 : 3,30*(2,50+4,20)",null,22.11]
[null,null,"***střecha : ",null," "]
[null,null,"501 : 3,00*(2*(3,50+4,50)) -(1,6*2,0)",null,44.800000000000004]
[null,null,"ochozy - vnitřní strana průvlaku do atria : 5*(0,60*(2*(25,10+4,60)))",null,178.20000000000002]
[null,null,"+250",null,250]
[{"$f":"A866+1","v":159},"612434132R00","Omítkový sanač.syst.Weber Terannova,vnitřní,2vrst.","m2",47.96,null,{"$f":"E949*F949","v":0}]
[null,null,"1PP - pilíře u umyvadla : 2,40*(1*(2*(0,6+0,63))+1*(2*(0,6+1,06)))",null,13.88]
[null,null,"1PP - schod zeď : 2,40*(2*(5,2+1,3)+2*0,6)",null,34.08]
[{"$f":"A949+1","v":160},"612451082R00","Zatření spár vnitřního zdiva z cihel nebo kamene","m2",1019.09,null,{"$f":"E952*F952","v":0}]
[null,null,"zatření spar zdiva do roviny líce",null," "]
[null,null," mn. položky pořadí 290 : 1019,08900",null,1019.09]
[{"$f":"A952+1","v":161},"612451121R00","Omítka vnitřní zdiva, cementová (MC), hladká","m2",240.41,null,{"$f":"E955*F955","v":0}]
[null,null,"výtahová šachta - 021+103+203+303+403 : 18,10*(2*(2,00+2,70))  - (5*1,1*2,05)",null,158.87]
[null,null,"uliční část - odkopané zdivo 1PP : 2,80*8,30",null,23.240000000000002]
[null,null,"dvorní část - kolem objektu : 1,00*(8,5+1,0+11,0)*1,1",null,22.55]
[null,null,"2,50*(13,0)*1,1",null,35.75]
[{"$f":"A955+1","v":162},"612473186R00","Příplatek za zabudované rohovníky, stěny","m",1461.2,null,{"$f":"E960*F960","v":0}]
[null,null,"1NP : 76*3,65",null,277.40000000000003]
[null,null,"2NP : 76*3,65",null,277.40000000000003]
[null,null,"3NP : 88*3,50",null,308]
[null,null,"4NP : 88*3,40",null,299.2]
[null,null,"4NP : 88*3,40",null,299.2]
[{"$f":"A960+1","v":163},"612474410R00","Omítka stěn vnitřní tenkovrstvá vápenná - štuk","m2",44.800000000000004,null,{"$f":"E966*F966","v":0}]
[null,null,"Položka obsahuje nátěr podkladu spojovacím můstkem a štukovou omítku tl. 5 mm.",null," "]
[null,null,"Ruční provedení.",null," "]
[null,null,"***střecha : ",null," "]
[null,null,"501 : 3,00*(2*(3,50+4,50)) -(1,6*2,0)",null,44.800000000000004]
[{"$f":"A966+1","v":164},"612474450R00","Omítka stěn vnitřní tenkovrstvá sádrová - štuk","m2",2422.9500000000003,null,{"$f":"E971*F971","v":0}]
[null,null,"Položka obsahuje penetrační nátěr podkladu a tenkovrstvou sádrovou omítku tl. 5 mm.",null," "]
[null,null,"Ruční provedení.",null," "]
[null,null,"***1NP : ",null," "]
[null,null,"001+003 : 3,50*(0,30+9,50+4,60)",null,50.4]
[null,null,"004 : 3,00*(3,30)",null,9.9]
[null,null,"006 : 3,50*(0,40+9,60+4,60)",null,51.1]
[null,null,"007 : 3,00*(4,70)",null,14.1]
[null,null,"008 : 3,65*(0,20+2,40+2*1,30)",null,18.98]
[null,null,"009 : 0,65*(3,10)",null,2.02]
[null,null,"011 : 0,65*(3,10)",null,2.02]
[null,null,"014 : 3,65*(8,50)",null,31.03]
[null,null,"015 : 3,65*(5,50+5,60)",null,40.520000000000003]
[null,null,"018 : 3,65*(7,20+1,50+4,90+1,50+1,65+1,85+0,65+2,0+0,20)",null,78.3]
[null,null,"019 : 3,65*(2,00+1,65+0,75+2,60)",null,25.55]
[null,null,"020 : 3,65*(2,60+2,10+3,50+0,50+4,01+2*0,90) - (0,6*2,6+1,1*2,05)",null,49.15]
[null,null,"022+023 : 3,65*(2*(2,50+8,00))",null,76.650000000000006]
[null,null,"***2NP : ",null," "]
[null,null,"101 : 3,80*(8,0+2*2,5+2*(2*(0,48+0,95)))",null,71.14]
[null,null,"102 : 3,65*(0,60+0,40+2*0,50+3,50)  - (1,1*2,05)",null,17.82]
[null,null,"104 : 3,65*(2,30)",null,8.4]
[null,null,"105 : 0,65*(2,10)",null,1.37]
[null,null,"110 : 3,65*(7,20+2,60) -(2,10*2,20)",null,31.150000000000002]
[null,null,"111 : 3,65*(4,80+13,50) -(2*2,10*2,20)",null,57.56]
[null,null,"112 : 3,00*(2,10)",null,6.3]
[null,null,"113 : 3,65*(2,10)",null,7.67]
[null,null,"114 : 3,65*(2,10)",null,7.67]
[null,null,"116 : 3,65*(4,30)",null,15.700000000000001]
[null,null,"117 : 3,65*(4,40)",null,16.059999999999999]
[null,null,"118 : 3,65*(5,60+11,80+1,50) - (3*1,6)",null,64.19]
[null,null,"119 : 3,30*(7,00+4,20+7,00+3,40) - (1,6)",null,69.680000000000007]
[null,null,"121 : 3,65*(7,00+1,40+7,20+2,90) - (1,6)",null,65.930000000000007]
[null,null,"122 : 3,65*(0,75+5,30+2,00)",null,29.39]
[null,null,"***3NP : ",null," "]
[null,null,"201 : 3,65*(8,0+2*2,5+2*(2*(0,48+0,95)))",null,68.33]
[null,null,"202 : 3,50*(0,60+0,40+2*0,50+3,50)  - (1,1*2,05)",null,17]
[null,null,"204 : 3,50*(2,30)",null,8.0500000000000007]
[null,null,"205 : 0,50*(2,10)",null,1.05]
[null,null,"210 : 3,50*(7,20+2,60) -(2,10*2,20)",null,29.68]
[null,null,"211 : 3,50*(2,30) -(2,10*2,20)",null,3.43]
[null,null,"212 : 3,50*(2,50+6,90) -(2,10*2,20)",null,28.28]
[null,null,"214 : 3,50*(6,80)",null,23.8]
[null,null,"215 : 3,50*(2,10)",null,7.3500000000000005]
[null,null,"216 : 3,50*(4,30)",null,15.05]
[null,null,"217 : 3,50*(8,60)",null,30.1]
[null,null,"219 : 3,50*(5,60)",null,19.600000000000001]
[null,null,"220 : 3,50*(7,10+11,10+7,30)",null,89.25]
[null,null,"221 : 3,50*(1,60+0,80+5,30+2,10)",null,34.300000000000004]
[null,null,"***4NP : ",null," "]
[null,null,"301 : 3,55*(8,0+2*2,5+2*(2*(0,48+0,95)))",null,66.460000000000008]
[null,null,"302 : 3,40*(0,60+0,40+2*0,50+3,50)  - (1,1*2,05)",null,16.45]
[null,null,"305 : 0,50*(2,10)",null,1.05]
[null,null,"310 : 3,40*(4,60)",null,15.64]
[null,null,"311 : 3,40*(3,40)",null,11.56]
[null,null,"312 : 3,40*(5,00+7,40+4,60) -(3*2,10*2,20)",null,43.94]
[null,null,"313 : 3,40*(15,10)",null,51.34]
[null,null,"314 : 3,40*(4,30)",null,14.620000000000001]
[null,null,"315 : 3,40*(4,30)",null,14.620000000000001]
[null,null,"316 : 3,40*(5,60)",null,19.04]
[null,null,"318 : 3,40*(5,20)",null,17.68]
[null,null,"319 : 3,40*(2,20)",null,7.48]
[null,null,"320 : 3,40*(5,00+4,10)",null,30.94]
[null,null,"321 : 3,40*(2,00+7,20)",null,31.28]
[null,null,"322 : 3,40*(1,60+0,90+5,40+2,20)",null,34.340000000000003]
[null,null,"***5NP : ",null," "]
[null,null,"401 : 3,30*(8,0+2*2,5) + 1,20*(2*(2*(0,48+0,95)))",null,49.77]
[null,null,"402 : 3,30*(0,60+0,40+3,50)  - (1,1*2,05)",null,12.6]
[null,null,"404+406 : 3,30*(18,30+7,80+17,80+21,20+11,50+8,70+0,90+5,40+2,20)",null,309.54000000000002]
[null,null,"405 : 3,30*(6,50) + 3,30*(2,40)",null,29.37]
[null,null,"408 : 3,30*(2,50+4,20)",null,22.11]
[null,null,"ochozy - vnitřní strana průvlaku do atria : 5*(0,60*(2*(25,10+4,60))) +150",null,328.2]
[{"$f":"A971+1","v":165},"613421132R00","Omítka sloupů, plocha rovná, MVC, hladká","m2",697.59,null,{"$f":"E1042*F1042","v":0}]
[null,null,"***1NP : ",null," "]
[null,null,"čtvercové a obdélníkové : 3,65*(6*(4*0,50)+10*(2*(0,32+0,66))+2*(2*(0,35+0,52)))",null,128.05000000000001]
[null,null,"víceúhelník osa9 : 3,65*(2*(2*0,32+2*0,65+2*0,50))",null,21.47]
[null,null,"víceúhelník osa3 : 3,65*(2*(0,70+0,30+0,75+0,20+0,70+0,55))",null,23.36]
[null,null,"***2NP : ",null," "]
[null,null,"čtvercové a obdélníkové : 3,65*(2*(4*0,50)+4*(2*(0,30+0,45))+10*(2*(0,32+0,56))+2*(2*(0,35+0,52)))",null,113.45]
[null,null,"víceúhelník osa9 : 3,65*(2*(2*0,32+0,65+0,55+0,50+0,40))",null,20.010000000000002]
[null,null,"víceúhelník osa3 : 3,65*(2*(2*0,32+0,55+0,65+0,40+0,50))",null,20.010000000000002]
[null,null,"***3NP : ",null," "]
[null,null,"čtvercové a obdélníkové : 3,50*(2*(4*0,42)+4*(2*(0,20+0,45))+10*(2*(0,32+0,46))+2*(2*(0,35+0,52)))",null,96.740000000000009]
[null,null,"víceúhelník osa9 : 3,50*(2*(2*0,32+0,65+0,55+0,50+0,40))",null,19.18]
[null,null,"víceúhelník osa3 : 3,50*(2*(2*0,32+0,55+0,65+0,40+0,50))",null,19.18]
[null,null,"***4NP : ",null," "]
[null,null,"čtvercové a obdélníkové : 3,50*(2*(2*(0,30+0,55))+4*(2*(0,20+0,45))+10*(2*(0,32+0,36))+2*(2*(0,35+0,52)))",null,89.88]
[null,null,"víceúhelník osa9 : 3,50*(2*(2*0,32+0,65+0,55+0,50+0,40))",null,19.18]
[null,null,"víceúhelník osa3 : 3,50*(2*(2*0,32+0,55+0,65+0,40+0,50))",null,19.18]
[null,null,"***5NP : ",null," "]
[null,null,"čtvercové a obdélníkové : 3,50*(6*(4*0,25)+10*(2*(0,32+0,20))+2*(2*(0,35+0,52)))",null,69.58]
[null,null,"víceúhelník osa9 : 3,50*(2*(2*0,32+0,65+0,55+0,50+0,40))",null,19.18]
[null,null,"víceúhelník osa3 : 3,50*(2*(2*0,32+0,55+0,65+0,40+0,50))",null,19.18]
[{"$f":"A1042+1","v":166},"613441113R00","Sádrový štuk tl. do 2 mm sloupů/pilířů zaoblených","m2",697.59,null,{"$f":"E1063*F1063","v":0}]
[null,null," mn. položky pořadí 168 : 697,59000",null,697.59]
[{"$f":"A1063+1","v":167},"614472101RT1","Antikorozní ochranný nátěr výztuže včetně dodávky Sanfix 251 (MFC)","m2",12.81,null,{"$f":"E1065*F1065","v":0}]
[null,null," mn. položky pořadí 172 : 12,81000",null,12.81]
[{"$f":"A1065+1","v":168},"614472101RT4","Antikorozní ochranný nátěr výztuže včetně dodávky Densocrete 111 (Betosan)","m2",39,null,{"$f":"E1067*F1067","v":0}]
[null,null,"rezerva rekonstrukce - účtováno dle skutečnosti : 50*0,04+50*0,09+50*0,25+10*1,0+10*1,0",null,39]
[{"$f":"A1067+1","v":169},"614471711R00","Vyspravení beton. konstrukcí cem. maltou tl. 10 mm","m2",12.81,null,{"$f":"E1069*F1069","v":0}]
[null,null,"Položka je určena pro vyspravení poškozených betonových a železobetonových konstrukcí.",null," "]
[null,null,"vysprávkouvá hmota před lepením uhlíkových lamel na spodní strany průvlaků",null," "]
[null,null,"úprava žb povrchu - vysprávkouvá hmota před lepením uhlíkových lamel : ",null," "]
[null,null,"aplikace na spodní stranu průvlaků - viz. část D.1.2 : ",null," "]
[null,null,"1NP - průvlak D1-D3 : 0,30*(4,00+3,50)",null,2.25]
[null,null,"2NP - průvlak D1-D3 : 0,30*(4,20+4,30)",null,2.5500000000000003]
[null,null,"4NP - průvlak D0-D3 + C0-C3 : 0,30*(2*(4,70+4,35+4,30))",null,8.01]
[{"$f":"A1069+1","v":170},"614471715R00","Vyspravení beton. konstrukcí - adhézní můstek","m2",12.81,null,{"$f":"E1077*F1077","v":0}]
[null,null," mn. položky pořadí 172 : 12,81000",null,12.81]
[{"$f":"A1077+1","v":171},"614472205RT4","Oprava vnitř.beton.konstr.pl.do 0,04 m2 tl.5 mm vč.dod.Densocrete 222 a Monocrete PPE TH (Betosan)","kus",50,null,{"$f":"E1079*F1079","v":0}]
[null,null,"Vymetení prohlubně, nátěr kontaktní plochy adhezním můstkem, vyplnění prohlubně reprofilační maltou.",null," "]
[null,null,"rezerva rekonstrukce - účtováno dle skutečnosti : 50",null,50]
[{"$f":"A1079+1","v":172},"614472305RT4","Oprava vnitř.beton.konstr.pl.do 0,09 m2 tl. 5 mm vč.dod.Densocrete 222 a Monocrete PPE TH (Betosan)","kus",50,null,{"$f":"E1082*F1082","v":0}]
[null,null,"Vymetení prohlubně, nátěr kontaktní plochy adhezním můstkem, vyplnění prohlubně reprofilační maltou.",null," "]
[null,null,"rezerva rekonstrukce - účtováno dle skutečnosti : 50",null,50]
[{"$f":"A1082+1","v":173},"614472405RT4","Oprava vnitř.beton.konstr.pl.do 0,25 m2 tl. 5 mm vč.dod.Densocrete 222 a Monocrete PPE TH (Betosan)","kus",50,null,{"$f":"E1085*F1085","v":0}]
[null,null,"Vymetení prohlubně, nátěr kontaktní plochy adhezním můstkem, vyplnění prohlubně reprofilační maltou.",null," "]
[null,null,"rezerva rekonstrukce - účtováno dle skutečnosti : 50",null,50]
[{"$f":"A1085+1","v":174},"614472610RT4","Oprava vnitř.beton.konstr.pl.do 1 m2 tl.10 mm vč.dod.Densocrete 222 a Monocrete PPE TH (Betosan)","kus",10,null,{"$f":"E1088*F1088","v":0}]
[null,null,"Vymetení prohlubně, nátěr kontaktní plochy adhezním můstkem, vyplnění prohlubně reprofilační maltou.",null," "]
[null,null,"rezerva rekonstrukce - účtováno dle skutečnosti : 10",null,10]
[{"$f":"A1088+1","v":175},"614472650RT4","Oprava vnitř.beton.konstr.pl.do 1 m2 tl.50 mm vč.dod.Densocrete 222 a Monocrete PPE TH (Betosan)","kus",10,null,{"$f":"E1091*F1091","v":0}]
[null,null,"Vymetení prohlubně, nátěr kontaktní plochy adhezním můstkem, vyplnění prohlubně reprofilační maltou.",null," "]
[null,null,"rezerva rekonstrukce - účtováno dle skutečnosti : 10",null,10]
[{"$f":"A1091+1","v":176},"615481111R00","Potažení válc.nosníků rabic.pletivem a postřik MC","m2",70.64,null,{"$f":"E1094*F1094","v":0}]
[null,null,"1PP - HEB100 - p6 : 0,5*(1,40)",null,0.70000000000000007]
[null,null,"1PP - 100 - p3.1 : 0,8*(2*1,10)",null,1.76]
[null,null,"1PP - 100 - výtahová šachta : 0,8*(1,10)",null,0.88]
[null,null,"1NP - 100 - p3.2 : 1,2*(3*1,20)",null,4.32]
[null,null,"2NP - 100 - p3.3 : 1,2*(1,20)",null,1.44]
[null,null,"střecha - 100 - p3.4 + p5 : 0,8*(2,10+2*1,30)",null,3.7600000000000002]
[null,null,"1PP - HEB200 - z6 : 0,8*(1*1,60)",null,1.28]
[null,null,"1PP - 140 - z2.1 až z2.5 : 1,2*(4*1,35+2*1,6+2*1,9+4*1,81+3*2,50)",null,32.57]
[null,null,"1NP - 140 - p4.1 : 1,0*(1,80)",null,1.8]
[null,null,"1NP - 140 - p7.1 : 1,0*(1,70)",null,1.7]
[null,null,"2NP - 140 - p4.2 : 1,0*(1,70)",null,1.7]
[null,null,"2NP - 140 - p7.2 : 1,0*(1,70)",null,1.7]
[null,null,"3NP - 140 - p4.3 : 1,0*(1,70)",null,1.7]
[null,null,"4NP - 140 - p4.4 : 1,0*(1,70)",null,1.7]
[null,null,"5NP - 140 - p4.5 : 1,0*(1,70)",null,1.7]
[null,null,"1PP - 180 - p1 : 0,8*(3,41)",null,2.73]
[null,null,"1PP - 200 - p2.1+p2.2 : 0,8*(2*2,00)  +6",null,9.2000000000000011]
["Díl:","62","Úpravy povrchů vnější",null," ",null,{"$f":"SUBTOTAL(9,G1113:G1280)","v":0}]
[{"$f":"A1094+1","v":177},"620991121R00","Zakrývání výplní vnějších otvorů z lešení","m2",124.05,null,{"$f":"E1113*F1113","v":0}]
[null,null,"dvůr - JV - plastové okna : ",null," "]
[null,null,"1NP - O07 : 2,05*(2*1,45)",null,5.95]
[null,null,"1NP - O08 : 2,05*(1,40)",null,2.87]
[null,null,"2NP - O09 : 2,05*(1,35)",null,2.77]
[null,null,"2NP - O10 : 2,05*(1,40)",null,2.87]
[null,null,"1NP - O11 : 1,20*(0,55)",null,0.66]
[null,null,"2NP - O12-13 : 2,10*(1,50+0,75)",null,4.7300000000000004]
[null,null,"3NP - O14-17 : 2,10*(1,50+1,30+1,45+0,80)",null,10.61]
[null,null,"4NP - O18-19 : 2,05*(3*1,30) + 2,05*(1,50)",null,11.07]
[null,null,"5NP - O20-23 : 1,30*(4*1,35)",null,7.0200000000000005]
[null,null,"ulice - SZ - hliníkové okna : ",null," "]
[null,null,"1NP - O01 : 2*(2,00*3,32)",null,13.280000000000001]
[null,null,"2NP - O02 : (3*2,10*2,25)",null,14.18]
[null,null,"3NP - O03 : (3*2,10*2,25)",null,14.18]
[null,null,"4NP - O04 : (3*2,10*2,20)",null,13.86]
[null,null,"1NP - D01 - dveře : 2,00*3,32",null,6.6400000000000006]
[null,null,"bok - SV : ",null," "]
[null,null,"2NP - O05 : (1,30*2,05)",null,2.67]
[null,null,"3-5NP - O06 : (3*1,30*2,07)",null,8.08]
[null,null,"1NP - m.č. 020 : 1,20*2,20",null,2.64]
[{"$f":"A1113+1","v":178},"622311524RV1","Zateplovací systém Baumit, sokl, XPS tl. 140 mm zakončený stěrkou s výztužnou tkaninou","m2",41.88,null,{"$f":"E1134*F1134","v":0}]
[null,null,"Položka obsahuje: nanesení lepicího tmelu na izolační desky, nalepení desek, zajištění talířovými hmoždinkami (6 ks/m2), kašírování desek stěrkovou hmotou, nanesení stěrky a výztužné tkaniny (1,15 m2/m2), přehlazení.  V položce je obsaženo 0,14 m rohových lišt na m2.",null," "]
[null,null,"Položka neobsahuje kontaktní nátěr a povrchovou úpravu omítkou.",null," "]
[null,null,"Součinitel tepelné vodivosti izolantu je 0,038 W/mK.",null," "]
[null,null,"sokl ve dvorní části : 1,25*(11,0+1,0+8,50+13,0)",null,41.88]
[{"$f":"A1134+1","v":179},"622311134RV1","Zateplovací systém Baumit, fasáda, EPS F tl.140 mm zakončený stěrkou s výztužnou tkaninou","m2",10.57,null,{"$f":"E1139*F1139","v":0}]
[null,null,"Položka obsahuje: nanesení lepicího tmelu na izolační desky, nalepení desek, zajištění talířovými hmoždinkami (6 ks/m2), kašírování desek stěrkovou hmotou, nanesení stěrky a výztužné tkaniny (1,15 m2/m2), přehlazení.  V položce je obsaženo 0,14 m rohových lišt na m2.",null," "]
[null,null,"Položka neobsahuje kontaktní nátěr a povrchovou úpravu omítkou.",null," "]
[null,null,"Součinitel tepelné vodivosti izolantu je 0,039 W/mK.",null," "]
[null,null,"1NP - okna JV fasáda : (2,05*(3*0,40))",null,2.46]
[null,null,"2NP - okna JV fasáda : (2,05*(2*0,40))",null,1.6400000000000001]
[null,null,"3NP - okna JV fasáda : (2,10*(0,40+0,30)) +5",null,6.47]
[{"$f":"A1139+1","v":180},"622311830RV1","Zatepl.syst. Baumit, fasáda, miner.desky PV 60 mm zakončený stěrkou s výztužnou tkaninou","m2",72.75,null,{"$f":"E1146*F1146","v":0}]
[null,null,"Položka obsahuje: nanesení lepicího tmelu na izolační desky, nalepení desek, zajištění talířovými hmoždinkami (6 ks/m2), kašírování desek stěrkovou hmotou, nanesení stěrky a výztužné tkaniny (1,15 m2/m2), přehlazení.  V položce je obsaženo 0,14 m rohových lišt na m2.",null," "]
[null,null,"Součinitel tepelné vodivost izolantu 0,036 W/mK.",null," "]
[null,null,"Aplikace na stávající KZS = delší hmoždinky o cca. 150mm",null," "]
[null,null,"SV fasáda - na stávající KZS další vrstva : (6,10*13,50) - (4*1,20*2,00)",null,72.75]
[{"$f":"A1146+1","v":181},"622311834RV1","Zatepl.syst. Baumit, fasáda, miner.desky PV 140 mm zakončený stěrkou s výztužnou tkaninou","m2",100.71000000000001,null,{"$f":"E1151*F1151","v":0}]
[null,null,"Položka obsahuje: nanesení lepicího tmelu na izolační desky, nalepení desek, zajištění talířovými hmoždinkami (6 ks/m2), kašírování desek stěrkovou hmotou, nanesení stěrky a výztužné tkaniny (1,15 m2/m2), přehlazení.  V položce je obsaženo 0,14 m rohových lišt na m2.",null," "]
[null,null,"Položka neobsahuje kontaktní nátěr a povrchovou úpravu omítkou.",null," "]
[null,null,"Součinitel tepelné vodivosti izolantu je 0,036 W/mK.",null," "]
[null,null,"SV fasáda - část fasády v přízemí - místo garáží : 4,50*(11,0+1,0+8,50)",null,92.25]
[null,null,"-2*0,70*1,10 -2,0",null," "]
[null,null,"SV fasáda - vyměňovaná plocha : 3,00*4,00",null,12]
[{"$f":"A1151+1","v":182},"622319005R00","Vyrovnávací vrstva z cementové malty tl. 10 mm","m2",142.59,null,{"$f":"E1158*F1158","v":0}]
[null,null,"sokl ve dvorní části : 1,25*(11,0+1,0+8,50+13,0)",null,41.88]
[null,null,"SV fasáda - část fasády v přízemí - místo garáží : 4,50*(11,0+1,0+8,50)",null,92.25]
[null,null,"-2*0,70*1,10 -2,0",null," "]
[null,null,"SV fasáda - vyměňovaná plocha : 3,00*4,00",null,12]
[{"$f":"A1158+1","v":183},"622421492R00","Doplňky zatepl. systémů, okenní lišta s tkaninou","m",217.64000000000001,null,{"$f":"E1163*F1163","v":0}]
[null,null,"V položce jsou zakalkulovány náklady na dodávku a montáž okenní lišty - plast + tkanina",null," "]
[null,null,"ulice - SZ - hliníkové okna : ",null," "]
[null,null,"1NP - D01 - dveře : (2,00+2*3,32)",null,8.64]
[null,null,"1NP - O01 : 2*(2,00+2*3,32)",null,17.28]
[null,null,"2NP - O02 : 3*(2,10+2*2,25)",null,19.8]
[null,null,"3NP - O03 : 3*(2,10+2*2,25)",null,19.8]
[null,null,"4NP - O04 : 3*(2,10+2*2,20)",null,19.5]
[null,null,"bok - SV : ",null," "]
[null,null,"1NP - m.č. 020 : (1,20+2*2,20)",null,5.6000000000000005]
[null,null,"2NP - O05 : (1,30+2*2,05)",null,5.4]
[null,null,"3-5NP - O06 : 3*(1,30+2*2,07)",null,16.32]
[null,null,"dvůr - JV - plastové okna : ",null," "]
[null,null,"1NP - O07 : 2*(2*2,05+1,45)",null,11.1]
[null,null,"1NP - O08 : (2*2,05+1,40)",null,5.5]
[null,null,"2NP - O09 : (2*2,05+1,35)",null,5.45]
[null,null,"2NP - O10 : (2*2,05+1,40)",null,5.5]
[null,null,"1NP - O11 : (2*1,20+0,55)",null,2.95]
[null,null,"2NP - O12-13 : (2*2,10+1,50)+(2*2,10+0,75)",null,10.65]
[null,null,"3NP - O14-17 : (8*2,10+(1,50+1,30+1,45+0,80))",null,21.85]
[null,null,"4NP - O18-19 : (6*2,05+(3*1,30)) + (2*1,60+1,50)",null,20.900000000000002]
[null,null,"5NP - O20-23 : (8*1,30+(4*1,35))",null,15.8]
[null,null,"střecha - dveře D.26 : (1,60+2*2,00)",null,5.6000000000000005]
[{"$f":"A1163+1","v":184},"622421494R00","Doplňky zatepl. systémů, podparapetní lišta s tkan","m",56.5,null,{"$f":"E1186*F1186","v":0}]
[null,null,"V položce jsou zakalkulovány náklady na dodávku a montáž podparapetní lišty - plast + tkanina",null," "]
[null,null,"ulice - SZ : ",null," "]
[null,null,"1NP - O01 : 2*(2,00)",null,4]
[null,null,"2NP - O02 : 6,80",null,6.8]
[null,null,"3NP - O03 : 6,80",null,6.8]
[null,null,"4NP - O04 : 6,80",null,6.8]
[null,null,"bok - SV : ",null," "]
[null,null,"2NP-5NP - O05 + 006 : 4*1,35",null,5.4]
[null,null,"dvůr - JV : ",null," "]
[null,null,"1NP - O07 : (2*1,50)",null,3]
[null,null,"1NP - O08 : (1,45)",null,1.45]
[null,null,"2NP - O09 : (1,40)",null,1.4000000000000001]
[null,null,"2NP - O10 : (1,45)",null,1.45]
[null,null,"1NP - O11 : (0,60)",null,0.6]
[null,null,"2NP - O12-13 : (1,55+0,80)",null,2.35]
[null,null,"3NP - O14-17 : (1,55+1,35+1,50+0,85)",null,5.25]
[null,null,"4NP - O18-19 : (3*1,35) + (1,55)",null,5.6000000000000005]
[null,null,"5NP - O20-23 : (4*1,40)",null,5.6000000000000005]
[{"$f":"A1186+1","v":185},"622904112R00","Očištění fasád tlakovou vodou složitost 1 - 2","m2",76.760000000000005,null,{"$f":"E1205*F1205","v":0}]
[null,null,"SZ : 8,30*13,20",null,109.56]
[null,null,"+ ostění : 3*(0,30*(2*2,25+3*2,10))",null,9.7200000000000006]
[null,null,"- okna O02+003+004 : - 3*(3*2,10*2,25)",null," "]
[{"$f":"A1205+1","v":186},"622904212R00","Očištění organických nečiistot z fasád slož.1-2","m2",76.760000000000005,null,{"$f":"E1209*F1209","v":0}]
[null,null," mn. položky pořadí 188 : 76,75500",null,76.760000000000005]
[{"$f":"A1209+1","v":187},"627452111R00","Spárování maltou MCs zapuštěné rovné, zdí z cihel","m2",76.760000000000005,null,{"$f":"E1211*F1211","v":0}]
[null,null," mn. položky pořadí 188 : 76,75500",null,76.760000000000005]
[{"$f":"A1211+1","v":188},"6223111-3","Zateplovací systém Baumit, ostění, EPS F tl. 30 mm zakončený stěrkou s výztužnou tkaninou","m2",70.97,null,{"$f":"E1213*F1213","v":0}]
[null,null,"Položka obsahuje: nanesení lepicího tmelu na izolační desky, nalepení desek, přebroušení desek, osazení lišt, natažení stěrky, vtlačení výztužné tkaniny, přehlazení stěrky. V položce je obsaženo 3,33 m rohových lišt a 1,68 m2 výztužné tkaniny.",null," "]
[null,null,"Součinitel tepelné vodivosti izolantu 0,039 W/mK.",null," "]
[null,null,"ulice - SZ - hliníkové okna : ",null," "]
[null,null,"1NP - O01 : 2*(2,00+2*3,32) *0,45",null,7.78]
[null,null,"2NP - O02 : 3*(2,10+2*2,25) *0,45",null,8.91]
[null,null,"3NP - O03 : 3*(2,10+2*2,25) *0,45",null,8.91]
[null,null,"4NP - O04 : 3*(2,10+2*2,20) *0,45",null,8.7799999999999994]
[null,null,"dvůr - JV - plastové okna : ",null," "]
[null,null,"1NP - O07 : 2*(2*2,05+1,45) *0,30",null,3.33]
[null,null,"1NP - O08 : (2*2,05+1,40) *0,30",null,1.6500000000000001]
[null,null,"2NP - O09 : (2*2,05+1,35) *0,30",null,1.6400000000000001]
[null,null,"2NP - O10 : (2*2,05+1,40) *0,30",null,1.6500000000000001]
[null,null,"1NP - O11 : (2*1,20+0,55) *0,30",null,0.89]
[null,null,"2NP - O12-13 : ((2*2,10+1,50)+(2*2,10+0,75)) *0,30",null,3.2]
[null,null,"3NP - O14-17 : (8*2,10+(1,50+1,30+1,45+0,80)) *0,30",null,6.5600000000000005]
[null,null,"4NP - O18-19 : ((6*2,05+(3*1,30)) + (2*1,60+1,50)) *0,30",null,6.2700000000000005]
[null,null,"5NP - O20-23 : (8*1,30+(4*1,35)) *0,30",null,4.74]
[null,null,"střecha - dveře D.26 : (1,60+2*2,00) *0,30",null,1.68]
[null,null,"+5",null,5]
[{"$f":"A1213+1","v":189},"6223118-3","Zatepl.syst. Baumit, ostění, miner.desky PV 30 mm zakončený stěrkou s výztužnou tkaninou","m2",6.43,null,{"$f":"E1233*F1233","v":0}]
[null,null,"Položka obsahuje: nanesení lepicího tmelu na izolační desky, nalepení desek, přebroušení desek, osazení lišt, natažení stěrky, vtlačení výztužné tkaniny, přehlazení stěrky. V položce je obsaženo 3,33 m rohových lišt a 1,68 m2 výztužné tkaniny.",null," "]
[null,null,"Součinitel tepelné vodivosti izolantu je 0,036 W/mK.",null," "]
[null,null,"bok - SV : ",null," "]
[null,null,"2NP - O05 : (1,30+2*2,05) *0,25",null,1.35]
[null,null,"3-5NP - O06 : 3*(1,30+2*2,07) *0,25 +1",null,5.08]
[{"$f":"A1233+1","v":190},"622421491R00","Doplňky zatepl. systémů, rohová lišta s okapničkou","m",32.1,null,{"$f":"E1239*F1239","v":0}]
[null,null,"V položce jsou zakalkulovány náklady na dodávku a montáž rohové lišty s okapničkou - plast + tkanina",null," "]
[null,null,"bok - SV : ",null," "]
[null,null,"2NP-5NP - O05 + 006 : 4*1,35",null,5.4]
[null,null,"dvůr - JV : ",null," "]
[null,null,"1NP - O07 : (2*1,50)",null,3]
[null,null,"1NP - O08 : (1,45)",null,1.45]
[null,null,"2NP - O09 : (1,40)",null,1.4000000000000001]
[null,null,"2NP - O10 : (1,45)",null,1.45]
[null,null,"1NP - O11 : (0,60)",null,0.6]
[null,null,"2NP - O12-13 : (1,55+0,80)",null,2.35]
[null,null,"3NP - O14-17 : (1,55+1,35+1,50+0,85)",null,5.25]
[null,null,"4NP - O18-19 : (3*1,35) + (1,55)",null,5.6000000000000005]
[null,null,"5NP - O20-23 : (4*1,40)",null,5.6000000000000005]
[{"$f":"A1239+1","v":191},"622421x21","Probarvená silikonová omítka, zrno 1,5 mm škrábaná struktura, anorganické pigmenty","m2",802.9,null,{"$f":"E1253*F1253","v":0}]
[null,null,"aplikace probarvené omítkoviny vč. materiálu a penetrace.",null," "]
[null,null,"***SV fasáda : 17,80*(5,0+0,3+5,3+1,05+8,20)",null,353.33]
[null,null,"ostění oken - 2NP-5NP : 4*(1,30+2*2,07) *0,25",null,5.44]
[null,null,"odečet otvorů : -2*0,70*1,10 -2,0 -(4*1,20*2,00)",null," "]
[null,null,"***JV fasáda : 12,50*18,00",null,225]
[null,null,"ostění oken : ",null," "]
[null,null,"1NP - O07 : 2*(2*2,05+1,45) *0,30",null,3.33]
[null,null,"1NP - O08 : (2*2,05+1,40) *0,30",null,1.6500000000000001]
[null,null,"2NP - O09 : (2*2,05+1,35) *0,30",null,1.6400000000000001]
[null,null,"2NP - O10 : (2*2,05+1,40) *0,30",null,1.6500000000000001]
[null,null,"1NP - O11 : (2*1,20+0,55) *0,30",null,0.89]
[null,null,"2NP - O12-13 : ((2*2,10+1,50)+(2*2,10+0,75)) *0,30",null,3.2]
[null,null,"3NP - O14-17 : (8*2,10+(1,50+1,30+1,45+0,80)) *0,30",null,6.5600000000000005]
[null,null,"4NP - O18-19 : ((6*2,05+(3*1,30)) + (2*1,60+1,50)) *0,30",null,6.2700000000000005]
[null,null,"5NP - O20-23 : (8*1,30+(4*1,35)) *0,30",null,4.74]
[null,null,"odečet oken : -47,0",null," "]
[null,null,"***ulice - SZ - hliníkové okna - ostění oken : ",null," "]
[null,null,"1NP - O01 : 2*(2,00+2*3,32) *0,45",null,7.78]
[null,null,"2NP - O02 : 3*(2,10+2*2,25) *0,45",null,8.91]
[null,null,"3NP - O03 : 3*(2,10+2*2,25) *0,45",null,8.91]
[null,null,"4NP - O04 : 3*(2,10+2*2,20) *0,45",null,8.7799999999999994]
[null,null,"***JZ nad domem : 2,50*35,0",null,87.5]
[null,null,"***střecha - 501-DA : 3,50*(2*(5,20+4,20))   +60",null,125.8]
[null,null,"ostění - dveře D.26 : (1,60+2*2,00) *0,30",null,1.68]
[{"$f":"A1253+1","v":192},"622421x22","Probarvená soklová omítka voděodolná","m2",16.75,null,{"$f":"E1278*F1278","v":0}]
[null,null,"aplikace probarvené omítkoviny vč. materiálu a penetrace.",null," "]
[null,null,"sokl ve dvorní části : 0,50*(11,0+1,0+8,50+13,0)",null,16.75]
["Díl:","63","Podlahy a podlahové konstrukce",null," ",null,{"$f":"SUBTOTAL(9,G1282:G1338)","v":0}]
[{"$f":"A1278+1","v":193},"631312611R00","Mazanina betonová tl. 5 - 8 cm C 16/20","m3",4,null,{"$f":"E1282*F1282","v":0}]
[null,null,"Včetně vytvoření dilatačních spár, bez zaplnění.",null," "]
[null,null,"dobetonovávka+ : (0,08*10,0*5,0)",null,4]
[{"$f":"A1282+1","v":194},"631317105R00","Řezání dilatační spáry hl. 0-50 mm, beton prostý","m",315.60000000000002,null,{"$f":"E1285*F1285","v":0}]
[null,null,"Stropní deska bude v ose doplňkových nosníku ze shora naříznuta : ",null," "]
[null,null,"(bude vytvořena drážka po celé délce), hloubka drážky 30 mm! : ",null," "]
[null,null,"nad 1PP : (2*3,2+8*4,5 + 5,0 + 5*3,5 + 4,2+3*2,5)",null,76.600000000000009]
[null,null,"nad 1NP : (7*4,0 + 2*2,0 + 4,5 + 12,0+4*5,5)",null,70.5]
[null,null,"nad 2NP : (7*4,0 + 2*2,0 + 4,5 + 12,0+4*5,5)",null,70.5]
[null,null,"nad 3NP : (7*4,0 + 7*3,5 + 4,5+5,0)",null,62]
[null,null,"nad 4NP : (2*4,2 + 2*3,3 + 5*3,3 + 4,5)",null,36]
[{"$f":"A1285+1","v":195},"631351101R00","Bednění stěn, rýh a otvorů v podlahách - zřízení","m2",31.92,null,{"$f":"E1293*F1293","v":0}]
[null,null,"vyrovnání výšek schodišťových stupňů : ",null," "]
[null,null,"schody S01 - dlažba F7 : 0,20*(16*1,35)",null,4.32]
[null,null,"2NP - 5NP : 0,20*(3*(23*1,50))",null,20.7]
[null,null,"z 1NP - do 2NP : 0,20*(1*(23*1,50))",null,6.9]
[{"$f":"A1293+1","v":196},"631351102R00","Bednění stěn, rýh a otvorů v podlahách -odstranění","m2",31.92,null,{"$f":"E1298*F1298","v":0}]
[null,null," mn. položky pořadí 198 : 31,92000",null,31.92]
[{"$f":"A1298+1","v":197},"632443311R00","Potěr CemFlow® CF 30, plocha do 100 m2, tl. 50 mm","m2",473.47,null,{"$f":"E1300*F1300","v":0}]
[null,null,"FG11a - m.č. 016 : 16,0",null,16]
[null,null,"FG11b - m.č. 018 : 14,0",null,14]
[null,null,"1PP - podesta schodiště : 1,30*1,90    +20",null,22.47]
[null,null,"FG13a+F03a : (3,5+6,0+3,5+160,0+12,0+4,0+9,0+3,5+3,5+25,0+11,0+30,0)",null,271]
[null,null,"FG14a+F04a : (15,0+30,0)",null,45]
[null,null,"FG14b+F04b : 19,0",null,19]
[null,null,"F03b - m.č. 209 : 10,0",null,10]
[null,null,"F03c - m.č. 405 : 22,0",null,22]
[null,null,"F03d - m.č. 014 : 32,0",null,32]
[null,null,"F03e - m.č. 023 : 9,0",null,9]
[null,null,"F04c - m.č. 001+020 : 10,0+3,0",null,13]
[{"$f":"A1300+1","v":198},"632443312R00","Potěr CemFlow® CF 30, do 100 m2, přípl. zkd 5 mm","m2",23.94,null,{"$f":"E1312*F1312","v":0}]
[null,null,"FG14b+F04b : 19,0",null,19]
[null,null,"1PP - podesta schodiště : 1,30*1,90*2",null,4.9400000000000004]
[{"$f":"A1312+1","v":199},"632451014R00","Vyrovnávací potěr ze směsi Cemix, v pásu, tl.50 mm","m2",37.53,null,{"$f":"E1315*F1315","v":0}]
[null,null,"vyrovnání výšek schodišťových stupňů : ",null," "]
[null,null,"schody S01 - dlažba F7 : 16*1,35*0,30",null,6.48]
[null,null,"2NP - 5NP : 3*(23*1,50*0,30)",null,31.05]
[{"$f":"A1315+1","v":200},"632451024R00","Vyrovnávací potěr MC 15, v pásu, tl. 50 mm","m2",24.26,null,{"$f":"E1319*F1319","v":0}]
[null,null,"Položka je určena pro vyrovnávací potěr z cementové malty provedený v pásu na zdivu jako podklad např. pod oplechování apod., vodorovný nebo ve spádu do 15 st., hlazený dřevěným hladítkem.",null," "]
[null,null,"okna : ",null," "]
[null,null,"1NP : 0,45*(0,60+3*1,45)",null,2.23]
[null,null,"2NP : 0,45*(0,80+1,50+2*1,40 + 3*2,15 + 1,3)",null,5.79]
[null,null,"3NP : 0,45*(0,85+1,50+2*1,45 + 3*2,15 + 1,3)",null,5.8500000000000005]
[null,null,"4NP : 0,45*(1,55+3*1,35 + 3*2,15 + 1,3)",null,6.01]
[null,null,"5NP : 0,45*(3*1,35+1,40 + 1,3)",null,3.04]
[null,null,"výustky : 3*0,60*0,75",null,1.35]
[{"$f":"A1319+1","v":201},"632451031R00","Vyrovnávací potěr MC 15, v ploše, tl. 20 mm","m2",16.72,null,{"$f":"E1328*F1328","v":0}]
[null,null,"desky VZT kanálů - č.1 : (5,500)",null,5.5]
[null,null,"desky VZT kanálů - č.2 - ve spádu vč. svislého pásu : (2,20*2,60)+(2*2,20*1,25)",null,11.22]
[{"$f":"A1328+1","v":202},"635011002R00","Podlaha z dílců Rigidur E25, tl. 25 mm","m2",969.80000000000007,null,{"$f":"E1331*F1331","v":0}]
[null,null,"Včetně slepení a spárování spojů a obvodového izolačního pásku.",null," "]
[null,null,"912,79500",null,912.80000000000007]
[null,null,"47,00000",null,47]
[null,null,"10,00000",null,10]
[{"$f":"A1331+1","v":203},"632451016x","Vyrovnávací potěr ze směsi, v pásu, tl.70 mm","m2",10.35,null,{"$f":"E1336*F1336","v":0}]
[null,null,"vyrovnání výšek schodišťových stupňů : ",null," "]
[null,null,"z 1NP - do 2NP : 1*(23*1,50*0,30)",null,10.35]
["Díl:","64","Výplně otvorů",null," ",null,{"$f":"SUBTOTAL(9,G1340:G1341)","v":0}]
[{"$f":"A1336+1","v":204},"642941211RT3","Pouzdro pro posuvné dveře jednostranné, do SDK jednostranné pouzdro 800/1970 mm","kus",1,null,{"$f":"E1340*F1340","v":0}]
[null,null,"pro dveře D12 : 1",null,1]
["Díl:","94","Lešení a stavební výtahy",null," ",null,{"$f":"SUBTOTAL(9,G1343:G1393)","v":0}]
[{"$f":"A1340+1","v":205},"941941032R00","Montáž lešení leh.řad.s podlahami,š.do 1 m, H 30 m","m2",1003.25,null,{"$f":"E1343*F1343","v":0}]
[null,null,"Včetně kotvení lešení.",null," "]
[null,null,"SZ : 20,00*10,00",null,200]
[null,null,"JV : 19,00*13,75",null,261.25]
[null,null,"SV : 19,00*(9,50+2,00+11,50)",null,437]
[null,null,"JZ : 3,00*35,00",null,105]
[{"$f":"A1343+1","v":206},"941941192R00","Příplatek za každý měsíc použití lešení k pol.1032","m2",3009.75,null,{"$f":"E1349*F1349","v":0}]
[null,null," mn. položky pořadí 208 : 1003,25000*3",null,3009.75]
[{"$f":"A1349+1","v":207},"941941832R00","Demontáž lešení leh.řad.s podlahami,š.1 m, H 30 m","m2",1003.25,null,{"$f":"E1351*F1351","v":0}]
[null,null," mn. položky pořadí 208 : 1003,25000",null,1003.25]
[{"$f":"A1351+1","v":208},"941955001R00","Lešení lehké pomocné, výška podlahy do 1,2 m","m2",600,null,{"$f":"E1353*F1353","v":0}]
[null,null,"1PP : 250,00",null,250]
[null,null,"5NP : 400,00-50,00",null,350]
[{"$f":"A1353+1","v":209},"941955002R00","Lešení lehké pomocné, výška podlahy do 1,9 m","m2",1650,null,{"$f":"E1356*F1356","v":0}]
[null,null,"1NP - 4NP : 4*400,00",null,1600]
[null,null,"5NP : 50,00",null,50]
[{"$f":"A1356+1","v":210},"943943222R00","Montáž lešení prostorové lehké, do 200kg, H 22 m","m3",1944,null,{"$f":"E1359*F1359","v":0}]
[null,null,"v atriu : 108,0*18,00",null,1944]
[{"$f":"A1359+1","v":211},"943943292R00","Příplatek za každý měsíc použití k pol..3221, 3222","m3",19440,null,{"$f":"E1361*F1361","v":0}]
[null,null," mn. položky pořadí 213 : 1944,00000*10",null,19440]
[{"$f":"A1361+1","v":212},"943943822R00","Demontáž lešení, prostor. lehké, 200 kPa, H 22 m","m3",1944,null,{"$f":"E1363*F1363","v":0}]
[null,null," mn. položky pořadí 213 : 1944,00000",null,1944]
[{"$f":"A1363+1","v":213},"943955022R00","Montáž lešeňové podlahy s příčníky a podél.,H 20 m","m2",488,null,{"$f":"E1365*F1365","v":0}]
[null,null,"v atriu podél obvodu - 8 pater lešení : 8*61,00",null,488]
[{"$f":"A1365+1","v":214},"943955191R00","Příplatek za každý měsíc použití leš.k pol.21až 41","m2",4880,null,{"$f":"E1367*F1367","v":0}]
[null,null," mn. položky pořadí 216 : 488,00000*10",null,4880]
[{"$f":"A1367+1","v":215},"943955822R00","Demontáž leš. podlahy s příč. a podélníky, H 20 m","m2",488,null,{"$f":"E1369*F1369","v":0}]
[null,null," mn. položky pořadí 216 : 488,00000",null,488]
[{"$f":"A1369+1","v":216},"944944013R00","Montáž ochr.sítě z umělých vláken - stínění do 70%","m2",1003.25,null,{"$f":"E1371*F1371","v":0}]
[null,null," mn. položky pořadí 208 : 1003,25000",null,1003.25]
[{"$f":"A1371+1","v":217},"944944033R00","Příplatek za každý měsíc použití sítí k pol. 4013","m2",3009.75,null,{"$f":"E1373*F1373","v":0}]
[null,null," mn. položky pořadí 209 : 3009,75000",null,3009.75]
[{"$f":"A1373+1","v":218},"944944083R00","Demontáž ochr.sítě z umělých vláken,stínění do 70%","m2",1003.25,null,{"$f":"E1375*F1375","v":0}]
[null,null," mn. položky pořadí 208 : 1003,25000",null,1003.25]
[{"$f":"A1375+1","v":219},"944945012R00","Montáž záchytné stříšky H 4,5 m, šířky do 2 m","m",11,null,{"$f":"E1377*F1377","v":0}]
[null,null,"SZ : 8,0",null,8]
[null,null,"SV : 3,0",null,3]
[{"$f":"A1377+1","v":220},"944945192R00","Příplatek za každý měsíc použ.stříšky, k pol. 5012","m",33,null,{"$f":"E1380*F1380","v":0}]
[null,null," mn. položky pořadí 222 : 11,00000*3",null,33]
[{"$f":"A1380+1","v":221},"944945812R00","Demontáž záchytné stříšky H 4,5 m, šířky do 2 m","m",11,null,{"$f":"E1382*F1382","v":0}]
[null,null," mn. položky pořadí 222 : 11,00000",null,11]
[{"$f":"A1382+1","v":222},"945943001R00","Montáž závěsného lešení konzolového, chem. kotvy","m",35,null,{"$f":"E1384*F1384","v":0}]
[null,null,"JZ - nad sousedním domem : 35,00",null,35]
[{"$f":"A1384+1","v":223},"945943091R00","Pronájem konzolového lešení - den","m",1050,null,{"$f":"E1386*F1386","v":0}]
[null,null," mn. položky pořadí 225 : 35,00000*30",null,1050]
[{"$f":"A1386+1","v":224},"945943801R00","Demontáž závěsného lešení konzolového, chem.kotvy","m",35,null,{"$f":"E1388*F1388","v":0}]
[null,null," mn. položky pořadí 225 : 35,00000",null,35]
[{"$f":"A1388+1","v":225},"945943-01","ochrana střechy sousedního domu pod zavěšeným lešením","m2",210,null,{"$f":"E1390*F1390","v":0}]
[null,null,"ochrana střešního pláště proti prachu apod. - geotextilie s uchycením",null," "]
[null,null,"montáž, demontáž",null," "]
[null,null,"35,0*6,0",null,210]
["Díl:","95","Dokončovací konstrukce na pozemních stavbách",null," ",null,{"$f":"SUBTOTAL(9,G1395:G1403)","v":0}]
[{"$f":"A1390+1","v":226},"952901111R00","Vyčištění budov o výšce podlaží do 4 m","m2",2841,null,{"$f":"E1395*F1395","v":0}]
[null,null,"1PP : 290",null,290]
[null,null,"1NP : 560",null,560]
[null,null,"2NP-5NP : 4*460",null,1840]
[null,null,"střecha - střejovna a světlík : 21+130",null,151]
[{"$f":"A1395+1","v":227},"9539426-1","vlajkové držáky na fasádě - nerez dodávka a montáž vč. kotev","kus",2,null,{"$f":"E1400*F1400","v":0}]
[null,null,"viz. prvek V.06 : 2",null,2]
[{"$f":"A1400+1","v":228},"900      R01","HZS stavební dělník v tarifní třídě 4","h",100,null,{"$f":"E1402*F1402","v":0}]
[null,null,"nezměřitelné práce montážní - rezerva rekonstrukce - účtováno dle skutečnosti : 100",null,100]
["Díl:","96","Bourání konstrukcí",null," ",null,{"$f":"SUBTOTAL(9,G1405:G1749)","v":0}]
[{"$f":"A1402+1","v":229},"961044111R00","Bourání základů z betonu prostého","m3",20.82,null,{"$f":"E1405*F1405","v":0}]
[null,null,"1PP - S03 - sonda P8/3 + P8/4 : 0,68*(3,20*5,60+0,78*4,00)",null,14.31]
[null,null,"1PP - S01 : 0,60*0,60*3,00",null,1.08]
[null,null,"jímky : 2*((1,0*1,0*1,0)-(0,6*0,60*0,8))",null,1.43]
[null,null,"rezerva : 4,00",null,4]
[{"$f":"A1405+1","v":230},"962031113R00","Bourání příček z cihel pálených plných tl. 65 mm","m2",91.51,null,{"$f":"E1410*F1410","v":0}]
[null,null,"uliční část - odkopané zdivo 1PP - izolační přizdívka : 2,80*8,30",null,23.240000000000002]
[null,null,"dvorní část - kolem objektu : 1,00*(8,5+1,0+11,0)",null,20.5]
[null,null,"2,50*(10,0)",null,25]
[null,null,"4NP - 307 : 3,45*(6,60)",null,22.77]
[{"$f":"A1410+1","v":231},"962031116R00","Bourání příček z cihel pálených plných tl. 140 mm","m2",326.44,null,{"$f":"E1415*F1415","v":0}]
[null,null,"1PP - přizděná příčka v S03 a S06 : 2,50*(4,10+3,20)",null,18.25]
[null,null,"1PP - S03 : 1,70*2,50-1,00*1,90",null,2.35]
[null,null,"1NP - 003+004 : 3,50*(4,00+3,20)-2*1,80",null,21.6]
[null,null,"1NP - 005 : 3,70*(2,90+2,30)-1,80",null,17.440000000000001]
[null,null,"1NP - 006 : 3,70*(1,90+1,00+1,10)-1,40",null,13.4]
[null,null,"1NP - přizdívky sloupů : 4*(3,70*0,55)",null,8.14]
[null,null,"2NP - 103 : 3,70*(1,90+1,00+1,10)-1,40",null,13.4]
[null,null,"2NP - 104 : 3,70*(3,80)",null,14.06]
[null,null,"2NP - 105 : 3,70*(3,00+2,30)-1,80",null,17.809999999999999]
[null,null,"3NP - 203 : 3,55*(1,90+1,00+1,10)-1,40",null,12.8]
[null,null,"3NP - 205 : 3,55*(3,00+2,30)-1,80",null,17.02]
[null,null,"4NP - 303 : 3,45*(6,00+1,30+4,00)-1,80",null,37.19]
[null,null,"4NP - 304 : 3,45*(2,00+1,25*2)-1,40",null,14.13]
[null,null,"4NP - 306+307+308 : 3,45*(11,70+6,50+2*0,30)-3*1,80",null,59.46]
[null,null,"5NP - 404 : 3,00*(6,60+3,80)-1,80   +30",null,59.4]
[{"$f":"A1415+1","v":232},"962032231R00","Bourání zdiva z cihel pálených na MVC","m3",66,null,{"$f":"E1431*F1431","v":0}]
[null,null,"1PP - S01 : 0,45*(2,50*3,00-1,00*2,00)",null,2.48]
[null,null,"1PP - S03 : 0,48*0,90*2,50+0,55*0,65*2,50",null,1.98]
[null,null,"1PP - S06 : 0,30*2,50*(3,00+2,00)",null,3.75]
[null,null,"1PP - ubourání stěny S07 zhora - pod kufr komunikací : 0,45*1,00*(6,50+1,70+1,80)",null,4.5]
[null,null,"1PP - ubourání stěny S07 až dolů : 0,45*1,50*(1,40)",null,0.95000000000000007]
[null,null,"1PP - anglický dvorek : 0,30*1,40*(0,70+1,80)",null,1.05]
[null,null,"1NP - komín a přizdívka sloupu - zadní trakt : 0,50*0,50*3,80+1,00*0,90*3,80",null,4.37]
[null,null,"1NP - přední trakt - pod výkladcema : 0,45*0,50*(2,90+2,50+2*3,90+2*3,40)",null,4.5]
[null,null,"1NP - podezdění schodiště : 2*0,30*1,45",null,0.87]
[null,null,"1NP - přizdívky sloupů : 2*(3,70*(0,55*0,65+0,50*0,30))",null,3.7600000000000002]
[null,null,"2NP - komín a přizdívka sloupu - zadní trakt : 0,50*0,50*3,80+1,00*0,90*3,80",null,4.37]
[null,null,"3NP - komín a přizdívka sloupu - zadní trakt : 0,50*0,50*3,65+1,00*0,90*3,65",null,4.2]
[null,null,"4NP - komín a přizdívka sloupu - zadní trakt : 0,50*0,50*3,55+1,00*0,90*3,55",null,4.09]
[null,null,"5NP - komín - zadní trakt : 1,00*0,90*4,00",null,3.6]
[null,null,"střecha - strojovna : 1,20*1,20*1,50",null,2.16]
[null,null,"střecha - rám světlíku : 0,33*0,70*(2*(8,0+21,0))",null,13.4]
[null,null,"rezerva rekonstrukce - účtováno dle skutečnosti : +6",null,6]
[{"$f":"A1431+1","v":233},"962081131R00","Bourání příček ze skleněných tvárnic tl. 10 cm","m2",1.6,null,{"$f":"E1449*F1449","v":0}]
[null,null,"střecha : 2,00*0,80",null,1.6]
[{"$f":"A1449+1","v":234},"962084131R00","Bourání příček deskových,sádrokartonových tl.10 cm","m2",6.09,null,{"$f":"E1451*F1451","v":0}]
[null,null,"2NP - zadní trakt u průvlaku - heraklit : 0,70*8,70",null,6.09]
[{"$f":"A1451+1","v":235},"963013530R00","Bourání stropů s keramickou výplní","m3",4.8,null,{"$f":"E1453*F1453","v":0}]
[null,null,"Včetně pomocného lešení o výšce podlahy do 1900 mm a pro zatížení do 1,5 kPa  (150 kg/m2).",null," "]
[null,null,"nad 1PP : 2*(0,30*8,00)",null,4.8]
[{"$f":"A1453+1","v":236},"963042819R00","Bourání schodišťových stupňů betonových","m",31.3,null,{"$f":"E1456*F1456","v":0}]
[null,null,"1PP - venkovní schody : 14*1,40",null,19.600000000000001]
[null,null,"1NP : 9*1,30",null,11.700000000000001]
[{"$f":"A1456+1","v":237},"963051110R00","Bourání ŽB stropů deskových tl. do 8 cm","m3",9.08,null,{"$f":"E1459*F1459","v":0}]
[null,null,"1NP - odstranění betonového podhledu 001+003+004 : 0,075*(121,00)",null,9.08]
[{"$f":"A1459+1","v":238},"963051113R00","Bourání ŽB stropů deskových tl. nad 8 cm","m3",2.73,null,{"$f":"E1461*F1461","v":0}]
[null,null,"1PP - nad S02 : 0,10*26,00*1,05",null,2.73]
[{"$f":"A1461+1","v":239},"964073221R00","Vybourání nosníků ze zdi cihelné dl. 4 m, 20 kg/m","t",1.2,null,{"$f":"E1463*F1463","v":0}]
[null,null,"překlady : 1,20",null,1.2]
[{"$f":"A1463+1","v":240},"964073331R00","Vybourání nosníků ze zdi cihelné dl. 6 m, 35 kg/m","t",0.9,null,{"$f":"E1465*F1465","v":0}]
[null,null,"nad 1PP : 2*3*4,80*0,0311",null,0.9]
[{"$f":"A1465+1","v":241},"965024131R00","Bourání kamenných podlah z desek plochy nad 1 m2","m2",16,null,{"$f":"E1467*F1467","v":0}]
[null,null,"dvorek sousední m.č. 026 : 16,0",null,16]
[{"$f":"A1467+1","v":242},"965031131R00","Bourání podlah z cihel naplocho, plochy nad 1 m2","m2",209,null,{"$f":"E1469*F1469","v":0}]
[null,null,"1PP - S01 : 180,0",null,180]
[null,null,"1PP - S02 : 29,0",null,29]
[{"$f":"A1469+1","v":243},"965042131R00","Bourání mazanin betonových  tl. 10 cm, pl. 4 m2","m3",0.56000000000000005,null,{"$f":"E1472*F1472","v":0}]
[null,null,"podesta venkovního schodiště ve dvoře : 1,40*2,20*0,12",null,0.37]
[null,null,"dno angl. dvorku : 1,80*0,85*0,12",null,0.19]
[{"$f":"A1472+1","v":244},"965042141R00","Bourání mazanin betonových tl. 10 cm, nad 4 m2","m3",14.63,null,{"$f":"E1475*F1475","v":0}]
[null,null,"podlahy : ",null," "]
[null,null,"1PP - S01 - sonda P10+P11+P12 : 0,07*180,0",null,12.6]
[null,null,"1PP - S02 - sonda P9 : 0,07*29,0",null,2.0300000000000002]
[{"$f":"A1475+1","v":245},"965042241R00","Bourání mazanin betonových tl. nad 10 cm, nad 4 m2","m3",44.35,null,{"$f":"E1479*F1479","v":0}]
[null,null,"1PP - S03 - sonda P8/1 + P8/2 : 0,125*(4,10*5,60)",null,2.87]
[null,null,"podkladní základová deska pod 1NP : 0,16*(89,4+75,4+42,0+52,40)",null,41.480000000000004]
[{"$f":"A1479+1","v":246},"965043341R00","Bourání podkladů bet., potěr tl. 10 cm, nad 4 m2","m3",93.8,null,{"$f":"E1482*F1482","v":0}]
[null,null,"1NP - započítána průměrná tl.87mm : 520,0*0,087",null,45.24]
[null,null,"2NP - započítána průměrná tl.40mm : 393,0*0,040",null,15.72]
[null,null,"3NP - započítána průměrná tl.35mm : 393,0*0,035",null,13.76]
[null,null,"4NP - započítána průměrná tl.40mm : 393,0*0,040",null,15.72]
[null,null,"5NP - započítána průměrná tl.35mm - teraco jen část půdorysu : 0,035*(28,0+28,0+40,0)",null,3.36]
[{"$f":"A1482+1","v":247},"965081713R00","Bourání dlažeb keramických tl.10 mm, nad 1 m2","m2",464.49,null,{"$f":"E1488*F1488","v":0}]
[null,null,"1NP - dlažba tl.10mm - m.č. 001 : 520,0 - 57,50",null,462.5]
[null,null,"+ schodiště podstupnice : 9*0,17*1,30",null,1.99]
[{"$f":"A1488+1","v":248},"965081813RT2","Bourání dlažeb terac.,čedič. tl.do 30 mm, nad 1 m2 sbíječkou, dlaždice teracové","m2",1315.27,null,{"$f":"E1491*F1491","v":0}]
[null,null,"dlažba teraco/umělý mramor tl. cca do 30mm : ",null," "]
[null,null,"1NP - 001 : 57,50",null,57.5]
[null,null,"schodiště z 1NP do 2NP : 14,0+(23*0,170*1,50)",null,19.87]
[null,null,"2NP : 393,0",null,393]
[null,null,"schodiště z 2NP do 3NP : 14,0+(23*0,170*1,50)",null,19.87]
[null,null,"3NP : 393,0",null,393]
[null,null,"schodiště z 3NP do 4NP : 14,0+(23*0,160*1,50)",null,19.52]
[null,null,"4NP : 393,0",null,393]
[null,null,"schodiště z 4NP do 5NP : 14,0+(23*0,160*1,50)",null,19.52]
[{"$f":"A1491+1","v":249},"967031132R00","Přisekání rovných ostění cihelných na MVC","m2",10,null,{"$f":"E1501*F1501","v":0}]
[{"$f":"A1501+1","v":250},"967031732R00","Přisekání plošné zdiva cihelného na MVC tl. 10 cm","m2",30,null,{"$f":"E1502*F1502","v":0}]
[{"$f":"A1502+1","v":251},"967031733R00","Přisekání plošné zdiva cihelného na MVC tl. 15 cm","m2",23.25,null,{"$f":"E1503*F1503","v":0}]
[null,null,"1PP : 2,50*(4,10+3,20)",null,18.25]
[null,null,"5",null,5]
[{"$f":"A1503+1","v":252},"967041112R00","Přisekání rovných ostění bez odstupu v betonu","m2",12.81,null,{"$f":"E1506*F1506","v":0}]
[null,null,"úprava žb povrchu - odstranění karbonatovaného betonu před lepením uhlíkových lamel : ",null," "]
[null,null,"ze spodní strany průvlaků - viz. část D.1.2 : ",null," "]
[null,null,"1NP - průvlak D1-D3 : 0,30*(4,00+3,50)",null,2.25]
[null,null,"2NP - průvlak D1-D3 : 0,30*(4,20+4,30)",null,2.5500000000000003]
[null,null,"4NP - průvlak D0-D3 + C0-C3 : 0,30*(2*(4,70+4,35+4,30))",null,8.01]
[{"$f":"A1506+1","v":253},"968071112R00","Vyvěšení, zavěšení kovových křídel oken pl. 1,5 m2","kus",102,null,{"$f":"E1512*F1512","v":0}]
[null,null,"1NP : 13",null,13]
[null,null,"2NP : 12 + 14",null,26]
[null,null,"3NP : 12 + 14",null,26]
[null,null,"4NP : 12 + 16",null,28]
[null,null,"5NP : 8 + 1",null,9]
[{"$f":"A1512+1","v":254},"968071125R00","Vyvěšení, zavěšení kovových křídel dveří pl. 2 m2","kus",36,null,{"$f":"E1518*F1518","v":0}]
[null,null,"1PP : 4+2",null,6]
[null,null,"1NP : 5+6",null,11]
[null,null,"2NP : 2+2",null,4]
[null,null,"3NP : 2+2",null,4]
[null,null,"4NP : 5+2",null,7]
[null,null,"5NP : 1+2",null,3]
[null,null,"střecha : 1",null,1]
[{"$f":"A1518+1","v":255},"968072355R00","Vybourání kovových rámů oken zdvojených pl. 2 m2","m2",13.09,null,{"$f":"E1526*F1526","v":0}]
[null,null,"1NP : (0,55*1,20)",null,0.66]
[null,null,"2NP : (0,75*2,10)",null,1.58]
[null,null,"3NP : (0,80*2,10)",null,1.68]
[null,null,"4NP : 0",null," "]
[null,null,"5NP : 3*(1,30*1,30) + (1,35*1,30) + (0,90*1,50) + 1",null,9.18]
[{"$f":"A1526+1","v":256},"968072356R00","Vybourání kovových rámů oken zdvojených pl. 4 m2","m2",84.65,null,{"$f":"E1532*F1532","v":0}]
[null,null,"1NP : 3*(1,80*2,20)",null,11.88]
[null,null,"2NP : 3*(2,10*2,22) + (1,50*2,05) + 2*(1,75*2,05)",null,24.240000000000002]
[null,null,"3NP : 3*(2,10*2,22) + (1,50*2,10) + 2*(1,70*2,10)",null,24.28]
[null,null,"4NP : 3*(2,10*2,20) + (1,50*1,60) + 3*(1,30*2,05)",null,24.26]
[null,null,"5NP : 0",null," "]
[{"$f":"A1532+1","v":257},"968072455R00","Vybourání kovových dveřních zárubní pl. do 2 m2","m2",40.200000000000003,null,{"$f":"E1538*F1538","v":0}]
[null,null,"1PP : 5*2,00",null,10]
[null,null,"1NP : 5*2,00",null,10]
[null,null,"2NP : 2*1,80",null,3.6]
[null,null,"3NP : 2*1,80",null,3.6]
[null,null,"4NP : 5*1,80",null,9]
[null,null,"5NP : 1*2,00",null,2]
[null,null,"střecha : 1*2,00",null,2]
[{"$f":"A1538+1","v":258},"968072456R00","Vybourání kovových dveřních zárubní pl. nad 2 m2","m2",21.84,null,{"$f":"E1546*F1546","v":0}]
[null,null,"1PP : 1,30*2,10",null,2.73]
[null,null,"1NP : 1,30*2,10*3",null,8.19]
[null,null,"2NP : 1,30*2,10",null,2.73]
[null,null,"3NP : 1,30*2,10",null,2.73]
[null,null,"4NP : 1,30*2,10",null,2.73]
[null,null,"5NP : 1,30*2,10",null,2.73]
[{"$f":"A1546+1","v":259},"968072747R00","Vybourání kovových stěn výkladních pl. nad 4 m2","m2",63.95,null,{"$f":"E1553*F1553","v":0}]
[null,null,"1NP : 2,90*(2,90+2,50+2*3,90+2*3,40 + 2,05)",null,63.95]
[{"$f":"A1553+1","v":260},"970031100R00","Vrtání jádrové do zdiva cihelného do D 100 mm","m",10,null,{"$f":"E1555*F1555","v":0}]
[{"$f":"A1555+1","v":261},"970031160R00","Vrtání jádrové do zdiva cihelného do D 160 mm","m",10,null,0]
[{"$f":"A1556+1","v":262},"970034100R00","Příp. za jádr. vrt. vod. ve stěně cihel do D 100mm","m",10,null,0]
[263,"970034160R00","Příp. za jádr. vrt. vod. ve stěně cihel do D 160mm","m",10,null,0]
[264,"970051100R00","Vrtání jádrové do ŽB do D 100 mm","m",10,null,0]
[265,"970057100R00","Příp. za časté přem. str. jád. vrt. ŽB do D 100 mm","m",10,null,0]
[266,"970241100R00","Řezání prostého betonu hl. řezu 100 mm","m",10,null,0]
[267,"971033541R00","Vybourání otv. zeď cihel. pl.1 m2, tl.30 cm, MVC","m3",1.33,null,0]
[null,null,"Včetně pomocného lešení o výšce podlahy do 1900 mm a pro zatížení do 1,5 kPa  (150 kg/m2).",null," "]
[null,null,"1PP : 0,30*(0,60*1,20)",null,0.22]
[null,null,"2NP : 0,30*(0,70*0,50) +1",null,1.1100000000000001]
[{"$f":"A1562+1","v":268},"971033561R00","Vybourání otv. zeď cihel. pl.1 m2, tl.60 cm, MVC","m3",5.71,null,{"$f":"E1566*F1566","v":0}]
[null,null,"Včetně pomocného lešení o výšce podlahy do 1900 mm a pro zatížení do 1,5 kPa  (150 kg/m2).",null," "]
[null,null,"1PP : 0,60*(2*0,80*1,55)",null,1.49]
[null,null,"1NP : 0,60*(2*0,80*1,20)",null,1.1599999999999999]
[null,null,"2NP : 0,60*(0,75*0,50) +2",null,2.23]
[null,null,"4NP - parapet okno 019 : 0,60*(1,50*0,45)",null,0.41000000000000003]
[null,null,"střecha - m.č. 501 : 2*(0,35*(0,95*0,65))",null,0.44]
[{"$f":"A1566+1","v":269},"971033641R00","Vybourání otv. zeď cihel. pl.4 m2, tl.30 cm, MVC","m3",0.42,null,{"$f":"E1573*F1573","v":0}]
[null,null,"Včetně pomocného lešení o výšce podlahy do 1900 mm a pro zatížení do 1,5 kPa  (150 kg/m2).",null," "]
[null,null,"1NP - m.č. 020 : 0,30*(0,70*2,00)",null,0.42]
[{"$f":"A1573+1","v":270},"971033651R00","Vybourání otv. zeď cihel. pl.4 m2, tl.60 cm, MVC","m3",11.15,null,{"$f":"E1576*F1576","v":0}]
[null,null,"Včetně pomocného lešení o výšce podlahy do 1900 mm a pro zatížení do 1,5 kPa  (150 kg/m2).",null," "]
[null,null,"1PP : 0,60*(1,40*1,00)",null,0.84]
[null,null,"1NP - dveře D02 : 0,60*(0,85*1,25 + 0,25*1,50)",null,0.87]
[null,null,"okna 2-5NP : 0,50*1,40*2,30*4 +3",null,9.44]
[{"$f":"A1576+1","v":271},"972054491R00","Vybourání otv. stropy ŽB pl. 1 m2, tl. nad 8 cm","m3",1.76,null,{"$f":"E1581*F1581","v":0}]
[null,null,"1PP : (0,11*(0,65))*1,05",null,0.08]
[null,null,"1NP : (0,11*(0,70+0,40+0,90+0,55+0,50))*1,05",null,0.36]
[null,null,"2NP : (0,11*(0,70+0,50+0,55+0,55))*1,05",null,0.27]
[null,null,"3NP : (0,11*(0,80+0,50+0,55+0,55))*1,05",null,0.28000000000000003]
[null,null,"4NP : (0,11*(0,80+0,55+0,60))*1,05",null,0.23]
[null,null,"5NP : (0,11*(0,50))*1,05 + 0,50",null,0.56000000000000005]
[{"$f":"A1581+1","v":272},"972054691R00","Vybourání otv. stropy ŽB pl. 4 m2, tl. nad 8 cm","m3",9.17,null,{"$f":"E1588*F1588","v":0}]
[null,null,"1PP : (0,11*(2,20+5,00))*1,05",null,0.84]
[null,null,"1NP : (0,11*(2,50+1,80+1,10+1,80))*1,05",null,0.84]
[null,null,"2NP : (0,11*(1,80+2,50+1,80+1,10+1,80))*1,05",null,1.04]
[null,null,"3NP : (0,11*(1,80+2,50+1,80+1,10+1,80))*1,05",null,1.04]
[null,null,"4NP : (0,11*(1,30+1,80+2,50+1,80+1,80))*1,05",null,1.07]
[null,null,"5NP : (0,11*(1,30+1,10+2,00+2,20+1,10+1,20+1,10+1,80))*1,05 + 3",null,4.37]
[{"$f":"A1588+1","v":273},"973031324R00","Vysekání kapes zeď cihel. MVC, pl. 0,1m2, hl. 15cm","kus",4,null,{"$f":"E1595*F1595","v":0}]
[null,null,"Včetně pomocného lešení o výšce podlahy do 1900 mm a pro zatížení do 1,5 kPa  (150 kg/m2).",null," "]
[null,null,"1PP - HEB : 4",null,4]
[{"$f":"A1595+1","v":274},"973031325R00","Vysekání kapes zeď cihel. MVC, pl. 0,1m2, hl. 30cm","kus",106,null,{"$f":"E1598*F1598","v":0}]
[null,null,"Včetně pomocného lešení o výšce podlahy do 1900 mm a pro zatížení do 1,5 kPa  (150 kg/m2).",null," "]
[null,null,"nosníky stropu : ",null," "]
[null,null,"nad 1PP : 31",null,31]
[null,null,"nad 1NP : 23",null,23]
[null,null,"nad 1NP : 23",null,23]
[null,null,"nad 3NP : 17",null,17]
[null,null,"nad 4NP : 8",null,8]
[null,null,"v m.č.501 - kce pro DA : 2",null,2]
[null,null,"výtah - 140 - nv1 : 2",null,2]
[{"$f":"A1598+1","v":275},"973031334R00","Vysekání kapes zeď cih, MVC pl. 0,16 m2, hl. 15 cm","kus",20,null,{"$f":"E1608*F1608","v":0}]
[null,null,"Včetně pomocného lešení o výšce podlahy do 1900 mm a pro zatížení do 1,5 kPa  (150 kg/m2).",null," "]
[null,null,"1PP - 140 - z2.1 až z2.5 - pro zhlaví 200*600mm : 20",null,20]
[{"$f":"A1608+1","v":276},"973031345R00","Vysekání kapes zeď cih. MVC pl. 0,25 m2, hl. 30 cm","kus",10,null,{"$f":"E1611*F1611","v":0}]
[null,null,"Včetně pomocného lešení o výšce podlahy do 1900 mm a pro zatížení do 1,5 kPa  (150 kg/m2).",null," "]
[{"$f":"A1611+1","v":277},"974031664R00","Vysekání rýh zeď cihelná vtah. nosníků 15 x 15 cm","m",38.700000000000003,null,{"$f":"E1613*F1613","v":0}]
[null,null,"1PP - 100 - p3.1 : (2*4*1,15)",null,9.2000000000000011]
[null,null,"1PP - 100 - výtahová šachta : (2*1,15)",null,2.3000000000000003]
[null,null,"1NP - 100 - p3.2 : (10*1,25)",null,12.5]
[null,null,"2NP - 100 - p3.3 : (4*1,25)",null,5]
[null,null,"střecha - 100 - p3.4 + p5 : (2*2,15+4*1,35)",null,9.7000000000000011]
[{"$f":"A1613+1","v":278},"974031666R00","Vysekání rýh zeď cihelná vtah. nosníků 15 x 25 cm","m",30.650000000000002,null,{"$f":"E1619*F1619","v":0}]
[null,null,"1PP - 200 - p2.1 : (2*2,05)",null,4.0999999999999996]
[null,null,"1NP - 140 - p4.1 : (3*1,85)",null,5.55]
[null,null,"2NP - 140 - p4.2 : (3*1,75)",null,5.25]
[null,null,"3NP - 140 - p4.3 : (3*1,75)",null,5.25]
[null,null,"4NP - 140 - p4.4 : (3*1,75)",null,5.25]
[null,null,"5NP - 140 - p4.5 : (3*1,75)",null,5.25]
[{"$f":"A1619+1","v":279},"974042532R00","Vysekání rýh v podlaze betonové, 5x7 cm","m",47,null,{"$f":"E1626*F1626","v":0}]
[null,null,"NN : ",null," "]
[null,null,"1NP : 4,0",null,4]
[null,null,"2NP : 10,0",null,10]
[null,null,"3NP : 10,0",null,10]
[null,null,"4NP : 23,0",null,23]
[{"$f":"A1626+1","v":280},"974042533R00","Vysekání rýh v podlaze betonové, 5x10 cm","m",11,null,{"$f":"E1632*F1632","v":0}]
[null,null,"NN - 1NP : 5,0",null,5]
[null,null,"NN - 4NP : 6,0",null,6]
[{"$f":"A1632+1","v":281},"974052513R00","Frézování drážky do 30x30 mm, strop, beton","m",156,null,{"$f":"E1635*F1635","v":0}]
[null,null,"SLP - 1NP : 38,0",null,38]
[null,null,"SLP - 2NP : 56,0",null,56]
[null,null,"SLP - 3NP : 28,0",null,28]
[null,null,"SLP - 4NP : 34,0",null,34]
[{"$f":"A1635+1","v":282},"975043121R00","Jednořad.podchycení stropů do 3,5 m,do 1000 kg/m","m",100,null,{"$f":"E1640*F1640","v":0}]
[{"$f":"A1640+1","v":283},"976061111R00","Vybourání dřevěných zábradlí a madel","m",249,null,{"$f":"E1641*F1641","v":0}]
[null,null,"demontáž dřevěných madel zábradlí k repasování ! : ",null," "]
[null,null,"Z.01 : 55,0+56,0",null,111]
[null,null,"Z.02 : 48,0",null,48]
[null,null,"Z.03 : 53,0",null,53]
[null,null,"Z.05 : 18,0",null,18]
[null,null,"Z.06 : 19,0",null,19]
[{"$f":"A1641+1","v":284},"976075211R00","Vybourání ocel.konzol hmotnost do 20 kg","t",1,null,{"$f":"E1648*F1648","v":0}]
[{"$f":"A1648+1","v":285},"978011191R00","Otlučení omítek vnitřních vápenných stropů do 100%","m2",3337.07,null,{"$f":"E1649*F1649","v":0}]
[null,null,"***1PP : ",null," "]
[null,null,"S01 : 25,5*2+38,0+23,5+36,0+0,60*(4*1,02+2*1,6+2*1,3+1,5+2,2)",null,156.65]
[null,null,"boky trámů : ((7*2+4)*4,40*0,27)+((3*2)*2,30*0,16)+((5*2)*3,40*0,27)",null,32.78]
[null,null,"S02 : 3,3",null,3.3000000000000003]
[null,null,"S03+06 : 43,0",null,43]
[null,null,"boky trámů : ((4*2)*5,50*0,30)",null,13.200000000000001]
[null,null,"S04 : 8,0",null,8]
[null,null,"***1NP : ",null," "]
[null,null,"001+2+3+4+5 : 410,0",null,410]
[null,null,"boky trámů : 0,26*(2*(3,5*3+2,1*3+2,5+3,7*2+2,7+4+2,9+3,3+3,1+3,8+4,5+4,2+4,1+3,9+12,7+9,5+9+8,5+8+10))",null,62.870000000000005]
[null,null,"0,28*(2*(4,6*6+3,6*6))",null,27.560000000000002]
[null,null,"0,35*(2*(11,4+12,0+4,6*2))",null,22.82]
[null,null,"(0,33+0,50)*((20,5+8,1)*2)",null,47.480000000000004]
[null,null,"008 : 14,0*1,2",null,16.8]
[null,null,"***2NP : ",null," "]
[null,null,"101 : 14,0*1,2",null,16.8]
[null,null,"103+104+105 : 410,0",null,410]
[null,null,"boky trámů : 0,26*(2*(3,2*2+3+2,6+2,8+3,8+3,5+3,4+2,9+4,1 + 2,5+3,8+2,7+4+2,9+2+3,5+3,3+3,1+2,0*2))",null,33.44]
[null,null,"0,26*(2*(3,8+4,4+4,2+4+3,8+3,7+3,4+12,6+3,5 + 4,6*6+3,6*6))",null,48.160000000000004]
[null,null,"0,32*(2*(13,7*2+12,1))",null,25.28]
[null,null,"0,35*(2*(11,5+2*4,6))",null,14.49]
[null,null,"(0,33+0,50)*((20,5+8,1)*2)",null,47.480000000000004]
[null,null,"***3NP : 16,80 + (410,0*1,42)",null,599]
[null,null,"***4NP : 16,80 + (410,0*1,42)",null,599]
[null,null,"***5NP : 16,80 + (410,0*1,42)",null,599]
[null,null,"+100",null,100]
[{"$f":"A1649+1","v":286},"978013191R00","Otlučení omítek vnitřních stěn v rozsahu do 100 %","m2",3730.37,null,{"$f":"E1676*F1676","v":0}]
[null,null,"***1PP : ",null," "]
[null,null,"uliční část - odkopané zdivo 1PP : 2,80*8,30",null,23.240000000000002]
[null,null,"S01 : 2,40*(2*(6,8+3,0+1,1)+4,7+0,35+5,5+4,1+1,3+0,7+0,6*3+3,9+3,2+2*0,7+2,3+0,3)",null,123.24000000000001]
[null,null,"2,40*(3,3+3,0+0,7*2+3,0+4,0+4,3+1,7+12,0+3,3+0,4)",null,87.36]
[null,null,"2,40*(4*(4*0,63)+4*(2*(1,06+0,6)))",null,56.07]
[null,null,"S02 : 2,30*(2*(12,3+5,4))",null,81.42]
[null,null,"S03+6 : 2,40*(2*(8,0+5,60)+2*0,9+2*0,75)",null,73.2]
[null,null,"S04 : 2,40*(2,3+1,1+4,0+2,7)",null,24.240000000000002]
[null,null,"S05 : 2,50*(2*(2,0+2,7))",null,23.5]
[null,null,"***1NP : ",null," "]
[null,null,"002+005+006 : 3,65*(8,5+2,3+0,5*3+2*0,9+4,0+3,5+2,0+5,1+0,9+9,0+11,0+4,7+29,3)",null,305.14]
[null,null,"3,65*(2*(0,32+0,65+0,26+0,65)+10*(2*(0,32+0,66))+2*(2*0,32+2*0,5+2*0,65)+2*(4*0,5))",null,121.33]
[null,null,"003+004 : 3,10*(2*9,00)",null,55.800000000000004]
[null,null,"007 : 3,80*(2*(2,0+2,7))",null,35.72]
[null,null,"008 : 3,65*(2*(2,5+8,0))",null,76.650000000000006]
[null,null,"***2NP : ",null," "]
[null,null,"101 : 3,65*(8,0+2*2,5+2*(2*(0,48+0,95)))",null,68.33]
[null,null,"102 : 3,80*(2*(2,0+2,7))",null,35.72]
[null,null,"103+104+105 : 3,65*(7,5+22,5+2,4+0,5+3,5+2,0+5,3+0,75+8,8+11,0+4,0+39,5+4,5)",null,409.72]
[null,null,"3,65*(4*(2*(0,42+0,3))+10*(2*(0,32+0,56))+4*(2*0,32+0,5+0,4+0,55+0,65)+2*(4*0,5))",null,139.87]
[null,null,"-okna do ulice : -(3*2,0*2,0)",null," "]
[null,null,"***3NP : ",null," "]
[null,null,"201 : 3,50*(8,0+2*2,5+2*(2*(0,48+0,95)))",null,65.52]
[null,null,"202 : 3,65*(2*(2,0+2,7))",null,34.31]
[null,null,"203+204+205 : 3,50*(7,4+22,5+2,4+0,5+3,5+2,0+5,3+0,8+8,8+11,0+4,7+43,0)",null,391.65000000000003]
[null,null,"3,50*(4*(2*(0,42+0,2))+10*(2*(0,32+0,46))+4*(2*0,32+0,4+0,4+0,45+0,65)+2*(4*0,42))",null,119.28]
[null,null,"-okna do ulice : -(3*2,0*2,0)",null," "]
[null,null,"***4NP : ",null," "]
[null,null,"301 : 3,40*(8,0+2*2,5+2*(2*(0,48+0,95)))",null,63.65]
[null,null,"302 : 3,55*(2*(2,0+2,7))",null,33.369999999999997]
[null,null,"303+304+305+306+307+308 : 3,40*(7,4+22,5+2,4+0,5+3,5+2,0+5,3+0,9+8,8+11,0+6,8+40,8)",null,380.46]
[null,null,"3,40*(4*(2*(0,42+0,2))+10*(2*(0,32+0,34))+4*(2*0,32+0,4+0,35+0,40+0,65)+2*(4*0,3))",null,103.09]
[null,null,"-okna do ulice : -(3*2,0*2,0)",null," "]
[null,null,"***5NP : ",null," "]
[null,null,"401 : 3,40*(8,0+2*2,5) +1,10*(2*(2*(0,48+0,95)))",null,50.5]
[null,null,"402 : 3,40*(2*(2,0+2,7))",null,31.96]
[null,null,"403+404 : 3,00*7,70 + 3,00*(22,5+2,5+0,5+3,5+2,2+5,3+0,9+8,8+11,3+6,6+40,9)",null,338.1]
[null,null,"3,00*(4*(2*(0,42+0,2))+10*(2*(0,32+0,34))+4*(2*0,32+0,4+0,35+0,40+0,65)+2*(4*0,3))",null,90.960000000000008]
[null,null,"***střecha : ",null," "]
[null,null,"501 : 3,00*(2*(3,50+4,50)) -(1,6*2,0)",null,44.800000000000004]
[null,null,"ochozy - vnitřní strana průvlaku do atria : 5*(0,60*(2*(25,10+4,60)))",null,178.20000000000002]
[null,null,"100",null,100]
[{"$f":"A1676+1","v":287},"978023411R00","Vysekání a úprava spár zdiva cihelného mimo komín.","m2",1019.09,null,{"$f":"E1719*F1719","v":0}]
[null,null,"***1PP : ",null," "]
[null,null,"S01 : 2,40*(2*(6,8+3,0+1,1)+4,7+0,35+5,5+4,1+1,3+0,7+0,6*3+3,9+3,2+2*0,7+2,3+0,3)",null,123.24000000000001]
[null,null,"2,40*(3,3+3,0+0,7*2+3,0+4,0+4,3+1,7+12,0+3,3+0,4)",null,87.36]
[null,null,"2,40*(4*(4*0,63)+4*(2*(1,06+0,6)))",null,56.07]
[null,null,"S02 : 2,30*(2*(12,3+5,4))",null,81.42]
[null,null,"S03+6 : 2,40*(2*(8,0+5,60)+2*0,9+2*0,75)",null,73.2]
[null,null,"S04 : 2,40*(2,3+1,1+4,0+2,7)",null,24.240000000000002]
[null,null,"S05 : 2,50*(2*(2,0+2,7))",null,23.5]
[null,null,"***1NP : ",null," "]
[null,null,"002+005+006 : 3,65*(8,5+2,3+0,5*3+2*0,9+4,0+3,5+2,0+5,1+0,9+9,0+11,0+4,7+29,3)",null,305.14]
[null,null,"003+004 : 3,10*(2*9,00)",null,55.800000000000004]
[null,null,"007 : 3,80*(2*(2,0+2,7))",null,35.72]
[null,null,"008 : 3,65*(2*(2,5+8,0))",null,76.650000000000006]
[null,null,"fasáda SZ : ",null," "]
[null,null," mn. položky pořadí 188 : 76,75500",null,76.760000000000005]
[{"$f":"A1719+1","v":288},"978041114R00","Odstranění KZS EPS F tl. 140 mm s omítkou","m2",20.100000000000001,null,{"$f":"E1735*F1735","v":0}]
[null,null,"SV : 3,00*4,00 + 1,00*8,10",null,20.100000000000001]
[{"$f":"A1735+1","v":289},"978059531R00","Odsekání vnitřních obkladů stěn nad 2 m2","m2",20,null,{"$f":"E1737*F1737","v":0}]
[null,null,"wc u výtahové šachty - dvě stěny : 4*(2,0*(1,50+1,00))",null,20]
[{"$f":"A1737+1","v":290},"978059631R00","Odsekání vnějších obkladů stěn nad 2 m2","m2",100.5,null,{"$f":"E1739*F1739","v":0}]
[null,null,"1NP - obklad u vstupu - 001+003+004 : 3,30*(0,35+4,80+0,30+4,4+0,8+0,55*2+0,75)",null,41.25]
[null,null,"3,30*(2*(2*(0,3+0,52))+4*(4*0,54)+2*(0,54+2*0,7))",null,52.14]
[null,null,"0,35*(3,0+2,5+2*3,9+2*3,5)",null,7.11]
[{"$f":"A1739+1","v":291},"900      R01","HZS stavební dělník v tarifní třídě 4","h",100,null,{"$f":"E1743*F1743","v":0}]
[null,null,"nezměřitelné práce demontážní - rezerva rekonstrukce - účtováno dle skutečnosti : 100",null,100]
[{"$f":"A1743+1","v":292},"96-HZS-01","odstranění ocelové kce světlíku nad atriem - v úrovni střechy práce + prostředky a materiál k dělení kce","hod",48,null,{"$f":"E1745*F1745","v":0}]
[null,null,"položka je za práci - rozebrání konstrukce a přesun k odvozu.",null," "]
[null,null,"předpokládá se odvoz na sběrný dvůr - není tedy položka za uložení ocelové kce na skládku.",null," "]
[null,null,"přesun na sběrný dvůr bude hrazen z prostředků získaných za prodej oceli.",null," "]
[null,null,"odhad - 6pracovníků/8hodin : 6*8",null,48]
["Díl:","99","Staveništní přesun hmot",null," ",null,{"$f":"SUBTOTAL(9,G1751)","v":0}]
[{"$f":"A1745+1","v":293},"999281111R00","Přesun hmot pro opravy a údržbu do výšky 25 m","t",1767.1100000000001,null,{"$f":"E1751*F1751","v":0}]
["Díl:","711","Izolace proti vodě",null," ",null,{"$f":"SUBTOTAL(9,G1753:G1809)","v":0}]
[{"$f":"A1751+1","v":294},"711111006RZ4","Izolace proti vlhkosti vodor.,nátěr penetr.emulzí včetně emulze Dekprimer 0,4 kg/m2","m2",587.32000000000005,null,{"$f":"E1753*F1753","v":0}]
[null,null,"desky VZT kanálů - č.1 : (6,000)*1,1",null,6.6000000000000005]
[null,null,"desky VZT kanálů - č.2 - ve spádu vč. svislého pásu : (2,20*2,60)+(2*2,20*1,25)",null,11.22]
[null,null,"podkladní základová deska pod 1NP : (520,0)",null,520]
[null,null,"dvorek sousední m.č. 026 : (3,00*6,50)  +30",null,49.5]
[{"$f":"A1753+1","v":295},"711112006RZ4","Izolace proti vlhkosti svis.,nátěr penetr.emulzí včetně emulze Dekprimer 0,4 kg/m2","m2",249.44,null,{"$f":"E1758*F1758","v":0}]
[null,null,"desky VZT kanálů - č.1 : (2*2,00*4,50)",null,18]
[null,null,"desky VZT kanálů - č.2 - ve spádu vč. svislého pásu : (2*2,20*1,25+4,00+3,90)",null,13.4]
[null,null,"nové stěny v 1PP rubová strana - S13 : 2*(2,50*(4,10+3,20+4*0,50))",null,46.5]
[null,null,"podkladní základová deska pod 1NP - svisle na stěny : 0,40*150",null,60]
[null,null,"uliční část - odkopané zdivo 1PP : 2,80*8,30",null,23.240000000000002]
[null,null,"dvorní část - kolem objektu : 1,00*(8,5+1,0+11,0)*1,1",null,22.55]
[null,null,"2,50*(13,0)*1,1",null,35.75]
[null,null,"+30",null,30]
[{"$f":"A1758+1","v":296},"711141559RT2","Izolace proti vlhk. vodorovná pásy přitavením 2 vrstvy - materiál ve specifikaci","m2",587.32000000000005,null,{"$f":"E1767*F1767","v":0}]
[null,null," mn. položky pořadí 297 : 587,32000",null,587.32000000000005]
[{"$f":"A1767+1","v":297},"711142559RT2","Izolace proti vlhkosti svislá pásy přitavením 2 vrstvy - materiál ve specifikaci","m2",249.44,null,{"$f":"E1769*F1769","v":0}]
[null,null," mn. položky pořadí 298 : 249,44000",null,249.44]
[{"$f":"A1769+1","v":298},"711140101R00","Odstr.izolace proti vlhk.vodor. pásy přitav.,1vrst","m2",282.16000000000003,null,{"$f":"E1771*F1771","v":0}]
[null,null,"1PP - S03 - sonda P8/1 + P8/2 : (4,10*5,60)",null,22.96]
[null,null,"podkladní základová deska pod 1NP : (89,4+75,4+42,0+52,40)",null,259.2]
[{"$f":"A1771+1","v":299},"711140201R00","Odstr.izolace proti vlhk.svis. pásy přitav.,1vrs","m2",99.79,null,{"$f":"E1774*F1774","v":0}]
[null,null,"1PP - přizděná příčka v S03 a S06 : 2,50*(4,10+3,20)",null,18.25]
[null,null,"uliční část - odkopané zdivo 1PP : 2,80*8,30",null,23.240000000000002]
[null,null,"dvorní část - kolem objektu : 1,00*(8,5+1,0+11,0)*1,1",null,22.55]
[null,null,"2,50*(13,0)*1,1",null,35.75]
[{"$f":"A1774+1","v":300},"711212000RT1","Penetrace podkladu pod hydroizolační nátěr,vč.dod. ASO-Unigrund (fa Schömburg)","m2",20.100000000000001,null,{"$f":"E1779*F1779","v":0}]
[null,null," mn. položky pořadí 304 : 20,10000",null,20.100000000000001]
[{"$f":"A1779+1","v":301},"711212002RT1","Hydroizolační povlak - nátěr nebo stěrka Aquafin 2K (fa Schömburg),proti vlhkosti, tl. 2mm","m2",20.100000000000001,null,{"$f":"E1781*F1781","v":0}]
[null,null,"dvouvrstvá",null," "]
[null,null,"sokl ve dvorní části : 0,60*(11,0+1,0+8,50+13,0)",null,20.100000000000001]
[{"$f":"A1781+1","v":302},"711823121RT3","Montáž nopové fólie svisle včetně dodávky fólie DELTA MS","m2",116.54,null,{"$f":"E1784*F1784","v":0}]
[null,null,"uliční část - odkopané zdivo 1PP : 2,80*8,30*1,1",null,25.57]
[null,null,"dvorní část - kolem objektu : 1,50*(8,5+1,0+11,0)*1,1",null,33.83]
[null,null,"2,50*(13,0)*1,1",null,35.75]
[null,null,"desky VZT kanálů - č.1 : (2,00*4,00)",null,8]
[null,null,"desky VZT kanálů - č.2 - ve spádu vč. svislého pásu : (2*2,20*1,25+4,00+3,90)",null,13.4]
[{"$f":"A1784+1","v":303},"711823129RT2","Montáž ukončovací lišty k nopové fólii včetně dodávky lišty DELTA-MS PROFIL","m",45.980000000000004,null,{"$f":"E1790*F1790","v":0}]
[null,null,"uliční část - odkopané zdivo 1PP : 8,30*1,1",null,9.1300000000000008]
[null,null,"dvorní část - kolem objektu : (13,0+8,5+1,0+11,0)*1,1",null,36.85]
[{"$f":"A1790+1","v":304},"62852251R","Pás modifikovaný asfalt Elastek 40 special mineral","m2",920.44,null,{"$f":"E1793*F1793","v":0}]
[null,null,"pás hydroizolační z modifikovaného asfaltu",null," "]
[null,null,"vložka nosná         - impregnovaná polyesterová rohož",null," "]
[null,null,"povrchová úprava - vrchní - minerální jemnozrný posyp",null," "]
[null,null,"                              - spodní - PE fólie",null," "]
[null,null,"tloušťka pásu         - 4,0 mm",null," "]
[null,null," mn. položky pořadí 299 : 587,32000*1,1",null,646.06000000000006]
[null,null," mn. položky pořadí 300 : 249,44000*1,1",null,274.39]
[{"$f":"A1793+1","v":305},"62852265R","Pás modifikovaný asfalt Glastek 40 special mineral","m2",920.44,null,{"$f":"E1801*F1801","v":0}]
[null,null,"pás hydroizolační z modifikovaného asfaltu",null," "]
[null,null,"vložka nosná         - skleněná tkanina",null," "]
[null,null,"povrchová úprava - vrchní - minerální jemnozrný posyp",null," "]
[null,null,"                              - spodní - PE fólie",null," "]
[null,null,"tloušťka pásu         - 4,0 mm",null," "]
[null,null," mn. položky pořadí 299 : 587,32000*1,1",null,646.06000000000006]
[null,null," mn. položky pořadí 300 : 249,44000*1,1",null,274.39]
[{"$f":"A1801+1","v":306},"998711102R00","Přesun hmot pro izolace proti vodě, výšky do 12 m","t",9.65,null,{"$f":"E1809*F1809","v":0}]
["Díl:","712","Povlakové krytiny",null," ",null,{"$f":"SUBTOTAL(9,G1811:G1914)","v":0}]
[{"$f":"A1809+1","v":307},"712311106RZ4","Povlaková krytina střech do 10°, asfalt.pen.emulze včetně emulze Dekprimer 0,4 kg/m2","m2",623.70000000000005,null,{"$f":"E1811*F1811","v":0}]
[null,null,"parozábrana střech : ",null," "]
[null,null,"S01 : 450,0*1,1",null,495]
[null,null,"S02 : 45,0*1,1",null,49.5]
[null,null,"S03 : 22,0*1,1",null,24.2]
[null,null,"krytina : ",null," "]
[null,null,"S04 : 50,0*1,1",null,55]
[{"$f":"A1811+1","v":308},"712341559RT1","Povlaková krytina střech do 10°, NAIP přitavením 1 vrstva - materiál ve specifikaci","m2",599.5,null,{"$f":"E1818*F1818","v":0}]
[null,null,"parozábrana střech : ",null," "]
[null,null,"S01 : 450,0*1,1",null,495]
[null,null,"S02 : 45,0*1,1",null,49.5]
[null,null,"krytina : ",null," "]
[null,null,"S04 : 50,0*1,1",null,55]
[{"$f":"A1818+1","v":309},"712341559RT2","Povlaková krytina střech do 10°, NAIP přitavením 2 vrstvy - materiál ve specifikaci","m2",24.2,null,{"$f":"E1824*F1824","v":0}]
[null,null,"krytina : ",null," "]
[null,null,"S03 : 22,0*1,1",null,24.2]
[{"$f":"A1824+1","v":310},"712348104RT1","Prostup pro kabely s manžetou z asfaltového pásu průměr prostupu 50 mm","kus",2,null,{"$f":"E1827*F1827","v":0}]
[null,null,"Osazení a ukotvení prostupu, utěsnění PU pěnou a přitavení límce.",null," "]
[null,null,"sloupky kotevních bodů zapezpečovacího systému : 2",null,2]
[{"$f":"A1827+1","v":311},"712378004R00","Závětrná lišta VIPLANYL RŠ 250 mm","m",82,null,{"$f":"E1830*F1830","v":0}]
[null,null,"Úprava délky a připevnění závětrné lišty natloukacími hmoždinkami včetně dodávky lišty.",null," "]
[null,null,"Kl.1 : 73,0",null,73]
[null,null,"podél prvku Kl.3 - lemování : 9,0",null,9]
[{"$f":"A1830+1","v":312},"712378005R00","Stěnová lišta vyhnutá VIPLANYL RŠ 70 mm","m",42.6,null,{"$f":"E1834*F1834","v":0}]
[null,null,"Úprava délky a připevnění stěnové lišty natloukacími hmoždinkami včetně dodávky lišty.",null," "]
[null,null,"Kl.2 : 24,0",null,24]
[null,null,"kolem DA : 2*(4,10+5,20)",null,18.600000000000001]
[{"$f":"A1834+1","v":313},"712378006R00","Rohová lišta vnější VIPLANYL RŠ 100 mm","m",87.2,null,{"$f":"E1838*F1838","v":0}]
[null,null,"Úprava délky a připevnění rohové lišty natloukacími hmoždinkami včetně dodávky lišty.",null," "]
[null,null,"kolem přefuku : 4*1,20",null,4.8]
[null,null,"kolem výlezu : 2*(0,90+1,30)",null,4.4000000000000004]
[null,null,"kolem světlíku : 2*(8,0+21,0)",null,58]
[null,null,"20",null,20]
[{"$f":"A1838+1","v":314},"712378007R00","Rohová lišta vnitřní VIPLANYL RŠ 100 mm","m",129.80000000000001,null,{"$f":"E1844*F1844","v":0}]
[null,null,"Úprava délky a připevnění rohové lišty včetně dodávky lišty.",null," "]
[null,null,"kolem DA : 2*(4,10+5,20)",null,18.600000000000001]
[null,null,"kolem přefuku : 4*1,20",null,4.8]
[null,null,"kolem výlezu : 2*(0,90+1,30)",null,4.4000000000000004]
[null,null,"kolem světlíku : 2*(8,0+21,0)",null,58]
[null,null,"pod Kl.2 : 24,0",null,24]
[null,null,"20",null,20]
[{"$f":"A1844+1","v":315},"712378008R00","Pásek VIPLANYL RŠ 50 mm","m",100,null,{"$f":"E1852*F1852","v":0}]
[null,null,"Úprava délky a připevnění pásku natloukacími hmoždinkami včetně dodávky pásku.",null," "]
[{"$f":"A1852+1","v":316},"712378101RT4","Komínek odvětrání kanalizace s manžetou z PVC pro DN 125 mm","kus",12,null,{"$f":"E1854*F1854","v":0}]
[null,null,"Osazení a ukotvení komínku, přitavení těsnicí manžety.",null," "]
[{"$f":"A1854+1","v":317},"712378104RT2","Prostup pro kabely s manžetou PVC průměr prostupu 50 mm","kus",16,null,{"$f":"E1856*F1856","v":0}]
[null,null,"Osazení a ukotvení prostupu, utěsnění PU pěnou, přitavení límce a doplnění zálivkovou hmotou.",null," "]
[null,null,"sloupky kotevních bodů zapezpečovacího systému : 16",null,16]
[{"$f":"A1856+1","v":318},"712378104RT5","Prostup pro kabely s manžetou PVC průměr prostupu 125 mm","kus",5,null,{"$f":"E1859*F1859","v":0}]
[null,null,"Osazení a ukotvení prostupu, utěsnění PU pěnou, přitavení límce a doplnění zálivkovou hmotou.",null," "]
[{"$f":"A1859+1","v":319},"712400832R00","Odstranění živičné krytiny střech do 30° 2vrstvé","m2",477.68,null,{"$f":"E1861*F1861","v":0}]
[null,null,"střecha - 3 aip + dehet 10mm + 10mm papír. lepenky s dehtem : ",null," "]
[null,null,"část plochá : 398,0",null,398]
[null,null,"část sklon 18% : 8,30*9,60",null,79.680000000000007]
[{"$f":"A1861+1","v":320},"712400834R00","Příplat.za odstr.každé další vrstvy,střechy do 30°","m2",1910.72,null,{"$f":"E1865*F1865","v":0}]
[null,null," mn. položky pořadí 322 : 477,68000*4",null,1910.72]
[{"$f":"A1865+1","v":321},"712472101R00","Mont.povlakové krytiny střech do 30°fólií kotvením","m2",495,null,{"$f":"E1867*F1867","v":0}]
[null,null,"Položení a svaření fólie, připenění kotvícími terči (4ks/m2) a překrytí kotev fólií.",null," "]
[null,null,"S01 : 450,0*1,1",null,495]
[{"$f":"A1867+1","v":322},"712491171RZ5","Povlaková krytina střech do 30°, podklad. textilie 1 vrstva - včetně dodávky textilie geoNETEX","m2",495,null,{"$f":"E1870*F1870","v":0}]
[null,null," mn. položky pořadí 324 : 495,00000",null,495]
[{"$f":"A1870+1","v":323},"7123780-3","okapnice VIPLANYL RŠ 250 mm","m",18,null,{"$f":"E1872*F1872","v":0}]
[null,null,"Úprava délky a připevnění okapnice natloukacími hmoždinkami včetně dodávky okapnice.",null," "]
[null,null,"KL.7 : 12,5",null,12.5]
[null,null,"podél DA : 5,5",null,5.5]
[{"$f":"A1872+1","v":324},"71247-01","protiskluzný chodník, bezpečnostní dílce na bázi mPVC, tl. 7,3mm, barva šedá, protiskluzný povrch","m2",6,null,{"$f":"E1876*F1876","v":0}]
[null,null,"dodávka a montáž",null," "]
[null,null,"referenční výrobek: SAFE WALK od TOPWET",null," "]
[null,null,"Vysoce odolný výrobek z PVC, určený k vytvoření koridorů na povrchu střech s hlavní hydroizolační vrstvou z fólie na bázi mPVC. Plocha každého prvku TS WALK je 50x50 cm. Díky tloušťce 7,3 mm je extrémně odolná proti opotřebení. Koridor je připojen k hlavnímu povrchu střechy svárem pomocí horkého vzduchu. Prvky mají odolnost proti UV záření",null," "]
[null,null,"střecha - mezi výlezem a DA : 6,0",null,6]
[{"$f":"A1876+1","v":325},"721234x101","Vtok střešní vyhřívaný DN110 včetně dodávky a montáže","kus",2,null,{"$f":"E1881*F1881","v":0}]
[null,null,"kompletní dodávka a montáž sestává z těchto komponentů:",null," "]
[null,null,"Střešní vtok s elektrickým ohřevem a integrovanou manžetou - dle parozábrany - asf. pás (referenční výrobek TOPWET TWE 110 BIT S)",null," "]
[null,null,"Nástavec s integrovanou manžetou a těsnícím kroužkem - dle krytiny - PVC fólie  (referenční výrobek TOPWET TWN 110 v300 PVC)",null," "]
[null,null,"Ochranný koš je součástí dodávky vtoku",null," "]
[null,null,"střecha : 2",null,2]
[{"$f":"A1881+1","v":326},"283220013R","Fólie izolační DEKPLAN 76 tl. 1,8 mm š. 1600 mm PVC-P s PES výztuží, šedá","m2",544.5,null,{"$f":"E1887*F1887","v":0}]
[null,null,"Fólie z PVC-P (měkčený polyvinylchlorid) a obsahují výztužnou PES (polyesterovou) vložku. Barevné provedení těchto fólií je šedé. Používají se pro vytvoření jednovrstvé, mechanicky kotvené hydroizolace plochých střech. Je možné ji použít i k izolaci šikmých a strmých střech. Fólie se kotví k podkladu zpravidla ve spojích, v případě potřeby vysokého počtu kotev i v ploše fólie. Fólie pro použití střešních skladeb do požárně nebezpečného prostoru.",null," "]
[null,null,"S01 : ",null," "]
[null,null," mn. položky pořadí 324 : 495,00000*1,1",null,544.5]
[{"$f":"A1887+1","v":327},"62852257R","Pás modifikovaný asfalt Elastodek 50 Special miner","m2",87.12,null,{"$f":"E1891*F1891","v":0}]
[null,null,"Hydroizolační pás z modifikovaného asfaltu s vložkou z polyesterového rouna a s povrchovou úpravou minerálním jemnozrnným posypem.",null," "]
[null,null,"vložka nosná         - polyesterové rouno",null," "]
[null,null,"povrchová úprava - vrchní - minerální jemnozrný posyp",null," "]
[null,null,"                              - spodní - PE fólie",null," "]
[null,null,"tloušťka pásu         - 5,0 mm",null," "]
[null,null,"krytina - horní pás : ",null," "]
[null,null,"S03 : (22,0*1,1)*1,1",null,26.62]
[null,null,"S04 : (50,0*1,1)*1,1",null,60.5]
[{"$f":"A1891+1","v":328},"62852265R","Pás modifikovaný asfalt Glastek 40 special mineral","m2",26.62,null,{"$f":"E1900*F1900","v":0}]
[null,null,"pás hydroizolační z modifikovaného asfaltu",null," "]
[null,null,"vložka nosná         - skleněná tkanina",null," "]
[null,null,"povrchová úprava - vrchní - minerální jemnozrný posyp",null," "]
[null,null,"                              - spodní - PE fólie",null," "]
[null,null,"tloušťka pásu         - 4,0 mm",null," "]
[null,null,"krytina - spodní pás : ",null," "]
[null,null,"S03 : (22,0*1,1)*1,1",null,26.62]
[{"$f":"A1900+1","v":329},"628522691R","Pás modifikovaný asfalt Glastek AL 40 mineral","m2",598.95000000000005,null,{"$f":"E1908*F1908","v":0}]
[null,null,"pás z SBS modifikovaného asfaltu s nosnou vložkou z AL fólie (8 µm) kašírovanou skleněnými vlákny (60 g/m2). Na horním povrchu je pás opatřen jemným separačním posypem. Na spodním povrchu je opatřen separační PE fólií.",null," "]
[null,null,"tloušťka pásu         - 4,0 mm",null," "]
[null,null,"parozábrana střech : ",null," "]
[null,null,"S01 : (450,0*1,1)*1,1",null,544.5]
[null,null,"S02 : (45,0*1,1)*1,1",null,54.45]
[{"$f":"A1908+1","v":330},"998712103R00","Přesun hmot pro povlakové krytiny, výšky do 24 m","t",5.66,null,{"$f":"E1914*F1914","v":0}]
["Díl:","713","Izolace tepelné",null," ",null,{"$f":"SUBTOTAL(9,G1916:G2012)","v":0}]
[{"$f":"A1914+1","v":331},"713111121RT1","Izolace tepelné stropů rovných spodem, drátem 1 vrstva - materiál ve specifikaci","m2",437,null,{"$f":"E1916*F1916","v":0}]
[null,null,"do podhledu P02 : ",null," "]
[null,null," mn. položky pořadí 107 : 109,00000",null,109]
[null,null,"do podhledu P03 : ",null," "]
[null,null," mn. položky pořadí 118 : 328,00000",null,328]
[{"$f":"A1916+1","v":332},"713111271RS2","Utěsnění styku s jinou konstr. oboustrannou páskou včetně pásky DELTA BUTYL-BAND","m",174,null,{"$f":"E1921*F1921","v":0}]
[null,null,"rám světlíku - svislá plocha - EPS100 tl. 100mm : (2*(8,0+21,0))",null,58]
[null,null,"rám světlíku - doteplení prosklení - XPS tl. 50mm : (2*(8,0+21,0))",null,58]
[null,null,"rám světlíku - doteplení prosklení - vata tl. cca. 100mm : (2*(8,0+21,0))",null,58]
[{"$f":"A1921+1","v":333},"713102111R00","Odstr.tep.izolace podlah,volně, EPS tl.do 100 mm","m2",50,null,{"$f":"E1925*F1925","v":0}]
[null,null,"1NP - sonda P5 - odhad : 5,00*10,00",null,50]
[{"$f":"A1925+1","v":334},"713103221R00","Odstr.tep.izol.stěn,kotvené,minerál tl.do 100 mm","m2",159.56,null,{"$f":"E1927*F1927","v":0}]
[null,null,"v obložení stěn v 5NP : 3,20*(3,80+3,30+3,85+3,20+ 3,5+3,2+2,6+3,+2,4+2,8+4,5+1,9+0,3+3,2)",null,132.96]
[null,null,"v obložení mansardy v 5NP : 3,80*7,00",null,26.6]
[{"$f":"A1927+1","v":335},"713121111RT1","Izolace tepelná podlah na sucho, jednovrstvá materiál ve specifikaci","m2",1085.8,null,{"$f":"E1930*F1930","v":0}]
[null,null,"FG11a - m.č. 016 : 16,0",null,16]
[null,null,"FG11b - m.č. 018 : 14,0",null,14]
[null,null,"F03b - m.č. 209 : 10,0",null,10]
[null,null,"F03c - m.č. 405 : 22,0",null,22]
[null,null,"F03d - m.č. 014 : 32,0",null,32]
[null,null,"F03e - m.č. 023 : 9,0",null,9]
[null,null,"F04c - m.č. 001+020 : 10,0+3,0",null,13]
[null,null,"912,79500",null,912.80000000000007]
[null,null,"47,00000",null,47]
[null,null,"10,00000",null,10]
[{"$f":"A1930+1","v":336},"713121121RT1","Izolace tepelná podlah na sucho, dvouvrstvá materiál ve specifikaci","m2",335,null,{"$f":"E1941*F1941","v":0}]
[null,null,"Nařezání izolace na potřebný rozměr a položení na podklad ve dvou vrstvách bez dodávky izolace.",null," "]
[null,null,"FG13a+F03a : (3,5+6,0+3,5+160,0+12,0+4,0+9,0+3,5+3,5+25,0+11,0+30,0)",null,271]
[null,null,"FG14a+F04a : (15,0+30,0)",null,45]
[null,null,"FG14b+F04b : 19,0",null,19]
[{"$f":"A1941+1","v":337},"713121118RU1","Montáž dilatačního pásku podél stěn včetně dodávky ISOVER N/PP 15x100x1000 mm","m",1500,null,{"$f":"E1946*F1946","v":0}]
[{"$f":"A1946+1","v":338},"713131130R00","Izolace tepelná stěn vložením do konstrukce","m2",34.800000000000004,null,{"$f":"E1947*F1947","v":0}]
[null,null,"Nařezání izolace na potřebný rouzměr. Vložení izolace do stěny bez dodávky tepelné izolace.",null," "]
[null,null,"Včetně pomocného lešení o výšce podlahy do 1900 mm a pro zatížení do 1,5 kPa.",null," "]
[null,null,"rám světlíku - doteplení prosklení - vata tl. cca. 100mm : 0,35*(2*(8,0+21,0))",null,20.3]
[null,null,"žb rám světlíku - mezi zdivo a beton věnce - vata tt. 20mm : 0,25*(2*(8,0+21,0))",null,14.5]
[{"$f":"A1947+1","v":339},"713131131R00","Izolace tepelná stěn lepením","m2",17.400000000000002,null,{"$f":"E1952*F1952","v":0}]
[null,null,"Očištění povrchu stěny od prachu, nařezání izolačních desek na požadovaný rozměr, nanesení lepicího tmelu, osazení desek.",null," "]
[null,null,"rám světlíku - doteplení prosklení - XPS tl. 50mm : 0,30*(2*(8,0+21,0))",null,17.400000000000002]
[{"$f":"A1952+1","v":340},"713131143R00","Montáž izolace na tmel a hmožd.4 ks/m2, beton","m2",39.800000000000004,null,{"$f":"E1955*F1955","v":0}]
[null,null,"rám světlíku - svislá plocha - EPS100 tl. 100mm : 0,60*(2*(8,0+21,0)) +5",null,39.800000000000004]
[{"$f":"A1955+1","v":341},"713141323R00","Izolace tepelná střech do tl.200 mm,2vrstvy,kotvy","m2",544.5,null,{"$f":"E1957*F1957","v":0}]
[null,null,"skladby střech : ",null," "]
[null,null,"S01 : 450,0*1,1",null,495]
[null,null,"S02 : 45,0*1,1",null,49.5]
[{"$f":"A1957+1","v":342},"713191100RT9","Položení separační fólie včetně dodávky PE fólie","m2",473.47,null,{"$f":"E1961*F1961","v":0}]
[null,null,"V položce jsou zakalkulovány náklady na dodávku folie.",null," "]
[null,null,"separace na tepelnou izolaci pod betonový potěr : ",null," "]
[null,null," mn. položky pořadí 200 : 473,47000",null,473.47]
[{"$f":"A1961+1","v":343},"713552121R00","Protipož.trubní ucpávka EI 120, do D 108 mm, stěna","kus",15,null,{"$f":"E1965*F1965","v":0}]
[null,null,"Otvor se utěsní minerální vlnou. Prostup i potrubí před a za prostupem je natřeno protipožární stěrkou. Cena obsahuje dodávku minerální vlny a požární stěrky.",null," "]
[null,null,"Včetně pomocného lešení o výšce podlahy do 1900 mm a pro zatížení do 1,5 kPa.",null," "]
[{"$f":"A1965+1","v":344},"713552151R00","Protipož.trubní ucpávka EI 120, do D 108 mm, strop","kus",18,null,{"$f":"E1968*F1968","v":0}]
[null,null,"Otvor se utěsní minerální vlnou. Prostup i potrubí před a za prostupem je natřeno protipožární stěrkou. Cena obsahuje dodávku požární minerální vlny a požární stěrky.",null," "]
[null,null,"Včetně pomocného lešení o výšce podlahy do 1900 mm a pro zatížení do 1,5 kPa.",null," "]
[{"$f":"A1968+1","v":345},"713571116RT2","Požárně ochranná manžeta hl. 60mm, EI 90, D 125 mm PROMASTOP®-U","kus",18,null,{"$f":"E1971*F1971","v":0}]
[null,null,"Montáž manžety ke stěně nebo stropu pomocí rozpěrné hmoždinky se šroubem. Cena obsahuje i dodávku manžety a spojovacích prostředků.",null," "]
[{"$f":"A1971+1","v":346},"713571120RT1","Požárně ochranná manžeta hl. 60mm, EI 90, D 200 mm Promastop®-FC6","kus",12,null,{"$f":"E1973*F1973","v":0}]
[null,null,"Montáž manžety ke stěně nebo stropu pomocí rozpěrné hmoždinky se šroubem. Cena obsahuje i dodávku manžety a spojovacích prostředků.",null," "]
[{"$f":"A1973+1","v":347},"28375460R","Polystyren extrudovaný XPS","m3",0.96,null,{"$f":"E1975*F1975","v":0}]
[null,null,"rám světlíku - doteplení prosklení - XPS tl. 50mm : 0,30*(2*(8,0+21,0))*0,05*1,1",null,0.96]
[{"$f":"A1975+1","v":348},"28375766.AR","Deska izolační polystyrén samozhášivý EPS 100","m3",150.86000000000001,null,{"$f":"E1977*F1977","v":0}]
[null,null,"skladby střech : ",null," "]
[null,null,"S01 : (450,0*1,1)*0,20*1,1",null,108.9]
[null,null,"S02 : (45,0*1,1)*0,20*1,1",null,10.89]
[null,null,"SP-05 : 0,14*138,0*1,1",null,21.26]
[null,null,"SP-07 : 0,17*32,0*1,1",null,5.99]
[null,null,"rám světlíku - svislá plocha - EPS100 tl. 100mm : 0,60*(2*(8,0+21,0))*0,10*1,1",null,3.83]
[{"$f":"A1977+1","v":349},"28375768.AR","Deska izolační polystyrén samozhášivý EPS 150","m3",54.89,null,{"$f":"E1984*F1984","v":0}]
[null,null,"FG11a - m.č. 016 : 16,0*0,10*1,1",null,1.76]
[null,null,"FG11b - m.č. 018 : 14,0*0,10*1,1",null,1.54]
[null,null,"FG13a+F03a : (3,5+6,0+3,5+160,0+12,0+4,0+9,0+3,5+3,5+25,0+11,0+30,0)*0,14*1,1",null,41.74]
[null,null,"FG14a+F04a : (15,0+30,0)*0,14*1,1",null,6.93]
[null,null,"FG14b+F04b : 19,0*0,14*1,1",null,2.93]
[{"$f":"A1984+1","v":350},"28375972R","Deska spádová EPS 150 BACHL","m3",45,null,{"$f":"E1990*F1990","v":0}]
[null,null,"450,0*0,10",null,45]
[{"$f":"A1990+1","v":351},"63150878R","Lamely izolační ISOVER NF 333 1000x333 tl. 100 mm","m2",22.330000000000002,null,{"$f":"E1992*F1992","v":0}]
[null,null,"rám světlíku - doteplení prosklení - vata tl. cca. 100mm : 0,35*(2*(8,0+21,0))*1,1",null,22.330000000000002]
[{"$f":"A1992+1","v":352},"63150896R","Deska příčková ISOVER MERINO tl. 50 mm š. 625 mm","m2",480.7,null,{"$f":"E1994*F1994","v":0}]
[null,null," mn. položky pořadí 334 : 437,00000*1,1",null,480.7]
[{"$f":"A1994+1","v":353},"63151434R","Deska z minerální plsti ISOVER N tl. 20 mm","m2",15.950000000000001,null,{"$f":"E1996*F1996","v":0}]
[null,null,"žb rám světlíku - mezi zdivo a beton věnce - vata tt. 20mm : (0,25*(2*(8,0+21,0)))*1,1",null,15.950000000000001]
[{"$f":"A1996+1","v":354},"63151450R","Deska z minerální plsti ISOVER T-P tl. 40 mm","m2",1186.43,null,{"$f":"E1998*F1998","v":0}]
[null,null,"Přesně řezané desky do lehkých a těžkých plovoucích podlah.",null," "]
[null,null,"Součinitel tepelné vodivosti 0,039 W/mK",null," "]
[null,null,"Rozměry 1200 x 600 mm",null," "]
[null,null,"F03b - m.č. 209 : 10,0",null,10]
[null,null,"F03c - m.č. 405 : 22,0",null,22]
[null,null,"F03d - m.č. 014 : 32,0",null,32]
[null,null,"F03e - m.č. 023 : 9,0",null,9]
[null,null,"F04c - m.č. 001+020 : 10,0+3,0",null,13]
[null,null,"912,79500",null,912.80000000000007]
[null,null,"47,00000",null,47]
[null,null,"10,00000",null,10]
[null,null,"Mezisoučet",null,1055.8]
[null,null,"1306,3*0,1",null,130.63]
[{"$f":"A1998+1","v":355},"998713103R00","Přesun hmot pro izolace tepelné, výšky do 24 m","t",15.450000000000001,null,{"$f":"E2012*F2012","v":0}]
["Díl:","728","Vzduchotechnika",null," ",null,{"$f":"SUBTOTAL(9,G2014:G2036)","v":0}]
[{"$f":"A2012+1","v":356},"728415121R00","Montáž mřížky větrací nebo ventilační do d 100 mm","kus",2,null,{"$f":"E2014*F2014","v":0}]
[null,null,"V.05 : 2",null,2]
[{"$f":"A2014+1","v":357},"728415122R00","Montáž mřížky větrací nebo ventilační do d 200 mm","kus",2,null,{"$f":"E2016*F2016","v":0}]
[null,null,"JV fasáda : 2",null,2]
[{"$f":"A2016+1","v":358},"728618111R00","Montáž ventilační turbíny  ","kus",2,null,{"$f":"E2018*F2018","v":0}]
[null,null,"V.04 - střecha : 2",null,2]
[{"$f":"A2018+1","v":359},"429726910-1","Ventilační turbína DN200 komplet","kpl",2,null,{"$f":"E2020*F2020","v":0}]
[null,null,"specifikace dle PD - viz. výpis D.1.1.c.35",null," "]
[null,null,"Ventilační turbína - komplet ventilační turbíny je složen ze tří částí:",null," "]
[null,null,"- základna - slouží k uchycení ventilační turbíny na střechu",null," "]
[null,null,"- krk - je stavitelný od 0 do 45 stupňů a slouží k velmi jednoduché instalaci dle sklonu střechy",null," "]
[null,null,"- rotační hlavice - je složena z 21 speciálně tvarovaných lamel, rotujících na bezúdržbových ložiscích",null," "]
[null,null,"Ventilační turbína pracuje na principu pohybu vzduchu bez potřeby elektrické energie. Materiál: Hliník (AL)",null," "]
[null,null,"V.04 - střecha : 2",null,2]
[{"$f":"A2020+1","v":360},"598961-01","Mřížka větrací pr. 60 mm, nerez","kus",7,null,{"$f":"E2028*F2028","v":0}]
[null,null,"specifikace dle PD - viz. výpis D.1.1.c.35",null," "]
[null,null,"jímky v 1PP : 3+4",null,7]
[{"$f":"A2028+1","v":361},"598961-02","Mřížka větrací pr. 150 mm, nerez","kus",2,null,{"$f":"E2031*F2031","v":0}]
[null,null,"specifikace dle PD - viz. výpis D.1.1.c.35",null," "]
[{"$f":"A2031+1","v":362},"598961-V05","V.05 Mřížka větrací - 100 x 200 mm, hliník","kus",7,null,{"$f":"E2033*F2033","v":0}]
[null,null,"specifikace dle PD - viz. výpis D.1.1.c.35",null," "]
[null,null,"V.05 : 7",null,7]
[{"$f":"A2033+1","v":363},"998728203R00","Přesun hmot pro vzduchotechniku, výšky do 24 m","kpl",1,null,{"$f":"E2036*F2036","v":0}]
["Díl:","762","Konstrukce tesařské",null," ",null,{"$f":"SUBTOTAL(9,G2038:G2069)","v":0}]
[{"$f":"A2036+1","v":364},"762088113R00","Zakrývání provizorní plachtou 12x15m,vč.odstranění","kus",3,null,{"$f":"E2038*F2038","v":0}]
[null,null,"Zakrývání rozpracovaných tesařských konstrukcí těžkou plachtou na ochranu před srážkovou vodou.",null," "]
[null,null,"zakrytí atria : 2",null,2]
[null,null,"přední střecha : 1",null,1]
[{"$f":"A2038+1","v":365},"762332130R00","Montáž vázaných krovů pravidelných do 288 cm2","m",122.29,null,{"$f":"E2042*F2042","v":0}]
[null,null,"SV - S02 - hranoly 12/20cm : (3,60+0,75)*11",null,47.85]
[null,null,"námětek okraje střechy - 12/18cm : ((73,0+24,0+12,5)/0,8)*0,50 +6",null,74.44]
[{"$f":"A2042+1","v":366},"762341220R00","M. bedn.střech rovn. z aglomer.desek šroubováním","m2",179.35,null,{"$f":"E2045*F2045","v":0}]
[null,null,"SZ - uliční - S02 : 8,60*(0,40+3,50+0,65+0,20)*1,1",null,44.94]
[null,null,"přístřešek - S04 : 50,0*1,1",null,55]
[null,null,"okraje střechy S01 : ((73,0+24,0+12,5)+6)*0,625*1,1",null,79.41]
[{"$f":"A2045+1","v":367},"762395000R00","Spojovací a ochranné prostředky pro střechy","m3",7.55,null,{"$f":"E2049*F2049","v":0}]
[null,null,"3,03",null,3.0300000000000002]
[null,null,"60,5*0,03 + 80*0,02 + 50*0,022",null,4.5200000000000005]
[{"$f":"A2049+1","v":368},"765901182R00","Fólie podstřešní vodotěsná Delta Trela plus","m2",42.14,null,{"$f":"E2052*F2052","v":0}]
[null,null,"Dodávka a montáž hydroizolační fólie včetně spojovacích prostředků.",null," "]
[null,null,"Pružná, difuzně otevřená strukturovaná dělící vrstva pro šikmé střechy s plechovou krytinou a pro plechové fasády. Brání hromadění vlhkosti, zamezuje vzniku koroze. Tloušťka 8 mm. Samoplepící okraj.",null," "]
[null,null,"Položka obsahuje dodávku a montáž fólie, včetně přikotvení fólie hřebíky s těsněním, které jsou součástí role fólie. Spojení jednotlivých pásů je provedeno: na vodorovných spojích pomocí integrované samolepicí vrstvy, na svislých a řezaných spojích pomocí lepicího tmelu.",null," "]
[null,null,"SZ - uliční fasáda - S02 : ",null," "]
[null,null," mn. položky pořadí 378 : 42,14000",null,42.14]
[{"$f":"A2052+1","v":369},"7623422-3","Montáž kontralatí  včetně dodávky latě 60 x 60 mm","m",9,null,{"$f":"E2058*F2058","v":0}]
[null,null,"vrcholová lať pod Kl..3 : 9,0",null,9]
[{"$f":"A2058+1","v":370},"595907486R","Deska cementotřísková Cetris PD tl. 28 mm","m2",60.5,null,{"$f":"E2060*F2060","v":0}]
[null,null,"přístřešek - S04 : (50,0*1,1)*1,1",null,60.5]
[{"$f":"A2060+1","v":371},"60596002R","Řezivo - hranoly","m3",3.04,null,{"$f":"E2062*F2062","v":0}]
[null,null,"SV - S02 - hranoly 12/20cm : ((3,60+0,75)*11)*0,12*0,20*1,1",null,1.27]
[null,null,"námětek okraje střechy - 12/18cm : (((73,0+24,0+12,5)/0,8)*0,50 +6)*0,12*0,18*1,1",null,1.77]
[{"$f":"A2062+1","v":372},"60623325R","Překližka vodovzdorná borovice tl. 20 mm jak. C+/C 7 vrstev, 2500x1250 mm","m2",87.350000000000009,null,{"$f":"E2065*F2065","v":0}]
[null,null,"okraje střechy S01 : (((73,0+24,0+12,5)+6)*0,625*1,1)*1,1",null,87.350000000000009]
[{"$f":"A2065+1","v":373},"60725016R","Deska dřevoštěpková OSB 3 N tl. 22 mm","m2",49.02,null,{"$f":"E2067*F2067","v":0}]
[null,null,"SZ - uliční - S02 : 8,60*(0,40+3,50+0,65+0,20)*1,2",null,49.02]
[{"$f":"A2067+1","v":374},"998762103R00","Přesun hmot pro tesařské konstrukce, výšky do 24 m","t",6.32,null,{"$f":"E2069*F2069","v":0}]
["Díl:","764","Konstrukce klempířské",null," ",null,{"$f":"SUBTOTAL(9,G2071:G2190)","v":0}]
[{"$f":"A2069+1","v":375},"764212614RT2","Krytina TiZn RHEINZINK, svitky rš. 570 mm, do 90° plech prePATINA blaugrau","m2",42.14,null,{"$f":"E2071*F2071","v":0}]
[null,null,"včetně dodávky a montáže těsnící pásky.",null," "]
[null,null,"SZ - uliční fasáda - S02 : 8,60*(0,60+3,50+0,80)",null,42.14]
[{"$f":"A2071+1","v":376},"764251605RT2","Žlab podokapní hranatý TiZn RHEINZINK rš. 400 mm plech prePATINA blaugrau","m",8.5,null,{"$f":"E2074*F2074","v":0}]
[null,null,"včetně dilatace a spojovacích prostředků.",null," "]
[null,null,"SZ - Kl.5 : 8,50",null,8.5]
[{"$f":"A2074+1","v":377},"764251635RT2","Čelo žlabu hranatého TiZn RHEINZINK pro rš.400 mm plech prePATINA blaugrau","kus",2,null,{"$f":"E2077*F2077","v":0}]
[null,null,"Dodávka a montáž žlabového čela včetně spojovacích prostředků.",null," "]
[null,null,"včetně spojovacích prostředků.",null," "]
[null,null,"SZ - Kl.5 : 2",null,2]
[{"$f":"A2077+1","v":378},"764259638R00","Kotlík závěsný TiZn RHEINZINK hranatý,G, 400/120mm","kus",1,null,{"$f":"E2081*F2081","v":0}]
[null,null,"SZ - Kl.6 : 1",null,1]
[{"$f":"A2081+1","v":379},"764511650RT2","Oplechování parapetů TiZn RHEINZINK, rš. 330 mm plech prePATINA blaugrau","m",24.400000000000002,null,{"$f":"E2083*F2083","v":0}]
[null,null,"ulice - SZ : ",null," "]
[null,null,"1NP - O01 : 2*(2,00)",null,4]
[null,null,"2NP - O02 : 6,80",null,6.8]
[null,null,"3NP - O03 : 6,80",null,6.8]
[null,null,"4NP - O04 : 6,80",null,6.8]
[{"$f":"A2083+1","v":380},"764521670RT2","Oplechování říms TiZn RHEINZINK, rš. 500 mm plech prePATINA blaugrau","m",8.5,null,{"$f":"E2089*F2089","v":0}]
[null,null,"SZ - Kl.4 : 8,50",null,8.5]
[{"$f":"A2089+1","v":381},"764551604RT2","Svod z Ti Zn RHEINZINK, kruhový, D 120 mm plech prePATINA blaugrau","m",16.5,null,{"$f":"E2091*F2091","v":0}]
[null,null,"včetně objímek a spojovacího materiálu.",null," "]
[null,null,"SZ - Kl.6 : 16,50",null,16.5]
[{"$f":"A2091+1","v":382},"764551614RT2","Koleno z Ti Zn RHEINZINK 72°, kruhové, D 120 mm plech prePATINA blaugrau","kus",2,null,{"$f":"E2094*F2094","v":0}]
[null,null,"SZ - Kl.6 : 2",null,2]
[{"$f":"A2094+1","v":383},"764530410R00","Oplechování zdí z Ti Zn plechu, rš 250 mm","m",9,null,{"$f":"E2096*F2096","v":0}]
[null,null,"Položka je kalkulována pro oplechování zdí a nadezdívek včetně rohů.",null," "]
[null,null,"Kl.3 : 9,0",null,9]
[{"$f":"A2096+1","v":384},"764812550R00","Oplechování okapů,ŽK,segm.nad 0,5m,lak.Pz,rš 250mm","m",28.7,null,{"$f":"E2099*F2099","v":0}]
[null,null,"Kl.11 : 5,0",null,5]
[null,null,"Kl.16 : 15,2",null,15.200000000000001]
[null,null,"Kl.20 : 8,5",null,8.5]
[{"$f":"A2099+1","v":385},"764817133R00","Oplechování zdí (atik) z lak.Pz plechu, rš 330 mm","m",14,null,{"$f":"E2103*F2103","v":0}]
[null,null,"Dodávka a montáž oplechování zdí a nadezdívek kotvené k podkladu příponkami.",null," "]
[null,null,"atika Kl.10 : 14,0",null,14]
[{"$f":"A2103+1","v":386},"764813330R00","Lemování zdí ploch.střech, lak.Pz plech, rš 330 mm","m",31,null,{"$f":"E2106*F2106","v":0}]
[null,null,"Kl.17 : 21,0",null,21]
[null,null,"10",null,10]
[{"$f":"A2106+1","v":387},"764819102R00","Odpadní trouby čtvercové z lak.Pz plechu,str.100mm","m",3.5,null,{"$f":"E2109*F2109","v":0}]
[null,null,"Položka je kalkulována včetně nákladů na dodání zděří, manžet, odboček, kolen, odskoků, výpustí vody a přechodových kusů.",null," "]
[null,null,"KL.15 : 3,5",null,3.5]
[{"$f":"A2109+1","v":388},"764819210R00","Odpadní trouby kruhové z lak.Pz plechu, D 75 mm","m",3.5,null,{"$f":"E2112*F2112","v":0}]
[null,null,"Dodávka a montáž kruhových odpadních trub včetně kolena, objímky, spojovacího materiálu a zednické výpomoci.",null," "]
[null,null,"Kl.13 : 3,5",null,3.5]
[{"$f":"A2112+1","v":389},"764819212R00","Odpadní trouby kruhové z lak.Pz plechu, D 100 mm","m",18,null,{"$f":"E2115*F2115","v":0}]
[null,null,"Dodávka a montáž kruhových odpadních trub včetně kolena, objímky, spojovacího materiálu a zednické výpomoci.",null," "]
[null,null,"Kl.9 : 18,0",null,18]
[{"$f":"A2115+1","v":390},"764815107R00","Žlaby podokap.čtyřhranné z lak.Pz plechu,rš 500 mm","m",10.5,null,{"$f":"E2118*F2118","v":0}]
[null,null,"Položka je kalkulována včetně háků, čel, rohů, rovných hrdel a dilatací.",null," "]
[null,null,"Kl.14 - mezistřešní : 10,5",null,10.5]
[{"$f":"A2118+1","v":391},"764815211R00","Žlab podokapní půlkruh.z lak.Pz plechu, rš 250 mm","m",5.2,null,{"$f":"E2121*F2121","v":0}]
[null,null,"Dodávka a montáž podokapního půlkruhového žlabu včetně háků, čel a spojek žlabu.",null," "]
[null,null,"Kl.12 : 5,2",null,5.2]
[{"$f":"A2121+1","v":392},"764815212R00","Žlab podokapní půlkruh.z lak.Pz plechu, rš 330 mm","m",12.5,null,{"$f":"E2124*F2124","v":0}]
[null,null,"Dodávka a montáž podokapního půlkruhového žlabu včetně háků, čel a spojek žlabu.",null," "]
[null,null,"Kl.8 : 12,5",null,12.5]
[{"$f":"A2124+1","v":393},"764814525R00","Závětrná lišta z lakovaného Pz plechu, rš 250 mm","m",7.5,null,{"$f":"E2127*F2127","v":0}]
[null,null,"Kl.18 : 7,5",null,7.5]
[{"$f":"A2127+1","v":394},"764816133R00","Oplechování parapetů, lakovaný Pz plech, rš 330 mm","m",56.5,null,{"$f":"E2129*F2129","v":0}]
[null,null,"*ulice - SZ - RAL 7037 : ",null," "]
[null,null,"1NP - O01 : 2*(2,00)",null,4]
[null,null,"2NP - O02 : 6,80",null,6.8]
[null,null,"3NP - O03 : 6,80",null,6.8]
[null,null,"4NP - O04 : 6,80",null,6.8]
[null,null,"*bok - SV - bílá barva : ",null," "]
[null,null,"2NP-5NP - O05 + 006 : 4*1,35",null,5.4]
[null,null,"*dvůr - JV : ",null," "]
[null,null,"1NP - O07 : (2*1,50)",null,3]
[null,null,"1NP - O08 : (1,45)",null,1.45]
[null,null,"2NP - O09 : (1,40)",null,1.4000000000000001]
[null,null,"2NP - O10 : (1,45)",null,1.45]
[null,null,"1NP - O11 : (0,60)",null,0.6]
[null,null,"2NP - O12-13 : (1,55+0,80)",null,2.35]
[null,null,"3NP - O14-17 : (1,55+1,35+1,50+0,85)",null,5.25]
[null,null,"4NP - O18-19 : (3*1,35) + (1,55)",null,5.6000000000000005]
[null,null,"5NP - O20-23 : (4*1,40)",null,5.6000000000000005]
[{"$f":"A2129+1","v":395},"764312842R00","Demont. krytiny, tab.2 x 0,67 m,nad 25 m2, nad 45°","m2",30.96,null,{"$f":"E2147*F2147","v":0}]
[null,null,"střecha do ulice - dachman : 3,60*8,60",null,30.96]
[{"$f":"A2147+1","v":396},"764321862R00","Demontáž oplechování říms, rš 1000 mm, nad 45°","m",8.6,null,{"$f":"E2149*F2149","v":0}]
[null,null,"střecha do ulice : 8,60",null,8.6]
[{"$f":"A2149+1","v":397},"764323830R00","Demont. oplech. okapů, živičná krytina, rš 330 mm","m",26.2,null,{"$f":"E2151*F2151","v":0}]
[null,null,"SZ - do ulice : 8,50",null,8.5]
[null,null,"JV - do dvora : 12,50",null,12.5]
[null,null,"střecha strojovna : 5,20",null,5.2]
[{"$f":"A2151+1","v":398},"764331830R00","Demontáž lemování zdí, rš 250 a 330 mm, do 30°","m",182,null,{"$f":"E2155*F2155","v":0}]
[null,null,"strojovna : (5,00+2*4,50)",null,14]
[null,null,"kolem světlíku : 2*(25,7+5,3)",null,62]
[null,null,"podél atik v ploše : 48,0+16,0+28,0",null,92]
[null,null,"na strojovně : (5,00+2*4,50)",null,14]
[{"$f":"A2155+1","v":399},"764331832R00","Demontáž lemování zdí, rš 250 a 330 mm, nad 45°","m",10,null,{"$f":"E2160*F2160","v":0}]
[null,null,"do ulice : 2*(4,0+1,0)",null,10]
[{"$f":"A2160+1","v":400},"764339830R00","Demontáž lemování komínů v ploše, hl. kryt, do 30°","m2",12.25,null,{"$f":"E2162*F2162","v":0}]
[null,null,"1,50*1,50 + 2,50*2,00*2",null,12.25]
[{"$f":"A2162+1","v":401},"764342821R00","Demontáž lemování trub D 100 mm, hl. kryt. do 30°","kus",5,null,{"$f":"E2164*F2164","v":0}]
[{"$f":"A2164+1","v":402},"764345831R00","Demontáž ventilačních nástavců D do 150 mm, do 30°","kus",5,null,{"$f":"E2165*F2165","v":0}]
[{"$f":"A2165+1","v":403},"764352810R00","Demontáž žlabů půlkruh. rovných, rš 330 mm, do 30°","m",17.7,null,{"$f":"E2166*F2166","v":0}]
[null,null,"JV - do dvora : 12,50",null,12.5]
[null,null,"střecha strojovna : 5,20",null,5.2]
[{"$f":"A2166+1","v":404},"764352812R00","Demontáž žlabů půlkruh. rovných, rš 330 mm,nad 45°","m",8.5,null,{"$f":"E2169*F2169","v":0}]
[null,null,"SZ - do ulice : 8,50",null,8.5]
[{"$f":"A2169+1","v":405},"764393832R00","Demontáž hřebene střechy, rš do 400 mm, nad 45°","m",8.6,null,{"$f":"E2171*F2171","v":0}]
[null,null,"8,60",null,8.6]
[{"$f":"A2171+1","v":406},"764410850R00","Demontáž oplechování parapetů,rš od 100 do 330 mm","m",49.35,null,{"$f":"E2173*F2173","v":0}]
[null,null,"1NP : 0,60+3*1,85",null,6.15]
[null,null,"2NP : 0,80+1,55+2*1,80 + 3*2,15",null,12.4]
[null,null,"3NP : 0,85+1,55+2*1,75 + 3*2,15",null,12.35]
[null,null,"4NP : 1,55+3*1,35 + 3*2,15",null,12.05]
[null,null,"5NP : 3*1,35+1,40 + 0,95",null,6.4]
[{"$f":"A2173+1","v":407},"764430840R00","Demontáž oplechování zdí,rš od 330 do 500 mm","m",111,null,{"$f":"E2179*F2179","v":0}]
[null,null,"podél atik v ploše : 48,0+16,0+5,00+28,0",null,97]
[null,null,"na strojovně : (5,00+2*4,50)",null,14]
[{"$f":"A2179+1","v":408},"764454802R00","Demontáž odpadních trub kruhových,D 120 mm","m",39.5,null,{"$f":"E2182*F2182","v":0}]
[null,null,"SZ : 16,50",null,16.5]
[null,null,"JV : 19,00",null,19]
[null,null,"strojovna : 4,00",null,4]
[{"$f":"A2182+1","v":409},"7643923-1","vnitřní žlábek z Al plechu, rš 150 mm","m",58,null,{"$f":"E2186*F2186","v":0}]
[null,null,"Položka obsahuje dodávku a montáž úžlabního plechu včetně kotvení a tmelení",null," "]
[null,null,"Kl.19 - vnitřní žlábek pod světlíkem pro jímání kondenzátu : ",null," "]
[null,null,"rovná část + 2 x oblouky ze segmetů ! : 2*(8,0+21,0)",null,58]
[{"$f":"A2186+1","v":410},"998764103R00","Přesun hmot pro klempířské konstr., výšky do 24 m","t",0.95000000000000007,null,{"$f":"E2190*F2190","v":0}]
["Díl:","766","Konstrukce truhlářské",null," ",null,{"$f":"SUBTOTAL(9,G2192:G2476)+G2448","v":0}]
[{"$f":"A2190+1","v":411},"766111820R00","Demontáž dřevěných stěn plných","m2",63.36,null,{"$f":"E2192*F2192","v":0}]
[null,null,"1NP - 003+004 : 3,30*(2*(9,00+0,60))",null,63.36]
[{"$f":"A2192+1","v":412},"766211100R00","Montáž madel schodišťových dřevěných dílčích","m",15.5,null,{"$f":"E2194*F2194","v":0}]
[null,null,"nové madla : ",null," "]
[null,null,"Z.09 : 4,30+9*1,10+1,30",null,15.5]
[{"$f":"A2194+1","v":413},"766416143R00","Obložení stěn nad 5 m2, aglomer. desky nad 1,5 m2","m2",97.02,null,{"$f":"E2197*F2197","v":0}]
[null,null,"Včetně našroubování soklu.",null," "]
[null,null,"m.č. 025+026 : 3,30*2*(2*(2,30+3,30)+3,50)",null,97.02]
[{"$f":"A2197+1","v":414},"766417111R00","Podkladový rošt pod obložení stěn","m",156.42000000000002,null,{"$f":"E2200*F2200","v":0}]
[null,null,"m.č. 025+026 : 3,30*((2*(2,30+3,30)+3,50)/0,50)",null,97.02]
[null,null,"(2*(2,30+3,30)+3,50)*2",null,29.400000000000002]
[null,null,"30",null,30]
[{"$f":"A2200+1","v":415},"766411811R00","Demontáž obložení stěn panely velikosti do 1,5 m2","m2",307.52,null,{"$f":"E2204*F2204","v":0}]
[null,null,"obložení ve schodišti : ",null," "]
[null,null,"1NP : 4,10*2,10 + 0,85*0,90+0,85*3,10",null,12.01]
[null,null,"1,50*(2,50+8,60+2,50 +2*1,70)",null,25.5]
[null,null,"2NP : 1,50*(3*0,50+1,60+2,50+8,60+2,50 +2*1,70)",null,30.150000000000002]
[null,null,"3NP : 1,50*(3*0,50+1,60+2,50+8,60+2,50 +2*1,70)",null,30.150000000000002]
[null,null,"4NP : 1,50*(3*0,50+1,60+2,50+8,60+2,50 +2*1,70)",null,30.150000000000002]
[null,null,"+20",null,20]
[null,null,"obložení stěn v 5NP : 3,20*(3,80+3,30+3,85+3,20+ 3,5+3,2+2,6+3,+2,4+2,8+4,5+1,9+0,3+3,2)",null,132.96]
[null,null,"obložení mansardy v 5NP : 3,80*7,00",null,26.6]
[{"$f":"A2204+1","v":416},"766411822R00","Demontáž podkladových roštů obložení stěn","m2",307.52,null,{"$f":"E2214*F2214","v":0}]
[null,null," mn. položky pořadí 418 : 307,52000",null,307.52]
[{"$f":"A2214+1","v":417},"766669117R00","Dokování samozavírače na ocelovou zárubeň","kus",23,null,{"$f":"E2216*F2216","v":0}]
[null,null,"D21 : 1",null,1]
[null,null,"D22a+b : 3+(6+3)",null,12]
[null,null,"D23a+b+c : 1+1+1",null,3]
[null,null,"D24a+b : 1+1",null,2]
[null,null,"D25 : 1",null,1]
[null,null,"D26 : 1 +2",null,3]
[null,null,"D46a : 1",null,1]
[{"$f":"A2216+1","v":418},"766694122R00","Montáž parapetních desek š.nad 30 cm,dl.do 160 cm","kus",24,null,{"$f":"E2224*F2224","v":0}]
[null,null,"bok - SV - bílá barva : ",null," "]
[null,null,"2NP-5NP - O05 + 006 : 4",null,4]
[null,null,"dvůr - JV : ",null," "]
[null,null,"1NP - O07 : 2",null,2]
[null,null,"1NP - O08 : 1",null,1]
[null,null,"2NP - O09 : 1",null,1]
[null,null,"2NP - O10 : 1",null,1]
[null,null,"1NP - O11 : 1",null,1]
[null,null,"2NP - O12-13 : 2",null,2]
[null,null,"3NP - O14-17 : 4",null,4]
[null,null,"4NP - O18-19 : 4",null,4]
[null,null,"5NP - O20-23 : 4",null,4]
[{"$f":"A2224+1","v":419},"766694123R00","Montáž parapetních desek š.nad 30 cm,dl.do 260 cm","kus",9,null,{"$f":"E2237*F2237","v":0}]
[null,null,"ulice - SZ - bílá barva : ",null," "]
[null,null,"2NP - O02 : 3",null,3]
[null,null,"3NP - O03 : 3",null,3]
[null,null,"4NP - O04 : 3",null,3]
[{"$f":"A2237+1","v":420},"766695213R00","Montáž prahů dveří jednokřídlových š. nad 10 cm","kus",48,null,{"$f":"E2242*F2242","v":0}]
[null,null,"D12 : 1",null,1]
[null,null,"D13a : 1",null,1]
[null,null,"D14a : 13+7",null,20]
[null,null,"D14e+f+g+h+j : 3+1+1+1+1",null,7]
[null,null,"D15a : 1",null,1]
[null,null,"D22a+b : 3+(6+3)",null,12]
[null,null,"D23a+b+c : 1+1+1",null,3]
[null,null,"D24a+b : 1+1",null,2]
[null,null,"D25 : 1",null,1]
[{"$f":"A2242+1","v":421},"766695233R00","Montáž prahů dveří dvoukřídlových š. nad 10 cm","kus",2,null,{"$f":"E2252*F2252","v":0}]
[null,null,"D21 : 1",null,1]
[null,null,"D26 : 1",null,1]
[{"$f":"A2252+1","v":422},"766114-V01","V.01 - sanitární příčky vč. dveří, HPL laminát tl. 12mm + nerez kování kompletní dodávka a montáž","m2",41.2,null,{"$f":"E2255*F2255","v":0}]
[null,null,"Přesná specifikace dle PD - viz. výpis D.1.1.c.35",null," "]
[null,null,"1NP : 2,00*(2*3,10+2*1,20)+3",null,20.2]
[null,null,"2NP : 2,00*(2*1,75)",null,7]
[null,null,"3NP : 2,00*(2*1,75)",null,7]
[null,null,"4NP : 2,00*(2*1,75)",null,7]
[{"$f":"A2255+1","v":423},"766114-V02","V.02 - pisoárová zástěna, HPL laminát tl. 12mm + nerez kování kompletní dodávka a montáž","m2",5.1000000000000005,null,{"$f":"E2261*F2261","v":0}]
[null,null,"Přesná specifikace dle PD - viz. výpis D.1.1.c.35",null," "]
[null,null,"2NP : 2,00*0,85",null,1.7]
[null,null,"3NP : 2,00*0,85",null,1.7]
[null,null,"4NP : 2,00*0,85",null,1.7]
[{"$f":"A2261+1","v":424},"766211-1","Montáž madel zábradlí atypických - ohýbaných","m",269,null,{"$f":"E2266*F2266","v":0}]
[null,null,"nové madla : ",null," "]
[null,null,"Z.04 : 10,0",null,10]
[null,null,"opětovná montáž dřevěných madel zádradlí po repasování : ",null," "]
[null,null,"Z.01 : 55,0+56,0",null,111]
[null,null,"Z.02 : 48,0",null,48]
[null,null,"Z.03 : 53,0",null,53]
[null,null,"Z.05 : 18,0",null,18]
[null,null,"Z.06 : 19,0",null,19]
[null,null,"10",null,10]
[{"$f":"A2266+1","v":425},"7662-611","Repasování stávajících madel zábradlí, vnější profil cca. 50 x 50 mm, rovné + obýbané","m",259,null,{"$f":"E2276*F2276","v":0}]
[null,null,"profil atypický, odstranění nátěru, oprava poškozených částí - náhrada, tmelení, nátěr na bázi olejovoskové",null," "]
[null,null,"stávající dřevěné madla zádradlí pro repasování : ",null," "]
[null,null,"Z.01 : 55,0+56,0",null,111]
[null,null,"Z.02 : 48,0",null,48]
[null,null,"Z.03 : 53,0",null,53]
[null,null,"Z.05 : 18,0",null,18]
[null,null,"Z.06 : 19,0",null,19]
[null,null,"10",null,10]
[{"$f":"A2276+1","v":426},"76667-D12","D.12 - dřevěné inter. dveře vč. obložkové zárubně a doplňků - 900x2100mm - posuvné","kus",1,null,{"$f":"E2285*F2285","v":0}]
[null,null,"kompletní dodávka a montáž dle specifikace viz. výpis dveří  D.1.1.c.32.",null," "]
[null,null,"dveřní křídlo, zárubeň vč. povrchové úpravy, kování pro posuvné dveře, zámek",null," "]
[null,null,"pouzdro pro posuvné dveře - samostatná položka",null," "]
[{"$f":"A2285+1","v":427},"76667-D13a","D.13a - dřevěné inter. dveře vč. ocelové zárubně a doplňků - 900x2100mm - otočné","kus",1,null,{"$f":"E2289*F2289","v":0}]
[null,null,"kompletní dodávka a montáž dle specifikace viz. výpis dveří  D.1.1.c.32.",null," "]
[null,null,"dveřní křídlo, zárubeň vč. povrchové úpravy, kování, zámek - elektromechanický",null," "]
[{"$f":"A2289+1","v":428},"76667-D13b","D.13b - dřevěné inter. dveře vč. ocelové zárubně a doplňků - 900x2100mm - otočné","kus",1,null,{"$f":"E2292*F2292","v":0}]
[null,null,"kompletní dodávka a montáž dle specifikace viz. výpis dveří  D.1.1.c.32.",null," "]
[null,null,"dveřní křídlo, zárubeň vč. povrchové úpravy, kování, zámek, hliníková mřížka 80x600mm, magnet. kontakt",null," "]
[{"$f":"A2292+1","v":429},"76667-D14a","D.14a - dřevěné inter. dveře vč. ocelové zárubně a doplňků - 800x2100mm - otočné","kus",20,null,{"$f":"E2295*F2295","v":0}]
[null,null,"kompletní dodávka a montáž dle specifikace viz. výpis dveří  D.1.1.c.32.",null," "]
[null,null,"dveřní křídlo, zárubeň vč. povrchové úpravy, kování, zámek,",null," "]
[null,null,"13+7",null,20]
[{"$f":"A2295+1","v":430},"76667-D14b","D.14b - dřevěné inter. dveře vč. ocelové zárubně a doplňků - 800x2100mm - otočné","kus",13,null,{"$f":"E2299*F2299","v":0}]
[null,null,"kompletní dodávka a montáž dle specifikace viz. výpis dveří  D.1.1.c.32.",null," "]
[null,null,"dveřní křídlo, zárubeň vč. povrchové úpravy, kování, zámek, hliníková mřížka 80x600mm, magnet. kontakt",null," "]
[null,null,"9+4",null,13]
[{"$f":"A2299+1","v":431},"76667-D14c","D.14c - dřevěné inter. dveře vč. ocelové zárubně a doplňků - 800x2100mm - otočné","kus",1,null,{"$f":"E2303*F2303","v":0}]
[null,null,"kompletní dodávka a montáž dle specifikace viz. výpis dveří  D.1.1.c.32.",null," "]
[null,null,"dveřní křídlo, zárubeň vč. povrchové úpravy, kování, zámek, hliníková mřížka 80x600mm",null," "]
[{"$f":"A2303+1","v":432},"76667-D14d","D.14d - dřevěné inter. dveře vč. ocelové zárubně a doplňků - 800x2100mm - otočné","kus",6,null,{"$f":"E2306*F2306","v":0}]
[null,null,"kompletní dodávka a montáž dle specifikace viz. výpis dveří  D.1.1.c.32.",null," "]
[null,null,"dveřní křídlo, zárubeň vč. povrchové úpravy, kování, zámek, hliníková mřížka 80x600mm",null," "]
[null,null,"4+2",null,6]
[{"$f":"A2306+1","v":433},"76667-D14e","D.14e - dřevěné inter. dveře vč. ocelové zárubně a doplňků - 800x2100mm - otočné","kus",3,null,{"$f":"E2310*F2310","v":0}]
[null,null,"kompletní dodávka a montáž dle specifikace viz. výpis dveří  D.1.1.c.32.",null," "]
[null,null,"dveřní křídlo, zárubeň vč. povrchové úpravy, kování + panikové kování, zámek.",null," "]
[{"$f":"A2310+1","v":434},"76667-D14f","D.14f - dřevěné inter. dveře vč. ocelové zárubně a doplňků - 800x2100mm - otočné","kus",1,null,{"$f":"E2313*F2313","v":0}]
[null,null,"kompletní dodávka a montáž dle specifikace viz. výpis dveří  D.1.1.c.32.",null," "]
[null,null,"dveřní křídlo, zárubeň vč. povrchové úpravy, kování + panikové kování, zámek - elektromechanický",null," "]
[{"$f":"A2313+1","v":435},"76667-D14g","D.14g - dřevěné inter. dveře vč. ocelové zárubně a doplňků - 800x2100mm - otočné","kus",1,null,{"$f":"E2316*F2316","v":0}]
[null,null,"kompletní dodávka a montáž dle specifikace viz. výpis dveří  D.1.1.c.32.",null," "]
[null,null,"dveřní křídlo, zárubeň vč. povrchové úpravy, kování, zámek - elektromechanický, hliníková mřížka 80x600mm",null," "]
[{"$f":"A2316+1","v":436},"76667-D14h","D.14h - dřevěné inter. dveře vč. ocelové zárubně a doplňků - 800x2100mm - otočné","kus",1,null,{"$f":"E2319*F2319","v":0}]
[null,null,"kompletní dodávka a montáž dle specifikace viz. výpis dveří  D.1.1.c.32.",null," "]
[null,null,"dveřní křídlo, zárubeň vč. povrchové úpravy, kování, zámek - elektromechanický, hliníková mřížka 80x600mm",null," "]
[{"$f":"A2319+1","v":437},"76667-D14j","D.14j - dřevěné inter. dveře vč. ocelové zárubně a doplňků - 800x2100mm - otočné, zasklení","kus",1,null,{"$f":"E2322*F2322","v":0}]
[null,null,"kompletní dodávka a montáž dle specifikace viz. výpis dveří  D.1.1.c.32.",null," "]
[null,null,"dveřní křídlo, zárubeň vč. povrchové úpravy, kování, zámek,",null," "]
[{"$f":"A2322+1","v":438},"76667-D15a","D.15a - dřevěné inter. dveře vč. ocelové zárubně a doplňků - 700x2100mm - otočné","kus",1,null,{"$f":"E2325*F2325","v":0}]
[null,null,"kompletní dodávka a montáž dle specifikace viz. výpis dveří  D.1.1.c.32.",null," "]
[null,null,"dveřní křídlo, zárubeň vč. povrchové úpravy, kování, zámek",null," "]
[{"$f":"A2325+1","v":439},"76667-D15b","D.15b - dřevěné inter. dveře vč. ocelové zárubně a doplňků - 700x2100mm - otočné","kus",1,null,{"$f":"E2328*F2328","v":0}]
[null,null,"kompletní dodávka a montáž dle specifikace viz. výpis dveří  D.1.1.c.32.",null," "]
[null,null,"dveřní křídlo, zárubeň vč. povrchové úpravy, kování, zámek, hliníková mřížka 80x600mm",null," "]
[{"$f":"A2328+1","v":440},"76667-D15c","D.15c - dřevěné inter. dveře vč. ocelové zárubně a doplňků - 700x2100mm - otočné","kus",3,null,{"$f":"E2331*F2331","v":0}]
[null,null,"kompletní dodávka a montáž dle specifikace viz. výpis dveří  D.1.1.c.32.",null," "]
[null,null,"dveřní křídlo, zárubeň vč. povrchové úpravy, kování, zámek",null," "]
[{"$f":"A2331+1","v":441},"76667-D21","D.21 - dřevěné inter. dveře vč. ocelové zárubně a doplňků - 1800x2100mm - otočné 2kř. EI 30 DP3-C","kus",1,null,{"$f":"E2334*F2334","v":0}]
[null,null,"kompletní dodávka a montáž dle specifikace viz. výpis dveří  D.1.1.c.32.",null," "]
[null,null,"dveřní křídla s požární odolností, zárubeň vč. povrchové úpravy, kování, zámek - elektromechanický",null," "]
[{"$f":"A2334+1","v":442},"76667-D22a","D.22a - dřevěné inter. dveře vč. ocelové zárubně a doplňků - 900x2100mm - otočné EI 30 DP3-C","kus",3,null,{"$f":"E2337*F2337","v":0}]
[null,null,"kompletní dodávka a montáž dle specifikace viz. výpis dveří  D.1.1.c.32.",null," "]
[null,null,"dveřní křídlo s požární odolností, zárubeň vč. povrchové úpravy, kování, zámek,",null," "]
[{"$f":"A2337+1","v":443},"76667-D22b","D.22b - dřevěné inter. dveře vč. ocelové zárubně a doplňků - 900x2100mm - otočné EI 30 DP3-C","kus",9,null,{"$f":"E2340*F2340","v":0}]
[null,null,"kompletní dodávka a montáž dle specifikace viz. výpis dveří  D.1.1.c.32.",null," "]
[null,null,"dveřní křídlo s požární odolností, zárubeň vč. povrchové úpravy, kování + panikové kování, zámek,",null," "]
[null,null,"6+3",null,9]
[{"$f":"A2340+1","v":444},"76667-D23a","D.23a - dřevěné inter. dveře vč. ocelové zárubně a doplňků - 800x2100mm - otočné EW 15 DP3-C","kus",1,null,{"$f":"E2344*F2344","v":0}]
[null,null,"kompletní dodávka a montáž dle specifikace viz. výpis dveří  D.1.1.c.32.",null," "]
[null,null,"dveřní křídlo s požární odolností, zárubeň vč. povrchové úpravy, kování, zámek - elektromechanický",null," "]
[{"$f":"A2344+1","v":445},"76667-D23b","D.23b - dřevěné inter. dveře vč. ocelové zárubně a doplňků - 800x2100mm - otočné EW 30 DP3-C","kus",1,null,{"$f":"E2347*F2347","v":0}]
[null,null,"kompletní dodávka a montáž dle specifikace viz. výpis dveří  D.1.1.c.32.",null," "]
[null,null,"dveřní křídlo s požární odolností, zárubeň vč. povrchové úpravy, kování, zámek,",null," "]
[{"$f":"A2347+1","v":446},"76667-D23c","D.23c - dřevěné inter. dveře vč. ocelové zárubně a doplňků - 800x2100mm - otočné EW 30 DP3-C","kus",1,null,{"$f":"E2350*F2350","v":0}]
[null,null,"kompletní dodávka a montáž dle specifikace viz. výpis dveří  D.1.1.c.32.",null," "]
[null,null,"dveřní křídlo s požární odolností, zárubeň vč. povrchové úpravy, kování, zámek,",null," "]
[{"$f":"A2350+1","v":447},"76667-D24a","D.24a - ocel. inter. dveře vč. ocelové zárubně a doplňků - 800x1970mm - otočné EW 45 DP1-C","kus",1,null,{"$f":"E2353*F2353","v":0}]
[null,null,"kompletní dodávka a montáž dle specifikace viz. výpis dveří  D.1.1.c.32.",null," "]
[null,null,"dveřní křídlo s požární odolností, zárubeň vč. povrchové úpravy, kování, zámek,",null," "]
[{"$f":"A2353+1","v":448},"76667-D24b","D.24b - ocel. inter. dveře vč. ocelové zárubně a doplňků - 800x1970mm - otočné EW 45 DP1-C","kus",1,null,{"$f":"E2356*F2356","v":0}]
[null,null,"kompletní dodávka a montáž dle specifikace viz. výpis dveří  D.1.1.c.32.",null," "]
[null,null,"dveřní křídlo s požární odolností, zárubeň vč. povrchové úpravy, kování + panikové kování, zámek,",null," "]
[{"$f":"A2356+1","v":449},"76667-D25","D.25 - ocel inter. dveře vč. ocelové zárubně a doplňků - 1000x2025mm - otočné EW 45 DP1-C","kus",1,null,{"$f":"E2359*F2359","v":0}]
[null,null,"kompletní dodávka a montáž dle specifikace viz. výpis dveří  D.1.1.c.32.",null," "]
[null,null,"dveřní křídlo s požární odolností, zárubeň vč. povrchové úpravy, kování, zámek,",null," "]
[{"$f":"A2359+1","v":450},"76667-D26","D.26 - ocel. inter. dveře vč. ocelové zárubně a doplňků - 1600x1970mm - otočné 2kř EI 30 DP1-C","kus",1,null,{"$f":"E2362*F2362","v":0}]
[null,null,"kompletní dodávka a montáž dle specifikace viz. výpis dveří  D.1.1.c.32.",null," "]
[null,null,"dveřní křídla s požární odolností, zárubeň vč. povrchové úpravy, kování, zámek,",null," "]
[{"$f":"A2362+1","v":451},"76667-D31","D.31 - jednokřídlé dveře AKUSTICKÉ, š. 900mm, Rw min. 49dB dodávka a montáže","ks",2,null,{"$f":"E2365*F2365","v":0}]
[null,null,"kompletní dodávka a montáž dle specifikace viz. výpis dveří  D.1.1.c.32.",null," "]
[null,null,"dveře, zárubeň, práh - padací s těsněním, kování, zámek elektromechanický, dveřní magnetický kontakt.",null," "]
[null,null,"2NP+3NP : 1+1",null,2]
[{"$f":"A2365+1","v":452},"76667-D32","D.32 - 2 x jednokřídlé dveře AKUSTICKÉ, š. 800mm, Rw min. 49dB dodávka a montáže","ks",3,null,{"$f":"E2369*F2369","v":0}]
[null,null,"kompletní dodávka a montáž dle specifikace viz. výpis dveří  D.1.1.c.32.",null," "]
[null,null,"Skládá se ze dveří označených ve výpisu jako D32a + D32b !",null," "]
[null,null,"dveře, zárubeň, práh - padací s těsněním, kování, zámek elektromechanický, dveřní magnetický kontakt.",null," "]
[null,null,"1NP : 2",null,2]
[null,null,"2NP : 1",null,1]
[{"$f":"A2369+1","v":453},"76667-D41","D.41 - sestava 10ks dvoukřídlých \"skříňových\" dveří dodávka a montáže","ks",1,null,{"$f":"E2375*F2375","v":0}]
[null,null,"kompletní dodávka a montáž dle specifikace viz. výpis dveří  D.1.1.c.32.",null," "]
[null,null,"dveře, zárubeň, kování, zámek",null," "]
[{"$f":"A2375+1","v":454},"76667-D42","D.42 - sestava skládací posuvné dveře - 1900x2860mm dodávka a montáž","ks",2,null,{"$f":"E2378*F2378","v":0}]
[null,null,"kompletní dodávka a montáž dle specifikace viz. výpis dveří  D.1.1.c.32.",null," "]
[null,null,"dveře, zárubeň, kování, zámek",null," "]
[{"$f":"A2378+1","v":455},"76667-D43","D.43 - sestava skládací posuvné dveře - 1900x2760mm dodávka a montáž","ks",1,null,{"$f":"E2381*F2381","v":0}]
[null,null,"kompletní dodávka a montáž dle specifikace viz. výpis dveří  D.1.1.c.32.",null," "]
[null,null,"dveře, zárubeň, kování, zámek",null," "]
[{"$f":"A2381+1","v":456},"76667-D44","D.44 - sestava skládací posuvné dveře - 2500x2560mm dodávka a montáž","ks",1,null,{"$f":"E2384*F2384","v":0}]
[null,null,"kompletní dodávka a montáž dle specifikace viz. výpis dveří  D.1.1.c.32.",null," "]
[null,null,"dveře, zárubeň, kování, zámek",null," "]
[{"$f":"A2384+1","v":457},"76667-D45","D.45 - sestava skládací posuvné dveře - 2500x2360mm dodávka a montáž","ks",1,null,{"$f":"E2387*F2387","v":0}]
[null,null,"kompletní dodávka a montáž dle specifikace viz. výpis dveří  D.1.1.c.32.",null," "]
[null,null,"dveře, zárubeň, kování, zámek",null," "]
[{"$f":"A2387+1","v":458},"76667-D46a","D.46a - ocelové exter. dveře vč. ocelové zárubně a doplňků - 1400x2100mm - otočné 2kř EI 15 DP1","kus",1,null,{"$f":"E2390*F2390","v":0}]
[null,null,"kompletní dodávka a montáž dle specifikace viz. výpis dveří  D.1.1.c.32.",null," "]
[null,null,"dveře, zárubeň, kování, zámek",null," "]
[{"$f":"A2390+1","v":459},"76667-D46b","D.46b - exter. dveře vč. ocelové zárubně a doplňků - 1400x2100mm - otočné 2kř","kus",1,null,{"$f":"E2393*F2393","v":0}]
[null,null,"kompletní dodávka a montáž dle specifikace viz. výpis dveří  D.1.1.c.32.",null," "]
[null,null,"dveře, zárubeň, kování, zámek",null," "]
[{"$f":"A2393+1","v":460},"549170-1","Zavírač dveří hydraulický, stříbrný","kus",23,null,{"$f":"E2396*F2396","v":0}]
[null,null,"Samozavírač s ohýbacím ramenem s horní montáží pro jednokřídlé dveře.",null," "]
[null,null,"Nastavitelná velikost síly zavírání: 2/4/5 (podle EN 1154), Nastavitelný hydraulický koncový doraz a rychlost zavírání",null," "]
[null,null,"Vhodné pro požární a kouřotěsné dveře",null," "]
[null,null,"referenční výrobek např. Geze TS 2000 V",null," "]
[null,null," mn. položky pořadí 420 : 23,00000",null,23]
[{"$f":"A2396+1","v":461},"59590604R","Deska fasádní CETRIS FINISH tl. 16 mm","m2",106.73,null,{"$f":"E2402*F2402","v":0}]
[null,null," mn. položky pořadí 416 : 97,02000*1,1",null,106.73]
[{"$f":"A2402+1","v":462},"60775315R","Parapet interiér DTD Massive šíře 350 mm bílý s nosem 40 mm","m",108.05,null,{"$f":"E2404*F2404","v":0}]
[null,null,"MATERIÁL: povrch - CPL laminátová fólie, jádro - vlhkuododlná dřevotříska, SPODNÍ STRANA: protitahová fólie",null," "]
[null,null,"DÉLKA TYČE: 5290 mm, ŠÍŘE: 350 mm, TLOUŠŤKA: 20 mm, VÝŠKA NOSU: 40 mm",null," "]
[null,null,"Parapety jsou vyrobeny z vlhkuvzdorné dřevotřísky V100. Horní krycí vrstva je potažena CPL fólií. Spodní vrstva je opatřena protitahovou fólií. Hrany jsou chráněny PVC krytkami nebo ohraňovací páskou.",null," "]
[null,null,"Dekory: Bílá, Cena za nářez",null," "]
[null,null,"ulice - SZ - RAL 7037 : ",null," "]
[null,null,"2NP - O02 : 3*2,15",null,6.45]
[null,null,"3NP - O03 : 3*2,15",null,6.45]
[null,null,"4NP - O04 : 3*2,15",null,6.45]
[null,null,"bok - SV - bílá barva : ",null," "]
[null,null,"2NP-5NP - O05 + 006 : 4*1,35",null,5.4]
[null,null,"dvůr - JV : ",null," "]
[null,null,"1NP - O07 : (2*1,50)",null,3]
[null,null,"1NP - O08 : (1,45)",null,1.45]
[null,null,"2NP - O09 : (1,40)",null,1.4000000000000001]
[null,null,"2NP - O10 : (1,45)",null,1.45]
[null,null,"1NP - O11 : (0,60)",null,0.6]
[null,null,"2NP - O12-13 : (1,55+0,80)",null,2.35]
[null,null,"3NP - O14-17 : (1,55+1,35+1,50+0,85)",null,5.25]
[null,null,"4NP - O18-19 : (3*1,35) + (1,55)",null,5.6000000000000005]
[null,null,"5NP - O20-23 : (4*1,40)",null,5.6000000000000005]
[null,null,"Mezisoučet",null,51.45]
[null,null,"51,45*1,1",null,56.6]
[{"$f":"A2404+1","v":463},"60775374R","Parapet interiér PVC Hammer š. 350 mm bílý komůrkový, s nosem 40 mm","m",108.05,null,{"$f":"E2427*F2427","v":0}]
[null,null,"Vnitřní PVC parapety komůrkové s nosem, povrchová úprava HPVC (hardpolyvinylchlorid), extrémně odolný proti deformaci a mechanickému poškození.",null," "]
[null,null,"DÉLKA TYČE: 6000 mm",null," "]
[null,null,"ŠÍŘE: 350 mm",null," "]
[null,null,"TLOUŠŤKA: 20 mm",null," "]
[null,null,"VÝŠKA NOSU: 40 mm",null," "]
[null,null,"Dekory: Bílá",null," "]
[null,null,"ulice - SZ - RAL 7037 : ",null," "]
[null,null,"2NP - O02 : 3*2,15",null,6.45]
[null,null,"3NP - O03 : 3*2,15",null,6.45]
[null,null,"4NP - O04 : 3*2,15",null,6.45]
[null,null,"bok - SV - bílá barva : ",null," "]
[null,null,"2NP-5NP - O05 + 006 : 4*1,35",null,5.4]
[null,null,"dvůr - JV : ",null," "]
[null,null,"1NP - O07 : (2*1,50)",null,3]
[null,null,"1NP - O08 : (1,45)",null,1.45]
[null,null,"2NP - O09 : (1,40)",null,1.4000000000000001]
[null,null,"2NP - O10 : (1,45)",null,1.45]
[null,null,"1NP - O11 : (0,60)",null,0.6]
[null,null,"2NP - O12-13 : (1,55+0,80)",null,2.35]
[null,null,"3NP - O14-17 : (1,55+1,35+1,50+0,85)",null,5.25]
[null,null,"4NP - O18-19 : (3*1,35) + (1,55)",null,5.6000000000000005]
[null,null,"5NP - O20-23 : (4*1,40)",null,5.6000000000000005]
[null,null,"Mezisoučet",null,51.45]
[null,null,"51,45*1,1",null,56.6]
[{"$f":"A2427+1","v":464},"60775453R","Krytka oboustranná plastová pro DTD parapet 600 mm","kus",66,null,{"$f":"E2452*F2452","v":0}]
[null,null,"(24+9)*2",null,66]
[{"$f":"A2452+1","v":465},"61187138R","Prah dubový délka 70 cm šířka 12 cm tl. 2 cm","kus",1,null,{"$f":"E2454*F2454","v":0}]
[null,null,"D15a : 1",null,1]
[{"$f":"A2454+1","v":466},"61187158R","Prah dubový délka 80 cm šířka 12 cm tl. 2 cm","kus",32,null,{"$f":"E2456*F2456","v":0}]
[null,null,"D14a : 13+7",null,20]
[null,null,"D14e+f+g+h+j : 3+1+1+1+1",null,7]
[null,null,"D23a+b+c : 1+1+1",null,3]
[null,null,"D24a+b : 1+1",null,2]
[{"$f":"A2456+1","v":467},"61187178R","Prah dubový délka 90 cm šířka 12 cm tl. 2 cm","kus",15,null,{"$f":"E2461*F2461","v":0}]
[null,null,"D12 : 1",null,1]
[null,null,"D13a : 1",null,1]
[null,null,"D22a+b : 3+(6+3)",null,12]
[null,null,"D25 : 1",null,1]
[{"$f":"A2461+1","v":468},"61187199R","Prah dubový délka 180 cm šířka 15 cm tl. 2 cm","kus",2,null,{"$f":"E2466*F2466","v":0}]
[null,null," mn. položky pořadí 424 : 2,00000",null,2]
[{"$f":"A2466+1","v":469},"6119142-2","Madla buková, vnější profil cca. 50 x 50 mm, rovné vč. nátěru","m",17.05,null,{"$f":"E2468*F2468","v":0}]
[null,null,"buk nastavovaný, profil atypický dle stávajících madel v objektu, nátěr na bázi olejovoskové",null," "]
[null,null,"nové madla : ",null," "]
[null,null,"Z.09 : (4,30+9*1,10+1,30)*1,1",null,17.05]
[{"$f":"A2468+1","v":470},"6119142-3","Madla buková, vnější profil cca. 50 x 50 mm, obýbané vč. nátěru","m",11,null,{"$f":"E2472*F2472","v":0}]
[null,null,"buk nastavovaný, profil atypický dle stávajících madel v objektu, nátěr na bázi olejovoskové",null," "]
[null,null,"nové madla : ",null," "]
[null,null,"Z.04 : 10,0*1,1",null,11]
[{"$f":"A2472+1","v":471},"998766103R00","Přesun hmot pro truhlářské konstr., výšky do 24 m","t",4.54,null,{"$f":"E2476*F2476","v":0}]
["Díl:","767","Konstrukce zámečnické",null," ",null,{"$f":"SUBTOTAL(9,G2478:G2747)","v":0}]
[{"$f":"A2476+1","v":472},"767592112R00","Zdvojená podlaha v.do 200 mm, dřevotřískový panel","m2",139,null,{"$f":"E2478*F2478","v":0}]
[null,null,"popis viz. TZ - oddíl E.15 podlahy"]
[null,null,"m.č. 016 + 017 : 16,0+23,0",null,39]
[null,null,"m.č. 120 : 22,0",null,22]
[null,null,"skladba F01b : 78,00000",null,78]
[{"$f":"A2478+1","v":473},"767649193R00","Montáž doplňků dveří, stavěče křídel","kus",60,null,{"$f":"E2483*F2483","v":0}]
[null,null,"podlahové dveřní zarážky : ",null," "]
[null,null,"1PP-4NP : 3 + 11 + 13 + 15 + 18",null,60]
[{"$f":"A2483+1","v":474},"767842340RT1","Kotvicí bod dl.400 mm nerez, beton.střech tl.80 mm na chemické kotvy","kus",16,null,{"$f":"E2486*F2486","v":0}]
[null,null,"Nerezový kotvicí bod pro betonové konstrukce min. tl. 80 mm. Určený pro beton třídy C20/25 a vyšší. Průměr sloupku 42 mm. Kotvicí základna je o rozměru 150 x 150 mm. Instalace pomocí chemických kotev.",null," "]
[null,null,"V položce je zakalkulováno vyvrtání a vyčištění otvoru požadovaného průměru a hloubky a osazení chemické kotvy.",null," "]
[null,null,"alternativa kotvení - skrz desku závitové tyče a kotevní podložka na vnitřní straně.",null," "]
[null,null,"spodní střecha : 14",null,14]
[null,null,"horní střecha : 2",null,2]
[{"$f":"A2486+1","v":475},"767849116R00","Nerezové lano 6 mm","m",43,null,{"$f":"E2492*F2492","v":0}]
[null,null,"Montáž a dodávka - nerezové lano určené pro systémy s požadavkem na permanentní kotvicí vedení.",null," "]
[{"$f":"A2492+1","v":476},"767849121R00","Napínací nerez koncovka k lanu 6 mm","kus",2,null,{"$f":"E2494*F2494","v":0}]
[null,null,"Montáž a dodávka - určená pro systémy s požadavkem na permanentní kotvicí vedení. provedení z nerez oceli.",null," "]
[{"$f":"A2494+1","v":477},"767849123R00","Pevná nerez koncovka k lanu 6 mm, délka 140 mm","kus",2,null,{"$f":"E2496*F2496","v":0}]
[null,null,"Montáž a dodávka - koncovka určená k nalisování na nerezové lano. Délky 140 mm.",null," "]
[{"$f":"A2496+1","v":478},"767849131R00","Štítek k označní jednotlivých úseků kotv.vedení","kus",2,null,{"$f":"E2498*F2498","v":0}]
[null,null,"Montáž a dodávka - slouží k označení jednotlivých úseků permanentního kotvicího vedení v souladu s ČSN EN 795.",null," "]
[{"$f":"A2498+1","v":479},"767-02","nerez vana v patě výtahové šachty - rozměr 2,0 x 2,7 x 0,9m","m2",15.5,null,{"$f":"E2500*F2500","v":0}]
[null,null,"dodávka materiálu - nerez plech tl. 2,5mm, montáž na místě - svařování v ochrané atmosféře,",null," "]
[null,null,"kotvení ke stěnám a podlaze pomocí chemických kotev 6ks/m2.",null," "]
[null,null,"šrouby chemických kotvy budou ovařeny, případně přeplátovány plátem plechu.",null," "]
[null,null,"výtahová šachta : (2,70*1,95)+1,0*(2*(2,70+1,95))*1,1",null,15.5]
[{"$f":"A2500+1","v":480},"76714-I11","prosklená příčka (Rw=44 dB) + dveře + instalační profil kompletní dodávka a montáž","ks",1,null,{"$f":"E2505*F2505","v":0}]
[null,null,"specifikace příčky viz. výpis prosklených příček",null," "]
[null,null,"referenční výrobek - např. příčky Likoform - MICRA II",null," "]
[null,null,"I11 - 1NP : 1",null,1]
[{"$f":"A2505+1","v":481},"76714-I12","prosklená příčka (Rw=44 dB) + dveře + instalační profil kompletní dodávka a montáž","ks",1,null,{"$f":"E2509*F2509","v":0}]
[null,null,"specifikace příčky viz. výpis prosklených příček",null," "]
[null,null,"referenční výrobek - např. příčky Likoform - MICRA II",null," "]
[null,null,"I12 - 1NP : 1",null,1]
[{"$f":"A2509+1","v":482},"76714-I13","prosklená příčka (Rw=44 dB) kompletní dodávka a montáž","ks",1,null,{"$f":"E2513*F2513","v":0}]
[null,null,"specifikace příčky viz. výpis prosklených příček",null," "]
[null,null,"referenční výrobek - např. příčky Likoform - MICRA II",null," "]
[null,null,"I13 - 1NP : 1",null,1]
[{"$f":"A2513+1","v":483},"76714-I14","prosklená příčka (Rw=44 dB) kompletní dodávka a montáž","ks",1,null,{"$f":"E2517*F2517","v":0}]
[null,null,"specifikace příčky viz. výpis prosklených příček",null," "]
[null,null,"referenční výrobek - např. příčky Likoform - MICRA II",null," "]
[null,null,"I14 - 1NP : 1",null,1]
[{"$f":"A2517+1","v":484},"76714-I15","prosklená příčka (Rw=44 dB) kompletní dodávka a montáž","ks",1,null,{"$f":"E2521*F2521","v":0}]
[null,null,"specifikace příčky viz. výpis prosklených příček",null," "]
[null,null,"referenční výrobek - např. příčky Likoform - MICRA II",null," "]
[null,null,"I15 - 1NP : 1",null,1]
[{"$f":"A2521+1","v":485},"76714-I16","prosklená příčka (Rw=37 dB) kompletní dodávka a montáž","ks",1,null,{"$f":"E2525*F2525","v":0}]
[null,null,"specifikace příčky viz. výpis prosklených příček",null," "]
[null,null,"referenční výrobek - např. příčky Likoform - MICRA I",null," "]
[null,null,"I15 - 1NP : 1",null,1]
[{"$f":"A2525+1","v":486},"76714-I21","prosklená příčka (Rw=37 dB) + dveře kompletní dodávka a montáž","ks",1,null,{"$f":"E2529*F2529","v":0}]
[null,null,"specifikace příčky viz. výpis prosklených příček",null," "]
[null,null,"referenční výrobek - např. příčky Likoform - MICRA I",null," "]
[null,null,"I21 - 2NP : 1",null,1]
[{"$f":"A2529+1","v":487},"76714-I22","prosklená příčka (Rw=37 dB) + dveře + instalační profil kompletní dodávka a montáž","ks",1,null,{"$f":"E2533*F2533","v":0}]
[null,null,"specifikace příčky viz. výpis prosklených příček",null," "]
[null,null,"referenční výrobek - např. příčky Likoform - MICRA I",null," "]
[null,null,"I22 - 2NP : 1",null,1]
[{"$f":"A2533+1","v":488},"76714-I23","prosklená příčka (Rw=37 dB)  kompletní dodávka a montáž","ks",1,null,{"$f":"E2537*F2537","v":0}]
[null,null,"specifikace příčky viz. výpis prosklených příček",null," "]
[null,null,"referenční výrobek - např. příčky Likoform - MICRA I",null," "]
[null,null,"I23 - 2NP : 1",null,1]
[{"$f":"A2537+1","v":489},"76714-I24","prosklená příčka (Rw=37 dB)  kompletní dodávka a montáž","ks",1,null,{"$f":"E2541*F2541","v":0}]
[null,null,"specifikace příčky viz. výpis prosklených příček",null," "]
[null,null,"referenční výrobek - např. příčky Likoform - MICRA I",null," "]
[null,null,"I24 - 2NP : 1",null,1]
[{"$f":"A2541+1","v":490},"76714-I25","prosklená příčka (Rw=37 dB)  kompletní dodávka a montáž","ks",1,null,{"$f":"E2545*F2545","v":0}]
[null,null,"specifikace příčky viz. výpis prosklených příček",null," "]
[null,null,"referenční výrobek - např. příčky Likoform - MICRA I",null," "]
[null,null,"I25 - 2NP : 1",null,1]
[{"$f":"A2545+1","v":491},"76714-I31","prosklená příčka (Rw=37 dB) + dveře kompletní dodávka a montáž","ks",1,null,{"$f":"E2549*F2549","v":0}]
[null,null,"specifikace příčky viz. výpis prosklených příček",null," "]
[null,null,"referenční výrobek - např. příčky Likoform - MICRA I",null," "]
[null,null,"I31 - 3NP : 1",null,1]
[{"$f":"A2549+1","v":492},"76714-I32","prosklená příčka (Rw=37 dB)  kompletní dodávka a montáž","ks",1,null,{"$f":"E2553*F2553","v":0}]
[null,null,"specifikace příčky viz. výpis prosklených příček",null," "]
[null,null,"referenční výrobek - např. příčky Likoform - MICRA I",null," "]
[null,null,"I32 - 3NP : 1",null,1]
[{"$f":"A2553+1","v":493},"76714-I33","prosklená příčka (Rw=37 dB)  kompletní dodávka a montáž","ks",1,null,{"$f":"E2557*F2557","v":0}]
[null,null,"specifikace příčky viz. výpis prosklených příček",null," "]
[null,null,"referenční výrobek - např. příčky Likoform - MICRA I",null," "]
[null,null,"I33 - 3NP : 1",null,1]
[{"$f":"A2557+1","v":494},"76714-I34","prosklená příčka (Rw=37 dB)  kompletní dodávka a montáž","ks",1,null,{"$f":"E2561*F2561","v":0}]
[null,null,"specifikace příčky viz. výpis prosklených příček",null," "]
[null,null,"referenční výrobek - např. příčky Likoform - MICRA I",null," "]
[null,null,"I34 - 3NP : 1",null,1]
[{"$f":"A2561+1","v":495},"76714-I41","prosklená příčka (Rw=37 dB) + dveře kompletní dodávka a montáž","ks",1,null,{"$f":"E2565*F2565","v":0}]
[null,null,"specifikace příčky viz. výpis prosklených příček",null," "]
[null,null,"referenční výrobek - např. příčky Likoform - MICRA I",null," "]
[null,null,"I41 - 4NP : 1",null,1]
[{"$f":"A2565+1","v":496},"76714-I42","prosklená příčka (Rw=44 dB) + dveře kompletní dodávka a montáž","ks",1,null,{"$f":"E2569*F2569","v":0}]
[null,null,"specifikace příčky viz. výpis prosklených příček",null," "]
[null,null,"referenční výrobek - např. příčky Likoform - MICRA II",null," "]
[null,null,"I42 - 4NP : 1",null,1]
[{"$f":"A2569+1","v":497},"76714-I43","prosklená příčka (Rw=37 dB) + dveře + instalační profil kompletní dodávka a montáž","ks",1,null,{"$f":"E2573*F2573","v":0}]
[null,null,"specifikace příčky viz. výpis prosklených příček",null," "]
[null,null,"referenční výrobek - např. příčky Likoform - MICRA I",null," "]
[null,null,"I43 - 4NP : 1",null,1]
[{"$f":"A2573+1","v":498},"76714-I44","prosklená příčka (Rw=37 dB) kompletní dodávka a montáž","ks",1,null,{"$f":"E2577*F2577","v":0}]
[null,null,"specifikace příčky viz. výpis prosklených příček",null," "]
[null,null,"referenční výrobek - např. příčky Likoform - MICRA I",null," "]
[null,null,"I44 - 4NP : 1",null,1]
[{"$f":"A2577+1","v":499},"76714-I45","prosklená příčka (Rw=44 dB) kompletní dodávka a montáž","ks",1,null,{"$f":"E2581*F2581","v":0}]
[null,null,"specifikace příčky viz. výpis prosklených příček",null," "]
[null,null,"referenční výrobek - např. příčky Likoform - MICRA II",null," "]
[null,null,"I45 - 4NP : 1",null,1]
[{"$f":"A2581+1","v":500},"76714-I46","prosklená příčka (Rw=44 dB) kompletní dodávka a montáž","ks",1,null,{"$f":"E2585*F2585","v":0}]
[null,null,"specifikace příčky viz. výpis prosklených příček",null," "]
[null,null,"referenční výrobek - např. příčky Likoform - MICRA II",null," "]
[null,null,"I46 - 4NP : 1",null,1]
[{"$f":"A2585+1","v":501},"76714-I47","prosklená příčka (Rw=37 dB) kompletní dodávka a montáž","ks",1,null,{"$f":"E2589*F2589","v":0}]
[null,null,"specifikace příčky viz. výpis prosklených příček",null," "]
[null,null,"referenční výrobek - např. příčky Likoform - MICRA I",null," "]
[null,null,"I47 - 4NP : 1",null,1]
[{"$f":"A2589+1","v":502},"7673-V03","V.03 - střešní výlez 130x70cm vč. skládacích schodů v=3,2m, EI 30 DP1 kompletní dodávka a montáž","kpl",1,null,{"$f":"E2593*F2593","v":0}]
[null,null,"Přesná specifikace dle PD - viz. výpis D.1.1.c.35",null," "]
[null,null,"5NP-střecha : 1",null,1]
[{"$f":"A2593+1","v":503},"76761-D01","D01 - vstupní hliníkové dveře dvoukřídlé venkovní prosklené otočné, 2,0 x 3,32m dodávka, montáž","m2",6.6400000000000006,null,{"$f":"E2596*F2596","v":0}]
[null,null,"kompletní specifikace viz. výpis dveří D.1.1.c.32",null," "]
[null,null,"vč. kování, panikového kování, elektromechanického zámku, samozavírače pro dvoukřídlé dveře, polep - dva pruhy značek",null," "]
[null,null,"1NP : 2,00*3,32",null,6.6400000000000006]
[{"$f":"A2596+1","v":504},"76761-D02","D02 - vstupní dveře jednokřídlé venkovní otočné, 1,10 x 2,10m, vč. zárubně dodávka, montáž","ks",1,null,{"$f":"E2600*F2600","v":0}]
[null,null,"kompletní specifikace viz. výpis dveří D.1.1.c.32",null," "]
[null,null,"vč. kování, panikového kování, elektromechanického zámku, samozavírače pro dvoukřídlé dveře",null," "]
[null,null,"1NP - m.č. 020 : 1",null,1]
[{"$f":"A2600+1","v":505},"76761-D11","D11 - vnitřní hliníkové dveře dvoukřídlé prosklené otočné - 2,0 x 2,5m dodávka, montáž","m2",5,null,{"$f":"E2604*F2604","v":0}]
[null,null,"kompletní specifikace viz. výpis dveří D.1.1.c.32",null," "]
[null,null,"vč. kování, panikového kování, elektromechanického zámku, samozavírače pro dvoukřídlé dveře, polep - dva pruhy značek",null," "]
[null,null,"1NP - m.č. 001 : 2,00*2,50",null,5]
[{"$f":"A2604+1","v":506},"76761-O01","O01 - hliníkové okna - fixní dodávka, montáž","m2",13.280000000000001,null,{"$f":"E2608*F2608","v":0}]
[null,null,"kompletní specifikace viz. výpis oken D.1.1.c.31",null," "]
[null,null,"ulice - SZ : ",null," "]
[null,null,"1NP - O01 : 2*(2,00*3,32)",null,13.280000000000001]
[{"$f":"A2608+1","v":507},"76761-O02-4","O02 - O04 hliníkové okna - OS+fix dodávka, montáž","m2",42.21,null,{"$f":"E2612*F2612","v":0}]
[null,null,"kompletní specifikace viz. výpis oken D.1.1.c.31",null," "]
[null,null,"ulice - SZ : ",null," "]
[null,null,"2NP - O02 : (3*2,10*2,25)",null,14.18]
[null,null,"3NP - O03 : (3*2,10*2,25)",null,14.18]
[null,null,"4NP - O04 : (3*2,10*2,20)",null,13.86]
[{"$f":"A2612+1","v":508},"76761-O05+6","O05 - O06 hliníkové okna - OS+fix dodávka, montáž","m2",10.74,null,{"$f":"E2618*F2618","v":0}]
[null,null,"kompletní specifikace viz. výpis oken D.1.1.c.31",null," "]
[null,null,"bok - SV : ",null," "]
[null,null,"2NP - O05 : (1,30*2,05)",null,2.67]
[null,null,"3-5NP - O06 : (3*1,30*2,07)",null,8.08]
[{"$f":"A2618+1","v":509},"76761-O07-10","O07 - O10 - plastové okna, zvýšený požadavek na akustiku dodávka, montáž","m2",14.46,null,{"$f":"E2623*F2623","v":0}]
[null,null,"kompletní specifikace viz. výpis oken D.1.1.c.31",null," "]
[null,null,"dvůr - JV : ",null," "]
[null,null,"1NP - O07 : 2,05*(2*1,45)",null,5.95]
[null,null,"1NP - O08 : 2,05*(1,40)",null,2.87]
[null,null,"2NP - O09 : 2,05*(1,35)",null,2.77]
[null,null,"2NP - O10 : 2,05*(1,40)",null,2.87]
[{"$f":"A2623+1","v":510},"76761-O11-23","O11 - O23 - plastové okna dodávka, montáž","m2",34.08,null,{"$f":"E2630*F2630","v":0}]
[null,null,"kompletní specifikace viz. výpis oken D.1.1.c.31",null," "]
[null,null,"dvůr - JV : ",null," "]
[null,null,"1NP - O11 : 1,20*(0,55)",null,0.66]
[null,null,"2NP - O12-13 : 2,10*(1,50+0,75)",null,4.7300000000000004]
[null,null,"3NP - O14-17 : 2,10*(1,50+1,30+1,45+0,80)",null,10.61]
[null,null,"4NP - O18-19 : 2,05*(3*1,30) + 2,05*(1,50)",null,11.07]
[null,null,"5NP - O20-23 : 1,30*(4*1,35)",null,7.0200000000000005]
[{"$f":"A2630+1","v":511},"76761-O24","O24 - interiérové okno, zvýšený požadavek na akustiku dodávka, montáž","m2",3.9,null,{"$f":"E2638*F2638","v":0}]
[null,null,"kompletní specifikace viz. výpis oken D.1.1.c.31",null," "]
[null,null,"1NP - m.č. 016-017 : 1,30*1,50",null,1.95]
[null,null,"2NP - m.č. 119-120 : 1,30*1,50",null,1.95]
[{"$f":"A2638+1","v":512},"7678491-01","střešní záchytný systém - tahové zkoušky, revize a předání do užívání ","kpl",1,null,{"$f":"E2642*F2642","v":0}]
[null,null,"dodávka a montáž, včetně revize a předání do uživání.",null," "]
[{"$f":"A2642+1","v":513},"76799-01","vnitřní ocelová kce - výtahová šachta a příčky z jackelů","t",1.35,null,{"$f":"E2644*F2644","v":0}]
[null,null,"materiál+svařování+montáž+chemické kotvy M12 (5.8) +vyrovnávky cem. maltou pod plotny",null," "]
[null,null,"prvky dodané otryskané a se základním nátěrem - dle poznámky na výkrese",null," "]
[null,null,"ve výtahové šachtě - viz. výkres D.1.2c-24 : (0,65+0,04)*1,08",null,0.75]
[null,null,"pro SDK příčku W3.3 - jackely 50/50/3mm : 0,2",null,0.2]
[null,null,"pro SDK příčku W6.2 - jackely 50/50/3mm : 0,4",null,0.4]
[{"$f":"A2644+1","v":514},"76799-02","venkovní ocelová kce pro VZT na střeše","t",0.09,null,{"$f":"E2650*F2650","v":0}]
[null,null,"materiál+svařování+montáž+mechanické kotvy M12+vyrovnávky cem. maltou pod plotny",null," "]
[null,null,"povrchová úplava - žárový zinek",null," "]
[null,null,"viz. D.1.2c-25 : (0,07+0,01)*1,08",null,0.09]
[{"$f":"A2650+1","v":515},"76799-03a","nový světlík atria - ocelová kce","t",4.16,null,{"$f":"E2654*F2654","v":0}]
[null,null,"materiál+svařování+montáž+chemické kotvy M12 (5.8) dl. 150mm +vyrovnávky cem. maltou pod plotny",null," "]
[null,null,"prvky dodané otryskané a s nátěrem - dle poznámky na výkrese a TZ",null," "]
[null,null,"viz. D.1.2c-20 : 3,85*1,08",null,4.16]
[{"$f":"A2654+1","v":516},"76799-03b","nový světlík atria - hliníkové pomocné montážní profily","t",0.22,null,{"$f":"E2658*F2658","v":0}]
[null,null,"materiál+montáž, dle poznámky na výkrese",null," "]
[null,null,"viz. D.1.2c-20 : 0,200*1,08",null,0.22]
[{"$f":"A2658+1","v":517},"76799-03c","nový světlík atria - plášť - hliníkové rámy + izolační zasklení","kpl",1,null,{"$f":"E2661*F2661","v":0}]
[null,null,"dodávka a montáž systémového zasklení - hliníkové rámy + izolační zasklení",null," "]
[null,null,"Plášť světlíku - referenční výrobek - například systém Aluprof MB-SR50N A.",null," "]
[null,null,"Plášť je navržen jako příložkový systém fasády z hliníkových sloupků 50x50 mm a izolačním trojsklem (6/16/6/16/VSG 8 celková tl zasklení - 44.2) s Ug < 0,8 W/m2.K.",null," "]
[null,null,"Mezi osami 5-6 jsou navržené 4 střešní hliníková okna pro použití do systémové fasády vybavené el. pohonem na 24v DC, s odběrem cca 96 W napojené na systém MaR.",null," "]
[null,null,"Předpokládána výška otevření okna je 1 m z důvodu čištění okna.",null," "]
[null,null,"Tepelná izolace: součinitel prostupu tepla Uf od 1,8 W/(m2K),",null," "]
[null,null,"Vodotěsnost: E1800; EN 12208, Odolnost proti zátěži větrem: 2,4 kN/m2; EN 12210; Odolnost proti nárazu: třída 4; EN 1873",null," "]
[null,null,"",null," "]
[null,null,"Plášť bude uložen na montážní hliníkové profily 60/20/2 mm, které budou kotveny do OK světlíku - horních pásnic T-profilů.",null," "]
[null,null,"Tyto kce jsou součástí položek 76799-03a + 76799-03b",null," "]
[{"$f":"A2661+1","v":518},"76799-04","venkovní ocelová kce přístřešku dodávka, montáž, povrchová úprava","t",3.62,null,{"$f":"E2672*F2672","v":0}]
[null,null,"materiál+svařování+montáž+chemické kotvy M12 (5.8) délky 150mm +vyrovnávky cem. maltou pod plotny, prvky dodané otryskané a s nátěrem - dle výkresu D.1.2c-26",null," "]
[null,null,"viz. D.1.2c-26 : 2,90*1,08",null,3.14]
[null,null,"konstrukce pro opláštění deskama - viz. D.1.1c.40 : (0,37+0,05)*1,15",null,0.49]
[{"$f":"A2672+1","v":519},"76799-06","vnitřní ocelová kce - kce pod dieselagregát IPN140","t",0.2,null,{"$f":"E2676*F2676","v":0}]
[null,null,"materiál+svařování+montáž+mechanické kotvy M8 (5.8) +vyrovnávky cem. maltou pod plotny",null," "]
[null,null,"prvky dodané otryskané a se základním nátěrem - dle poznámky na výkrese",null," "]
[null,null,"ve výtahové šachtě - viz. výkres D.1.2c-28 : (0,17+0,01)*1,08",null,0.2]
[{"$f":"A2676+1","v":520},"76799-V11","V.11 - Schránka na dopisy, venkovní, nerez, rozměr cca. 305x105x410 mm","kus",1,null,{"$f":"E2680*F2680","v":0}]
[null,null,"dodávka a montáž - vzorkovat",null," "]
[null,null,"referenční výrobek - např. designová LETTERMANN M stainless steel 762",null," "]
[null,null,"1NP u hlavního vstupu : 1",null,1]
[{"$f":"A2680+1","v":521},"76799-Z01","Z.01 - úprava stávajícího zábradlí v atriu - 2. a 3.NP","m",111,null,{"$f":"E2684*F2684","v":0}]
[null,null,"kompletní specifikace viz. výpis zámečnických výrobků D.1.1.c.34 - úprava výšky a doplnění ozdobných prvků - nahoře odříznout, odstranit stávající nátěr, očistit, opravit poškozené části, nastavit výškově, doplnit nové části a natřít.",null," "]
[null,null,"dřevěné madlo je samostatně v 766",null," "]
[null,null,"2NP : 55,0",null,55]
[null,null,"3NP : 56,0",null,56]
[{"$f":"A2684+1","v":522},"76799-Z02","Z.02 - úprava stávajícího zábradlí v atriu - 4.NP","m",48,null,{"$f":"E2689*F2689","v":0}]
[null,null,"kompletní specifikace viz. výpis zámečnických výrobků D.1.1.c.34 - úprava výšky - nahoře odříznout, odstranit stávající nátěr, očistit, opravit poškozené části, nastavit výškově a natřít.",null," "]
[null,null,"dřevěné madlo je samostatně v 766",null," "]
[null,null,"4NP : 48,0",null,48]
[{"$f":"A2689+1","v":523},"76799-Z03","Z.03 - úprava stávajícího zábradlí v atriu - 5.NP","m",53,null,{"$f":"E2693*F2693","v":0}]
[null,null,"kompletní specifikace viz. výpis zámečnických výrobků D.1.1.c.34 - úprava výšky - nahoře odříznout, odstranit stávající nátěr, očistit, opravit poškozené části, nastavit výškově a natřít.",null," "]
[null,null,"dřevěné madlo je samostatně v 766",null," "]
[null,null,"5NP : 53,0",null,53]
[{"$f":"A2693+1","v":524},"76799-Z04","Z.04 - nové zábradlí ve 4.NP","m",9.8000000000000007,null,{"$f":"E2697*F2697","v":0}]
[null,null,"kompletní specifikace viz. výpis zámečnických výrobků D.1.1.c.34 - kopie stávajícího - výroba, montáž a nátěr",null," "]
[null,null,"dřevěné madlo je samostatně v 766",null," "]
[null,null,"4NP : 2,50+2*(2,10+1,55)",null,9.8000000000000007]
[{"$f":"A2697+1","v":525},"76799-Z05","Z.05 - úprava stávajícího vodorovného zábradlí ve schodištích","m",17.900000000000002,null,{"$f":"E2701*F2701","v":0}]
[null,null,"kompletní specifikace viz. výpis zámečnických výrobků D.1.1.c.34 - úprava výšky - odříznout, odstranit stávající nátěr, očistit, opravit poškozené části, nastavit výškově a natřít.",null," "]
[null,null,"dřevěné madlo je samostatně v 766",null," "]
[null,null,"2NP-5NP : 4*4,1 + 1,5",null,17.900000000000002]
[{"$f":"A2701+1","v":526},"76799-Z06","Z.06 - úprava stávajícího šikmého zábradlí ve schodištích","ks",18.400000000000002,null,{"$f":"E2705*F2705","v":0}]
[null,null,"kompletní specifikace viz. výpis zámečnických výrobků D.1.1.c.34  - úprava výšky - odříznout, odstranit stávající nátěr, očistit, opravit poškozené části, nastavit výškově a natřít.",null," "]
[null,null,"dřevěné madlo je samostatně v 766",null," "]
[null,null,"1NP-4NP : 4*4,60",null,18.400000000000002]
[{"$f":"A2705+1","v":527},"76799-Z07","Z.07 - žebřík na střeše - výlez na střechu DA","ks",1,null,{"$f":"E2709*F2709","v":0}]
[null,null,"kompletní specifikace viz. výpis zámečnických výrobků D.1.1.c.34",null," "]
[null,null,"materiál+svařování+montáž+mechanické kotvy M8, vč. povrchové úpravy - žárový zinek",null," "]
[{"$f":"A2709+1","v":528},"76799-Z08","Z.08 - trubka pro jímací stožár","ks",2,null,{"$f":"E2712*F2712","v":0}]
[null,null,"kompletní specifikace viz. výpis zámečnických výrobků D.1.1.c.34",null," "]
[null,null,"materiál+svařování+montáž+mechanické kotvy M12 (4ks do betonu)+vyrovnávky cem. maltou pod plotny, povrchová úplava - žárový zinek",null," "]
[null,null,"trubka vč. plotny : 2",null,2]
[{"$f":"A2712+1","v":529},"76799-Z09","Z.09 - úchyty madel ve schodištích","ks",24,null,{"$f":"E2716*F2716","v":0}]
[null,null,"kompletní specifikace viz. výpis zámečnických výrobků D.1.1.c.34, dodávka vč. nátěru+montáž+mechanické kotvy M12",null," "]
[null,null,"nové madla : ",null," "]
[null,null,"Z.09 : 4 + 9*2 + 1*2",null,24]
[{"$f":"A2716+1","v":530},"76799-Z10","Z.10 - poklop na šachtu ","ks",2,null,{"$f":"E2720*F2720","v":0}]
[null,null,"kompletní specifikace viz. výpis zámečnických výrobků D.1.1.c.34, dodávka poklopu s rámem+montáž vč. kotevních prvků, povrchová úplava - žárový zinek",null," "]
[null,null,"1PP - jímky : 2",null,2]
[{"$f":"A2720+1","v":531},"76799-Z11","Z.11 - dvířka 0,6 x 1,2m - PO odolnost EW30 DP1-C","ks",1,null,{"$f":"E2723*F2723","v":0}]
[null,null,"kompletní specifikace viz. výpis zámečnických výrobků D.1.1.c.34",null," "]
[null,null,"kompletní dodávka a montáž vč. samozavírače",null," "]
[null,null,"1PP - m.č. S02 : 1",null,1]
[{"$f":"A2723+1","v":532},"76799-Z12","Z.12 - větrací mříže 0,7 x 2,15m","ks",2,null,{"$f":"E2727*F2727","v":0}]
[null,null,"kompletní specifikace viz. výpis zámečnických výrobků D.1.1.c.34",null," "]
[null,null,"kompletní dodávka a montáž vč. nátěru",null," "]
[null,null,"1NP : 1",null,1]
[null,null,"4NP : 1",null,1]
[{"$f":"A2727+1","v":533},"76799-Z13","Z.13 - čistící zóna, venkovní rohož vč. rámu - 1,30 x 0,60m dodávka a montáž","ks    ",2,null,{"$f":"E2732*F2732","v":0}]
[null,null,"kompletní specifikace viz. výpis zámečnických výrobků D.1.1.c.34",null," "]
[null,null,"kompletní dodávka a montáž, povrchová úplava - žárový zinek",null," "]
[{"$f":"A2732+1","v":534},"76799-Z14","Z.14 - stojan na kola ","ks",5,null,{"$f":"E2735*F2735","v":0}]
[null,null,"kompletní specifikace viz. výpis zámečnických výrobků D.1.1.c.34 - kompletní dodávka a montáž vč. mechanických kotev M12+vyrovnávky cem. maltou pod plotny, povrchová úplava - žárový zinek",null," "]
[{"$f":"A2735+1","v":535},"76799-Z15","Z.15 - držák stožáru","ks",5,null,{"$f":"E2737*F2737","v":0}]
[null,null,"kompletní specifikace viz. výpis zámečnických výrobků D.1.1.c.34 - kompletní dodávka a montáž vč. svorníků M8, povrchová úplava - žárový zinek.",null," "]
[null,null,"Kotevní pvky na rubové straně - druhá položka",null," "]
[null,null,"na střeše na stěně nástavby : 5",null,5]
[{"$f":"A2737+1","v":536},"76799-Z15k","Z.15 - držák stožáru - rubové kotevní prvky - U160","kg",178.68,null,{"$f":"E2741*F2741","v":0}]
[null,null,"kompletní specifikace viz. výpis zámečnických výrobků D.1.1.c.34 - Kotevní pvky na rubové straně, otryskáno a povrchová úplava - základní nátěr",null," "]
[null,null,"na stěně nástavby z vnitřní strany DA : 2*4,40*18,80*1,08",null,178.68]
[{"$f":"A2741+1","v":537},"549163-1","dveřní zarážka - podlahová, nerez + guma","ks",60,null,{"$f":"E2744*F2744","v":0}]
[null,null,"nerez válec s gumovým kroužkem, podlahová montáž",null," "]
[null,null," mn. položky pořadí 476 : 60,00000",null,60]
[{"$f":"A2744+1","v":538},"998767203R00","Přesun hmot pro zámečnické konstr., výšky do 24 m","kpl",1,null,{"$f":"E2747*F2747","v":0}]
["Díl:","771","Podlahy z dlaždic a obklady",null," ",null,{"$f":"SUBTOTAL(9,G2749:G2775)","v":0}]
[{"$f":"A2747+1","v":539},"771101210RT1","Penetrace podkladu pod dlažby penetrační nátěr Primer G","m2",38.270000000000003,null,{"$f":"E2749*F2749","v":0}]
[null,null," mn. položky pořadí 549 : 27,47000",null,27.47]
[null,null,"schody S01 - dlažba F7 : 16*1,35*(0,30+0,20)",null,10.8]
[{"$f":"A2749+1","v":540},"771275511R00","Montáž keram.dlaždic a schodovek na stupnice,TM","m",21.6,null,{"$f":"E2752*F2752","v":0}]
[null,null,"schody S01 - dlažba F7 : 16*1,35",null,21.6]
[{"$f":"A2752+1","v":541},"771275521R00","Montáž keramických dlaždic na podstupnice, TM","m",21.6,null,{"$f":"E2754*F2754","v":0}]
[null,null," mn. položky pořadí 543 : 21,60000",null,21.6]
[{"$f":"A2754+1","v":542},"771277808R00","Hrana stupně profil TREP - S výšky 10 mm","m",21.6,null,{"$f":"E2756*F2756","v":0}]
[null,null," mn. položky pořadí 543 : 21,60000",null,21.6]
[{"$f":"A2756+1","v":543},"771475014RT1","Obklad soklíků keram.rovných, tmel,výška 10 cm lepidlo Monoflex, spár.hm.ASO-Flexfuge (Schömburg)","m",16,null,{"$f":"E2758*F2758","v":0}]
[null,null,"střecha - m.č. 501 : (2*(3,50+4,50))",null,16]
[{"$f":"A2758+1","v":544},"771475034R00","Obklad soklíků keram.stupňov., tmel,20x10 H 10 cm","m",19.7,null,{"$f":"E2760*F2760","v":0}]
[null,null,"schody S01 - dlažba F7 : 16*(0,30+0,20)*2 +1,9+1,3+0,5",null,19.7]
[{"$f":"A2760+1","v":545},"771479001R00","Řezání dlaždic keramických pro soklíky","m",35.700000000000003,null,{"$f":"E2762*F2762","v":0}]
[null,null,"mn. položky: 16,00000",null,16]
[null,null,"mn. položky: 19,70000",null,19.7]
[{"$f":"A2762+1","v":546},"771575111R00","Montáž podlah keram.,hladké, tmel, 45x45 cm","m2",27.47,null,{"$f":"E2765*F2765","v":0}]
[null,null,"1PP podesta schodiště S01 : 1,30*1,90",null,2.4700000000000002]
[null,null,"1NP - m.č. 023 : 9,0",null,9]
[null,null,"střecha - m.č. 501 : 16,0",null,16]
[{"$f":"A2765+1","v":547},"59764-F7","F7 - Dlažba slinutá protiskluz 450x450 mm","m2",46.45,null,{"$f":"E2769*F2769","v":0}]
[null,null,"plocha : ",null," "]
[null,null,"mn. položky: 27,47000*1,05",null,28.85]
[null,null,"sokl - m.č. 501 : (2*(3,50+4,50))*0,10*1,3",null,2.08]
[null,null,"sokl schody S01 : (16*(0,30+0,20)*2 +1,9+1,3+0,5)*0,10*1,3",null,2.57]
[null,null,"schody S01 - dlažba F7 : 16*1,35*(0,30+0,20)*1,2",null,12.96]
[{"$f":"A2769+1","v":548},"998771103R00","Přesun hmot pro podlahy z dlaždic, výšky do 24 m","t",1.1500000000000001,null,{"$f":"E2775*F2775","v":0}]
["Díl:","775","Podlahy vlysové a parketové",null," ",null,{"$f":"SUBTOTAL(9,G2777:G2778)","v":0}]
[{"$f":"A2775+1","v":549},"775511800R00","Demontáž podlah vlysových lepených včetně lišt","m2",58,null,{"$f":"E2777*F2777","v":0}]
[null,null,"1NP - 003+004 : 31,0+27,0",null,58]
["Díl:","776","Podlahy povlakové",null," ",null,{"$f":"SUBTOTAL(9,G2780:G2858)","v":0}]
[{"$f":"A2777+1","v":550},"776101101R00","Vysávání podlah prům.vysavačem pod povlak.podlahy","m2",1536.56,null,{"$f":"E2780*F2780","v":0}]
[null,null," mn. položky pořadí 554 : 1536,56000",null,1536.56]
[{"$f":"A2780+1","v":551},"776101121R00","Provedení penetrace podkladu pod.povlak.podlahy","m2",1536.56,null,{"$f":"E2782*F2782","v":0}]
[null,null,"mn. položky: 10,00000",null,10]
[null,null,"mn. položky: 1342,66000",null,1342.66]
[null,null,"mn. položky: 111,00000",null,111]
[null,null,"schodiště : ",null," "]
[null,null,"1NP - m.č. 020 : 3*2,60*(0,15+0,35)",null,3.9]
[null,null,"1NP - 5NP : 4*(23*1,50*(0,20+0,30))",null,69]
[{"$f":"A2782+1","v":552},"776220110RT1","Lepení podlah z PVC na stupnice rovné pouze lepení - PVC ve specifikaci","m",150.80000000000001,null,{"$f":"E2789*F2789","v":0}]
[null,null,"1NP - m.č. 020 : 3*2,60",null,7.8]
[null,null,"1NP - m.č. 022 : 23*1,50",null,34.5]
[null,null,"2NP - m.č. 101 : 23*1,50",null,34.5]
[null,null,"3NP - m.č. 201 : 23*1,50",null,34.5]
[null,null,"4NP - m.č. 301 : 23*1,50",null,34.5]
[null,null,"+5",null,5]
[{"$f":"A2789+1","v":553},"776220200RT1","Lepení podlah z PVC na podstupnice pouze lepení - PVC ve specifikaci","m",150.80000000000001,null,{"$f":"E2796*F2796","v":0}]
[null,null,"mn. položky: 150,80000",null,150.80000000000001]
[{"$f":"A2796+1","v":554},"776511000R00","Lepení povlakových podlah z pásů pryžových","m2",10,null,{"$f":"E2798*F2798","v":0}]
[null,null,"F8 - dielektrický koberec : ",null," "]
[null,null,"m.č. 408 : 10,0",null,10]
[{"$f":"A2798+1","v":555},"776511810RT2","Odstranění PVC a koberců lepených bez podložky z ploch 10 - 20 m2","m2",120,null,{"$f":"E2801*F2801","v":0}]
[null,null,"různé drobné plochy : 120",null,120]
[{"$f":"A2801+1","v":556},"776521100RT1","Lepení povlak.podlah z pásů PVC na Chemopren pouze položení - PVC ve specifikaci","m2",1342.66,null,{"$f":"E2803*F2803","v":0}]
[null,null,"F1 a F2 - zátěžový vinyl : ",null," "]
[null,null,"1NP : 351,86500",null,351.87]
[null,null,"ostatní patra - skladba F02a : 912,79500",null,912.80000000000007]
[null,null,"F3 - antistatický vinyl : 78,00000",null,78]
[{"$f":"A2803+1","v":557},"776572100RT1","Lepení povlakových podlah z pásů textilních pouze položení - koberec ve specifikaci","m2",111,null,{"$f":"E2808*F2808","v":0}]
[null,null,"F4 - sametový vinyl : ",null," "]
[null,null,"m.č. 007 : 19,0",null,19]
[null,null,"m.č. 014 : 32,0",null,32]
[null,null,"m.č. 116 : 10,0",null,10]
[null,null,"m.č. 312 : 37,0",null,37]
[null,null,"F5 - akustický koberec - dodávka části prostorové akustiky : 0",null," "]
[null,null,"F6 - čistící zóna : ",null," "]
[null,null,"m.č. 001 : 10,0",null,10]
[null,null,"m.č. 020 : 3,0",null,3]
[{"$f":"A2808+1","v":558},"7762201-1","osazení schodišťové hrany pro PVC/vinyl krytinu","m",150.80000000000001,null,{"$f":"E2818*F2818","v":0}]
[null,null,"mn. položky: 150,80000",null,150.80000000000001]
[{"$f":"A2818+1","v":559},"776421100RU2","Lepení podlahových soklíků k PVC a vinylu včetně dodávky soklíku","m",1660.5,null,{"$f":"E2820*F2820","v":0}]
[null,null,"montáž a dodávka soklíku - hliníkový úhelník L 20x10mm",null," "]
[null,null,"1475,50",null,1475.5]
[null,null,"185,00",null,185]
[{"$f":"A2820+1","v":560},"27250998.AR","Koberec dielektrický A601 50 kV tl. 4,5, š 1000 mm","m2",11,null,{"$f":"E2824*F2824","v":0}]
[null,null,"F8 - dielektrický koberec : ",null," "]
[null,null,"mn. položky: 10,00000*1,1",null,11]
[{"$f":"A2824+1","v":561},"284123-3","Podlahovina PVC tl. 2,0 mm š. 2 m - heterogenní zátěžové","m2",1464.03,null,{"$f":"E2827*F2827","v":0}]
[null,null,"viz. specifikace podlahové krytiny F1+F2 v PD interiéru",null," "]
[null,null,"F1 a F2 se liší pouze barvou",null," "]
[null,null,"F1 a F2 - zátěžový vinyl : ",null," "]
[null,null,"1NP : 351,86500",null,351.87]
[null,null,"ostatní patra - skladba F02a : 912,79500",null,912.80000000000007]
[null,null,"schodiště : ",null," "]
[null,null,"1NP - m.č. 020 : 3*2,60*(0,15+0,35)",null,3.9]
[null,null,"1NP - 5NP : 4*(23*1,50*(0,20+0,30))",null,69]
[null,null,"Mezisoučet",null,1337.56]
[null,null,"1264,66*0,1",null,126.47]
[{"$f":"A2827+1","v":562},"284123-9","Podlahovina PVC tl. 2 mm š. 2 m, homogenní antistatické","m2",85.8,null,{"$f":"E2838*F2838","v":0}]
[null,null,"F3 - antistatický vinyl : 78,00000*1,1",null,85.8]
[{"$f":"A2838+1","v":563},"55370401-1","Hrana schodová Al pro PVC/vinyl, stříbrná, h 3 mm, l=2,7m","kus",60,null,{"$f":"E2840*F2840","v":0}]
[null,null,"Slitina Al-Mg-Si, tepelně zpracovaná ve stavu T6 (6060 T6). Profily jsou realizovány extruzí a následným eloxováním anodickou oxidací",null," "]
[null,null,"150,8/2,7",null,55.86]
[null,null,"60-55,85185",null,4.1500000000000004]
[{"$f":"A2840+1","v":564},"697411-1","Koberec - sametový vinyl","m2",107.8,null,{"$f":"E2844*F2844","v":0}]
[null,null,"viz. specifikace podlahové krytiny F4 v PD interiéru",null," "]
[null,null,"F4 - sametový vinyl : ",null," "]
[null,null,"m.č. 007 : 19,0",null,19]
[null,null,"m.č. 014 : 32,0",null,32]
[null,null,"m.č. 116 : 10,0",null,10]
[null,null,"m.č. 312 : 37,0",null,37]
[null,null,"Mezisoučet",null,98]
[null,null,"98,0*0,1",null,9.8000000000000007]
[{"$f":"A2844+1","v":565},"697424-3","Koberec - čisticí zóna ","m2",14.3,null,{"$f":"E2853*F2853","v":0}]
[null,null,"viz. specifikace podlahové krytiny F6 v PD interiéru",null," "]
[null,null,"F6 - čistící zóna : ",null," "]
[null,null,"m.č. 001 : 10,0*1,1",null,11]
[null,null,"m.č. 020 : 3,0*1,1",null,3.3000000000000003]
[{"$f":"A2853+1","v":566},"998776103R00","Přesun hmot pro podlahy povlakové, výšky do 24 m","t",5.96,null,{"$f":"E2858*F2858","v":0}]
["Díl:","777","Podlahy ze syntetických hmot",null," ",null,{"$f":"SUBTOTAL(9,G2860:G2881)","v":0}]
[{"$f":"A2858+1","v":567},"777101101R00","Příprava podkladu - vysávání podlah prům.vysavačem","m2",1455.54,null,{"$f":"E2860*F2860","v":0}]
[null,null," mn. položky pořadí 571 : 1455,54000",null,1455.54]
[{"$f":"A2860+1","v":568},"777531024R00","Vyrovnání podlah, samonivel. hmota Rovinal tl.4 mm","m2",1455.54,null,{"$f":"E2862*F2862","v":0}]
[null,null,"F8 - dielektrický koberec : ",null," "]
[null,null,"m.č. 408 : 10,0",null,10]
[null,null,"F1 a F2 - zátěžový vinyl : ",null," "]
[null,null,"1NP : 351,86500",null,351.87]
[null,null,"ostatní patra - skladba F02a : 912,79500",null,912.80000000000007]
[null,null,"F4 - sametový vinyl : ",null," "]
[null,null,"m.č. 007 : 19,0",null,19]
[null,null,"m.č. 014 : 32,0",null,32]
[null,null,"m.č. 116 : 10,0",null,10]
[null,null,"m.č. 312 : 37,0",null,37]
[null,null,"F6 - čistící zóna : ",null," "]
[null,null,"m.č. 001 : 10,0",null,10]
[null,null,"m.č. 020 : 3,0",null,3]
[null,null,"F3 - antistatický vinyl : ",null," "]
[null,null,"m.č. 405 : 22,0",null,22]
[null,null,"vyrovnání výšek schodišťových stupňů : ",null," "]
[null,null,"schody S01 - dlažba F7 : 16*1,35*0,30",null,6.48]
[null,null,"1NP - 5NP : 4*(23*1,50*0,30)",null,41.4]
[{"$f":"A2862+1","v":569},"998777103R00","Přesun hmot pro podlahy syntetické, výšky do 24 m","t",11.39,null,{"$f":"E2881*F2881","v":0}]
["Díl:","781","Obklady keramické",null," ",null,{"$f":"SUBTOTAL(9,G2883:G2970)","v":0}]
[{"$f":"A2881+1","v":570},"781101210RT1","Penetrace podkladu pod obklady penetrační nátěr Primer G","m2",294.44,null,{"$f":"E2883*F2883","v":0}]
[null,null,"včetně dodávky materiálu.",null," "]
[null,null,"mn. položky: 294,44000",null,294.44]
[{"$f":"A2883+1","v":571},"781441904R00","Oprava obkladů z hutných glazovaných 250x 65","kus",30,null,{"$f":"E2886*F2886","v":0}]
[null,null,"SZ fasáda - odhad : 30",null,30]
[{"$f":"A2886+1","v":572},"781475112R00","Obklad vnitřní stěn keramický, do tmele, 15x15 cm","m2",294.44,null,{"$f":"E2888*F2888","v":0}]
[null,null,"***1PP : ",null," "]
[null,null,"S11 : 2,20*(1,30+2*0,50)",null,5.0600000000000005]
[null,null,"***1NP : ",null," "]
[null,null,"005 : 2,20*(2*(1,80+1,75)) - 1,4",null,14.22]
[null,null,"009 : 2,20*(3,05+1,0+2,35+3,05+2,40 + 2*(1,6+2,2)) - 3*1,6",null,37.99]
[null,null,"010 : 2,20*(2*(1,80+2,20)) - 1,8",null,15.8]
[null,null,"011 : 2,20*(2*(3,05+3,00)) - 1,6",null,25.02]
[null,null,"012 : 1,30*(2*(1,25+2,50)) - (1,3*0,8)",null,8.7100000000000009]
[null,null,"***2NP : ",null," "]
[null,null,"105 : 2,20*(2*(2,50+2,25)+2*(0,95+1,70)) - 3*1,4",null,28.36]
[null,null,"106 : 2,20*(2*(3,2+1,8)) - 1,6",null,20.400000000000002]
[null,null,"107 : 1,30*(2*(1,20+1,60))",null,7.28]
[null,null,"***3NP : ",null," "]
[null,null,"205 : 2,20*(2*(2,50+2,25)+2*(0,95+1,70)) - 3*1,4",null,28.36]
[null,null,"206 : 2,20*(2*(3,2+1,8)) - 1,6",null,20.400000000000002]
[null,null,"207 : 1,30*(2*(1,20+1,60))",null,7.28]
[null,null,"***4NP : ",null," "]
[null,null,"305 : 2,20*(2*(2,50+2,25)+2*(0,95+1,70)) - 3*1,4",null,28.36]
[null,null,"306 : 2,20*(2*(3,2+1,8)) - 1,6",null,20.400000000000002]
[null,null,"307 : 1,30*(2*(1,20+1,60))",null,7.28]
[null,null,"308 : 2,20*(2*(3,10+1,70)) - 1,6",null,19.52]
[{"$f":"A2888+1","v":573},"781491001RT1","Montáž lišt k obkladům rohových, koutových i dilatačních","m",190.9,null,{"$f":"E2910*F2910","v":0}]
[null,null,"***1PP : ",null," "]
[null,null,"S11 : 2,20*2",null,4.4000000000000004]
[null,null,"***1NP : ",null," "]
[null,null,"005 : 2,20*4 + 1,70",null,10.5]
[null,null,"009 : 2,20*8",null,17.600000000000001]
[null,null,"010 : 2,20*4",null,8.8000000000000007]
[null,null,"011 : 2,20*5 + 2,20*1",null,13.200000000000001]
[null,null,"012 : 1,30*4",null,5.2]
[null,null,"***2NP : ",null," "]
[null,null,"105 : 2,20*9 + 2,20*1",null,22]
[null,null,"106 : 2,20*4",null,8.8000000000000007]
[null,null,"107 : 1,30*4",null,5.2]
[null,null,"***3NP : ",null," "]
[null,null,"205 : 2,20*9 + 2,20*1",null,22]
[null,null,"206 : 2,20*4",null,8.8000000000000007]
[null,null,"207 : 1,30*4",null,5.2]
[null,null,"***4NP : ",null," "]
[null,null,"305 : 2,20*9 + 2,20*1",null,22]
[null,null,"306 : 2,20*4",null,8.8000000000000007]
[null,null,"307 : 1,30*4",null,5.2]
[null,null,"308 : 2,20*5 + 2,20*1",null,13.200000000000001]
[null,null,"10",null,10]
[{"$f":"A2910+1","v":574},"2834241-1","Profil obkladový kout vnitřní hliník  H = 11 mm L = 2,50 m, R=8 mm","kus",80,null,{"$f":"E2933*F2933","v":0}]
[null,null,"***1PP : ",null," "]
[null,null,"S11 : 2",null,2]
[null,null,"***1NP : ",null," "]
[null,null,"005 : 4",null,4]
[null,null,"009 : 8",null,8]
[null,null,"010 : 4",null,4]
[null,null,"011 : 5",null,5]
[null,null,"012 : 0,5*4",null,2]
[null,null,"***2NP : ",null," "]
[null,null,"105 : 9",null,9]
[null,null,"106 : 4",null,4]
[null,null,"107 : 0,5*4",null,2]
[null,null,"***3NP : ",null," "]
[null,null,"205 : 9",null,9]
[null,null,"206 : 4",null,4]
[null,null,"207 : 0,5*4",null,2]
[null,null,"***4NP : ",null," "]
[null,null,"305 : 9",null,9]
[null,null,"306 : 4",null,4]
[null,null,"307 : 0,5*4",null,2]
[null,null,"308 : 5",null,5]
[null,null,"5",null,5]
[{"$f":"A2933+1","v":575},"2834241-2","Profil obkladový kout vnější hliník  H = 11 mm L = 2,50 m, R=8 mm","kus",8,null,{"$f":"E2956*F2956","v":0}]
[null,null,"***1NP : ",null," "]
[null,null,"005 : 1",null,1]
[null,null,"011 : 1",null,1]
[null,null,"***2NP : ",null," "]
[null,null,"105 : 1",null,1]
[null,null,"***3NP : ",null," "]
[null,null,"205 : 1",null,1]
[null,null,"***4NP : ",null," "]
[null,null,"305 : 1",null,1]
[null,null,"308 : 1",null,1]
[null,null,"2",null,2]
[{"$f":"A2956+1","v":576},"59781347R","Obkládačka 15x15 světle šedá mat Color One","m2",323.89,null,{"$f":"E2968*F2968","v":0}]
[null,null,"mn. položky: 294,44000*1,1",null,323.89]
[{"$f":"A2968+1","v":577},"998781103R00","Přesun hmot pro obklady keramické, výšky do 24 m","t",5.04,null,{"$f":"E2970*F2970","v":0}]
["Díl:","782","Konstrukce z přírodního kamene",null," ",null,{"$f":"SUBTOTAL(9,G2972:G2978)","v":0}]
[{"$f":"A2970+1","v":578},"782111140RT1","Obklad stěn kamen. měkkým, rovným tl. 2,5 a 3 cm pouze montáž - obklad ve specifikaci","m2",22.6,null,{"$f":"E2972*F2972","v":0}]
[null,null,"SZ pohled - uliční parter : ",null," "]
[null,null,"svisle : 3,50*(2*0,90+2*0,40+6*0,50)",null,19.600000000000001]
[null,null,"nadpraží : 3*(2,00*0,50)",null,3]
[{"$f":"A2972+1","v":579},"58381335R","Deska dlažební řezaná tl 3 cm","m2",25.990000000000002,null,{"$f":"E2976*F2976","v":0}]
[null,null,"mn. položky: 22,60000*1,15",null,25.990000000000002]
[{"$f":"A2976+1","v":580},"998782101R00","Přesun hmot pro obklady z kamene, výšky do 6 m","t",2.83,null,{"$f":"E2978*F2978","v":0}]
["Díl:","783","Nátěry",null," ",null,{"$f":"SUBTOTAL(9,G2980:G2998)","v":0}]
[{"$f":"A2978+1","v":581},"783201811R00","Odstranění nátěrů z kovových konstrukcí oškrábáním","m2",98.11,null,{"$f":"E2980*F2980","v":0}]
[null,null,"mn. položky: 98,10500",null,98.11]
[{"$f":"A2980+1","v":582},"783201831R00","Odstr. nátěrů z kovových konstr. chem.odstraňovači","m2",98.11,null,{"$f":"E2982*F2982","v":0}]
[null,null,"ocelová kce v atriu mezi 3. a 4.NP : ",null," "]
[null,null,"I14 : 72,4*0,55",null,39.82]
[null,null,"T : 333,0*0,145 +10",null,58.29]
[{"$f":"A2982+1","v":583},"783222130R00","Nátěr syntetický kov.konstrukcí Hostagrund 2x","m2",98.11,null,{"$f":"E2986*F2986","v":0}]
[null,null,"z prostorového lešení v atriu - viz. oddíl 94",null," "]
[null,null,"mn. položky: 98,10500",null,98.11]
[{"$f":"A2986+1","v":584},"783226100R00","Nátěr syntetický kovových konstrukcí základní","m2",98.11,null,{"$f":"E2989*F2989","v":0}]
[null,null,"mn. položky: 98,10500",null,98.11]
[{"$f":"A2989+1","v":585},"783782205R00","Nátěr tesařských konstrukcí Bochemitem QB 2x","m2",82.820000000000007,null,{"$f":"E2991*F2991","v":0}]
[null,null,"Koncentrovaný vodou ředitelný fungicidní a insekticidní přípravek na dřevo i zdivo. Přípravek poskytuje dlouhodobou ochranu proti dřevokaznému hmyzu, dřevokazným houbám a plísním. Aplikuje se natíráním.",null," "]
[null,null,"SV - S02 - hranoly 12/20cm : ((3,60+0,75)*11)*(2*(0,12+0,20))*1,1",null,33.69]
[null,null,"námětek okraje střechy - 12/18cm : (((73,0+24,0+12,5)/0,8)*0,50 +6)*(2*(0,12+0,18))*1,1",null,49.13]
[{"$f":"A2991+1","v":586},"783824120R00","Nátěr syntetický betonových povrchů 1x + 2x email","m2",248,null,{"$f":"E2995*F2995","v":0}]
[null,null,"1PP : 248,00000",null,248]
[{"$f":"A2995+1","v":587},"783992000R00","Nátěr bezpečnostními barvami šrafováním dvoubarevné","m2",6.4,null,{"$f":"E2997*F2997","v":0}]
[null,null,"1PP - varovné pruhy na hrany do prostor, kde není dostatečná podchodná výška : 40,00*(0,08+0,08)",null,6.4]
["Díl:","784","Malby",null," ",null,{"$f":"SUBTOTAL(9,G3000:G3038)","v":0}]
[{"$f":"A2997+1","v":588},"784191101R00","Penetrace podkladu univerzální Primalex 1x","m2",10675.4,null,{"$f":"E3000*F3000","v":0}]
[null,null," mn. položky pořadí 592 : 10675,39490",null,10675.4]
[{"$f":"A3000+1","v":589},"784195212R00","Malba Primalex Plus, bílá, bez penetrace, 2 x","m2",10675.4,null,{"$f":"E3002*F3002","v":0}]
[null,null,"omítka - stěny sádrový štuk : ",null," "]
[null,null," mn. položky pořadí 167 : 2422,94050",null,2422.9500000000003]
[null,null,"omítka - stěny vápenný štuk : ",null," "]
[null,null," mn. položky pořadí 166 : 44,80000",null,44.800000000000004]
[null,null,"omítka - stěny cementová : ",null," "]
[null,null," mn. položky pořadí 164 : 240,40500",null,240.41]
[null,null,"omítka - sloupy štuk : ",null," "]
[null,null," mn. položky pořadí 168 : 697,59000",null,697.59]
[null,null,"sdrk - příčky : ",null," "]
[null,null," mn. položky pořadí 90 : 60,00000*2",null,120]
[null,null," mn. položky pořadí 91 : 1060,00000*2",null,2120]
[null,null," mn. položky pořadí 92 : 168,00000*2",null,336]
[null,null," mn. položky pořadí 93 : 20,00000*2",null,40]
[null,null," mn. položky pořadí 94 : 10,00000*2",null,20]
[null,null," mn. položky pořadí 95 : 403,00000*2",null,806]
[null,null," mn. položky pořadí 97 : 35,00000*2",null,70]
[null,null," mn. položky pořadí 98 : 66,00000*2",null,132]
[null,null," mn. položky pořadí 110 : 32,00000*2",null,64]
[null,null,"sdrk - předstěny nebo příčky s malbou z jedné strany : ",null," "]
[null,null," mn. položky pořadí 103 : 260,00000",null,260]
[null,null," mn. položky pořadí 104 : 137,00000",null,137]
[null,null," mn. položky pořadí 105 : 175,00000",null,175]
[null,null," mn. položky pořadí 111 : 10,00000",null,10]
[null,null," mn. položky pořadí 112 : 82,00000",null,82]
[null,null," mn. položky pořadí 114 : 39,00000",null,39]
[null,null,"omítka - stropy : ",null," "]
[null,null," mn. položky pořadí 158 : 1815,40740",null,1815.41]
[null,null,"sdrk podhledy : ",null," "]
[null,null,"1PP : (107,0+42,0+39,0)",null,188]
[null,null,"1NP : (40,0+3,0+15,0+6,0+3,0+30,0+19,0+12,0+4,0+9,0+3,1+4,0+32,0+25,0)",null,205.1]
[null,null,"2NP : (7,0+6,0+2,0+4,0+22,0+47,0+2,0+11,0+10,0+16,0+41,0+26,0+10,0)",null,204]
[null,null,"3NP : (7,0+6,0+2,0+4,0+22,0+11,0+18,0+18,0+3,0+21,0+31,0+20,1)",null,163.1]
[null,null,"4NP : (7,0+6,0+2,0+5,0+24,0+12,0+37,0+35,0+18,1+18,0+21,0)",null,185.1]
[null,null,"samační omítka - 1PP : ",null," "]
[null,null," mn. položky pořadí 162 : 47,95200",null,47.96]
[null,null,"+50",null,50]
["Díl:","787","Zasklívání",null," ",null,{"$f":"SUBTOTAL(9,G3040:G3042)","v":0}]
[{"$f":"A3002+1","v":590},"787300801R00","Vysklívání střešních konstrukcí tmelených","m2",174.9,null,{"$f":"E3040*F3040","v":0}]
[null,null,"vysklení stávajícího střešního světlíku nad atriem : 2*3,30*26,00",null,171.6]
[null,null,"světlík u kotelny : 1,50*2,20",null,3.3000000000000003]
["Díl:","799","Ostatní",null," ",null,{"$f":"SUBTOTAL(9,G3044:G3061)","v":0}]
[{"$f":"A3040+1","v":591},"799-01PBŘ","přenosný hasící přístroj práškový - 6kg - min. 21A dodávka, montáž na zeď a kontrola","ks",15,null,{"$f":"E3044*F3044","v":0}]
[null,null,"práškový, 6 kg hasiva, hasební schopnost min. 21A,",null," "]
[null,null,"instalovat tak. aby rukojeť byla max. 1.5m nad podlahou, zajistit proti pádu.",null," "]
[null,null,"viz. PBŘ bod 6.3 : 2+1+(2+2+2+2+2)+1+1",null,15]
[{"$f":"A3044+1","v":592},"799-02PBŘ","přenosný hasící přístroj sněhový - 6kg - min. 13A(55B) dodávka, montáž na zeď a kontrola","ks",1,null,{"$f":"E3048*F3048","v":0}]
[null,null,"práškový, 6 kg hasiva, hasební schopnost min. 21A,",null," "]
[null,null,"instalovat tak. aby rukojeť byla max. 1.5m nad podlahou, zajistit proti pádu.",null," "]
[null,null,"viz. PBŘ bod 6.3 - N 5.01 : 1",null,1]
[{"$f":"A3048+1","v":593},"799-04PBŘ","bezpečnostní tabulka dle ČSN ISO 3864 dodávka, montáž","ks",16,null,{"$f":"E3052*F3052","v":0}]
[{"$f":"A3052+1","v":594},"799-20","generální klíč","soubor",1,null,{"$f":"E3053*F3053","v":0}]
[null,null,"dodávka a montáž cylindrických vložek do zámků - 75ks",null," "]
[null,null,"každá vložka má 3 klíče a nad všemi vložkami budou tři úrovně + nad všemi generální klíč - 6 klíčů (1 ks povinně do trezoru KTPO pro zásah HZS),",null," "]
[null,null,"Součástí dodávky systému generálního klíče je i dodávka skříňky na klíče, která bude velikostí odpovídat počtu dodávaných klíčů . každé dveře a každá skupina klíčů má svůj samostatný háček. Skříňka na klíče bude součástí interiéru recepce."]
[null,null,"vypracovat výrobní dokumentaci - finální rozdělení - dle jednání mezi konkrétním dodavatelem a zástupci investora.",null," "]
[{"$f":"A3053+1","v":595},"799-22","nádoby na TKO 1100l - plast","ks",1,null,{"$f":"E3058*F3058","v":0}]
[null,null,"1NP : 1",null,1]
[{"$f":"A3058+1","v":596},"799-21","nádoby na TKO 240l - plast","ks",3,null,{"$f":"E3060*F3060","v":0}]
[null,null,"1NP : 3",null,3]
["Díl:","M33","Montáže dopravních zařízení a vah-výtahy",null," ",null,{"$f":"SUBTOTAL(9,G3063:G3064)","v":0}]
[{"$f":"A3060+1","v":597},"M001R","Osobní výtah trakční, neprůchozí, 6 stanic včetně dodávky a montáže a demontáže starého","soubor",1,null,{"$f":"E3063*F3063","v":0}]
[null,null,"kompletní parametry výtahu - viz. technická zpráva D - odstavec e.18",null," "]
["Díl:","D96","Přesuny suti a vybouraných hmot",null," ",null,{"$f":"SUBTOTAL(9,G3066:G3074)","v":0}]
[{"$f":"A3063+1","v":598},"979990121R00","Poplatek za skládku suti - asfaltové pásy","t",18.5,null,{"$f":"E3066*F3066","v":0}]
[null,null,"2,0+16,5",null,18.5]
[{"$f":"A3066+1","v":599},"979011111R00","Svislá doprava suti a vybour. hmot za 2.NP a 1.PP","t",1290.8600000000001,null,{"$f":"E3068*F3068","v":0}]
[{"$f":"A3068+1","v":600},"979011121R00","Příplatek za každé další podlaží","t",2581.71,null,0]
[{"$f":"A3069+1","v":601},"979082111R00","Vnitrostaveništní doprava suti do 10 m","t",1290.8600000000001,null,0]
[602,"979082121R00","Příplatek k vnitrost. dopravě suti za dalších 5 m","t",1290.8600000000001,null,0]
[603,"979083117R00","Vodorovné přemístění suti na skládku do 6000 m","t",1290.8600000000001,null,0]
[604,"979083191R00","Příplatek za dalších započatých 1000 m nad 6000 m","t",11617.66,null,0]
[{"$f":"A3073+1","v":605},"979990101R00","Poplatek za sklád.suti-směs bet.a cihel do 30x30cm","t",1290.8600000000001,null,0]

{"sheet":"02_SO 01 - ZTI","index":5,"n_rows":429,"n_cols":7,"rows_kept":429,"cut":false,"hidden":false,"merged":[[43,3,43,6],[26,1,26,2],[34,1,34,2],[38,1,38,2],[24,3,24,6],[25,2,25,6]]}
[{"$f":"CONCATENATE('Rekapitulace stavby'!C53,\"_\",'Rekapitulace stavby'!I53)","v":"02_SO 01 - Zdravotně technické instalace"}]
[]
["SPECIFIKACE DODÁVEK A PRACÍ "]
["Název akce:"]
[{"$f":"'Identifikační údaje'!B1","v":"ČRo Olomouc – rekonstrukce objektu Pavelčákova 2/19"}]
[]
["Zadavatel:",null,{"$f":"'Identifikační údaje'!E7","v":"Český rozhlas, Vinohradská 12, 120 99 Praha 2"}]
[null,"IČ:",{"$f":"'Identifikační údaje'!B9","v":45245053}]
[null,"DIČ:",{"$f":"'Identifikační údaje'!B10","v":"CZ45245053"}]
[]
["Projektant:",null,{"$f":"'Identifikační údaje'!E12","v":"ATELIER 38 s.r.o., Porážková 1424/20, 702 00 Ostrava – Moravská Ostrava"}]
[null,"IČ:",{"$f":"'Identifikační údaje'!B14","v":"258 58 343"}]
[null,"DIČ:",{"$f":"'Identifikační údaje'!B15","v":"CZ25858343"}]
[]
["Uchazeč:",null,{"$f":"'Identifikační údaje'!E19","v":", ,  "}]
[null,"IČ:",{"$f":"'Identifikační údaje'!B23","v":0}]
[null,"DIČ:",{"$f":"'Identifikační údaje'!B24","v":0}]
[]
["Místo stavby:",null,{"$f":"'Identifikační údaje'!B3","v":"Budova Českého rozhlasu Olomouc na adrese Pavelčákova 2/19, 779 00 Olomouc"}]
[]
["Datum vyplnění:",null,{"$f":"'Identifikační údaje'!B5","v":"00:00:00"}]
[]
[{"$f":"CONCATENATE(\"REKAPITULACE DODÁVEK A PRACÍ OBJEKTU \",'Rekapitulace stavby'!I53)","v":"REKAPITULACE DODÁVEK A PRACÍ OBJEKTU SO 01 - Zdravotně technické instalace"}]
[]
["P.č.","Číslo položky","Název položky","Kč bez DPH"]
[]
[null,"Kanalizace",null,null,null,null,{"$f":"SUBTOTAL(9,G28:P34)","v":0}]
["Díl:",{"$f":"B52","v":"1"},{"$f":"C52","v":"Zemní práce"},null,null,null,{"$f":"G52","v":0}]
["Díl:",{"$f":"B63","v":"2"},{"$f":"C63","v":"Základy a zvláštní zakládání"},null,null,null,{"$f":"G63","v":0}]
["Díl:",{"$f":"B66","v":"4"},{"$f":"C66","v":"Vodorovné konstrukce"},null,null,null,{"$f":"G66","v":0}]
["Díl:",{"$f":"B68","v":"8"},{"$f":"C68","v":"Trubní vedení"},null,null,null,{"$f":"G68","v":0}]
["Díl:",{"$f":"B74","v":"97"},{"$f":"C74","v":"Prorážení otvorů"},null,null,null,{"$f":"G74","v":0}]
["Díl:",{"$f":"B77","v":"713"},{"$f":"C77","v":"Izolace tepelné"},null,null,null,{"$f":"G77","v":0}]
["Díl:",{"$f":"B89","v":"721"},{"$f":"C89","v":"Vnitřní kanalizace"},null,null,null,{"$f":"G89","v":0}]
[null,"Vodovod",null,null,null,null,{"$f":"SUBTOTAL(9,G36:P38)","v":0}]
["Díl:",{"$f":"B259","v":"97"},{"$f":"C259","v":"Prorážení otvorů"},null,null,null,{"$f":"G259","v":0}]
["Díl:",{"$f":"B262","v":"713"},{"$f":"C262","v":"Izolace tepelné"},null,null,null,{"$f":"G262","v":0}]
["Díl:",{"$f":"B272","v":"722"},{"$f":"C272","v":"Vnitřní vodovod"},null,null,null,{"$f":"G272","v":0}]
[null,"Zařizovací předměty",null,null,null,null,{"$f":"SUBTOTAL(9,G40:P42)","v":0}]
["Díl:",{"$f":"B375","v":"3"},{"$f":"C375","v":"Svislé a kompletní konstrukce"},null,null,null,{"$f":"G375","v":0}]
["Díl:",{"$f":"B383","v":"725"},{"$f":"C383","v":"Zařizovací předměty"},null,null,null,{"$f":"G383","v":0}]
["Díl:",{"$f":"B428","v":"D96"},{"$f":"C428","v":"Přesuny suti a vybouraných hmot"},null,null,null,{"$f":"G428","v":0}]
[]
[{"$f":"CONCATENATE(\"CELKEM ZA OBJEKT \",'Rekapitulace stavby'!I53, \" v Kč bez DPH\")","v":"CELKEM ZA OBJEKT SO 01 - Zdravotně technické instalace v Kč bez DPH"},null,null,{"$f":"SUBTOTAL(9,G27:G42)","v":0}]
[]
[]
[]
[]
[]
["P.č.","Číslo položky","Název položky","MJ","množství","cena / MJ","celkem"]
[null,null,"KANALIZACE",null,null,null,{"$f":"SUBTOTAL(9,G52:G257)","v":0}]
["Díl:","1","Zemní práce",null,null,null,{"$f":"SUBTOTAL(9,G53:G62)","v":0}]
[1,"115101201R00","Čerpání vody na výšku do 10 m, přítok do 500 l","h",160,null,{"$f":"E53*F53","v":0}]
[{"$f":"A53+1","v":2},"115101301R00","Pohotovost čerp.soupravy, výška 10 m, přítok 500 l","den",10,null,0]
[{"$f":"A54+1","v":3},"132201219R00","Příplatek za lepivost - hloubení rýh 200cm v hor.3","m3",145,null,0]
[4,"139601102R00","Ruční výkop jam, rýh a šachet v hornině tř. 3","m3",145,null,0]
[5,"161101101R00","Svislé přemístění výkopku z hor.1-4 do 2,5 m","m3",195,null,0]
[6,"162701105R00","Vodorovné přemístění výkopku z hor.1-4 do 10000 m","m3",195,null,0]
[7,"167101101R00","Nakládání výkopku z hor.1-4 v množství do 100 m3","m3",195,null,0]
[8,"172103109R00","Příplatek za každé % zhutnění nad 100 do 103%PS","m3",115,null,0]
[9,"175101109R00","Příplatek za prohození sypaniny pro obsyp potrubí","m3",80,null,0]
[10,"199000002R00","Poplatek za skládku horniny 1- 4","m3",195,null,0]
["Díl:","2","Základy a zvláštní zakládání",null,null,null,{"$f":"SUBTOTAL(9,G64:P65)","v":0}]
[{"$f":"A62+1","v":11},"212753214R00","Montáž tuhé drenáž. trubky do rýhy DN 100,bez lože","m",100,null,{"$f":"E64*F64","v":0}]
[{"$f":"A64+1","v":12},"28611054R","HEGLER EURODRAIN trubka drenážní PVC DN 100 perforovaná","m",100,null,0]
["Díl:","4","Vodorovné konstrukce",null,null,null,{"$f":"SUBTOTAL(9,G67:P67)","v":0}]
[{"$f":"A65+1","v":13},"451572111RK6","Lože pod potrubí z kameniva těženého 0 - 4 mm kraj Moravskoslezský","m3",115,null,{"$f":"E67*F67","v":0}]
["Díl:","8","Trubní vedení",null,null,null,{"$f":"SUBTOTAL(9,G69:P73)","v":0}]
[{"$f":"A67+1","v":14},"871161121R00","Montáž trubek polyetylenových ve výkopu d 32 mm","m",5,null,{"$f":"E69*F69","v":0}]
[{"$f":"A69+1","v":15},"871211121R00","Montáž trubek polyetylenových ve výkopu d 63 mm","m",20,null,0]
[{"$f":"A70+1","v":16},"894431112R00","Osazení plastové šachty z dílů prům.600 mm, Wavin","kus",1,null,0]
[17,"894432112R00","Osazení plastové šachty revizní prům.425 mm, Wavin","kus",6,null,0]
[18,"899103111R00","Osazení poklopu s rámem do 150 kg","kus",7,null,0]
["Díl:","97","Prorážení otvorů",null,null,null,{"$f":"SUBTOTAL(9,G75:P76)","v":0}]
[{"$f":"A73+1","v":19},"97-R01","Vyvrtání prostupu pro kanalizační potrubí Dodávka + montáž","ks",30,null,{"$f":"E75*F75","v":0}]
[{"$f":"A75+1","v":20},"979082111R00","Vnitrostaveništní doprava suti do 10 m","t",131.78814,null,0]
["Díl:","713","Izolace tepelné",null,null,null,{"$f":"SUBTOTAL(9,G78:P88)","v":0}]
[{"$f":"A76+1","v":21},"713571111R00","Požárně ochranná manžeta hl. 60 mm, EI 90, D 50 mm Dodávka + montáž","kus",2,null,{"$f":"E78*F78","v":0}]
[null,null,"Montáž manžety ke stěně nebo stropu pomocí rozpěrné hmoždinky se šroubem. Cena obsahuje i dodávku manžety a spojovacích prostředků."]
[{"$f":"A78+1","v":22},"713571113R00","Požárně ochranná manžeta hl. 60 mm, EI 90, D 75 mm Dodávka + montáž","kus",2,null,{"$f":"E80*F80","v":0}]
[null,null,"Montáž manžety ke stěně nebo stropu pomocí rozpěrné hmoždinky se šroubem. Cena obsahuje i dodávku manžety a spojovacích prostředků."]
[{"$f":"A80+1","v":23},"713571115R00","Požárně ochranná manžeta hl. 60mm, EI 90, D 110 mm Dodávka + montáž","kus",1,null,{"$f":"E82*F82","v":0}]
[null,null,"Montáž manžety ke stěně nebo stropu pomocí rozpěrné hmoždinky se šroubem. Cena obsahuje i dodávku manžety a spojovacích prostředků."]
[{"$f":"A82+1","v":24},"713571116R00","Požárně ochranná manžeta hl. 60mm, EI 90, D 125 mm Dodávka + montáž","kus",3,null,{"$f":"E84*F84","v":0}]
[null,null,"Montáž manžety ke stěně nebo stropu pomocí rozpěrné hmoždinky se šroubem. Cena obsahuje i dodávku manžety a spojovacích prostředků."]
[{"$f":"A84+1","v":25},"713571118R00","Požárně ochranná manžeta hl. 60mm, EI 90, D 160 mm Dodávka + montáž","kus",1,null,{"$f":"E86*F86","v":0}]
[null,null,"Montáž manžety ke stěně nebo stropu pomocí rozpěrné hmoždinky se šroubem. Cena obsahuje i dodávku manžety a spojovacích prostředků."]
[{"$f":"A86+1","v":26},"998713103R00","Přesun hmot pro izolace tepelné, výšky do 24 m","t",0.01,null,{"$f":"E88*F88","v":0}]
["Díl:","721","Vnitřní kanalizace",null,null,null,{"$f":"SUBTOTAL(9,G90:P257)","v":0}]
[{"$f":"A88+1","v":27},"871181121R00","Montáž trubek polyetylenových ve výkopu d 50 mm","m",4,null,{"$f":"E90*F90","v":0}]
[{"$f":"A90+1","v":28},"871313121R00","Montáž trub z plastu, gumový kroužek, DN 150","m",73,null,0]
[{"$f":"A91+1","v":29},"871353121R00","Montáž trub z plastu, gumový kroužek, DN 200","m",25,null,0]
[30,"721171803R00","Demontáž potrubí z PVC do D 75 mm","m",20,null,0]
[31,"721171808R00","Demontáž potrubí z PVC do DN 114","m",40,null,0]
[32,"721171809R00","Demontáž potrubí z PVC do DN 160","m",60,null,0]
[33,"721176101R00","Potrubí HT připojovací D 32 x 1,8 mm Dodávka + montáž","m",120,null,0]
[null,null,"Potrubí včetně tvarovek. Bez zednických výpomocí."]
[{"$f":"A96+1","v":34},"721176102R00","Potrubí HT připojovací D 40 x 1,8 mm Dodávka + montáž","m",15,null,{"$f":"E98*F98","v":0}]
[null,null,"Potrubí včetně tvarovek. Bez zednických výpomocí."]
[{"$f":"A98+1","v":35},"721176103R00","Potrubí HT připojovací DN 50 x 1,8 mm Dodávka + montáž","m",95,null,{"$f":"E100*F100","v":0}]
[{"$f":"A100+1","v":36},"721176104R00","Potrubí HT připojovací DN 70 x 1,9 mm Dodávka + montáž","m",3,null,0]
[37,"721176105R00","Potrubí HT připojovací DN 100 x 2,7 mm Dodávka + montáž","m",35,null,0]
[38,"721176114R00","Potrubí HT odpadní svislé D 75 x 1,9 mm Dodávka + montáž","m",5.5,null,0]
[null,null,"Potrubí včetně tvarovek, objímek a vložek pro tlumení hluku. Bez zednických výpomocí."]
[null,null,"Včetně zřízení a demontáže pomocného lešení."]
[{"$f":"A103+1","v":39},"721176115R00","Potrubí HT odpadní svislé D 110 x 2,7 mm Dodávka + montáž","m",35,null,{"$f":"E106*F106","v":0}]
[null,null,"Potrubí včetně tvarovek, objímek a vložek pro tlumení hluku. Bez zednických výpomocí."]
[null,null,"Včetně zřízení a demontáže pomocného lešení."]
[{"$f":"A106+1","v":40},"721176212R00","Potrubí KG odpadní svislé D 110 x 3,2 mm Dodávka + montáž","m",2,null,{"$f":"E109*F109","v":0}]
[null,null,"Potrubí včetně tvarovek, objímek a vložek pro tlumení hluku. Bez zednických výpomocí."]
[null,null,"Včetně zřízení a demontáže pomocného lešení."]
[{"$f":"A109+1","v":41},"721176213R00","Potrubí KG odpadní svislé D 125 x 3,2 mm Dodávka + montáž","m",12,null,{"$f":"E112*F112","v":0}]
[null,null,"Potrubí včetně tvarovek, objímek a vložek pro tlumení hluku. Bez zednických výpomocí."]
[null,null,"Včetně zřízení a demontáže pomocného lešení."]
[{"$f":"A112+1","v":42},"721176214R00","Potrubí KG odpadní svislé D 160 x 4,0 mm Dodávka + montáž","m",3,null,{"$f":"E115*F115","v":0}]
[null,null,"Potrubí včetně tvarovek, objímek a vložek pro tlumení hluku. Bez zednických výpomocí."]
[null,null,"Včetně zřízení a demontáže pomocného lešení."]
[{"$f":"A115+1","v":43},"721177714R00","Potrubí Wavin SiTech+ odpadní svislé D 75 x 2,6 mm Dodávka+montáž","m",23,null,{"$f":"E118*F118","v":0}]
[null,null,"Potrubí včetně tvarovek a objímek. Bez zednických výpomocí."]
[null,null,"Včetně pomocného lešení o výšce podlahy do 1900 mm a pro zatížení do 1,5 kPa."]
[{"$f":"A118+1","v":44},"721177715R00","Potrubí Wavin SiTech+ odpadní svislé D 110 x 3,6mm Dodávka+montáž","m",100,null,{"$f":"E121*F121","v":0}]
[null,null,"Potrubí včetně tvarovek a objímek. Bez zednických výpomocí."]
[null,null,"Včetně pomocného lešení o výšce podlahy do 1900 mm a pro zatížení do 1,5 kPa."]
[{"$f":"A121+1","v":45},"721177716R00","Potrubí Wavin SiTech+ odpadní svislé D 125 x 4,0mm Dodávka+montáž","m",15,null,{"$f":"E124*F124","v":0}]
[null,null,"Potrubí včetně tvarovek a objímek. Bez zednických výpomocí."]
[null,null,"Včetně pomocného lešení o výšce podlahy do 1900 mm a pro zatížení do 1,5 kPa."]
[{"$f":"A124+1","v":46},"721177734R00","Potrubí Wavin SiTech+ ležaté zavěšené D 75 x 2,6mm Dodávka+montáž","m",5.5,null,{"$f":"E127*F127","v":0}]
[null,null,"Potrubí včetně tvarovek a objímek. Bez zednických výpomocí."]
[null,null,"Včetně pomocného lešení o výšce podlahy do 1900 mm a pro zatížení do 1,5 kPa."]
[{"$f":"A127+1","v":47},"721177735R00","Potrubí Wavin SiTech+ ležaté zavěšené D110 x 3,6mm Dodávka+montáž","m",15,null,{"$f":"E130*F130","v":0}]
[null,null,"Potrubí včetně tvarovek a objímek. Bez zednických výpomocí."]
[null,null,"Včetně pomocného lešení o výšce podlahy do 1900 mm a pro zatížení do 1,5 kPa."]
[{"$f":"A130+1","v":48},"721177724R00","Čisticí kus Wavin SiTech+, odpadní svislé D 75 Dodávka+montáž","kus",1,null,{"$f":"E133*F133","v":0}]
[{"$f":"A133+1","v":49},"721177725R00","Čisticí kus Wavin SiTech+, odpadní svislé D 110 Dodávka+montáž","kus",4,null,0]
[{"$f":"A134+1","v":50},"721177726R00","Čisticí kus Wavin SiTech+, odpadní svislé D 125 Dodávka+montáž","kus",1,null,0]
[51,"721177727R00","Čisticí kus Wavin SiTech+, odpadní svislé D 160 Dodávka+montáž","kus",1,null,0]
[52,"721242115R00","Lapač střešních splavenin litinový DN 100 Dodávka+montáž","kus",2,null,0]
[53,"721273180R00","Ventil přivzdušňovací podomítkový HL905","kus",3,null,0]
[54,"721273200RT2","Souprava ventilační střešní HL souprava větrací hlavice PP HL807  D 75 mm","kus",1,null,0]
[55,"721273200RT3","Souprava ventilační střešní HL souprava větrací hlavice PP HL810  D 110 mm","kus",3,null,0]
[56,"721290111R00","Zkouška těsnosti kanalizace vodou DN 125","m",538,null,0]
[57,"721290112R00","Zkouška těsnosti kanalizace vodou DN 200","m",90,null,0]
[58,"721290123R00","Zkouška těsnosti kanalizace kouřem DN 300","m",628,null,0]
[59,"28375-R01","Uložení EPS nad kanalizační potrubí jen montáž","m",1,null,0]
[60,"721176-01","Potrubí KG svodné (ležaté) v zemi D 110 x 3,2 mm Dodávka+montáž","m",20,null,0]
[null,null,"Položka obsahuje:"]
[null,null,"- trubka kanalizační KGEM SN 8 PVC 110x3,2x1000 mm (0,8 kus)"]
[null,null,"- koleno kanalizační KGB 110/ 45° PVC (1 kus)"]
[null,null,"- koleno kanalizační KGB 110/ 87° PVC (1 kus)"]
[null,null,"- redukce kanalizační KGR 125/110 PVC (0,1 kus)"]
[null,null,"- odbočka kanalizační KGEA 110/110/ 87° PVC (0,2 kus)"]
[null,null,"- přesuvka kanalizační KGU 110 PVC (0,1 kus)"]
[null,null,"- mazivo MGN tuba 250 g (0,0168 kus)"]
[null,null,"- Instaláter - třída 6 (0,8Nh)"]
[{"$f":"A145+1","v":61},"721176-02","Potrubí KG svodné (ležaté) v zemi D 125 x 3,2 mm Dodávka+montáž","m",36,null,{"$f":"E155*F155","v":0}]
[null,null,"Položka obsahuje:"]
[null,null,"- trubka kanalizační KGEM SN 8 PVC 125x3,2x1000 mm (0,8 kus)"]
[null,null,"- koleno kanalizační KGB 125/ 45° PVC (1 kus)"]
[null,null,"- koleno kanalizační KGB 125/ 87° PVC (1 kus)"]
[null,null,"- redukce kanalizační KGR 160/125 PVC (0,1 kus)"]
[null,null,"- odbočka kanalizační KGEA 125/110/ 87° PVC (0,1 kus)"]
[null,null,"- odbočka kanalizační KGEA 125/125/ 87° PVC (0,2 kus)"]
[null,null,"- přesuvka kanalizační KGU 125 PVC (0,1 kus)"]
[null,null,"- mazivo MGN tuba 250 g (0,0216 kus)"]
[null,null,"- Instaláter - třída 6 (0,8Nh)"]
[{"$f":"A155+1","v":62},"721176-03","Potrubí KG svodné (ležaté) v zemi D 160 x 4,0 mm Dodávka+montáž","m",5,null,{"$f":"E166*F166","v":0}]
[null,null,"Položka obsahuje:"]
[null,null,"- trubka kanalizační KGEM SN 8 PVC 150x4,0x1000 mm (0,8 kus)"]
[null,null,"- koleno kanalizační KGB 160/ 87° PVC (1,2 kus)"]
[null,null,"- redukce kanalizační KGR 200/160 PVC (0,1 kus)"]
[null,null,"- odbočka kanalizační KGEA 160/125/ 87° PVC (0,1 kus)"]
[null,null,"- odbočka kanalizační KGEA 160/160/ 87° PVC (0,1 kus)"]
[null,null,"- přesuvka kanalizační KGU 160 PVC (0,1 kus)"]
[null,null,"- mazivo MGN tuba 250 g (0,02920 kus)"]
[null,null,"- Instaláter - třída 6 (0,55Nh)"]
[{"$f":"A166+1","v":63},"72117610-R125","Potrubí HT připojovací DN 125 x 2,7 mm Dodávka + montáž","m",6,null,{"$f":"E176*F176","v":0}]
[{"$f":"A176+1","v":64},"721-R01","Tepelná izolace potrubí 30/114 Dodávka+montáž","m     ",15,null,0]
[{"$f":"A177+1","v":65},"721-R02","Tepelná izolace potrubí 30/76 Dodávka+montáž","m     ",3,null,0]
[66,"721-R03","Kondenzační sifon podomítkový DN32","ks    ",7,null,0]
[67,"721-R04","Připojení potrubí pro odvod kondenzátu","ks    ",23,null,0]
[null,null,"Položka obsahuje"]
[null,null,"-připojení potrubí pro odvod kondenzátu"]
[null,null,"-pachové utěsnění"]
[null,null,"-včetně úpravy a kracení odpadní trubky VZT jednotek"]
[{"$f":"A180+1","v":68},"721-R05","Automatická zpětná armatura proti vzduté vodě DN100 Dodávka+montáž","ks    ",3,null,{"$f":"E185*F185","v":0}]
[null,null,"Automatická zpětná armatura proti vzduté vodě DN200 se dvěma klapkami z nerezové oceli a ručním zajištěním jedné klapky a kryty k čištění."]
[{"$f":"A185+1","v":69},"721-R07","Zápachová uzávěrka DN110 (patní sifon), 7,5l/s Dodávka+montáž","ks    ",1,null,{"$f":"E187*F187","v":0}]
[{"$f":"A187+1","v":70},"721-R08","Vodní zápachová uzávěrka DN32/DN40 Dodávka+montáž","ks    ",5,null,0]
[null,null,"Vodní zápachová uzávěrka DN 40 pro odvod kondenzátu - transparentní s mechanickou zápachovou uzávěrkou (kulička) a čistící vložkou, se svěrným těsněním pro DN32 a násuvným těsněnímí 12-18mm."]
[{"$f":"A188+1","v":71},"721-R09","Čistící tvarovka DN75 Dodávka + montáž","ks",1,null,{"$f":"E190*F190","v":0}]
[null,null,"Položka obsahuje:"]
[null,null,"-čistící tvarovka [např. HTRE 100]"]
[null,null,"-revizní dvířka, včetně příslušenství"]
[null,null,"-cena zahrnuje náklady přípojení na potrubí, osazení revizních dvířek včetně montážního materiálu a zednické výpomoci"]
[{"$f":"A190+1","v":72},"721-R10","Čistící tvarovka obdélníkový uzávěr DN 125 Dodávka + montáž","ks",4,null,{"$f":"E195*F195","v":0}]
[null,null,"Položka obsahuje:"]
[null,null,"-čistící tvarovka [např. HTRE 100]"]
[null,null,"-revizní dvířka, včetně příslušenství"]
[null,null,"-cena zahrnuje náklady přípojení na potrubí, osazení revizních dvířek včetně montážního materiálu a zednické výpomoci"]
[{"$f":"A195+1","v":73},"721-R11","Čistící tvarovka obdélníkový uzávěr DN 150 Dodávka + montáž","ks",1,null,{"$f":"E200*F200","v":0}]
[null,null,"Položka obsahuje:"]
[null,null,"-čistící tvarovka [např. HTRE 100]"]
[null,null,"-revizní dvířka, včetně příslušenství"]
[null,null,"-cena zahrnuje náklady přípojení na potrubí, osazení revizních dvířek včetně montážního materiálu a zednické výpomoci"]
[{"$f":"A200+1","v":74},"721-R12","Přečerpávač kondenzátu 2 l/min, 230V Dodávka + montáž","ks",2,null,{"$f":"E205*F205","v":0}]
[{"$f":"A205+1","v":75},"721-R13","Kalové čerpadlo 125 l/min Dodávka + montáž","ks",1,null,0]
[null,null,"Kalové čerpadlo s plovákem uvnitř jímky (např. VERTY NOVA 200M)"]
[null,null," - průtok 125 l/min; napětí 230 V; délka kabelu 10m"]
[{"$f":"A206+1","v":76},"721-R14","Kalové čerpadlo 160 l/min Dodávka + montáž","ks",1,null,{"$f":"E209*F209","v":0}]
[null,null,"Kalové čerpadlo s plovákem uvnitř jímky (např. VERTY NOVA 400M)"]
[null,null," - průtok 160 l/min; napětí 230 V; délka kabelu 10m"]
[{"$f":"A209+1","v":77},"721-R15","Nadzemní plastová jímka objem 100 L (např. IVAR.ELBC-100) Dodávka + montáž","ks",1,null,{"$f":"E212*F212","v":0}]
[null,null,"Kalové čerpadlo s plovákem uvnitř jímky (např. VERTY NOVA 400M)"]
[null,null," - průtok 160 l/min; napětí 230 V; délka kabelu 10m"]
[{"$f":"A212+1","v":78},"721-R16","Kalové čerpadlo s plovákem uvnitř jímky; 500 l/min; napětí 3x400V Dodávka + montáž","ks",1,null,{"$f":"E215*F215","v":0}]
[null,null,"Kalové čerpadlo s plovákem uvnitř jímky (např. DAB.FEKA 1800 T)"]
[null,null," - průtok 500 l/min; napětí 3x400 V; P1=1,9 kW; P2=1,5 kW"]
[null,null," - vestavěný plovák ve výšce 10cm pod podlahou"]
[null,null," - neoprenový přívodní kabel (4 x 1,5 + 2 x 0,5) délky 10,0m"]
[{"$f":"A215+1","v":79},"721-R17","Ventil přivzdušňovací podomítkový HL900 N Dodávka + montáž","kus",2,null,{"$f":"E220*F220","v":0}]
[{"$f":"A220+1","v":80},"721-R18","Kruhová mřížka pro havarijní přepad DN100-nerez Dodávka+montáž",null,1,null,0]
[{"$f":"A221+1","v":81},"721-R19","Upevňovací technika pro potrubí do D133x5,0 Dodávka + montáž","m",170,null,0]
[null,null,"Položka obsahuje"]
[null,null,"závěsy, uložení, pevné body (závěsová technika např. Koňařík)"]
[{"$f":"A222+1","v":82},"CH100","Chránička PVC DN100 dl 1,0m Dodávka+montáž","m",18,null,{"$f":"E225*F225","v":0}]
[{"$f":"A225+1","v":83},"CH200","Chránička PVC DN200 dl 1,0m Dodávka+montáž","m",5,null,0]
[{"$f":"A226+1","v":84},"CH300","Chránička PVC DN300 dl 1,0m Dodávka+montáž","m",1,null,0]
[85,"Š-DŠ1","Revizní šachta DŠ1 Dodávka","ks    ",1,null,0]
[null,null,"Popis viz přílha technické zprávy - Kanalizační šachty"]
[{"$f":"A228+1","v":86},"Š-DŠ2","Revizní šachta DŠ2 Dodávka","ks    ",1,null,{"$f":"E230*F230","v":0}]
[null,null,"Popis viz přílha technické zprávy - Kanalizační šachty"]
[{"$f":"A230+1","v":87},"Š-DŠ3","Revizní šachta DŠ3 Dodávka","ks    ",1,null,{"$f":"E232*F232","v":0}]
[null,null,"Popis viz přílha technické zprávy - Kanalizační šachty"]
[{"$f":"A232+1","v":88},"Š-DŠ4","Revizní šachta DŠ4 Dodávka","ks    ",1,null,{"$f":"E234*F234","v":0}]
[null,null,"Popis viz přílha technické zprávy - Kanalizační šachty"]
[{"$f":"A234+1","v":89},"Š-RP","Pachotěsné poklopy revizních šachet Dodávka","ks    ",6,null,{"$f":"E236*F236","v":0}]
[null,null,"Popis viz přílha technické zprávy - Kanalizační šachty"]
[{"$f":"A236+1","v":90},"Š-RŠ1","Revizní šachta RŠ1 Dodávka","ks    ",1,null,{"$f":"E238*F238","v":0}]
[null,null,"Popis viz přílha technické zprávy - Kanalizační šachty"]
[{"$f":"A238+1","v":91},"Š-RŠ2","Revizní šachta RŠ2 Dodávka","ks    ",1,null,{"$f":"E240*F240","v":0}]
[null,null,"Popis viz přílha technické zprávy - Kanalizační šachty"]
[{"$f":"A240+1","v":92},"Š-RŠP","Revizní šachta RŠP Dodávka","ks    ",1,null,{"$f":"E242*F242","v":0}]
[null,null,"Popis viz přílha technické zprávy - Kanalizační šachty"]
[{"$f":"A242+1","v":93},"909      R00","Hzs-nezmeritelne stavebni prace","h",40,null,{"$f":"E244*F244","v":0}]
[{"$f":"A244+1","v":94},"28375901R","Polystyren fasádní EPS F","m3",1,null,0]
[{"$f":"A245+1","v":95},"286136741R","Trubka Wavin TS voda SDR11  32x3,0 mm L=6 m PE100 RC třívrstvé potrubí, barva modrá","m",5,null,0]
[96,"286136747R","Trubka Wavin TS voda SDR11  50x4,6 mm L=6 m PE100 RC třívrstvé potrubí, barva modrá","m",4,null,0]
[97,"286136750R","Trubka Wavin TS voda SDR11  63x5,8 mm L=6 m PE100 RC třívrstvé potrubí, barva modrá","m",20,null,0]
[98,"DN100","Trubka kanalizační  SN 10 110x3,4 (např. KG 2000 PP) dodávka","m     ",12,null,0]
[null,null,"Plnostěnný, velmi odolný, potrubní systém KG 2000 splňuje všechny požadavky normy ČSN EN 14758 pro moderní kanalizační systémy. Pro výrobu byl použit optimalizovaný materiál - polypropylen (PP-MD). Díky tomu má potrubí vysokou kruhovou tuhost t 10 kN/m2 i optimální rázovou tuhost a tyto vlastnosti si zachovává i při nízkých teplotách. Patentované tříbřitové těsnění umožňuje jednoduché a bezpečné spojení jednotlivých trub."]
[{"$f":"A249+1","v":99},"DN125","Trubka kanalizační  SN 10 125x3,3 (např. KG 2000 PP) dodávka","m     ",4,null,{"$f":"E251*F251","v":0}]
[null,null,"Plnostěnný, velmi odolný, potrubní systém KG 2000 splňuje všechny požadavky normy ČSN EN 14758 pro moderní kanalizační systémy. Pro výrobu byl použit optimalizovaný materiál - polypropylen (PP-MD). Díky tomu má potrubí vysokou kruhovou tuhost t 10 kN/m2 i optimální rázovou tuhost a tyto vlastnosti si zachovává i při nízkých teplotách. Patentované tříbřitové těsnění umožňuje jednoduché a bezpečné spojení jednotlivých trub."]
[{"$f":"A251+1","v":100},"DN150","Trubka kanalizační  SN 10 160x4,9 (např. KG 2000 PP) dodávka","m     ",57,null,{"$f":"E253*F253","v":0}]
[null,null,"Plnostěnný, velmi odolný, potrubní systém KG 2000 splňuje všechny požadavky normy ČSN EN 14758 pro moderní kanalizační systémy. Pro výrobu byl použit optimalizovaný materiál - polypropylen (PP-MD). Díky tomu má potrubí vysokou kruhovou tuhost t 10 kN/m2 i optimální rázovou tuhost a tyto vlastnosti si zachovává i při nízkých teplotách. Patentované tříbřitové těsnění umožňuje jednoduché a bezpečné spojení jednotlivých trub."]
[{"$f":"A253+1","v":101},"DN200","Trubka kanalizační  SN 10 200x6,2 (např. KG 2000 PP) dodávka","m     ",25,null,{"$f":"E255*F255","v":0}]
[null,null,"Plnostěnný, velmi odolný, potrubní systém KG 2000 splňuje všechny požadavky normy ČSN EN 14758 pro moderní kanalizační systémy. Pro výrobu byl použit optimalizovaný materiál - polypropylen (PP-MD). Díky tomu má potrubí vysokou kruhovou tuhost t 10 kN/m2 i optimální rázovou tuhost a tyto vlastnosti si zachovává i při nízkých teplotách. Patentované tříbřitové těsnění umožňuje jednoduché a bezpečné spojení jednotlivých trub."]
[{"$f":"A255+1","v":102},"998721103R00","Přesun hmot pro vnitřní kanalizaci, výšky do 24 m","t",2.1966000000000001,null,{"$f":"E257*F257","v":0}]
[null,null,"VODOVOD",null,null,null,{"$f":"SUBTOTAL(9,G259:G373)","v":0}]
["Díl:","97","Prorážení otvorů",null,null,null,{"$f":"SUBTOTAL(9,G260:G261)","v":0}]
[{"$f":"A257+1","v":103},"97-R01","Vyvrtání prostupu pro vodovodní potrubí Dodávka + montáž","ks",15,null,{"$f":"E260*F260","v":0}]
[{"$f":"A260+1","v":104},"979082111R00","Vnitrostaveništní doprava suti do 10 m","t",0.75,null,{"$f":"E261*F261","v":0}]
["Díl:","713","Izolace tepelné",null,null,null,{"$f":"SUBTOTAL(9,G263:G271)","v":0}]
[{"$f":"A261+1","v":105},"713571111R00","Požárně ochranná manžeta hl. 60 mm, EI 90, D 50 mm","kus",3,null,{"$f":"E263*F263","v":0}]
[null,null,"Montáž manžety ke stěně nebo stropu pomocí rozpěrné hmoždinky se šroubem. Cena obsahuje i dodávku manžety a spojovacích prostředků."]
[{"$f":"A263+1","v":106},"713-R01","Požárně ochranná manžeta hl. 60 mm, EI 90, D 35 mm Intumex RS 10","ks    ",1,null,{"$f":"E265*F265","v":0}]
[null,null,"Montáž manžety ke stěně nebo stropu pomocí rozpěrné hmoždinky se šroubem. Cena obsahuje i dodávku manžety a spojovacích prostředků."]
[{"$f":"A265+1","v":107},"713-R02","Požárně ochranná manžeta hl. 60 mm, EI 90, D 42 mm Intumex RS 10","ks    ",5,null,{"$f":"E267*F267","v":0}]
[null,null,"Montáž manžety ke stěně nebo stropu pomocí rozpěrné hmoždinky se šroubem. Cena obsahuje i dodávku manžety a spojovacích prostředků."]
[{"$f":"A267+1","v":108},"713-R03","Orientační štítek požární izolace Dodávka+montáž","ks",9,null,{"$f":"E269*F269","v":0}]
[{"$f":"A269+1","v":109},"713-R04","Zaomitání otvorů pro požární izolaci Dodávka+montáž","ks    ",9,null,0]
[{"$f":"A270+1","v":110},"998713103R00","Přesun hmot pro izolace tepelné, výšky do 24 m","t",0.01,null,0]
["Díl:","722","Vnitřní vodovod",null,null,null,{"$f":"SUBTOTAL(9,G273:G373)","v":0}]
[{"$f":"A271+1","v":111},"722130801R00","Demontáž potrubí ocelových závitových DN 25","m",100,null,{"$f":"E273*F273","v":0}]
[{"$f":"A273+1","v":112},"722132115R00","Potrubí ocel vně/vni pozink.Geberit Mapress 28x1,5 Dodávka + montáž","m",6,null,0]
[{"$f":"A274+1","v":113},"722132116R00","Potrubí ocel vně/vni pozink.Geberit Mapress 35x1,5 Dodávka + montáž","m",9,null,0]
[114,"722132117R00","Potrubí ocel vně/vni pozink.Geberit Mapress 42x1,5 Dodávka + montáž","m",50,null,0]
[115,"722178113RT1","Potrubí vícevrstvé vodovod.IVAR.ALPEX-DUO,D 20x2mm lisovaný spoj, mosazné press fitinky","m",320,null,0]
[null,null,"Včetně pomocného lešení o výšce podlahy do 1900 mm a pro zatížení do 1,5 kPa."]
[{"$f":"A277+1","v":116},"722178114RT1","Potrubí vícevrstvé vodovod.IVAR.ALPEX-DUO,D 26x3mm lisovaný spoj, mosazné press fitinky","m",80,null,{"$f":"E279*F279","v":0}]
[null,null,"Včetně pomocného lešení o výšce podlahy do 1900 mm a pro zatížení do 1,5 kPa."]
[{"$f":"A279+1","v":117},"722178115RT1","Potrubí vícevrstvé vodovod.IVAR.ALPEX-DUO,D 32x3mm lisovaný spoj, mosazné press fitinky","m",70,null,{"$f":"E281*F281","v":0}]
[null,null,"Včetně pomocného lešení o výšce podlahy do 1900 mm a pro zatížení do 1,5 kPa."]
[{"$f":"A281+1","v":118},"722178116RT1","Potrubí vícevrst.vodovod.IVAR.ALPEX-DUO,D 40x3,5mm lisovaný spoj, mosazné press fitinky","m",75,null,{"$f":"E283*F283","v":0}]
[null,null,"Včetně pomocného lešení o výšce podlahy do 1900 mm a pro zatížení do 1,5 kPa."]
[{"$f":"A283+1","v":119},"722178117RT1","Potrubí vícevrst.vodovod.IVAR.ALPEX-DUO,D 50x4mm lisovaný spoj, mosazné press fitinky","m",90,null,{"$f":"E285*F285","v":0}]
[null,null,"Včetně pomocného lešení o výšce podlahy do 1900 mm a pro zatížení do 1,5 kPa."]
[{"$f":"A285+1","v":120},"722181211RT7","Izolace návleková MIRELON PRO tl. stěny 6 mm vnitřní průměr 22 mm","m",145,null,{"$f":"E287*F287","v":0}]
[null,null,"V položce je kalkulována dodávka izolační trubice, spon a lepicí pásky."]
[{"$f":"A287+1","v":121},"722181211RT9","Izolace návleková MIRELON PRO tl. stěny 6 mm vnitřní průměr 28 mm","m",6,null,{"$f":"E289*F289","v":0}]
[null,null,"V položce je kalkulována dodávka izolační trubice, spon a lepicí pásky."]
[{"$f":"A289+1","v":122},"722181211RU2","Izolace návleková MIRELON PRO tl. stěny 6 mm vnitřní průměr 35 mm","m",4.5,null,{"$f":"E291*F291","v":0}]
[null,null,"V položce je kalkulována dodávka izolační trubice, spon a lepicí pásky."]
[{"$f":"A291+1","v":123},"722181212RW2","Izolace návleková MIRELON PRO tl. stěny 9 mm vnitřní průměr 45 mm","m",11,null,{"$f":"E293*F293","v":0}]
[null,null,"V položce je kalkulována dodávka izolační trubice, spon a lepicí pásky."]
[{"$f":"A293+1","v":124},"722181213RT7","Izolace návleková MIRELON PRO tl. stěny 13 mm vnitřní průměr 22 mm","m",165,null,{"$f":"E295*F295","v":0}]
[null,null,"V položce je kalkulována dodávka izolační trubice, spon a lepicí pásky."]
[{"$f":"A295+1","v":125},"722181213RT9","Izolace návleková MIRELON PRO tl. stěny 13 mm vnitřní průměr 28 mm","m",80,null,{"$f":"E297*F297","v":0}]
[null,null,"V položce je kalkulována dodávka izolační trubice, spon a lepicí pásky."]
[{"$f":"A297+1","v":126},"722181213RU1","Izolace návleková MIRELON PRO tl. stěny 13 mm vnitřní průměr 32 mm","m",15,null,{"$f":"E299*F299","v":0}]
[null,null,"V položce je kalkulována dodávka izolační trubice, spon a lepicí pásky."]
[{"$f":"A299+1","v":127},"722181213RU2","Izolace návleková MIRELON PRO tl. stěny 13 mm vnitřní průměr 35 mm","m",5,null,{"$f":"E301*F301","v":0}]
[null,null,"V položce je kalkulována dodávka izolační trubice, spon a lepicí pásky."]
[{"$f":"A301+1","v":128},"722181213RV9","Izolace návleková MIRELON PRO tl. stěny 13 mm vnitřní průměr 40 mm","m",40,null,{"$f":"E303*F303","v":0}]
[null,null,"V položce je kalkulována dodávka izolační trubice, spon a lepicí pásky."]
[{"$f":"A303+1","v":129},"722181213RW2","Izolace návleková MIRELON PRO tl. stěny 13 mm vnitřní průměr 45 mm","m",40,null,{"$f":"E305*F305","v":0}]
[null,null,"V položce je kalkulována dodávka izolační trubice, spon a lepicí pásky."]
[{"$f":"A305+1","v":130},"722181213RW6","Izolace návleková MIRELON PRO tl. stěny 13 mm vnitřní průměr 50 mm","m",75,null,{"$f":"E307*F307","v":0}]
[null,null,"V položce je kalkulována dodávka izolační trubice, spon a lepicí pásky."]
[{"$f":"A307+1","v":131},"722181214RU1","Izolace návleková MIRELON PRO tl. stěny 20 mm vnitřní průměr 32 mm","m",30,null,{"$f":"E309*F309","v":0}]
[null,null,"V položce je kalkulována dodávka izolační trubice, spon a lepicí pásky."]
[{"$f":"A309+1","v":132},"722181214RV9","Izolace návleková MIRELON PRO tl. stěny 20 mm vnitřní průměr 40 mm","m",40,null,{"$f":"E311*F311","v":0}]
[null,null,"V položce je kalkulována dodávka izolační trubice, spon a lepicí pásky."]
[{"$f":"A311+1","v":133},"722181214RW4","Izolace návleková MIRELON PRO tl. stěny 20 mm vnitřní průměr 48 mm","m",65,null,{"$f":"E313*F313","v":0}]
[null,null,"V položce je kalkulována dodávka izolační trubice, spon a lepicí pásky."]
[{"$f":"A313+1","v":134},"722181214RW8","Izolace návleková MIRELON PRO tl. stěny 20 mm vnitřní průměr 54 mm","m",55,null,{"$f":"E315*F315","v":0}]
[null,null,"V položce je kalkulována dodávka izolační trubice, spon a lepicí pásky."]
[{"$f":"A315+1","v":135},"722181214RY5","Izolace návleková MIRELON PRO tl. stěny 20 mm vnitřní průměr 76 mm","m",30,null,{"$f":"E317*F317","v":0}]
[null,null,"V položce je kalkulována dodávka izolační trubice, spon a lepicí pásky."]
[{"$f":"A317+1","v":136},"722181214RY7","Izolace návleková MIRELON PRO tl. stěny 20 mm vnitřní průměr 89 mm","m",40,null,{"$f":"E319*F319","v":0}]
[null,null,"V položce je kalkulována dodávka izolační trubice, spon a lepicí pásky."]
[{"$f":"A319+1","v":137},"722222182R00","Kohout kulový vypouštěcí, HERZ DN 15 Dodávka + montáž","ks    ",2,null,{"$f":"E321*F321","v":0}]
[{"$f":"A321+1","v":138},"722222183R00","Kohout vodovodní kulový vypouštěcí, HERZ DN 20 Dodávka + montáž","kus",2,null,0]
[{"$f":"A322+1","v":139},"722224111R00","Kohouty plnicí a vypouštěcí DN 15","kus",2,null,0]
[140,"722235112R00","Kohout vod.kul.,vnitř.-vnitř.z.IVAR PERFECTA DN 20","kus",13,null,0]
[141,"722235113R00","Kohout vod.kul.,vnitř.-vnitř.z.IVAR PERFECTA DN 25","kus",13,null,0]
[142,"722235114R00","Kohout vod.kul.,vnitř.-vnitř.z.IVAR PERFECTA DN 32","kus",4,null,0]
[143,"722235115R00","Kohout vod.kul.,vnitř.-vnitř.z.IVAR PERFECTA DN 40","kus",5,null,0]
[144,"722235523R00","Filtr,vod.vnitřní-vnitřní z.IVAR FIV.08412 DN 25 Dodávka + montáž","kus",1,null,0]
[145,"722235525R00","Filtr,vod.vnitřní-vnitřní z.IVAR FIV.08412 DN 40 Dodávka + montáž","kus",2,null,0]
[146,"722235642R00","Klapka vod.zpětná vodorovná CLAPET FIV.08406 DN 20 Dodávka + montáž","kus",1,null,0]
[147,"722235643R00","Klapka vod.zpětná vodorovná CLAPET FIV.08406 DN 25 Dodávka + montáž","kus",2,null,0]
[148,"722235645R00","Klapka vod.zpětná vodorovná CLAPET FIV.08406 DN 40 Dodávka + montáž","kus",1,null,0]
[149,"722280106R00","Tlaková zkouška vodovodního potrubí DN 32","m",560,null,0]
[null,null,"Včetně dodávky vody, uzavření a zabezpečení konců potrubí."]
[{"$f":"A333+1","v":150},"722280107R00","Tlaková zkouška vodovodního potrubí DN 40","m",140,null,{"$f":"E335*F335","v":0}]
[null,null,"Včetně dodávky vody, uzavření a zabezpečení konců potrubí."]
[{"$f":"A335+1","v":151},"722290234R00","Proplach a dezinfekce vodovod.potrubí DN 80","m",700,null,{"$f":"E337*F337","v":0}]
[null,null,"Včetně dodání desinfekčního prostředku."]
[{"$f":"A337+1","v":152},"722-01","Multifunkční termostatický cirkulační ventil DN15 Dodávka+montáž","ks",1,null,{"$f":"E339*F339","v":0}]
[null,null,"Samočinná verze s automatickou dezinfekční funkcí – B"]
[null,null,"Rozmezí teplot 35-60°C"]
[{"$f":"A339+1","v":153},"722-02","Multifunkční termostatický cirkulační ventil DN20 Dodávka+montáž","ks",1,null,{"$f":"E342*F342","v":0}]
[null,null,"Samočinná verze s automatickou dezinfekční funkcí – B"]
[null,null,"Rozmezí teplot 35-60°C"]
[{"$f":"A342+1","v":154},"722-03","Automatický odvzdušňovací ventil DN15 Dodávka + montáž","ks    ",6,null,{"$f":"E345*F345","v":0}]
[null,null,"Pro vodovodní potrubí"]
[{"$f":"A345+1","v":155},"722-04","Upevňovací technika pro potrubí do D133x5,0 Dodávka + montáž","m",350,null,{"$f":"E347*F347","v":0}]
[null,null,"Položka obsahuje"]
[null,null,"závěsy, uložení, pevné body (závěsová technika např. Koňařík)"]
[{"$f":"A347+1","v":156},"722-05","Potrubní oddělovač BA DN40 Dodávka+montáž","ks",1,null,{"$f":"E350*F350","v":0}]
[{"$f":"A350+1","v":157},"722-06","Hydrantový systém s plnými dvířky - barva antracitová RAL 7016 strukturální Dodávka+montáž","kus",5,null,0]
[null,null,"Dodávka a montáž ZTI:"]
[null,null,"- hydrantový systém s plnými dvířky:"]
[null,null,"- hadicový systém pro první zásah s tvarové stálou hadicí DN25, délky 30m"]
[null,null,"- požadovaný přetlak na přítokovém ventiliu min. 0,2MPa se současným průtokem vody z uzavíratelné proudnice min. Q=0,3 l/s"]
[null,null,"- výška středu od podlahy 1,20m"]
[null,null,"- rozměry 710x710x245"]
[null,null,"- plné dvířka barva antracitová RAL 7016 strukturální"]
[{"$f":"A351+1","v":158},"722-R01","Upevňovací technika pro potrubí do D133x5,0 Dodávka + montáž","m     ",275,null,{"$f":"E359*F359","v":0}]
[null,null,"Položka obsahuje:"]
[null,null,"-závěsy, uložení, pevné body (závěsová technika např. Koňařík)"]
[{"$f":"A359+1","v":159},"722-R02","Expanzní nádoba HW pitná voda Dodávka + montáž","ks    ",1,null,{"$f":"E362*F362","v":0}]
[null,null,"Položka obsahuje:"]
[null,null,"-závěsy, uložení, pevné body (závěsová technika např. Koňařík)"]
[{"$f":"A362+1","v":160},"722-R03","Cirkulační čerpadlo - Grundfos ALPHA2 32-40 180 Dodávka + montáž","ks",1,null,{"$f":"E365*F365","v":0}]
[{"$f":"A365+1","v":161},"722-R04","Pojistný ventil 3/4\"  Dodávka + montáž","ks    ",1,null,0]
[null,null,"Položka obsahuje:"]
[null,null,"-závěsy, uložení, pevné body (závěsová technika např. Koňařík)"]
[{"$f":"A366+1","v":162},"722-R05","Flexi potrubí 3/4\" pro napojení VZT jednotky, délky 1,0m Dodávka+montáž","ks    ",5,null,{"$f":"E369*F369","v":0}]
[null,null,"Položka obsahuje:"]
[null,null,"-závěsy, uložení, pevné body (závěsová technika např. Koňařík)"]
[{"$f":"A369+1","v":163},"909      R00","Hzs-nezmeritelne stavebni prace","h",40,null,{"$f":"E372*F372","v":0}]
[{"$f":"A372+1","v":164},"998722103R00","Přesun hmot pro vnitřní vodovod, výšky do 24 m","t",2.08,null,0]
[null,null,"ZAŘIZOVACÍ PŘEDMĚTY",null,null,null,{"$f":"SUBTOTAL(9,G375:G429)","v":0}]
["Díl:","3","Svislé a kompletní konstrukce",null,null,null,{"$f":"SUBTOTAL(9,G376:G382)","v":0}]
[{"$f":"A373+1","v":165},"342263410R00","Osazení revizních dvířek do SDK příček, do 0,25 m2","kus",11,null,{"$f":"E376*F376","v":0}]
[null,null,"Včetně vytvoření otvoru a osazení rámu s dvířky a prošroubování."]
[{"$f":"A376+1","v":166},"342264101R00","Osazení reviz. dvířek do SDK podhledu, do 0,25 m2","kus",1,null,{"$f":"E378*F378","v":0}]
[null,null,"s vyřezáním otvoru, osazením rámu s dvířky, prošroubováním a úpravou parotěsné zábrany,"]
[{"$f":"A378+1","v":167},"28349014R","Dvířka revizní plná SI 3030 rozměr 300x300 mm","kus",4,null,{"$f":"E380*F380","v":0}]
[{"$f":"A380+1","v":168},"283-R01","Revizní dvířka, hliník se sádrokartonovou deskou, tlakový zámek Dodávka","kus",8,null,0]
[null,null,"Popis viz specifikace (příloha techniké zprávy)"]
["Díl:","725","Zařizovací předměty",null,null,null,{"$f":"SUBTOTAL(9,G384:G427)","v":0}]
[{"$f":"A381+1","v":169},"725110811R00","Demontáž klozetů splachovacích","soubor",10,null,{"$f":"E384*F384","v":0}]
[null,null,"Demontované ZP jsou uvedeny v koordinačních výkresech ve stavební části"]
[{"$f":"A384+1","v":170},"725122813R00","Demontáž pisoárů s nádrží + 1 záchodkem","soubor",5,null,{"$f":"E386*F386","v":0}]
[null,null,"Demontované ZP jsou uvedeny v koordinačních výkresech ve stavební části"]
[{"$f":"A386+1","v":171},"725210821R00","Demontáž umyvadel bez výtokových armatur","soubor",10,null,{"$f":"E388*F388","v":0}]
[null,null,"Demontované ZP jsou uvedeny v koordinačních výkresech ve stavební části"]
[{"$f":"A388+1","v":172},"725240811R00","Demontáž sprchových kabin bez výtokových armatur","soubor",5,null,{"$f":"E390*F390","v":0}]
[null,null,"Demontované ZP jsou uvedeny v koordinačních výkresech ve stavební části"]
[{"$f":"A390+1","v":173},"725310823R00","Demontáž dřezů 1dílných v kuchyňské sestavě","soubor",5,null,{"$f":"E392*F392","v":0}]
[null,null,"Demontované ZP jsou uvedeny v koordinačních výkresech ve stavební části"]
[{"$f":"A392+1","v":174},"725330820R00","Demontáž výlevky diturvitové","soubor",1,null,{"$f":"E394*F394","v":0}]
[null,null,"Demontované ZP jsou uvedeny v koordinačních výkresech ve stavební části"]
[{"$f":"A394+1","v":175},"725820801R00","Demontáž baterie nástěnné do G 3/4","soubor",20,null,{"$f":"E396*F396","v":0}]
[{"$f":"A396+1","v":176},"725102-WC","Klozet keramický, závěsný Dodávka+montáž","soubor",13,null,0]
[null,null,"Popis viz specifikace (příloha techniké zprávy)"]
[{"$f":"A397+1","v":177},"725102-Wc-i","Klozet keramický, ZTP Dodávka+montáž","soubor",1,null,{"$f":"E399*F399","v":0}]
[null,null,"Popis viz specifikace (příloha techniké zprávy)"]
[{"$f":"A399+1","v":178},"725103-R01","Elektrický tlakový zásobník TV 5l s tlakovou řadou Dodávka+montáž","soubor",1,null,{"$f":"E401*F401","v":0}]
[null,null,"Popis viz specifikace (příloha techniké zprávy)"]
[{"$f":"A401+1","v":179},"725103-UM","Umyvadlo keramické závěsné na podomítkový modul Dodávka+montáž","ks",15,null,{"$f":"E403*F403","v":0}]
[null,null,"Popis viz specifikace (příloha techniké zprávy)"]
[{"$f":"A403+1","v":180},"725103-Um-i","Umyvadlo keramické ZTP Dodávka+montáž","soubor",1,null,{"$f":"E405*F405","v":0}]
[null,null,"Popis viz specifikace (příloha techniké zprávy)"]
[{"$f":"A405+1","v":181},"725103-UM-s","Umyvadlo keramické závěsné na stěnu Dodávka+montáž","ks",1,null,{"$f":"E407*F407","v":0}]
[null,null,"Popis viz specifikace (příloha techniké zprávy)"]
[{"$f":"A407+1","v":182},"725104-Vy","Výlevka závěsná na podomítkový modul s plast. mřížkou vč. výtok armatury Dodávka+montáž","soubor",5,null,{"$f":"E409*F409","v":0}]
[null,null,"Popis viz specifikace (příloha techniké zprávy)"]
[{"$f":"A409+1","v":183},"725105-Pi","Pisoár keramický se senzor.pro splachování-modul Dodávka+montáž","soubor",5,null,{"$f":"E411*F411","v":0}]
[null,null,"Popis viz specifikace (příloha techniké zprávy)"]
[{"$f":"A411+1","v":184},"725106-Dř","Celonerezový mycí dřez Dodávka+montáž","soubor",5,null,{"$f":"E413*F413","v":0}]
[null,null,"Popis viz specifikace (příloha techniké zprávy)"]
[{"$f":"A413+1","v":185},"725107-Sp-va","Sprchový kout, včetně vaničky se sifonem, sprchového sloupu, sprchových dveří Dodávka + montáž","kus",1,null,{"$f":"E415*F415","v":0}]
[null,null,"Popis viz specifikace (příloha techniké zprávy)"]
[{"$f":"A415+1","v":186},"72585-VP","Demontáž vpusti","kus",1,null,{"$f":"E417*F417","v":0}]
[{"$f":"A417+1","v":187},"725-SV01","Elektricky vyhřívaná svislá střešní vpusť s PVC límcem průměr 110 mm Dodávka+montáž","ks    ",2,null,0]
[{"$f":"A418+1","v":188},"725-VP01","Podlahová vpust DN 100 - nerez Dodávka + montáž","ks",1,null,0]
[null,null,"HL podlahová vpust DN50 vodorovný odtok se zápachovou uzávěrou"]
[{"$f":"A419+1","v":189},"PP01","Lešení prostorové trubkové lehké","kpl.",1,null,{"$f":"E421*F421","v":0}]
[null,null,"Obsahuje:"]
[null,null,"-montáž a demontáž lešení prostorového trubkového lehkého s podlahami šířky 1,0m pro zatížení do 200 kg/m2 výšky do 10 m"]
[null,null,"lešení včetně ochranného zábradlí, podlahových zarážek, závětrování apod."]
[null,null,"-V ceně náklady na dopravu, celkovou dobu pronájmu dle harmonogramu zhotovitele a opotřebení lešení"]
[{"$f":"A421+1","v":190},"909      R00","Hzs-nezmeritelne stavebni prace","h",40,null,{"$f":"E426*F426","v":0}]
[{"$f":"A426+1","v":191},"998725103R00","Přesun hmot pro zařizovací předměty, výšky do 24 m","t",0.56000000000000005,null,0]
["Díl:","D96","Přesuny suti a vybouraných hmot",null,null,null,{"$f":"SUBTOTAL(9,G429)","v":0}]
[{"$f":"A427+1","v":192},"979011111R00","Svislá doprava suti a vybour. hmot za 2.NP a 1.PP","t",1.03,null,{"$f":"E429*F429","v":0}]

{"sheet":"03_SO 01 - VZT","index":6,"n_rows":379,"n_cols":8,"rows_kept":379,"cut":false,"hidden":false,"merged":[[24,4,24,7],[25,3,25,7],[30,4,30,7],[26,1,26,2],[27,1,27,2],[28,1,28,2],[25,1,25,2],[24,1,24,2]]}
[{"$f":"CONCATENATE('Rekapitulace stavby'!C54,\"_\",'Rekapitulace stavby'!I54)","v":"03_SO 01 - Vzduchotechnika"}]
[]
["SPECIFIKACE DODÁVEK A PRACÍ "]
["Název akce:"]
[{"$f":"'Identifikační údaje'!B1","v":"ČRo Olomouc – rekonstrukce objektu Pavelčákova 2/19"}]
[]
["Zadavatel:",null,null,{"$f":"'Identifikační údaje'!E7","v":"Český rozhlas, Vinohradská 12, 120 99 Praha 2"}]
[null,"IČ:",null,{"$f":"'Identifikační údaje'!B9","v":45245053}]
[null,"DIČ:",null,{"$f":"'Identifikační údaje'!B10","v":"CZ45245053"}]
[]
["Projektant:",null,null,{"$f":"'Identifikační údaje'!E12","v":"ATELIER 38 s.r.o., Porážková 1424/20, 702 00 Ostrava – Moravská Ostrava"}]
[null,"IČ:",null,{"$f":"'Identifikační údaje'!B14","v":"258 58 343"}]
[null,"DIČ:",null,{"$f":"'Identifikační údaje'!B15","v":"CZ25858343"}]
[]
["Uchazeč:",null,null,{"$f":"'Identifikační údaje'!E19","v":", ,  "}]
[null,"IČ:",null,{"$f":"'Identifikační údaje'!B23","v":0}]
[null,"DIČ:",null,{"$f":"'Identifikační údaje'!B24","v":0}]
[]
["Místo stavby:",null,null,{"$f":"'Identifikační údaje'!B3","v":"Budova Českého rozhlasu Olomouc na adrese Pavelčákova 2/19, 779 00 Olomouc"}]
[]
["Datum vyplnění:",null,null,{"$f":"'Identifikační údaje'!B5","v":"00:00:00"}]
[]
[{"$f":"CONCATENATE(\"REKAPITULACE DODÁVEK A PRACÍ OBJEKTU \",'Rekapitulace stavby'!I54)","v":"REKAPITULACE DODÁVEK A PRACÍ OBJEKTU SO 01 - Vzduchotechnika"}]
[]
["P.č.","Číslo položky",null,"Název položky","Kč bez DPH"]
[]
["Díl:",{"$f":"B38","v":713},null,{"$f":"C38","v":"Izolace tepelné"},null,null,null,{"$f":"H38","v":0}]
["Díl:",{"$f":"B44","v":751},null,{"$f":"C44","v":"Vzduchotechnika"},null,null,null,{"$f":"H44","v":0}]
["Díl:",{"$f":"B373","v":"OST"},null,{"$f":"C373","v":"Ostatní"},null,null,null,{"$f":"H373","v":0}]
[]
[{"$f":"CONCATENATE(\"CELKEM ZA OBJEKT \",'Rekapitulace stavby'!I54, \" v Kč bez DPH\")","v":"CELKEM ZA OBJEKT SO 01 - Vzduchotechnika v Kč bez DPH"},null,null,null,{"$f":"SUM(H27:H29)","v":0}]
[]
[]
[]
[]
[]
["PČ","TYP","KÓD","Popis","MJ","Množství","Cena / MJ","Celkem"]
[null,713,"Izolace tepelné",null,null,null,null,{"$f":"SUBTOTAL(9,H39:H43)","v":0}]
["600m","K","713 41 1111","Montáž izolace tepelné potrubí pásy nebo rohožemi tl.40mm","m2",1199,null,{"$f":"F39*G39","v":0}]
["600","M","631 51 671","Tepelná izolace minerální vata tl.40mm+Al polep (m=55kg/m3)\n","m2",661,null,{"$f":"F40*G40","v":0}]
["601","M","631 42 670","Akustická izolace minerální vata tl.60mm+Al polep (m=80kg/m3)\n","m2",229,null,0]
["602","M","631 50 980","Tepelná izolace minerální vata tl.20mm+Al polep (m=25kg/m3)\n","m2",271,null,0]
["603","M","631 53 565","Požární izolace minerální vata tl.40mm+Al polep (m=65kg/m3)\n","m2",38,null,0]
[null,751,"Vzduchotechnika",null,null,null,null,{"$f":"SUBTOTAL(9,H45:H372)","v":0}]
[null,null,null,"AHU K1 - kanceláře+studia-přívod a odvod vzduchu",null,null,null,{"$f":"SUBTOTAL(9,H46:H95)","v":0}]
["K1.01m","K","751 61 1115R","Mtž vzduchotechnické jednotky pos. K1.01","kus",1,null,{"$f":"F46*G46","v":0}]
["K1.01","M",null,"Kompaktní vzduchotechnická jednotka  Qv=6000m3/h dle standardu VZT1","kus",1,null,0]
["K1.02m","K","751 61 1118R","Mtž zvlhčovače pos. K1.02","kus",1,null,0]
["K1.02","M",null,"Odporový vyvíječ páry m=24kg/h, U=400V, včetně příslušenství dle standardu VZT4","kus",1,null,0]
["K1.03m","K","751 39 8056","Mtž protidešťové žaluzie přes 0,75m2","kus",2,null,0]
["K1.03","M",null,"Protidešťová žaluzie pozinkovaná s rámem a sítem, lakovaná RAL xxxx, 710x1250mm","kus",2,null,0]
["K1.10m","K","751 32 2132","Mtž anemostatu vířivého se skř. Do 0,2m2","kus",15,null,0]
["K1.10","M",null,"Anemostat kruhový s připojovací skříní kruhovou s horizontálním napojením a rgulační klapkou DN160, barva RAL 9010, velikost 400x16","kus",{"$f":"6+5+4","v":15},null,0]
["K1.11m","K","751 32 2132","Mtž anemostatu vířivého se skř. Do 0,1m2","kus",18,null,0]
["K1.11","M",null,"Anemostat kruhový s připojovací skříní kruhovou s horizontálním napojením a rgulační klapkou DN125, barva RAL 9010, velikost 300x8","kus",{"$f":"4+4+10","v":18},null,0]
["K1.12m","K","751 32 2011","Mtž talířového ventilu D do 100 mm","kus",1,null,0]
["K1.12","M",null,"Talířový ventil univerzální, kovový, bílý DN100 se  zděří","kus",1,null,0]
["K1.13m","K","751 31 1093","Mtž vyústky čtyřhranné na čtyřhranné potrubí do 0,15m2","kus",1,null,0]
["K1.13","M",null,"Vyústka jednořadá s regulací R1, 600x250mm na čtyřhranné potrubí, bílá","kus",1,null,0]
["K1.14m","K","751 31 1091","Mtž vyústky čtyřhranné na čtyřhranné potrubí do 0,04m2","kus",2,null,0]
["K1.14","M",null,"Vyústka jednořadá s regulací R1, 200x100mm na čtyřhranné potrubí, bílá","kus",2,null,0]
["K1.20m","K","751 34 4125","Mtž tl. hluku nad 0,6m2/bm","kus",3,null,0]
["K1.20","M",null,"Kulisový tlumič hluku  1050x750-750, š. kulisy 200, počet kulis 4, dle standardu TLU1","kus",3,null,0]
["K1.21m","K","751 34 4125","Mtž tl. hluku nad 0,6m2/bm","kus",3,null,0]
["K1.21","M",null,"Kulisový tlumič hluku  1050x750-1000, š. kulisy 200, počet kulis 4, dle standardu TLU1","kus",1,null,0]
["K1.22m","K","751 34 4112","Mtž tl. hluku kruhového D do 200mm","kus",34,null,0]
["K1.22","M",null,"Tlumič hluku přeslechový, ohebný DN125, l=1m, tl. Izolace 25mm","kus",{"$f":"9+9+10+6","v":34},null,0]
["K1.23m","K","751 39 8022","Mtž větrací mřížky stěnové do 0,1m2","kus",{"$f":"5+4+3","v":12},null,0]
["K1.23","M",null,"Obdélníková mřížka s přeslechovým tlumičem 400x130mm s oboustranným bílým panelem","kus",12,null,0]
["K1.24m","K","751 39 8022","Mtž větrací mřížky stěnové do 0,1m2","kus",{"$f":"3+2+3+7","v":15},null,0]
["K1.24","M",null,"Obdélníková mřížka s přeslechovým tlumičem 600x130mm s oboustranným bílým panelem","kus",15,null,0]
["K1.25m","K","751 39 8023","Mtž větrací mřížky stěnové do 0,15m2","kus",{"$f":"1+1+3","v":5},null,0]
["K1.25","M",null,"Obdélníková mřížka s přeslechovým tlumičem 800x130mm s oboustranným bílým panelem","kus",5,null,0]
["K1.26m","K","751 39 8022","Mtž větrací mřížky stěnové do 0,1m2","kus",6,null,0]
["K1.26m","M",null,"Stěnová mřížka hliníková 300x100mm, rozteč lamel t=20mm","kus",6,null,0]
["K1.40m","K","751 39 8093R","Mtž regulátoru průtoku čtyřhranného","kus",2,null,0]
["K1.40","M",null,"Regulátor průtoku variabilní s pohonem 24V, 0-10V, 600x500mm ","kus",2,null,0]
["K1.41m","K","751 51 4680","Mtž škrticí klapky do potrubí do D 300","kus",1,null,0]
["K1.41","M",null,"Regulační klapka kruhová ruční DN250","kus",1,null,0]
["K1.42m","K","751 51 4879","Mtž škrticí klapky do potrubí do D 200","kus",2,null,0]
["K1.42","M",null,"Regulační klapka kruhová ruční DN200","kus",2,null,0]
["K1.43m","K","751 51 4879","Mtž škrticí klapky do potrubí do D 200","kus",5,null,0]
["K1.43","M",null,"Regulační klapka kruhová ruční DN125","kus",5,null,0]
["K1.44m","K","751 51 4879","Mtž škrticí klapky do potrubí do D 200","kus",1,null,0]
["K1.44","M",null,"Regulační klapka kruhová ruční DN180","kus",1,null,0]
["K1.45m","K","751 51 4612","Mtž škrticí klapky s přírubou do potrubí 0,07m2","kus",1,null,0]
["K1.45","M",null,"Regulační klapka čtyřhranná ruční 315x200","kus",1,null,0]
["K1.50m","K","751 51 4813R","Mtž požární klapky do potrubí do 0,14m2","kus",1,null,0]
["K1.50","M",null,"Požární klapka 400x250, PI90, se servopohonem 230V, signalizací krajní polohy listu a montážním kitem pro suchou montáž","kus",1,null,0]
["K1.51m","K","751 51 4862R","Mtž požární klapky do potrubí do D 200","kus",5,null,0]
["K1.51","M",null,"Požární klapka DN200, PI90, se servopohonem 230V, signalizací krajní polohy listu a montážním kitem pro suchou montáž","kus",5,null,0]
["K1.52m","K","751 51 4812R","Mtž požární klapky do potrubí do 0,07m2","kus",1,null,0]
["K1.52","M",null,"Požární klapka 350x200, PI90, se servopohonem 230V, signalizací krajní polohy listu a montážním kitem pro suchou montáž","kus",1,null,0]
["K1.53m","K","751 51 4818R","Mtž požární klapky do potrubí do 0,07m2","kus",1,null,0]
["K1.53","M",null,"Požární klapka 1200x400, PI90, se servopohonem 230V, signalizací krajní polohy listu a montážním kitem pro suchou montáž","kus",1,null,0]
[null,null,null,"AHU S1 - studio 016+017-přívod a odvod vzduchu",null,null,null,{"$f":"SUBTOTAL(9,H97:H114)","v":0}]
["S1.01m","K","751 61 1116R","Mtž vzduchotechnické jednotky pos. S1.01","kus",1,null,{"$f":"F97*G97","v":0}]
["S1.01","M",null,"Přívodní vzduchotechnická jednotka  Qv=1600m3/h dle standardu VZT2","kus",1,null,0]
["S1.02m","K","751 61 1118R","Mtž zvlhčovače pos. S1.02","kus",1,null,0]
["S1.02","M",null,"Odporový vyvíječ páry m=5kg/h, U=230V, včetně příslušenství dle standardu VZT4","kus",1,null,0]
["S1.20m","K","751 34 4122","Mtž tl. hluku do 0,3m2/bm","kus",4,null,0]
["S1.20","M",null,"Kulisový tlumič hluku  560x355-1000, š. kulisy 200, počet kulis 2, dle standardu TLU1","kus",4,null,0]
["S1.21m","K","751 34 4121","Mtž tl. hluku do 0,15m2/bm","kus",4,null,0]
["S1.21","M",null,"Kulisový tlumič hluku  315x315-1000, š. kulisy 100, počet kulis 2, dle standardu TLU1","kus",4,null,0]
["S1.22m","K","751 34 4121","Mtž tl. hluku do 0,15m2/bm","kus",4,null,0]
["S1.22","M",null,"Kulisový tlumič hluku  450x315-1000, š. kulisy 100, počet kulis 2, dle standardu TLU1","kus",4,null,0]
["S1.23m","K","751 34 4121","Mtž tl. hluku do 0,15m2/bm","kus",4,null,0]
["S1.23","M",null,"Kulisový tlumič hluku  500x200-1000, š. kulisy 100, počet kulis 3, dle standardu TLU1","kus",4,null,0]
["S1.40m","K","751 39 8092","Mtž regulátoru průtoku konstantního D do 200","kus",2,null,0]
["S1.40","M",null,"Regulátor průtoku konstantní, DN160","kus",2,null,0]
["S1.41m","K","751 51 4613","Mtž škrticí klapky s přírubou do potrubí 0,14m2","kus",2,null,0]
["S1.41","M",null,"Regulační klapka čtyřhranná ruční 315x315","kus",2,null,0]
["S1.50m","K","751 51 4813R","Mtž požární klapky do potrubí do 0,14m2","kus",2,null,0]
["S1.50","M",null,"Požární klapka 315x315, PI90, se servopohonem 230V, signalizací krajní polohy listu a montážním kitem pro suchou montáž","kus",2,null,0]
[null,null,null,"AHU S2 - studio 120-přívod a odvod vzduchu",null,null,null,{"$f":"SUBTOTAL(9,H116:H127)","v":0}]
["S2.01m","K","751 61 1117R","Mtž vzduchotechnické jednotky pos. S2.01","kus",1,null,{"$f":"F116*G116","v":0}]
["S2.01","M",null,"Přívodní vzduchotechnická jednotka  Qv=700m3/h dle standardu VZT3","kus",1,null,0]
["S2.02m","K","751 61 1118R","Mtž zvlhčovače pos. S1.02","kus",1,null,0]
["S2.02","M",null,"Odporový vyvíječ páry m=1,5kg/h, U=230V, včetně příslušenství dle standardu VZT4","kus",1,null,0]
["S2.20m","K","751 34 4122","Mtž tl. hluku do 0,3m2/bm","kus",4,null,0]
["S2.20","M",null,"Kulisový tlumič hluku  500x315-1000, š. kulisy 200, počet kulis 2, dle standardu TLU1","kus",4,null,0]
["S2.21m","K","751 34 4121","Mtž tl. hluku do 0,15m2/bm","kus",4,null,0]
["S2.21","M",null,"Kulisový tlumič hluku  315x315-1000, š. kulisy 100, počet kulis 2, dle standardu TLU1","kus",4,null,0]
["S2.40m","K","751 39 8092","Mtž regulátoru průtoku konstantního D do 200","kus",2,null,0]
["S2.40","M",null,"Regulátor průtoku konstantní, DN125","kus",2,null,0]
["S2.50m","K","751 51 4863R","Mtž požární klapky do potrubí do D 300","kus",2,null,0]
["S2.50m","M",null,"Požární klapka DN224, PI90, se servopohonem 230V, signalizací krajní polohy listu a montážním kitem pro suchou montáž","kus",2,null,0]
[null,null,null,"AHU S3 - studio 220-přívod a odvod vzduchu",null,null,null,{"$f":"SUBTOTAL(9,H129:H130)","v":0}]
["S3.50m","K","751 51 4813R","Mtž požární klapky do potrubí do 0,14m2","kus",2,null,{"$f":"F129*G129","v":0}]
["S3.50","M",null,"Požární klapka 315x315, PI90, se servopohonem 230V, signalizací krajní polohy listu a montážním kitem pro suchou montáž","kus",2,null,0]
[null,null,null,"AHU S4 - studio 404-přívod a odvod vzduchu",null,null,null,{"$f":"SUBTOTAL(9,H132:H133)","v":0}]
["S4.50m","K","751 51 4813R","Mtž požární klapky do potrubí do 0,14m2","kus",2,null,{"$f":"F132*G132","v":0}]
["S4.50","M",null,"Požární klapka 315x315, PI90, se servopohonem 230V, signalizací krajní polohy listu a montážním kitem pro suchou montáž","kus",2,null,0]
[null,null,null,"AHU K2 - Vzduchová clona - cirkulace vzduchu",null,null,null,{"$f":"SUBTOTAL(9,H135:H136)","v":0}]
["K2.01m","K","751 62 2111R","Mtž vduchové clony do podhledu","kus",1,null,{"$f":"F135*G135","v":0}]
["K2.01","M",null,"Vzduchová clona teplovodní s EC motorem do podhledu délka 2m, Qt=34kW, U=230V vč.regulace a příslušenství dle standardu VZT5","kus",1,null,0]
[null,null,null,"AHU K3 - Hygienické zázemí - cirkulace vzduchu",null,null,null,{"$f":"SUBTOTAL(9,H138:H157)","v":0}]
["K3.01m","K","751 12 2293","Mtž radiálního ventilátoru střešního D 300mm","kus",1,null,{"$f":"F138*G138","v":0}]
["K3.01","M",null,"Střešní ventilátor s vertikálním výfukem s EC motorem, Qv=700m3/h, Pext=300Pa dle standardu VZT 6","kus",1,null,0]
["K3.01a","K","751 39 8061","Mtž podstavce ventilátoru střešního do 0,3m2","kus",1,null,0]
["K3.01a","M",null,"Tlumicí podstavec pro ventilátor poz. K3.01 včetně. příslušenství dle standardu VZT 6","kus",1,null,0]
["K3.02m","K","751 12 2294","Mtž radiálního ventilátoru střešního D 400mm","kus",1,null,0]
["K3.02","M",null,"Střešní ventilátor s vertikálním výfukem s EC motorem, Qv=1400m3/h, Pext=300Pa včetně příslušenství dle standardu VZT 6","kus",1,null,0]
["K3.02a","K","751 39 8062","Mtž podstavce ventilátoru střešního do 0,8m2","kus",1,null,0]
["K3.02a","M",null,"Tlumicí podstavec pro ventilátor poz. K3.02 včetně. příslušenství dle standardu VZT 6","kus",1,null,0]
["K3.10m","K","751 32 2011","Mtž talířového ventilu D do 100 mm","kus",{"$f":"10+6+6+6","v":28},null,0]
["K3.10","M",null,"Talířový ventil univerzální, kovový, bílý DN100 se  zděří","kus",28,null,0]
["K3.11m","K","751 32 2012","Mtž talířového ventilu D do 200 mm","kus",2,null,0]
["K3.11","M",null,"Talířový ventil univerzální, kovový, bílý DN125 se  zděří","kus",2,null,0]
["K3.12m","K","751 31 1091","Mtž vyústky čtyřhranné na čtyřhranné potrubí do 0,04m2","kus",4,null,0]
["K3.12","M",null,"Vyústka jednořadá s regulací R1, 325x75mm na čtyřhranné potrubí, bílá","kus",4,null,0]
["K3.40m","K","751 39 8092R","Mtž regulátoru variabilního průtoku D do 200","kus",8,null,0]
["K3.40","M",null,"Regulátor průtoku variabilní se servophonem 24V, 0-10V, DN125","kus",8,null,0]
["K3.41m","K","751 39 8091R","Mtž regulátoru variabilního průtoku D do 100","kus",7,null,0]
["K3.41","M",null,"Regulátor průtoku variabilní se servophonem 24V, 0-10V, DN100","kus",7,null,0]
["K3.50m","K","751 51 4863R","Mtž požární klapky do potrubí do D 300","kus",1,null,0]
["K3.50","M",null,"Požární klapka DN224, PI90, se servopohonem 230V, signalizací krajní polohy listu a montážním kitem pro suchou montáž","kus",1,null,0]
[null,null,null,"AHU K4 - Kotelna - přívod a vzduchu",null,null,null,{"$f":"SUBTOTAL(9,H159:H168)","v":0}]
["K4.01m","K","751 13 3012","Mtž diag. potrubního ventilátoru D do 200mm","kus",1,null,{"$f":"F159*G159","v":0}]
["K4.01","M",null,"Diagonální ventilátor DN160, Qv=400m3/h, pext=150Pa, vč. upínacích spon a zpětné kl.","kus",1,null,0]
["K4.02m","K","751 51 4776","Mtž protidešťové stříšky bez příruby D 200mm","kus",1,null,0]
["K4.02","M",null,"Protidešťová stříška DN160 s ochrannou síťkou","kus",1,null,0]
["K4.03m","K","751 51 4776","Mtž protidešťové stříšky bez příruby D 200mm","kus",1,null,0]
["K4.03","M",null,"Výfuková hlavice DN160","kus",1,null,0]
["K4.04m","K","751 51 4777","Mtž protidešťové stříšky bez příruby D 300mm","kus",2,null,0]
["K4.04","M",null,"Střešní průchod izolovaný DN240 s podstavcem a objímkou","kus",2,null,0]
["K4.05m","K","751 39 8012","Mtž mřížky na kruhové potrubí  D do 200mm","kus",3,null,0]
["K4.05","M",null,"Krycí mřížka na potrubí pozinkovaná DN160","kus",3,null,0]
[null,null,null,"AHU K5 - Suterén 1.PP A sklad odpadu - přívod a odvod vzduchu",null,null,null,{"$f":"SUBTOTAL(9,H170:H183)","v":0}]
["K5.01m","K","751 61 1115R","Mtž vzduchotechnické jednotky nástěnné nad 500m3/h","kus",1,null,{"$f":"F170*G170","v":0}]
["K5.01","M",null,"Kompaktní vzduchotechnická jednotka nástěnná Qv=550m3/h s regulací dle standardu VZT7","kus",1,null,0]
["K5.02m","K","751 39 8051","Mtž protidešťové žaluzie přes 0,15m2","kus",2,null,0]
["K5.02","M",null,"Protidešťová žaluzie pozinkovaná s rámem a sítem, lakovaná RAL xxxx, 315x315mm","kus",2,null,0]
["K5.03m","K","751 39 8022","Mtž mřížky přes 0,1m2","kus",1,null,0]
["K5.03","M",null,"Krycí síto na čtyřhranné potrubí 315x315mm","kus",1,null,0]
["K5.10m","K","751 32 2011","Mtž talířového ventilu D do 100 mm","kus",6,null,0]
["K5.10","M",null,"Talířový ventil univerzální, kovový, bílý DN100 se  zděří","kus",6,null,0]
["K5.11m","K","751 31 1091","Mtž vyústky čtyřhranné na čtyřhranné potrubí do 0,04m2","kus",8,null,0]
["K5.11m","M",null,"Vyústka jednořadá s regulací R1, 200x100mm na čtyřhranné potrubí, bílá","kus",8,null,0]
["K5.20m","K","751 34 4112","Mtž tl. hluku kruhového D do 200mm","kus",2,null,0]
["K5.20","M",null,"Tlumič hluku přeslechový, ohebný DN200, l=1m, tl. Izolace 50mm","kus",2,null,0]
["K5.50m","K","751 51 4813R","Mtž požární klapky do potrubí do 0,14m2","kus",2,null,0]
["K5.50","M",null,"Požární klapka 315x315, PI90, se servopohonem 230V, signalizací krajní polohy listu a montážním kitem pro suchou montáž","kus",2,null,0]
[null,null,null,"AHU K6 - Místnost DA - přívod a odvod vzduchu",null,null,null,{"$f":"SUBTOTAL(9,H185:H190)","v":0}]
["K6.01m","K","751 51 4620","Mtž škrticí klapky s přírubou do potrubí 0,63m2","kus",2,null,{"$f":"F185*G185","v":0}]
["K6.01m","M",null,"Regulační klapka uzavírací těsná 900x630 se servopohonem 230V","kus",2,null,0]
["K6.02m","K","751 39 8054","Mtž protidešťové žaluzie přes 0,6m2","kus",2,null,0]
["K6.02","M",null,"Protidešťová žaluzie pozinkovaná s rámem a sítem, lakovaná RAL xxxx, 900x630mm","kus",2,null,0]
["K6.03m","K","751 39 8025","Mtž mřížky přes 0,2m2","kus",1,null,0]
["K6.03m","M",null,"Krycí síto na čtyřhranné potrubí 900x630mm","kus",1,null,0]
[null,null,null,"AHU K7 - Odvětrání hydroizolace - odvod vzduchu",null,null,null,{"$f":"SUBTOTAL(9,H192:H195)","v":0}]
["K7.01m","K","751 11 1131","Mtž axiálního ventilátoru potrubního D do 200mm","kus",2,null,{"$f":"F192*G192","v":0}]
["K7.01m","M",null,"Axiální vestavný ventilátor DN120 s kuličkovými ložisky,vest. přetl.klapkou U=230V, Qv=50m3/h","kus",2,null,0]
["K7.02m","K","751 39 8051","Mtž protidešťové žaluzie do 0,15m2","kus",2,null,0]
["K7.02","M",null,"Protidešťová žaluzie pozinkovaná s rámem a sítem, lakovaná RAL xxxx, 150x300mm","kus",2,null,0]
[null,null,null,"AHU CH1 - CHUC - přívod vzduchu",null,null,null,{"$f":"SUBTOTAL(9,H197:H214)","v":0}]
["CH1.01m","K","751 12 2116","Mtž radiálního ventilátoru potrubního 0,42m2","kus",1,null,{"$f":"F197*G197","v":0}]
["CH1.01","M",null,"Radiální potrubní ventilátor výklopný, 800x500 mm, U=400V, Qv=6800, Pext=200Pa","kus",1,null,0]
["CH1.02m","K","751 51 4617","Mtž škrticí klapky s přírubou do potrubí do 0,42m2","kus",1,null,0]
["CH1.02","M",null,"Regulační klapka uzavírací těsná 500x800 se servopohonem 230V","kus",1,null,0]
["CH1.03m","K","751 51 4615","Mtž škrticí klapky s přírubou do potrubí 0,28m2","kus",1,null,0]
["CH1.03","M",null,"Regulační klapka uzavírací těsná 800x345 se servopohonem 230V","kus",1,null,0]
["CH1.04m","K","751 39 8052","Mtž protidešťové žaluzie přes 0,3m2","kus",1,null,0]
["CH1.04","M",null,"Protidešťová žaluzie pozinkovaná s rámem a sítem, lakovaná RAL xxxx, 800x345mm","kus",1,null,0]
["CH1.05m","K","751 39 8052","Mtž protidešťové žaluzie přes 0,3m2","kus",1,null,0]
["CH1.05","M",null,"Protidešťová žaluzie pozinkovaná s rámem a sítem, lakovaná RAL xxxx, 600x1250mm","kus",1,null,0]
["CH1.06m","K","751 39 8025","Mtž mřížky přes 0,2m2","kus",1,null,0]
["CH1.06m","M",null,"Krycí síto na čtyřhranné potrubí 800x345mm","kus",1,null,0]
["CH1.07m","K","751 39 8051","Mtž protidešťové žaluzie do 0,15m2","kus",1,null,0]
["CH1.07m","M",null,"Protidešťová žaluzie pozinkovaná s rámem a sítem, lakovaná RAL xxxx, 200x200mm","kus",1,null,0]
["CH1.08m","K","751 39 8021","Mtž mřížky do 0,04m2","kus",1,null,0]
["CH1.08","M",null,"Krycí síto na čtyřhranné potrubí 200x200mm","kus",1,null,0]
["CH1.09m","K","751 39 8052","Mtž protidešťové žaluzie přes 0,3m2","kus",1,null,0]
["CH1.09m","M",null,"Přetlaková klapka s garancí přetlaku dtp=50Pa, 800x345mm","kus",1,null,0]
[null,null,null,"AHU KL1 - Technické místnosti - větrání a klimatizace",null,null,null,{"$f":"SUBTOTAL(9,H216:H245)","v":0}]
["KL1.01m","K","751 72 1111","Montáž kondenzační jednotky venk. jednofázové","kus",2,null,{"$f":"F216*G216","v":0}]
["KL1.01","M",null,"Kondenzační jednotka s invertorem a celoroční technologí chlazení Qch=7kW, U=230V, R32 vč. příslušenství dle standardu K2 ","kus",2,null,0]
["KL1.01a","K","751 71 1114","Montáž klimatizační j. nástěnné do Qch=9kW","kus",2,null,0]
["KL1.01a","M",null,"Nástěnná jednotka nástěnná pro technologii split s invertorem Qch=7kW, U=230V, R32","kus",2,null,0]
["KL1.02m","K","751 72 1111","Montáž kondenzační jednotky venk. jednofázové","kus",2,null,0]
["KL1.02m","M",null,"Kondenzační jednotka s invertorem a celoroční technologí chlazení Qch=2,5kW, U=230V, R32 vč. příslušenství dle standardu K2 ","kus",2,null,0]
["KL1.02a","K","751 71 1111","Montáž klimatizační j. nástěnné do Qch=3,5kW","kus",2,null,0]
["KL1.02a","M",null,"Nástěnná jednotka nástěnná pro technologii split s invertorem Qch=2,5kW, U=230V, R32","kus",2,null,0]
["KL1.03m","K","751 72 1111","Montáž kondenzační jednotky venk. jednofázové","kus",2,null,0]
["KL1.03m","M",null,"Kondenzační jednotka s invertorem a celoroční technologí chlazení Qch=3,6kW, U=230V, R32 vč. příslušenství dle standardu K2 ","kus",2,null,0]
["KL1.03a","K","751 71 1112","Montáž klimatizační j. nástěnné do Qch=5,0kW","kus",2,null,0]
["KL1.03a","M",null,"Nástěnná jednotka nástěnná pro technologii split s invertorem Qch=3,6kW, U=230V, R32","kus",2,null,0]
["KL1.09m","K","751  79 1114","Montáž předizolovaného potrubí 16","bm",20,null,0]
["KL1.09","M",null,"CU potrubí izolované 15,88Iz","bm",20,null,0]
["KL1.10m","K","751  79 1113","Montáž předizolovaného potrubí 12","bm",15,null,0]
["KL1.10","M",null,"CU potrubí izolované 12,7Iz","bm",15,null,0]
["KL1.11m","K","751  79 1112","Montáž předizolovaného potrubí 9","bm",55,null,0]
["KL1.11","M",null,"CU potrubí izolované 9,52Iz","bm",55,null,0]
["KL1.12m","K","751  79 1111","Montáž předizolovaného potrubí 6","bm",50,null,0]
["KL1.12","M",null,"CU potrubí izolované 6,35Iz","bm",50,null,0]
["KL1.13m","K",null,"Náplň chladiva","kg",2,null,0]
["KL1.13 ","M",null,"Chladivo R32a","kg",4,null,0]
["KL1.14m","K",null,"Montáž podstavce pod klimatizční jendotku","kus",12,null,0]
["KL1.14 ","M",null,"Podstavná noha pro klimatizační jendotku 100x100mm-450, vč. bočních krytů","kus",12,null,0]
["KL1.15m","K","751 51 4735","Mtž protidešťové stříšky bez příruby 0,035m2","kus",1,null,0]
["KL1.15","M",null,"Střešní průchod izolovaný 280x180mm s podstavcem a objímkou","kus",1,null,0]
["KL1.16m","K","751 51 4776","Mtž protidešťové stříšky bez příruby do D200","kus",1,null,0]
["KL1.16","M",null,"Střešní průchod izolovaný DN140mm s podstavcem a objímkou","kus",1,null,0]
["KL1.50m","K","751 51 4813R","Mtž požární klapky do potrubí do 0,14m2","kus",1,null,0]
["KL1.50","M",null,"Požární stěnový uzávěr, PI90, se servopohonem 230V, signalizací krajní polohy listu a krycími mřížkami","kus",1,null,0]
[null,null,null,"AHU KL2 - Zdroje chladu vzduchotechnických jednotek - chlazení",null,null,null,{"$f":"SUBTOTAL(9,H247:H266)","v":0}]
["KL2.01m","K","751 72 1123R","Montáž kondenzační jednotky venkovní třífázové","kus",1,null,{"$f":"F247*G247","v":0}]
["KL2.01","M",null,"Kondenzační jednotka s invertorem a s technologií VRF Qch=28kW, U=400V, R410a vč. příslušenství dle standardu K1 ","kus",1,null,0]
["KL2.02m","K","751 72 1111R","Montáž kondenzační jednotky venk. jednofázové","kus",1,null,0]
["KL2.02m","M",null,"Kondenzační jednotka s invertorem Qch=5,3kW, U=400V, R410a vč. příslušenství dle standardu K1 ","kus",1,null,0]
["KL2.03m","K","751 72 1111R","Montáž kondenzační jednotky venk. jednofázové","kus",1,null,0]
["KL2.03m","M",null,"Kondenzační jednotka s invertorem Qch=2,5kW, U=400V, R410a vč. příslušenství dle standardu K1 ","kus",1,null,0]
["KL2.09m","K","751  79 1116","Montáž předizolovaného potrubí 22","bm",35,null,0]
["KL2.09","M",null,"CU potrubí izolované 22,22Iz","bm",35,null,0]
["KL2.10m","K","751  79 1113","Montáž předizolovaného potrubí 12","bm",95,null,0]
["KL2.10","M",null,"CU potrubí izolované 12,7Iz","bm",95,null,0]
["KL2.11m","K","751  79 1112","Montáž předizolovaného potrubí 9","bm",20,null,0]
["KL2.11","M",null,"CU potrubí izolované 9,52Iz","bm",20,null,0]
["KL2.12m","K","751  79 1111","Montáž předizolovaného potrubí 6","bm",80,null,0]
["KL2.12","M",null,"CU potrubí izolované 6,35Iz","bm",80,null,0]
["KL2.13m","K",null,"Náplň chladiva","kg",5,null,0]
["KL2.13 ","M",null,"Chladivo R410a","kg",5,null,0]
["KL2.14m","K",null,"Montáž podstavce pod klimatizční jendotku","kus",4,null,0]
["KL2.14 ","M",null,"Podstavná noha pro klimatizační jendotku 100x100mm-450, vč. bočních krytů","kus",4,null,0]
["KL2.15m","K","751 51 4776","Mtž protidešťové stříšky bez příruby do D200","kus",1,null,0]
["KL2.15m","M",null,"Střešní průchod izolovaný DN140mm s podstavcem a objímkou","kus",1,null,0]
[null,null,null,"AHU P - Potrubí ",null,null,null,{"$f":"SUBTOTAL(9,H268:H372)","v":0}]
["P.01m","K","751 51 1002","Mtž potrubí plech skupiny I s přírubou tloušťky plechu 0,6 mm do 0,03m2","m",40,null,{"$f":"F268*G268","v":0}]
["P.011m","K","751 51 1003","Mtž potrubí plech skupiny I s přírubou tloušťky plechu 0,6 mm do 0,07m2","m",123,null,0]
["P.012m","K","751 51 1004","Mtž potrubí plech skupiny I s přírubou tloušťky plechu 0,6 mm do 0,13m2","m",194,null,0]
["P.013m","K","751 51 1022","Mtž potrubí plech skupiny I s přírubou tloušťky plechu 0,8 mm 0,28m2","m",59,null,0]
["P.014m","K","751 51 1023","Mtž potrubí plech skupiny I s přírubou tloušťky plechu 0,8 mm 0,50m2","m",88,null,0]
["P.015m","K","751 51 1024","Mtž potrubí plech skupiny I s přírubou tloušťky plechu 0,8 mm 0,79m2","m",21,null,0]
["P.016m","K","751 51 1025","Mtž potrubí plech skupiny I s přírubou tloušťky plechu 0,8 mm 1,13m2","m",4,null,0]
["P.016m","K","751 51 1026","Mtž potrubí plech skupiny I s přírubou tloušťky plechu 0,8 mm 1,54m2","m",1,null,0]
["P.01a","M","429 821 008R","Vzduchotechnické potrubí pozink čtyřhranné sk.I - rovné, tř. těsnosti \"B\"","m2",{"$f":"623","v":623},null,0]
["P.01b","M","429 821 009R","Vzduchotechnické potrubí pozink čtyřhranné sk.I -tvarovky, tř. těsnosti \"B\"","m2",{"$f":"76+198","v":274},null,0]
["P.02m","K","751 51 4178","Mtž oblouku kruhového do 200mm","kus",99,null,0]
["P.02a","M",null,"Oblouk segmentový 90° DN100","kus",17,null,0]
["P.02b","M",null,"Oblouk segmentový 30° DN100","kus",4,null,0]
["P.02c","M",null,"Oblouk segmentový 30° DN125","kus",4,null,0]
["P.02d","M",null,"Oblouk segmentový 90° DN125","kus",37,null,0]
["P.02e","M",null,"Oblouk segmentový 90° DN160","kus",3,null,0]
["P.02f","M",null,"Oblouk segmentový 15° DN180","kus",2,null,0]
["P.02g","M",null,"Oblouk segmentový 90° DN180","kus",1,null,0]
["P.02h","M",null,"Oblouk segmentový 30° DN200","kus",1,null,0]
["P.02i","M",null,"Oblouk segmentový 45° DN200","kus",5,null,0]
["P.02j","M",null,"Oblouk segmentový 90° DN200","kus",8,null,0]
["P.02k","M",null,"Oblouk segmentový 45° DN100","kus",8,null,0]
["P.02l","M",null,"Oblouk segmentový 15° DN125","kus",1,null,0]
["P.02m","M",null,"Oblouk segmentový 45° DN125","kus",8,null,0]
["P.03m","K","751 51 4179","Mtž oblouku kruhového 200 do 300mm","kus",17,null,0]
["P.03a","M",null,"Oblouk segmentový 90° DN250","kus",1,null,0]
["P.03b","M",null,"Oblouk segmentový 60° DN250","kus",2,null,0]
["P.03c","M",null,"Oblouk segmentový 30° DN224","kus",8,null,0]
["P.03d","M",null,"Oblouk segmentový 60° DN224","kus",2,null,0]
["P.03e","M",null,"Oblouk segmentový 90° DN224","kus",4,null,0]
["P.04m","K","751 51 4536","Mtž spojka 100-200mm","kus",88,null,0]
["P.04a","M",null,"spojka DN100","kus",27,null,0]
["P.04b","M",null,"spojka DN125","kus",8,null,0]
["P.04c","M",null,"spojka DN180","kus",4,null,0]
["P.04d","M",null,"spojka DN200","kus",37,null,0]
["P.04e","M",null,"nátrubek DN160","kus",4,null,0]
["P.04f","M",null,"nátrubek DN200","kus",1,null,0]
["P.04g","M",null,"nátrubek DN100","kus",3,null,0]
["P.04h","M",null,"nátrubek DN125","kus",4,null,0]
["P.05m","K","751 51 4537","Mtž spojka 200-300mm","kus",16,null,0]
["P.05a","M",null,"spojka DN224","kus",12,null,0]
["P.05b","M",null,"spojka DN200","kus",4,null,0]
["P.06m","K","751 51 4478","Mtž přechodu osového 100-200mm","kus",47,null,0]
["P.06a","M",null,"Přechod osový DN125/100","kus",{"$f":"14+2","v":16},null,0]
["P.06b","M",null,"Přechod osový DN160/125","kus",{"$f":"5+12","v":17},null,0]
["P.06c","M",null,"Přechod osový DN200/125","kus",{"$f":"7+2","v":9},null,0]
["P.06d","M",null,"Přechod osový DN200/160","kus",1,null,0]
["P.06e","M",null,"Přechod osový DN180/125","kus",{"$f":"1+1","v":2},null,0]
["P.06f","M",null,"Přechod osový DN200/100","kus",{"$f":"1+1","v":2},null,0]
["P.07m","K","751 51 4479","Mtž přechodu osového  200-300mm","kus",7,null,0]
["P.07a","M",null,"Přechod osový DN224/180","kus",1,null,0]
["P.07b","M",null,"Přechod osový DN224/200","kus",1,null,0]
["P.07c","M",null,"Přechod osový DN250/224","kus",1,null,0]
["P.07d","M",null,"Přechod osový DN250/200","kus",4,null,0]
["P.08m","K","751 51 4480","Mtž přechodu osového  300-400mm","kus",2,null,0]
["P.08a","M",null,"Přechod osový DN315/250","kus",1,null,0]
["P.08b","M",null,"Přechod osový DN400/315","kus",1,null,0]
["P.09m","K","751 51 4288","Mtž odbočky jednostranné  100-200mm","kus",55,null,0]
["P.09a","M",null,"Odbočka jednostranná 90° 100/100","kus",7,null,0]
["P.09b","M",null,"Odbočka jednostranná 90° 125/100","kus",11,null,0]
["P.09c","M",null,"Odbočka jednostranná 90° 125/125","kus",4,null,0]
["P.09d","M",null,"Odbočka jednostranná 90° 160/125","kus",2,null,0]
["P.09e","M",null,"Odbočka jednostranná 90° 160/160","kus",1,null,0]
["P.09f","M",null,"Odbočka jednostranná 90° 200/200","kus",2,null,0]
["P.09g","M",null,"Odbočka jednostranná 90° 200/160","kus",1,null,{"$f":"F332*G332","v":0}]
["P.09h","M",null,"Odbočka jednostranná 90° 200/125","kus",24,null,0]
["P.09i","M",null,"Odbočka jednostranná 90° 180/125","kus",3,null,0]
["P.10m","K","751 51 4289","Mtž odbočky jednostranné  200-300mm","kus",5,null,0]
["P.10a","M",null,"Odbočka jednostranná 90° 224/100","kus",1,null,0]
["P.10b","M",null,"Odbočka jednostranná 90° 224/125","kus",2,null,0]
["P.10c","M",null,"Odbočka jednostranná 90° 250/100","kus",1,null,0]
["P.10d","M",null,"Odbočka jednostranná 90° 250/125","kus",1,null,0]
["P.10e","M",null,"Odbočka jednostranná 90° 250/200","kus",1,null,0]
["P.11m","K","751 51 4290","Mtž odbočky jednostranné 300-400mm","kus",1,null,0]
["P.11","M",null,"Odbočka oboustranná 90° 315/200","kus",1,null,0]
["P.12m","K","751 51 1182","Mtž kruhového potrubí bez přírub 100-200mm","m",216,null,0]
["P.12a","M",null,"Trouba kruhově vinutá  DN 100mm tl.0,6, bř. Těs","m",81,null,0]
["P.12b","M",null,"Trouba kruhově vinutá  DN 125mm tl.0,6, bř. Těs","m",102,null,0]
["P.12c","M",null,"Trouba kruhově vinutá  DN 160mm tl.0,6, bř. Těs","m",15,null,0]
["P.12d","M",null,"Trouba kruhově vinutá  DN 180mm tl.0,6, bř. Těs","m",18,null,0]
["P.13m","K","751 51 1183","Mtž kruhového potrubí bez přírub 200-300mm","m",213,null,0]
["P.13a","M",null,"Trouba kruhově vinutá  DN 200mm tl.0,6","m",129,null,0]
["P.13b","M",null,"Trouba kruhově vinutá  DN 224mm tl.0,6","m",63,null,0]
["P.13c","M",null,"Trouba kruhově vinutá  DN 250mm tl.0,6","m",21,null,0]
["P.14m","K","751 51 1184","Mtž kruhového potrubí bez přírub 300-400mm","m",7,null,0]
["P.14a","M",null,"Trouba kruhově vinutá  DN 315mm tl.0,6","m",6,null,0]
["P.14b","M",null,"Trouba kruhově vinutá  DN 400mm tl.0,6","m",1,null,0]
["P.15m","K","751 53 7112","Mtž ohebné hadice izolované 100-200mm","m",24,null,0]
["P.15a","M",null,"Ohebná hadice izolovaná izolací tl. 25mm+Al povrch, DN100","m",15,null,0]
["P.15b","M",null,"Ohebná hadice izolovaná izolací tl. 25mm+Al povrch, DN125","m",3,null,0]
["P.15c","M",null,"Ohebná hadice izolovaná izolací tl. 25mm+Al povrch, DN160","m",3,null,0]
["P.15d","M",null,"Ohebná hadice izolovaná izolací tl. 25mm+Al povrch, DN200","m",3,null,0]
["P.20m","K","751 57 1032","Uchycení potrubí plech skupiny I s přírubou tloušťky plechu 0,6 mm do 0,03m2","m",40,null,0]
["P.201m","K","751 57 1033","Uchycení potrubí plech skupiny I s přírubou tloušťky plechu 0,6 mm do 0,07m2","m",123,null,0]
["P.202m","K","751 57 1034","Uchycení potrubí plech skupiny I s přírubou tloušťky plechu 0,6 mm do 0,13m2","m",194,null,0]
["P.203m","K","751 57 1035","Uchycení potrubí plech skupiny I s přírubou tloušťky plechu 0,8 mm 0,28m2","m",59,null,0]
["P.204m","K","751 57 1036","Uchycení potrubí plech skupiny I s přírubou tloušťky plechu 0,8 mm 0,50m2","m",88,null,0]
["P.205m","K","751 57 1037","Uchycení potrubí plech skupiny I s přírubou tloušťky plechu 0,8 mm 0,79m2","m",21,null,0]
["P.206m","K","751 57 1038","Uchycení potrubí plech skupiny I s přírubou tloušťky plechu 0,8 mm 1,13m2","m",4,null,0]
["P.207m","K","751 57 2002","Uchycení potrubí plech kruhového bez přírub plechu 0,6 mm D do 200mm","m",216,null,0]
["P.208m","K","751 57 2003","Uchycení potrubí plech kruhového bez přírub plechu 0,6 mm D do 300mm","m",213,null,0]
["P.209m","K","751 57 2004","Uchycení potrubí plech kruhového bez přírub plechu 0,6 mm D do 400mm","m",7,null,0]
["P.300m","K","751 15 81351","Požární prostup stěnou hruhovéhoi potrubí do DN100","m",26,null,0]
["P.301m","K","751 15 81352","Požární prostup stěnou hruhovéhoi potrubí do DN200","m",3,null,0]
["P.400m","K","HZS 031R","Rýhovaná guma pro podklad  VZT jednotky dle STN 62 2225 materiál včetně montáže","m2",6,null,0]
[null,"OST","Ostatní",null,null,null,null,{"$f":"SUBTOTAL(9,H374:H379)","v":0}]
["O.01","K","949101120R","Doprava horizontální a vertikální","soub.",1,null,{"$f":"F374*G374","v":0}]
["O.02","K","949101111","Lešení pomocné pro objekty pozemních staveb s lešeňovou podlahou v do 1,9 m zatížení do 150 kg/m2","m2",600,null,0]
["O.03","K","751691111","Zaregulování systému VZT - 1 koncový prvek","ks",81,null,0]
["O.04","K","9491011211R","Komplexní zkoušky","h",72,null,0]
["O.05","K","9491011212R","Zaškolení","h",24,null,0]
["O.06","K","9491011214R","Dokumentace skutečného provedení","soub.",1,null,0]

{"sheet":"04_SO 01 - ÚT","index":7,"n_rows":239,"n_cols":7,"rows_kept":239,"cut":false,"hidden":false,"merged":[[24,3,24,6],[25,2,25,6],[36,3,36,6]]}
[{"$f":"CONCATENATE('Rekapitulace stavby'!C55,\"_\",'Rekapitulace stavby'!I55)","v":"04_SO 01 - Ústřední vytápění"}]
[]
["SPECIFIKACE DODÁVEK A PRACÍ "]
["Název akce:"]
[{"$f":"'Identifikační údaje'!B1","v":"ČRo Olomouc – rekonstrukce objektu Pavelčákova 2/19"}]
[]
["Zadavatel:",null,{"$f":"'Identifikační údaje'!E7","v":"Český rozhlas, Vinohradská 12, 120 99 Praha 2"}]
[null,"IČ:",{"$f":"'Identifikační údaje'!B9","v":45245053}]
[null,"DIČ:",{"$f":"'Identifikační údaje'!B10","v":"CZ45245053"}]
[]
["Projektant:",null,{"$f":"'Identifikační údaje'!E12","v":"ATELIER 38 s.r.o., Porážková 1424/20, 702 00 Ostrava – Moravská Ostrava"}]
[null,"IČ:",{"$f":"'Identifikační údaje'!B14","v":"258 58 343"}]
[null,"DIČ:",{"$f":"'Identifikační údaje'!B15","v":"CZ25858343"}]
[]
["Uchazeč:",null,{"$f":"'Identifikační údaje'!E19","v":", ,  "}]
[null,"IČ:",{"$f":"'Identifikační údaje'!B23","v":0}]
[null,"DIČ:",{"$f":"'Identifikační údaje'!B24","v":0}]
[]
["Místo stavby:",null,{"$f":"'Identifikační údaje'!B3","v":"Budova Českého rozhlasu Olomouc na adrese Pavelčákova 2/19, 779 00 Olomouc"}]
[]
["Datum vyplnění:",null,{"$f":"'Identifikační údaje'!B5","v":"00:00:00"}]
[]
[{"$f":"CONCATENATE(\"REKAPITULACE DODÁVEK A PRACÍ OBJEKTU \",'Rekapitulace stavby'!I55)","v":"REKAPITULACE DODÁVEK A PRACÍ OBJEKTU SO 01 - Ústřední vytápění"}]
[]
["P.č.","Číslo položky","Název položky","Kč bez DPH"]
[]
["Díl:",{"$f":"B44","v":"713"},{"$f":"C44","v":"Izolace tepelné"},null,null,null,{"$f":"G44","v":0}]
["Díl:",{"$f":"B56","v":"731"},{"$f":"C56","v":"Kotelny"},null,null,null,{"$f":"G56","v":0}]
["Díl:",{"$f":"B70","v":"732"},{"$f":"C70","v":"Strojovny"},null,null,null,{"$f":"G70","v":0}]
["Díl:",{"$f":"B102","v":"733"},{"$f":"C102","v":"Rozvod potrubí"},null,null,null,{"$f":"G102","v":0}]
["Díl:",{"$f":"B129","v":"734"},{"$f":"C129","v":"Armatury"},null,null,null,{"$f":"G129","v":0}]
["Díl:",{"$f":"B177","v":"735"},{"$f":"C177","v":"Otopná tělesa"},null,null,null,{"$f":"G177","v":0}]
["Díl:",{"$f":"B213","v":"767"},{"$f":"C213","v":"Konstrukce zámečnické"},null,null,null,{"$f":"G213","v":0}]
["Díl:",{"$f":"B230","v":"783"},{"$f":"C230","v":"Nátěry"},null,null,null,{"$f":"G230","v":0}]
["Díl:",{"$f":"B233","v":"799"},{"$f":"C233","v":"Ostatní"},null,null,null,{"$f":"G233","v":0}]
[]
[{"$f":"CONCATENATE(\"CELKEM ZA OBJEKT \",'Rekapitulace stavby'!I55, \" v Kč bez DPH\")","v":"CELKEM ZA OBJEKT SO 01 - Ústřední vytápění v Kč bez DPH"},null,null,{"$f":"SUM(G27:G35)","v":0}]
[]
[]
[]
[]
[]
["P.č.","Číslo položky","Název položky","MJ","množství","cena / MJ","celkem"]
["Díl:","713","Izolace tepelné",null,null,null,{"$f":"SUBTOTAL(9,G45:G54)","v":0}]
[1,"713591171T00","Montáž izolace potrubí Paroc","m     ",2012,null,{"$f":"E45*F45","v":0}]
[{"$f":"A45+1","v":2},"63143048T","Pouzdro potrubní minerální KPS 041 AluR 18/20 mm","m",66,null,{"$f":"E46*F46","v":0}]
[{"$f":"A46+1","v":3},"63143049T","Pouzdro potrubní minerální KPS 041 AluR 15/20 mm","m",938,null,0]
[4,"63143050R","pouzdro potrubní minerální vlákno; povrchová úprava Al fólie; vnitřní průměr 21,0 mm; tl. izolace 25,0 mm; provozní teplota  do 600 °C; tepelná vodivost (50°C) 0,040 W/mK; tepelná vodivost (250°C) 0,083 W/mK","m",348,null,0]
[5,"63143081R","pouzdro potrubní minerální vlákno; povrchová úprava Al fólie; vnitřní průměr 27,0 mm; tl. izolace 30,0 mm; provozní teplota  do 600 °C; tepelná vodivost (50°C) 0,040 W/mK; tepelná vodivost (250°C) 0,083 W/mK","m",258,null,0]
[6,"63143082R","pouzdro potrubní minerální vlákno; povrchová úprava Al fólie; vnitřní průměr 34,0 mm; tl. izolace 30,0 mm; provozní teplota  do 600 °C; tepelná vodivost (50°C) 0,040 W/mK; tepelná vodivost (250°C) 0,083 W/mK","m",238,null,0]
[7,"63143083R","pouzdro potrubní minerální vlákno; povrchová úprava Al fólie; vnitřní průměr 43,0 mm; tl. izolace 30,0 mm; provozní teplota  do 600 °C; tepelná vodivost (50°C) 0,040 W/mK; tepelná vodivost (250°C) 0,083 W/mK","m",124,null,0]
[8,"63143115R","pouzdro potrubní minerální vlákno; povrchová úprava Al fólie; vnitřní průměr 61,0 mm; tl. izolace 40,0 mm; provozní teplota  do 600 °C; tepelná vodivost (50°C) 0,040 W/mK; tepelná vodivost (250°C) 0,083 W/mK","m",14,null,0]
[9,"63143157R","pouzdro potrubní minerální vlákno; povrchová úprava Al fólie; vnitřní průměr 77,0 mm; tl. izolace 50,0 mm; provozní teplota  do 600 °C; tepelná vodivost (50°C) 0,040 W/mK; tepelná vodivost (250°C) 0,083 W/mK","m",26,null,0]
[10,"998713201R00","Přesun hmot pro izolace tepelné v objektech výšky do 36 m","kpl",1,null,0]
[]
["Díl:","731","Kotelny",null,null,null,{"$f":"SUBTOTAL(9,G57:G68)","v":0}]
[{"$f":"A54+1","v":11},"731100012T00","Průchod střechou DN200","ks    ",2,null,{"$f":"E57*F57","v":0}]
[{"$f":"A57+1","v":12},"731052023T00","Kotel Buderus Logamax plus GB162-85 kondenzační","ks    ",2,null,0]
[{"$f":"A58+1","v":13},"731052402T00","Regulační přístroj Logamatic RC310 s venk.čidlem","ks    ",1,null,0]
[14,"731052650T00","Buderus připoj.čerpadlová skupina 7738502359","ks    ",2,null,0]
[15,"731052651T00","Buderus kaskádová jednotka pro 2 kotle vedle sebe  7736700457","ks    ",1,null,0]
[16,"731249500T00","Montáž odkouření kotle","soubor",2,null,0]
[17,"731010181T00","Neutralizační zařízení NE0.1 vč.granulátu","ks    ",1,null,0]
[18,"731249129R00","Montáž ocelových kotlů do 50 kW (100 kW) na kapalná a plynná paliva\r\n přes 85 do 100 kW","soubor",2,null,0]
[19,"40541361T","Regulace Buderus modul MC400","ks    ",1,null,0]
[20,"48412609T","Sada odkouření přes střechu DO, 110/160, 1000mm","ks    ",2,null,0]
[21,"48412635T","Trubka 110/160mm, délka 1000mm","ks    ",2,null,0]
[22,"998731201R00","Přesun hmot pro kotelny umístěné ve výšce (hloubce) do 36 m","kpl",1,null,0]
[]
["Díl:","732","Strojovny",null,null,null,{"$f":"SUBTOTAL(9,G71:G100)","v":0}]
[{"$f":"A68+1","v":23},"732111312R00","Rozdělovače a sběrače včetně dodávky (výroby) těles\r\n trubková hrdla rozdělovačů a sběračů bez přírub, DN 20","kus",2,null,{"$f":"E71*F71","v":0}]
[{"$f":"A71+1","v":24},"732111315R00","Rozdělovače a sběrače včetně dodávky (výroby) těles\r\n trubková hrdla rozdělovačů a sběračů bez přírub, DN 32","kus",2,null,0]
[{"$f":"A72+1","v":25},"732111316R00","Rozdělovače a sběrače včetně dodávky (výroby) těles\r\n trubková hrdla rozdělovačů a sběračů bez přírub, DN 40","kus",4,null,0]
[26,"732111318R00","Rozdělovače a sběrače včetně dodávky (výroby) těles\r\n trubková hrdla rozdělovačů a sběračů bez přírub, DN 50","kus",2,null,0]
[27,"732111322R00","Rozdělovače a sběrače včetně dodávky (výroby) těles\r\n trubková hrdla rozdělovačů a sběračů bez přírub, DN 65","kus",2,null,0]
[28,"732111100T00","Montáž VZT uzlu","ks    ",6,null,0]
[29,"732111147T00","Rozdělovač RS KOMBI MODUL 120 ","m     ",3.3,null,0]
[30,"732111148T00","Podpěra k rozdělovači RS KOMBI 80-150","ks    ",2,null,0]
[31,"732111224T00","Izolace pro rozdělovač a sběrač DN100","m     ",1,null,0]
[32,"732199100RM1","Montáž orientačních štítků s dodávkou orientačního štítku","soubor",1,null,0]
[33,"732219305T00","Montáž ohříváků vody zásobníkových","soubor",1,null,0]
[34,"732423001T00","Čerpadlo oběhové Grundfos MAGNA 25-40","ks    ",1,null,0]
[35,"732423051T00","Čerpadlo oběhové Grundfos MAGNA1 40-60F","ks    ",1,null,0]
[36,"732423499T00","Čerpadlo oběhové Grundfos ALPHA2 25-50","soubor",1,null,0]
[37,"732423500T00","Čerpadlo oběhové Grundfos ALPHA2 25-40","soubor",1,null,0]
[38,"7324235010T00","Čerpadlo oběhové Grundfos ALPHA2 15-40","soubor",4,null,0]
[39,"73242-3001.T00T00","čerpadlo oběhové Grundfos MAGNA 32-80 230V","ks    ",1,null,0]
[40,"732423006T00","oběhové čerpadlo Grundfos MAGNA 1 32-40","ks    ",1,null,0]
[41,"48430002T","Ohřívač ACV SMART SL320","ks    ",1,null,0]
[42,"48466200R","nádrž tlaková expanzní membránová; pro topné a chladící soustavy; objem 8 l; d nádrže 206 mm; uložení: stojatý; max. přetlak do 6 bar; přetlak plynu 1,5 bar; prac. látka plyn; membrána vyměnitelná; prac. teplota do 70 °C; připojení R 3/4\"; barva bílá, červená, šedá","kus",2,null,0]
[43,"48466209R","nádrž tlaková expanzní membránová; pro topné a chladící soustavy; objem 200 l; d nádrže 634 mm; uložení: stojatý; max. přetlak do 6 bar; přetlak plynu 1,5 bar; prac. látka plyn; membrána pevná; prac. teplota do 70 °C; připojení R 1\"; barva bílá, červená, šedá","kus",1,null,0]
[44,"484673901T","Uzávěr se zajištěním MK DN25","ks    ",1,null,0]
[45,"484673902T","Uzávěr se zajištěním MK DN20","ks    ",2,null,0]
[46,"484674041T","Fillguard MINI","ks    ",1,null,0]
[47,"484674042T","Fillsoft II Zero","ks    ",4,null,0]
[48,"484674043T","Fillsoft II Pouzdro","ks    ",1,null,0]
[49,"484674210T","Sada pro měření tvrdosti","ks    ",1,null,0]
[50,"484674404T","Servitec S podtlakové odplyňovací zařízení","ks    ",1,null,0]
[51,"484674991T","Uvedení do provozu - servitec 30","ks    ",1,null,0]
[52,"998732201R00","Přesun hmot pro strojovny v objektech výšky do 36 m","kpl",1,null,0]
[]
["Díl:","733","Rozvod potrubí",null,null,null,{"$f":"SUBTOTAL(9,G103:G127)","v":0}]
[{"$f":"A100+1","v":53},"736 346928T00","Montáž podlahového vytápění na systémovou desku","m2    ",110,null,{"$f":"E103*F103","v":0}]
[{"$f":"A103+1","v":54},"736346925T00","Montáž rozdělovače vč.skříně","ks    ",1,null,0]
[{"$f":"A104+1","v":55},"733113113R00","Potrubí z trubek závitových příplatek k ceně za zhotovení přípojky z ocelových trubek závitových,  ,  , DN 15","kus",182,null,0]
[56,"733113115R00","Potrubí z trubek závitových příplatek k ceně za zhotovení přípojky z ocelových trubek závitových,  ,  , DN 25","kus",12,null,0]
[57,"733121160R00","Potrubí z trubek hladkých ocelových bezešvých tvářených za tepla\r\n nízkotlaké a středotlaké, D 70 mm, tloušťka stěny 3,6 mm","m",26,null,0]
[58,"733162128T00","Pancéřová hadice plnoprůtoková DN 25 Meibes, dl. 500mm","ks    ",2,null,0]
[59,"733162132T00","Pancéřová hadice plnoprůtoková DN 15 Meibes, dl. 500mm","ks    ",8,null,0]
[60,"733178000T00","Potrubí z uhlíkové oceli vně pozinkované D 15 x 1,2 mm, vč. dodávky tvarovek","m",1885,null,0]
[61,"733178001T00","Potrubí z uhlíkové oceli vně pozinkované, D 18 x 1,2 mm, vč.dodávky tvarovek","m",202,null,0]
[62,"733178002T00","Potrubíz uhlíkové oceli vně pozinkované, D 28 x 1,5 mm, vč. dodávky tvarovek","m",304,null,0]
[63,"733178003T00","Potrubí z uhlíkové oceli vně pozinkované, D 35 x 1,5 mm, vč.dodávky tvarovek","m",238,null,0]
[64,"733178004T00","Potrubí z uhlíkové oceli vně pozinkované, D 42 x 1,5 mm, vč.dodávky tvarovek","m",124,null,0]
[65,"733178005T00","Potrubí z uhlíkové oceli vně pozinkované, D 54 x 1,5 mm, vč.dodávky tvarovek","m",14,null,0]
[66,"733178007T00","Potrubíz uhlíkové oceli vně pozinkované, D 22 x 1,5 mm, vč.dodávky tvarovek","m",348,null,0]
[67,"286003240R","trubka plastová otopné systémy PE-Xa; D = 16,0 mm; Di = 12,0 mm; s = 2,00 mm; teplota média max 95 °C; tlak média max 0,6 MPa; s kyslíkovou bariérou","m",848,null,0]
[68,"28600362R","deska izolační kročejová, nosič trubek; expandovaný polystyren; povrch s výstupky; rovná hrana; tl. 52,0 mm; kašírování fólie PST; R = 0,750 m2K/W","m2",150,null,0]
[69,"28600372T","Uponor krycí fólie","m2    ",150,null,0]
[70,"28600378T","Uponor dilatační spára","m     ",180,null,0]
[71,"28600381T","Uponor objímka červená","ks    ",26,null,0]
[72,"28600390T","Uponor ochranná trubka","m     ",30,null,0]
[73,"28600395T","Uponor fixační oblouk 16","ks    ",18,null,0]
[74,"551295723T","Uponor rozdělovač Vario M 9okruhů","ks    ",1,null,0]
[75,"551295752T","Uponor skříň rozdělovače UFH 3","ks    ",1,null,0]
[76,"551295801T","Uponor L-garnitura 16/300","ks    ",18,null,0]
[77,"998733201R00","Přesun hmot pro rozvody potrubí v objektech výšky do 36 m","kpl",1,null,0]
[]
["Díl:","734","Armatury",null,null,null,{"$f":"SUBTOTAL(9,G130:G175)","v":0}]
[{"$f":"A127+1","v":78},"734429104T00","Manometrický kohout třícestný Peveko PVKTK-25-1112L DN15-PN25","ks    ",14,null,{"$f":"E130*F130","v":0}]
[{"$f":"A130+1","v":79},"734191755T00","Regulační ventil TA Hydronics TBV LF 15","ks    ",8,null,0]
[{"$f":"A131+1","v":80},"734191761T00","Regulační ventil TA Hydronics TBV NF 15","Soubor",1,null,0]
[81,"734423131T00","Tlakoměr 0- 350kPa","ks    ",14,null,0]
[82,"734173416R00","Přírubový spoj PN 1,6/I MPa, DN 65, včetně dodávky materiálu","soubor",4,null,0]
[83,"734191747T00","Ventily regulační vyvažovací STAD DN40","ks    ",1,null,0]
[84,"734191749T00","Ventily regulační vyvažovací STAD DN15","ks    ",6,null,0]
[85,"734191750T00","Ventily regulační vyvažovací STAD DN20","ks    ",3,null,0]
[86,"734191751T00","Ventily regulační vyvažovací STAD DN32","ks    ",2,null,0]
[87,"734191752T00","Ventily regulační vyvažovací STAD DN25","ks    ",8,null,0]
[88,"734191764T00","TA Modulátor DN15","ks    ",5,null,0]
[89,"734191766T00","TA Slider 160 24V pohon","ks    ",5,null,0]
[90,"734191777T00","TA-Modulator DN 25","ks    ",1,null,0]
[91,"734193217R00","Klapka mezipřírubová uzavírací a regulační, litinová, PN 16, spoj bez navaření přírub, DN 65, včetně dodávky materiálu","kus",2,null,0]
[92,"734215133R00","Ventil automatický, odvzdušňovací, mosazný, PN 14, DN 15, včetně dodávky materiálu","kus",16,null,0]
[93,"734226212R00","Ventil termostatický, dvouregulační, přímý, mosazný, DN 15, bez termostatické hlavice, PN 10, vnější závit, včetně dodávky materiálu","kus",89,null,0]
[94,"734221672RT3","Hlavice termostatická, včetně dodávky materiálu","kus",82,null,0]
[95,"734235121R00","Kohout kulový, mosazný, DN 15, PN 42, vnitřní-vnitřní, včetně dodávky materiálu","kus",34,null,0]
[96,"734235122R00","Kohout kulový, mosazný, DN 20, PN 42, vnitřní-vnitřní, včetně dodávky materiálu","kus",2,null,0]
[97,"734235123R00","Kohout kulový, mosazný, DN 25, PN 35, vnitřní-vnitřní, včetně dodávky materiálu","kus",16,null,0]
[98,"734235124R00","Kohout kulový, mosazný, DN 32, PN 35, vnitřní-vnitřní, včetně dodávky materiálu","kus",11,null,0]
[99,"734235125R00","Kohout kulový, mosazný, DN 40, PN 35, vnitřní-vnitřní, včetně dodávky materiálu","kus",10,null,0]
[100,"734235126R00","Kohout kulový, mosazný, DN 50, PN 35, vnitřní-vnitřní, včetně dodávky materiálu","kus",4,null,0]
[101,"734245421R00","Klapka zpětná, mosazná, DN 15, PN 16, vnitřní-vnitřní závit, včetně dodávky materiálu","kus",5,null,0]
[102,"734245423R00","Klapka zpětná, mosazná, DN 25, PN 16, vnitřní-vnitřní závit, včetně dodávky materiálu","kus",1,null,0]
[103,"734245424R00","Klapka zpětná, mosazná, DN 32, PN 12, vnitřní-vnitřní závit, včetně dodávky materiálu","kus",1,null,0]
[104,"734245425R00","Klapka zpětná, mosazná, DN 40, PN 12, vnitřní-vnitřní závit, včetně dodávky materiálu","kus",2,null,0]
[105,"734245426R00","Klapka zpětná, mosazná, DN 50, PN 12, vnitřní-vnitřní závit, včetně dodávky materiálu","kus",1,null,0]
[106,"734261300T00","Šroubení  uzavírací k čerpadlu 1\"","kus",8,null,0]
[107,"734266222R00","Šroubení uzavíratelné radiátorové regulační s vypouštěním, přímé, bronzové, DN 15, PN 10, včetně dodávky materiálu","kus",89,null,0]
[108,"734266426R00","Šroubení pro radiátory typu VK dvoutrubkový systém s vypouštěním, rohové, bronzové, DN EK 20x15, PN 10, včetně dodávky materiálu","kus",1,null,0]
[109,"734266446R00","Šroubení pro radiátory typu VK dvoutrubkový systém s integrovaným termostatickým ventilem, rohové, bronzové, DN EK 20x15, PN 10, včetně dodávky materiálu","kus",1,null,0]
[110,"734293312R00","Kohout kulový, napouštěcí a vypouštěcí, mosazný, DN 15, PN 10, včetně dodávky materiálu","kus",30,null,0]
[111,"734295211R00","Filtr mosazný, DN 15, PN 20, vnitřní-vnitřní závit, včetně dodávky materiálu","kus",5,null,0]
[112,"734295213R00","Filtr mosazný, DN 25, PN 20, vnitřní-vnitřní závit, včetně dodávky materiálu","kus",1,null,0]
[113,"734295214R00","Filtr mosazný, DN 32, PN 20, vnitřní-vnitřní závit, včetně dodávky materiálu","kus",1,null,0]
[114,"734295215R00","Filtr mosazný, DN 40, PN 20, vnitřní-vnitřní závit, včetně dodávky materiálu","kus",2,null,0]
[115,"734295216R00","Filtr mosazný, DN 50, PN 20, vnitřní-vnitřní závit, včetně dodávky materiálu","kus",1,null,0]
[116,"734291962R00","Opravy závitových armatur zpětná montáž hlavic\r\n ovládání termostatických ventilů ruční V 4250","kus",9,null,0]
[117,"734494213R00","Návarek s trubkovým závitem G 1/2\", včetně dodávky materiálu","kus",38,null,0]
[118,"38832812R","teploměr dvojkovový rovný; hlavice plastová; mat.stonku nerez; délka stonku 100 mm; rozsah stupnice 0 až 200 °C; měřicí rozsah  20 až 180 °C; dělení stupnice 5 °C; použití přímé měření v prům.odvětvích","kus",24,null,0]
[119,"422175122T","Směšovací klapka třícestná ESBE VRG 131 DN25 kvs=8m3/h","ks    ",1,null,0]
[120,"42217513T","Směšovací klapka třícestná ESBE VRG 131 DN15 kvs=2,5m3/h","ks    ",1,null,0]
[121,"42217518T","Směšovací klapka třícestná ESBE VRG 131 DN40 kv=25","ks    ",1,null,0]
[122,"4221751T","Servopohon ESBE ARA 639 24V","ks    ",3,null,0]
[123,"998734201R00","Přesun hmot pro armatury v objektech výšky do 36 m","kpl",1,null,0]
[]
["Díl:","735","Otopná tělesa",null,null,null,{"$f":"SUBTOTAL(9,G178:G211)","v":0}]
[{"$f":"A175+1","v":124},"735176200T00","El.přímotop Ecoflex TAC 20","ks    ",1,null,{"$f":"E178*F178","v":0}]
[{"$f":"A178+1","v":125},"735111700T00","Tělesa otopná litinová Termo, 500/95","článek",89,null,0]
[{"$f":"A179+1","v":126},"735111701T00","Tělesa otopná litinová Termo, 500/130","článek",49,null,0]
[127,"735110914R00","Opravy otopných těles článkových litinových stažení otopného tělesa","kus",9,null,0]
[128,"735156260R00","Otopná tělesa panelová počet desek 1, počet přídavných přestupných ploch 1, výška 600 mm, délka 400 mm, levé nebo pravé boční připojení,s nuceným nebo samotížným oběhem, čelní deska profilovaná, včetně dodávky materiálu","kus",8,null,0]
[129,"735156547R00","Otopná tělesa panelová počet desek 2, počet přídavných přestupných ploch 1, výška 500 mm, délka 1200 mm, levé nebo pravé boční připojení,s nuceným nebo samotížným oběhem, čelní deska profilovaná, včetně dodávky materiálu","kus",2,null,0]
[130,"735156548R00","Otopná tělesa panelová počet desek 2, počet přídavných přestupných ploch 1, výška 500 mm, délka 1400 mm, levé nebo pravé boční připojení,s nuceným nebo samotížným oběhem, čelní deska profilovaná, včetně dodávky materiálu","kus",4,null,0]
[131,"735156560R00","Otopná tělesa panelová počet desek 2, počet přídavných přestupných ploch 1, výška 600 mm, délka 400 mm, levé nebo pravé boční připojení,s nuceným nebo samotížným oběhem, čelní deska profilovaná, včetně dodávky materiálu","kus",6,null,0]
[132,"735156561R00","Otopná tělesa panelová počet desek 2, počet přídavných přestupných ploch 1, výška 600 mm, délka 500 mm, levé nebo pravé boční připojení,s nuceným nebo samotížným oběhem, čelní deska profilovaná, včetně dodávky materiálu","kus",7,null,0]
[133,"735156563R00","Otopná tělesa panelová počet desek 2, počet přídavných přestupných ploch 1, výška 600 mm, délka 700 mm, levé nebo pravé boční připojení,s nuceným nebo samotížným oběhem, čelní deska profilovaná, včetně dodávky materiálu","kus",2,null,0]
[134,"735156565R00","Otopná tělesa panelová počet desek 2, počet přídavných přestupných ploch 1, výška 600 mm, délka 900 mm, levé nebo pravé boční připojení,s nuceným nebo samotížným oběhem, čelní deska profilovaná, včetně dodávky materiálu","kus",3,null,0]
[135,"735156566R00","Otopná tělesa panelová počet desek 2, počet přídavných přestupných ploch 1, výška 600 mm, délka 1000 mm, levé nebo pravé boční připojení,s nuceným nebo samotížným oběhem, čelní deska profilovaná, včetně dodávky materiálu","kus",3,null,0]
[136,"735156567R00","Otopná tělesa panelová počet desek 2, počet přídavných přestupných ploch 1, výška 600 mm, délka 1200 mm, levé nebo pravé boční připojení,s nuceným nebo samotížným oběhem, čelní deska profilovaná, včetně dodávky materiálu","kus",4,null,0]
[137,"735156568R00","Otopná tělesa panelová počet desek 2, počet přídavných přestupných ploch 1, výška 600 mm, délka 1400 mm, levé nebo pravé boční připojení,s nuceným nebo samotížným oběhem, čelní deska profilovaná, včetně dodávky materiálu","kus",18,null,0]
[138,"735156569R00","Otopná tělesa panelová počet desek 2, počet přídavných přestupných ploch 1, výška 600 mm, délka 1600 mm, levé nebo pravé boční připojení,s nuceným nebo samotížným oběhem, čelní deska profilovaná, včetně dodávky materiálu","kus",4,null,0]
[139,"735156570R00","Otopná tělesa panelová počet desek 2, počet přídavných přestupných ploch 1, výška 600 mm, délka 1800 mm, levé nebo pravé boční připojení,s nuceným nebo samotížným oběhem, čelní deska profilovaná, včetně dodávky materiálu","kus",1,null,0]
[140,"735156577R00","Otopná tělesa panelová počet desek 2, počet přídavných přestupných ploch 1, výška 600 mm, délka 1100 mm, levé nebo pravé boční připojení,s nuceným nebo samotížným oběhem, čelní deska profilovaná, včetně dodávky materiálu","kus",2,null,0]
[141,"735156629R00","Otopná tělesa panelová počet desek 2, počet přídavných přestupných ploch 2, výška 400 mm, délka 1600 mm, levé nebo pravé boční připojení,s nuceným nebo samotížným oběhem, čelní deska profilovaná, včetně dodávky materiálu","kus",1,null,0]
[142,"735156647R00","Otopná tělesa panelová počet desek 2, počet přídavných přestupných ploch 2, výška 500 mm, délka 1200 mm, levé nebo pravé boční připojení,s nuceným nebo samotížným oběhem, čelní deska profilovaná, včetně dodávky materiálu","kus",1,null,0]
[143,"735156648R00","Otopná tělesa panelová počet desek 2, počet přídavných přestupných ploch 2, výška 500 mm, délka 1400 mm, levé nebo pravé boční připojení,s nuceným nebo samotížným oběhem, čelní deska profilovaná, včetně dodávky materiálu","kus",1,null,0]
[144,"735156667R00","Otopná tělesa panelová počet desek 2, počet přídavných přestupných ploch 2, výška 600 mm, délka 1200 mm, levé nebo pravé boční připojení,s nuceným nebo samotížným oběhem, čelní deska profilovaná, včetně dodávky materiálu","kus",4,null,0]
[145,"735156670R00","Otopná tělesa panelová počet desek 2, počet přídavných přestupných ploch 2, výška 600 mm, délka 1800 mm, levé nebo pravé boční připojení,s nuceným nebo samotížným oběhem, čelní deska profilovaná, včetně dodávky materiálu","kus",3,null,0]
[146,"735156688R00","Otopná tělesa panelová počet desek 2, počet přídavných přestupných ploch 2, výška 900 mm, délka 1200 mm, levé nebo pravé boční připojení,s nuceným nebo samotížným oběhem, čelní deska profilovaná, včetně dodávky materiálu","kus",2,null,0]
[147,"735156689R00","Otopná tělesa panelová počet desek 2, počet přídavných přestupných ploch 2, výška 900 mm, délka 1400 mm, levé nebo pravé boční připojení,s nuceným nebo samotížným oběhem, čelní deska profilovaná, včetně dodávky materiálu","kus",1,null,0]
[148,"735156690R00","Otopná tělesa panelová počet desek 2, počet přídavných přestupných ploch 2, výška 900 mm, délka 1600 mm, levé nebo pravé boční připojení,s nuceným nebo samotížným oběhem, čelní deska profilovaná, včetně dodávky materiálu","kus",1,null,0]
[149,"735156691R00","Otopná tělesa panelová počet desek 2, počet přídavných přestupných ploch 2, výška 900 mm, délka 1800 mm, levé nebo pravé boční připojení,s nuceným nebo samotížným oběhem, čelní deska profilovaná, včetně dodávky materiálu","kus",2,null,0]
[150,"735158040T00","Držák radiátorový","kus",20,null,0]
[151,"735158041T00","Konzola radiátorová","kus",20,null,0]
[152,"735171135R00","Otopná tělesa koupelnová trubkové otopné těleso rovné, spodní středové připojení s roztečí 50 mm, výška 1820 mm, šířka 750 mm, průměr trubek 24 mm, objem tělesa 13,4 l, včetně dodávky materiálu","kus",1,null,0]
[153,"735419906T00","Konvektor LKE 160/15/23-10","ks    ",1,null,0]
[154,"48406005R","příslušenství k radiátorům růžice litinová slepá; G 1 1/4\"","kus",9,null,0]
[155,"48406060R","příslušenství k radiátorům růžice litinová vrtaná; G 1 1/4\" x 1/4\"","kus",9,null,0]
[156,"48406070R","příslušenství k radiátorům růžice litinová vrtaná; G 1 1/4\" x 1/2\"","kus",18,null,0]
[157,"998735201R00","Přesun hmot pro otopná tělesa v objektech výšky do 36 m","kpl",1,null,0]
[]
["Díl:","767","Konstrukce zámečnické",null,null,null,{"$f":"SUBTOTAL(9,G214:G228)","v":0}]
[{"$f":"A211+1","v":158},"767100001T00","Konzola nosníková 250mm","ks    ",38,null,{"$f":"E214*F214","v":0}]
[{"$f":"A214+1","v":159},"767100002T00","Konzola nosníková 30x30 2000mm","ks    ",346,null,0]
[{"$f":"A215+1","v":160},"767100100T00","Pevný bod","ks    ",36,null,0]
[161,"767101000T00","Doplňková konstrukce","kg",200,null,0]
[162,"24633211R","tmel akrylátový; těsnicí, požární; š. spáry od 5 mm; pro interiér; expandující; barva šedá; přilnavost k materiálům beton, omítky, sádrokarton, zdivo; přetíratelný","kus",12,null,0]
[163,"31179105R","tyč závitová M8; l = 1 000 mm; mat. ocel 4,8 - DIN 975; povrch bez úpravy","m",212,null,0]
[164,"42310110R","objímka ocelová použití potrubí měděné, potrubí plastové, potrubí ocelové, potrubí umělohmotné, potrubí skleněné, litinové roury; dvoušroubová; vnější pr.potrubí d = 12-16 mm  1/4\"; DN 8,0 mm; galvan.pozink.","kus",626,null,0]
[165,"42310111R","objímka ocelová použití potrubí měděné, potrubí plastové, potrubí ocelové, potrubí umělohmotné, potrubí skleněné, litinové roury; dvoušroubová; vnější pr.potrubí d = 17-19 mm  3/8\"; DN 10,0 mm; galvan.pozink.","kus",64,null,0]
[166,"42310112R","objímka ocelová použití potrubí měděné, potrubí plastové, potrubí ocelové, potrubí umělohmotné, potrubí skleněné, litinové roury; dvoušroubová; vnější pr.potrubí d = 20-23 mm  1/2\"; DN 15,0 mm; galvan.pozink.","kus",140,null,0]
[167,"42310113R","objímka ocelová použití potrubí měděné, potrubí plastové, potrubí ocelové, potrubí umělohmotné, potrubí skleněné, litinové roury; dvoušroubová; vnější pr.potrubí d = 25-30 mm  3/4\"; DN 20,0 mm; galvan.pozink.","kus",120,null,0]
[168,"42310114R","objímka ocelová použití potrubí měděné, potrubí plastové, potrubí ocelové, potrubí umělohmotné, potrubí skleněné, litinové roury; dvoušroubová; vnější pr.potrubí d = 31-38 mm; DN 25,0 mm; galvan.pozink.","kus",85,null,0]
[169,"42310115R","objímka ocelová použití potrubí měděné, potrubí plastové, potrubí ocelové, potrubí umělohmotné, potrubí skleněné, litinové roury; dvoušroubová; vnější pr.potrubí d = 40-46 mm  1\"; DN 32,0 mm; galvan.pozink.","kus",50,null,0]
[170,"42310117R","objímka ocelová použití potrubí měděné, potrubí plastové, potrubí ocelové, potrubí umělohmotné, potrubí skleněné, litinové roury; dvoušroubová; vnější pr.potrubí d = 54-59 mm; galvan.pozink.","kus",6,null,0]
[171,"42310119R","objímka ocelová použití potrubí měděné, potrubí plastové, potrubí ocelové, potrubí umělohmotné, potrubí skleněné, litinové roury; dvoušroubová; vnější pr.potrubí d = 67-71 mm; galvan.pozink.","kus",12,null,0]
[172,"998767201R00","Přesun hmot pro kovové stavební doplňk. konstrukce v objektech výšky do 36 m","kpl",1,null,0]
[]
["Díl:","783","Nátěry",null,null,null,{"$f":"SUBTOTAL(9,G231)","v":0}]
[{"$f":"A228+1","v":173},"783425350R00","Nátěry potrubí a armatur syntetické potrubí, do DN 100 mm, dvojnásobné s 1x emailováním a základním nátěrem na vzduchu schnoucím","m",26,null,{"$f":"E231*F231","v":0}]
[]
["Díl:","799","Ostatní",null,null,null,{"$f":"SUBTOTAL(9,G234:G239)","v":0}]
[{"$f":"A231+1","v":174},"812T00","Uvedení kotle do provozu nad 50kW","soubor",2,null,{"$f":"E234*F234","v":0}]
[{"$f":"A234+1","v":175},"923T00","lékárnička pro kotelnu","ks    ",1,null,0]
[{"$f":"A235+1","v":176},"926T00","Revizní kniha kotelny","ks    ",1,null,0]
[177,"951T00","Zapravení prostupů, otvorů, drážek ve stěnách a stropech","kpl",1,null,0]
[178,"955T00","Provedení prostupů, otvorů, drážek ve stěnách a stropech","hod   ",80,null,0]
[{"$f":"A238+1","v":179},"999T00","Nezměřitelné práce","hod   ",120,null,0]

{"sheet":"05_SO 01 - Plyn","index":8,"n_rows":99,"n_cols":7,"rows_kept":99,"cut":false,"hidden":false,"merged":[[24,3,24,6],[25,2,25,6],[32,3,32,6],[40,2,40,6]]}
[{"$f":"CONCATENATE('Rekapitulace stavby'!C56,\"_\",'Rekapitulace stavby'!I56)","v":"05_SO 01 - Plynoinstalace"}]
[]
["SPECIFIKACE DODÁVEK A PRACÍ "]
["Název akce:"]
[{"$f":"'Identifikační údaje'!B1","v":"ČRo Olomouc – rekonstrukce objektu Pavelčákova 2/19"}]
[]
["Zadavatel:",null,{"$f":"'Identifikační údaje'!E7","v":"Český rozhlas, Vinohradská 12, 120 99 Praha 2"}]
[null,"IČ:",{"$f":"'Identifikační údaje'!B9","v":45245053}]
[null,"DIČ:",{"$f":"'Identifikační údaje'!B10","v":"CZ45245053"}]
[]
["Projektant:",null,{"$f":"'Identifikační údaje'!E12","v":"ATELIER 38 s.r.o., Porážková 1424/20, 702 00 Ostrava – Moravská Ostrava"}]
[null,"IČ:",{"$f":"'Identifikační údaje'!B14","v":"258 58 343"}]
[null,"DIČ:",{"$f":"'Identifikační údaje'!B15","v":"CZ25858343"}]
[]
["Uchazeč:",null,{"$f":"'Identifikační údaje'!E19","v":", ,  "}]
[null,"IČ:",{"$f":"'Identifikační údaje'!B23","v":0}]
[null,"DIČ:",{"$f":"'Identifikační údaje'!B24","v":0}]
[]
["Místo stavby:",null,{"$f":"'Identifikační údaje'!B3","v":"Budova Českého rozhlasu Olomouc na adrese Pavelčákova 2/19, 779 00 Olomouc"}]
[]
["Datum vyplnění:",null,{"$f":"'Identifikační údaje'!B5","v":"00:00:00"}]
[]
[{"$f":"CONCATENATE(\"REKAPITULACE DODÁVEK A PRACÍ OBJEKTU \",'Rekapitulace stavby'!I56)","v":"REKAPITULACE DODÁVEK A PRACÍ OBJEKTU SO 01 - Plynoinstalace"}]
[]
["P.č.","Číslo položky","Název položky","Kč bez DPH"]
[]
["Díl:",{"$f":"B42","v":"1"},{"$f":"C42","v":"Zemní práce"},null,null,null,{"$f":"G42","v":0}]
["Díl:",{"$f":"B50","v":"723"},{"$f":"C50","v":"Vnitřní plynovod"},null,null,null,{"$f":"G50","v":0}]
["Díl:",{"$f":"B80","v":"767"},{"$f":"C80","v":"Konstrukce zámečnické"},null,null,null,{"$f":"G80","v":0}]
["Díl:",{"$f":"B88","v":"783"},{"$f":"C88","v":"Nátěry"},null,null,null,{"$f":"G88","v":0}]
["Díl:",{"$f":"B91","v":"799"},{"$f":"C91","v":"Ostatní"},null,null,null,{"$f":"G91","v":0}]
[]
[{"$f":"CONCATENATE(\"CELKEM ZA OBJEKT \",'Rekapitulace stavby'!I56, \" v Kč bez DPH\")","v":"CELKEM ZA OBJEKT SO 01 - Plynoinstalace v Kč bez DPH"},null,null,{"$f":"SUM(G27:G31)","v":0}]
[]
[]
[]
[]
[]
[]
["P.č.","Číslo položky","Název položky","MJ","množství","cena / MJ","celkem"]
[null,"Ceník, kapitola","Poznámka uchazeče"]
["Díl:","1","Zemní práce",null,null,null,{"$f":"SUBTOTAL(9,G43:G48)","v":0}]
[1,"122202509R00","Odkopávky a prokopávky pro železnice v hornině 3 příplatek k cenám za lepivost horniny nezapažené pro spodní stavbu železnic, s přemístěním výkopku v příčných profilech do 15 m nebo s naložením na dopravní prostředek,","m3",15,null,{"$f":"E43*F43","v":0}]
[{"$f":"A43+1","v":2},"131001000T00","Výkop pro potrubí vč.pískování","m     ",20,null,{"$f":"E44*F44","v":0}]
[{"$f":"A44+1","v":3},"131001600T00","Odvoz zeminy na skládku","m3    ",5,null,0]
[4,"139601102R00","Ruční výkop jam, rýh a šachet v hornině 3 s přehozením na vzdálenost do 5 m nebo s naložením na ruční dopravní prostředek","m3",5,null,0]
[5,"162201102R00","Vodorovné přemístění výkopku z horniny 1 až 4, na vzdálenost přes 20  do 50 m po suchu, bez naložení výkopku, avšak se složením bez rozhrnutí, zpáteční cesta vozidla.","m3",15,null,0]
[6,"174101101R00","Zásyp sypaninou se zhutněním jam, šachet, rýh nebo kolem objektů v těchto vykopávkách z jakékoliv horniny s uložením výkopku po vrstvách,","m3",15,null,0]
[]
["Díl:","723","Vnitřní plynovod",null,null,null,{"$f":"SUBTOTAL(9,G51:G78)","v":0}]
[{"$f":"A48+1","v":7},"734429104T00","Manometrický kohout třícestný Peveko PVKTK-25-1112L DN15-PN25","ks    ",2,null,{"$f":"E51*F51","v":0}]
[{"$f":"A51+1","v":8},"723000030T00","Napojení PE potrubí","soubor",1,null,0]
[{"$f":"A52+1","v":9},"723110006T00","Potrubí plynové PE 100 SDR11 90","m     ",23,null,0]
[10,"723110013T00","Havarijní uzavírací ventil BAP DN40-NT SOLO","ks    ",1,null,0]
[11,"723110050T00","Signalizační vodič","m",23,null,0]
[null,null,"Potrubí včetně tvarovek a zednických výpomocí."]
[null,null,"Včetně pomocného lešení o výšce podlahy do 1900 mm a pro zatížení do 1,5 kPa."]
[{"$f":"A55+1","v":12},"723110051T00","Žlutá výstražná fólie plynovodu","m     ",22,null,{"$f":"E58*F58","v":0}]
[{"$f":"A58+1","v":13},"723110052T00","Nálepka HUP","ks    ",1,null,0]
[{"$f":"A59+1","v":14},"731100006T00","Průchod střechou DN50","ks    ",1,null,0]
[15,"734423133T00","Tlakoměr 0-6 kPa","ks    ",2,null,0]
[16,"722181953T00","Chránička PE110","m",2,null,0]
[17,"723120203R00","Potrubí z trubek černých závitových svařovaných DN 20 bezešvých ČSN 42 0250 a běžných ČSN 42 5710 - jakost 11353.0,","m",6,null,0]
[18,"723120206R00","Potrubí z trubek černých závitových svařovaných DN 40 bezešvých ČSN 42 0250 a běžných ČSN 42 5710 - jakost 11353.0,","m",2,null,0]
[19,"723150312R00","Potrubí ocelové hladké černé svařované D 57 mm, s 2,9 mm","m",2,null,0]
[20,"723150313R00","Potrubí ocelové hladké černé svařované D 76 mm, s 3,2 mm","m",54,null,0]
[21,"723150371R00","Potrubí ocel. černé svařované - chráničky D 108 mm, s 4,0 mm","m",7,null,0]
[22,"723160206R00","Přípojky k plynoměrům G 6/4\", bez ochozu včetně uzavíracích armatur, tvarovek, upevňovacího a těsnícího materiálu,","soubor",1,null,0]
[23,"723190207R00","Přípojky ke strojům a zařízením přípojky ke strojům a zařízením\r\n DN 50 plynovodní z ocelových trubek závitových černých spojovaných na závit, bezešvých, běžných - jakost 11 353.0,","soubor",1,null,0]
[24,"723215118R00","Armatury přírubové včetně dodávky materiálu kohout kulový, DN 80, PN 16, litina, spoj s navařením přírub","kus",1,null,0]
[25,"723225113R00","Armatury závitové s jedním závitem včetně materiálu vzorkovací ventil přímý, vnitřní závit, DN 15, mosaz","kus",1,null,0]
[26,"723236113R00","Armatury závitové se dvěma závity včetně materiálu kulový kohout, vnitřní-vnitřní, DN 15, PN 5, mosaz","kus",1,null,0]
[27,"723236114R00","Armatury závitové se dvěma závity včetně materiálu kulový kohout, vnitřní-vnitřní, DN 20, PN 5, mosaz","kus",1,null,0]
[28,"723236117R00","Armatury závitové se dvěma závity včetně materiálu kulový kohout, vnitřní-vnitřní, DN 40, PN 5, mosaz","kus",1,null,0]
[29,"723236118R00","Armatury závitové se dvěma závity včetně materiálu kulový kohout, vnitřní-vnitřní, DN 50, PN 5, mosaz","kus",1,null,0]
[30,"734494213R00","Stavoznaky, ochranné jímky, návarky návarky s trubkovým závitem\r\n G 1/2\"","kus",1,null,0]
[31,"28653161T","Přechodka PE/ocel 90/DN80","ks    ",1,null,0]
[32,"42243823T","Skříň ocelová 120x100x50cm, uzamykatelná, větrná","kus",1,null,0]
[]
["Díl:","767","Konstrukce zámečnické",null,null,null,{"$f":"SUBTOTAL(9,G81:G86)","v":0}]
[{"$f":"A78+1","v":33},"767100001T00","Konzola nosníková 250mm","ks    ",26,null,{"$f":"E81*F81","v":0}]
[{"$f":"A81+1","v":34},"31179105R","tyč závitová M8; l = 1 000 mm; mat. ocel 4,8 - DIN 975; povrch bez úpravy","m",10,null,0]
[{"$f":"A82+1","v":35},"42310113R","objímka ocelová dvoušroubová; vnější pr.potrubí d = 25-30 mm  3/4\"; DN 20,0 mm; galvan.pozink.","kus",4,null,0]
[36,"42310116R","objímka ocelová dvoušroubová; vnější pr.potrubí d = 48-53 mm  6/4\"; DN 40,0 mm; galvan.pozink.","kus",2,null,0]
[37,"42310118R","objímka ocelová dvoušroubová; vnější pr.potrubí d = 60-64 mm  2\"; DN 50,0 mm; galvan.pozink.","kus",2,null,0]
[38,"42310120R","objímka ocelová dvoušroubová; vnější pr.potrubí d = 72-78 mm  2 1/2\"; DN 65,0 mm; galvan.pozink.","kus",22,null,0]
[]
["Díl:","783","Nátěry",null,null,null,{"$f":"SUBTOTAL(9,G89)","v":0}]
[{"$f":"A86+1","v":39},"783425350R00","Nátěry potrubí a armatur syntetické potrubí, do DN 100 mm, dvojnásobné s 1x emailováním a základním nátěrem na vzduchu schnoucí","m",64,null,{"$f":"E89*F89","v":0}]
[]
["Díl:","799","Ostatní",null,null,null,{"$f":"SUBTOTAL(9,G92:G99)","v":0}]
[{"$f":"A89+1","v":40},"906T00","Výchozí revize plynu","ks    ",1,null,{"$f":"E92*F92","v":0}]
[{"$f":"A92+1","v":41},"910T00","Tlaková zkouška plynovodu","hod   ",4,null,0]
[{"$f":"A93+1","v":42},"926T00","Revizní kniha kotelny","ks    ",1,null,0]
[43,"955T00","Sekání","hod   ",20,null,0]
[44,"960T00","Likvidace odpadu - kontejner vč. odvozu na skládku a uhrazení poplatku za uložení odpadu","soubor",1,null,0]
[45,"972T00","Geodetické zaměření","ks    ",1,null,0]
[46,"973T00","Vytýčení ing.sítí","ks    ",1,null,0]
[{"$f":"A98+1","v":47},"999T00","Nezměřitelné práce","hod   ",20,null,0]

{"sheet":"06_SO 01 - MaR","index":9,"n_rows":296,"n_cols":9,"rows_kept":296,"cut":false,"hidden":false,"merged":[[24,1,24,3],[24,5,24,8],[25,4,25,8],[34,5,34,8],[25,0,25,3],[33,1,33,3],[26,2,26,3],[27,2,27,3],[28,2,28,3],[29,2,29,3],[30,2,30,3],[31,2,31,3],[32,2,32,3]]}
[{"$f":"CONCATENATE('Rekapitulace stavby'!C57,\"_\",'Rekapitulace stavby'!I57)","v":"06_SO 01 - Měření a regulace"}]
[]
["SPECIFIKACE DODÁVEK A PRACÍ "]
["Název akce:"]
[{"$f":"'Identifikační údaje'!B1","v":"ČRo Olomouc – rekonstrukce objektu Pavelčákova 2/19"}]
[]
["Zadavatel:",null,null,null,{"$f":"'Identifikační údaje'!E7","v":"Český rozhlas, Vinohradská 12, 120 99 Praha 2"}]
[null,null,null,"IČ:",{"$f":"'Identifikační údaje'!B9","v":45245053}]
[null,null,null,"DIČ:",{"$f":"'Identifikační údaje'!B10","v":"CZ45245053"}]
[]
["Projektant:",null,null,null,{"$f":"'Identifikační údaje'!E12","v":"ATELIER 38 s.r.o., Porážková 1424/20, 702 00 Ostrava – Moravská Ostrava"}]
[null,null,null,"IČ:",{"$f":"'Identifikační údaje'!B14","v":"258 58 343"}]
[null,null,null,"DIČ:",{"$f":"'Identifikační údaje'!B15","v":"CZ25858343"}]
[]
["Uchazeč:",null,null,null,{"$f":"'Identifikační údaje'!E19","v":", ,  "}]
[null,null,null,"IČ:",{"$f":"'Identifikační údaje'!B23","v":0}]
[null,null,null,"DIČ:",{"$f":"'Identifikační údaje'!B24","v":0}]
[]
["Místo stavby:",null,null,null,{"$f":"'Identifikační údaje'!B3","v":"Budova Českého rozhlasu Olomouc na adrese Pavelčákova 2/19, 779 00 Olomouc"}]
[]
["Datum vyplnění:",null,null,null,{"$f":"'Identifikační údaje'!B5","v":"00:00:00"}]
[]
[{"$f":"CONCATENATE(\"REKAPITULACE DODÁVEK A PRACÍ OBJEKTU \",'Rekapitulace stavby'!I57)","v":"REKAPITULACE DODÁVEK A PRACÍ OBJEKTU SO 01 - Měření a regulace"}]
[]
["P.č.","Číslo položky",null,null,"Název položky","Kč bez DPH"]
[]
["Díl:",{"$f":"B43","v":1},{"$f":"D43","v":"Dodávka"},null,{"$f":"E43","v":"Dodávka řídícího systému "},null,null,null,{"$f":"I43","v":0}]
["Díl:",{"$f":"B55","v":2},{"$f":"D55","v":"Dodávka"},null,{"$f":"E55","v":"Dodávka materiálu měření a regulace"},null,null,null,{"$f":"I55","v":0}]
["Díl:",{"$f":"B86","v":3},{"$f":"D86","v":"21-M"},null,{"$f":"E86","v":"Elektromontáže"},null,null,null,{"$f":"I86","v":0}]
["Díl:",{"$f":"B129","v":4},{"$f":"D129","v":"36-M"},null,{"$f":"E129","v":"Montáž provozních,měřících a regulačních zařízení"},null,null,null,{"$f":"I129","v":0}]
["Díl:",{"$f":"B161","v":5},null,null,{"$f":"E161","v":"Služby k řídícímu systému"},null,null,null,{"$f":"I161","v":0}]
["Díl:",{"$f":"B170","v":6},null,null,{"$f":"E170","v":"Rozvaděč RA0.1  dodávka + montáž"},null,null,null,{"$f":"I170","v":0}]
["Díl:",{"$f":"B233","v":7},null,null,{"$f":"E233","v":"Rozvaděč RA5.1  dodávka + montáž"},null,null,null,{"$f":"I233","v":0}]
[]
[{"$f":"CONCATENATE(\"CELKEM ZA OBJEKT \",'Rekapitulace stavby'!I57, \" v Kč bez DPH\")","v":"CELKEM ZA OBJEKT SO 01 - Měření a regulace v Kč bez DPH"},null,null,null,null,{"$f":"SUM(I27:I33)","v":0}]
[]
[]
[]
[]
[]
[]
["P.č.",null,null,"Číslo položky","Název položky","MJ","množství","cena / MJ","celkem"]
["Díl:",1,null,"Dodávka","Dodávka řídícího systému ",null,null,null,{"$f":"SUBTOTAL(9,I44:I53)","v":0}]
[1,"K","PK","SPC1","Procesní stanice PXC  200 IO bodů","ks",1,null,{"$f":"G44*H44","v":0}]
[{"$f":"A44+1","v":2},"K","PK","SPC2","Procesní stanice PXC  350 IO bodů","ks",1,null,{"$f":"G45*H45","v":0}]
[{"$f":"A45+1","v":3},"K","PK","SPC3","Sběrnicový modul","ks",4,null,0]
[4,"K","PK","SPC4","Napájecí modul ","ks",4,null,0]
[5,"K","PK","SPC5","Modul digitálních vstupů 16 x DI","ks",9,null,0]
[6,"K","PK","SPC6","Univerzální modul 8 x UI","ks",10,null,0]
[7,"K","PK","SPC7","Modul digitálních výstupů 6 x DO","ks",11,null,0]
[8,"K","PK","SPC8","Dotykový panel PXM30.E, 7“, BACnet/IP, 24V AC","ks",2,null,0]
[9,"K","PK","SPC9","Štítky popisné ","ks",4,null,0]
[10,"K","PK","SPC10","Adresovací a resetovací kolíčky","ks",4,null,0]
[]
["Díl:",2,null,"Dodávka","Dodávka materiálu měření a regulace",null,null,null,{"$f":"SUBTOTAL(9,I56:I84)","v":0}]
[{"$f":"A53+1","v":11},"K","PK","SPC11","Kanálové čidlo teploty 0,4 m, Ni1000, -50 až +80°C, IP42   ","kus",2,null,{"$f":"G56*H56","v":0}]
[{"$f":"A56+1","v":12},"K","PK","SPC12","Příložný snímač teploty Ni1000, -30 až 130°C, IP42                                                                                       ","kus",7,null,{"$f":"G57*H57","v":0}]
[{"$f":"A57+1","v":13},"K","PK","SPC13","Prostorové čidlo teploty Ni1000, 0-50°C                            ","kus",7,null,0]
[14,"K","PK","SPC14","Venkovní čidlo teploty Ni1000, -35 až +50°C, IP43                                                                                          ","kus",3,null,0]
[15,"K","PK","SPC15","Snímač teploty do jímky Ni1000,-30 až 130°C, 100 mm, včetně jímky                                                                                    ","kus",2,null,0]
[16,"K","PK","SPC16","Snímač teploty do jímky Ni1000,-30 až 130°C, 400 mm, včetně jímky                                                                                    ","kus",1,null,0]
[17,"K","PK","SPC17","Prostorové čidlo teploty a relativní vlhkosti, teplota 0 až 50°C, 0-10V, vlhkost 0-100% RV, 0-10V, displej                                                                            ","kus",3,null,0]
[18,"K","PK","SPC18","Prostorové čidlo teploty Ni1000, korekce teploty +/- 3 K                                                             ","kus",1,null,0]
[19,"K","PK","SPC19","Kanálové čidlo teploty a relativní vlhkosti, teplota 0 až 50°C, 0-10V, vlhkost 0-100% RV, 0-10V                                                ","kus",3,null,0]
[20,"K","PK","SPC20","Snímač tlaku -1 až 9 bar, 24V AC/DC, výstup 0-10V, IP65                                                                                                         ","kus",1,null,0]
[21,"K","PK","SPC21","Dvoustupňový detektor plynu, napájení 24V AC, 2 x přepínací kontakt  ","kus",1,null,0]
[22,"K","PK","SPC22","Dvoustupňový detektor \"CO\", napájení 230V AC, 2 x přepínací kontakt  ","kus",1,null,0]
[23,"K","PK","SPC23","Kontaktní snímač tlaku, rozsah 0,2 až 8 bar, G1/4“, IP44                                                                 ","kus",1,null,0]
[24,"K","PK","SPC24","Diferenční tlakový spínač pro vzduch, 20-300 Pa, včetně připoj. soupravy","kus",6,null,0]
[25,"K","PK","SPC25","Diferenciální převodník tlaku vzduchu proporcionální  0-1000 Pa, 24V DC, 0-10V                                                     ","kus",4,null,0]
[26,"K","PK","SPC26","Snímač diferenčního tlaku vzduchu -500 až 500 Pa, napájení 24V AC/DC, výstup 0-10V ","kus",2,null,0]
[27,"K","PK","SPC27","Klapkový servopohon 7 Nm, 24V AC/DC, havarijní funkce","kus",2,null,0]
[28,"K","PK","SPC28","Klapkový servopohon 10 Nm, 24V AC/DC","kus",2,null,0]
[29,"K","PK","SPC29","Plováčkový snímač hladiny, magnetický kontakt                                                               ","kus",1,null,0]
[30,"K","PK","SPC30","Ponorný plovákový spínač, přepínací kontakt 230V/10A, IP68, kabel 20 m, pomocný materiál uchycení","kus",2,null,0]
[31,"K","PK","SPC31","Záplavový set HWG-WLD relay detekčné kabel 2+2 m                                                     ","kus",1,null,0]
[32,"K","PK","SPC32","Termostat 30-90°C, G1/2“,kontaktní výstup, IP43                                                                                                                     ","kus",2,null,0]
[33,"K","PK","SPC33","Termostat 40-120°C, G1/2“,kontaktní výstup, IP43                                                                                                                     ","kus",1,null,0]
[34,"K","PK","SPC34","Kapilárové protimrazové čidlo teploty kapilára 6 m, 5 až +15°C, IP54                                                                        ","kus",1,null,0]
[35,"K","PK","SPC35","Tlačítkový ovládač včetně instalační krabice","kus",6,null,0]
[36,"K","PK","SPC36","Místní ovládač volby provozu VZT   AUT-0-MÍSTNÍ včetně instalační krabice                                                                                   ","kus",2,null,0]
[37,"K","PK","SPC37","Dveřní magnetický spínač uzavření dveří, kontaktní výstup + krabice                                                                                   ","kus",18,null,0]
[38,"K","PK","SPC38","Okenní magnetický kontakt otevření okna, kontaktní výstup + krabice                                                                                   ","kus",5,null,0]
[39,"K","PK","SPC39","Centrála počasí včetně čidla deště a čidla rychlosti větru, napájení 230V AC, IP54","kus",1,null,0]
[]
["Díl:",3,null,"21-M","Elektromontáže",null,null,null,{"$f":"SUBTOTAL(9,I87:I127)","v":0}]
[{"$f":"A84+1","v":40},"K",null,"210800547","Montáž měděných vodičů CY, HO5V, HO7V, NYM, NYY, YY 6 mm2 uložených pevně","m",65,null,{"$f":"G87*H87","v":0}]
[{"$f":"A87+1","v":41},"M","MAT","341421570","vodič silový s Cu jádrem CY H07 V-K 6 mm2","m",65,null,{"$f":"G88*H88","v":0}]
[{"$f":"A88+1","v":42},"K",null,"210810055","Montáž měděných kabelů CYKY, CYKYD, CYKYDY, NYM, NYY 750 V 5x1,5 mm2 uložených pevně","m",631,null,0]
[43,"M","MAT","341110200","kabel silový s Cu jádrem CYKY-O 2x1,5 mm2","m",35,null,0]
[44,"M","MAT","341110300","kabel silový s Cu jádrem CYKY 3x1,5 mm2","m",501,null,0]
[45,"M","MAT","341110600","kabel silový s Cu jádrem CYKY 4x1,5 mm2","m",40,null,0]
[46,"M","MAT","341110900","kabel silový s Cu jádrem CYKY 5x1,5 mm2","m",58,null,0]
[47,"K",null,"210810057","Montáž měděných kabelů CYKY, CYKYD, CYKYDY, NYM, NYY, 750 V 5x4 mm2 uložených pevně","m",100,null,0]
[48,"M","MAT","341110940","kabel silový s Cu jádrem CYKY 5x2,5 mm2","m",8,null,0]
[49,"M","MAT","341110060","kabel silový s Cu jádrem CYKY 2x2,5 mm2","m",92,null,0]
[50,"K","921","210860221","Montáž měděných kabelů speciálních JYTY s Al folií 2x1 mm uložených pevně","m",1614,null,0]
[51,"M","MAT","341215500","kabel sdělovací JYTY Al laminovanou fólií 2x1 mm","m",1614,null,0]
[52,"K","921","210860222","Montáž měděných kabelů speciálních JYTY s Al folií 4x1 mm uložených pevně","m",1556,null,0]
[53,"M","MAT","341215540","kabel sdělovací JYTY Al laminovanou fólií 4x1 mm","m",1556,null,0]
[54,"K","MAT","210860223","Montáž měděných kabelů speciálních JYTY s Al folií 7x1 mm uložených pevně","m",676,null,0]
[55,"M","MAT","341215560","kabel sdělovací JYTY Al laminovanou fólií 7x1 mm","m",676,null,0]
[56,"M","921","210860223","Montáž měděných kabelů speciálních JYTY s Al folií 14x1 mm uložených pevně","m",423,null,0]
[57,"K","MAT","341215580","kabel sdělovací J-Y(St)Y 5x2x0,8 mm","m",344,null,0]
[58,"K","MAT",null,"kabel sdělovací UTP cat 5E","m",58,null,0]
[59,"K","921","210010351","Montáž rozvodek nástěnných plastových čtyřhranných ACIDUR vodič D do 4 mm2","kus",32,null,0]
[60,"M","MAT",null,"Krabice do vhka IP43, včetně svorkovnice","kus",32,null,0]
[61,"K","921",210010083,"Montáž trubky tuhé D20 pevně","m",62,null,0]
[62,"M","MAT",null,"Trubka tuhá PVC 1250 N D20 mm","m",62,null,0]
[63,null,null,"210110502","Montáž spínačů vestavných vačkových S25 A, 01 až 02 se zapojením vodičů","kus",3,null,0]
[64,"M","MAT",null,"Ovládač nouzového zastavení XAL-K174 ve skříňce, IP65","kus",1,null,0]
[65,null,"MAT",null,"Vačkový vypínač 3x400V, 10A AC3, v krytu IP54","kus",2,null,0]
[66,"K","921",210020303,"Kabelový žlab včetně víka a podpěrek do 100x50 mm","m",279,null,0]
[67,"M","MAT",null,"Drátový žlab 50 x 50 mm včetně podpěrek ","m",265,null,0]
[68,"M","MAT",null,"Drátový žlab 100 x 50 mm včetně podpěrek ","m",14,null,0]
[69,"K","921","210010102","Montáž lišt protahovacích šířky do 40 mm","m",320,null,0]
[70,"M","MAT",345721050,"lišta elektroinstalační vkládací z PVC LV 18x13","m",210,null,0]
[71,"M","MAT",345721050,"lišta elektroinstalační vkládací z PVC LHD 17x17","m",45,null,0]
[72,"M","MAT",345721090,"lišta elektroinstalační vkládací z PVC LV 24x22","m",65,null,0]
[73,"K","921","210190052","Montáž rozvaděčů skříňových nebo panelových dělitelných pole do 300 kg","kus",2,null,0]
[74,"K","921","210100001","Ukončení vodičů v rozváděči nebo na přístroji včetně zapojení průřezu žíly do 2,5 mm2","kus",645,null,0]
[75,"K","921","210100002","Ukončení vodičů v rozváděči nebo na přístroji včetně zapojení průřezu žíly do 6 mm2","kus",10,null,0]
[76,"K","921","210100002","Ukončení vodičů pro OP do 6 mm2","kus",55,null,0]
[77,"K","921",2200320722,"Montáž dveřního, okenního kontaktu","kus",23,null,0]
[78,"K","921","971031300","Vybourání otvorů ve zdivu cihelném plochy do 0,0225 m2 tloušťky do 45 cm","kus",32,null,0]
[79,"K","921",741920052,"Protipožární prostup E120 ve stavební konstrukci s atestem","m2",1,null,0]
[80,null,"MAT",null,"Protipožární prostup E120 ve stavební konstrukci s atestem","m2",1,null,0]
[]
["Díl:",4,null,"36-M","Montáž provozních,měřících a regulačních zařízení",null,null,null,{"$f":"SUBTOTAL(9,I130:I159)","v":0}]
[{"$f":"A127+1","v":81},"K","936",362410525,"Montáž odporového teploměru - venkovní, prostorový","kus",10,null,{"$f":"G130*H130","v":0}]
[{"$f":"A130+1","v":82},"K","936","360410212","Montáž snímače vlhkosti","kus",1,null,{"$f":"G131*H131","v":0}]
[{"$f":"A131+1","v":83},"K","936","360410212","Montáž snímače teploty a vlhkosti","kus",6,null,0]
[84,"K","936",360470065,"Napojení chladící jednotky VZT","kus",10,null,0]
[85,"K","936","360430051","Montáž rotačního servopohonu, regulačního ventilu","kus",11,null,0]
[86,"K","936","360430051","Montáž pohonu světlíků","kus",4,null,0]
[87,"K","936",360410114,"Montáž snímače diferenčního tlaku ","kus",12,null,0]
[88,"K","936","360430001","Montáž tlačítkového ovládače ","kus",5,null,0]
[89,"K","936",360410032,"Montáž termostatu mrazové ochrany","kus",1,null,0]
[90,"K","936",360410043,"Montáž kapiláry mrazové ochrany","kus",1,null,0]
[91,"K","936",360420203,"Napojení regulátoru průtoku","kus",15,null,0]
[92,"K","936",360430002,"Napojení požárních klapek","kus",17,null,0]
[93,"K","936",360480024,"Napojení ventilátoru, čerpadla","kus",21,null,0]
[94,"K","936",360430002,"Montáž prostorového ovládače SA","ks",2,null,0]
[95,"K","936",362410523,"Montáž  čidla teploty ","ks",13,null,0]
[96,"K","936",360480213,"Montáž  plovákových snímačů hladiny","ks",2,null,0]
[97,"K","936",360831011,"Montáž přístroje na odběr, hmotnost do 2 kg","ks",13,null,0]
[98,"K","936",360820501,"Manipulace v montážní zóně přístroje do 2 kg ","ks",13,null,0]
[99,"K","936","360810101","Příprava a zakončení práce - přístroje do 2 kg","ks",13,null,0]
[100,"K","936",360895021,"Zkoušky individuální tuzemské jednoduché","ks",13,null,0]
[101,"K","936",360480024,"Napojení kotle","ks",2,null,0]
[102,"K","936",360410076,"Montáž regulátoru tlaku","ks",1,null,0]
[103,"K","936",360410032,"Montáž termostatu","ks",3,null,0]
[104,"K","936",360410178,"Montáž snímače zaplavení","ks",2,null,0]
[105,"K","936","360430051","Napojení havarijního uzávěru plynu","ks",1,null,0]
[106,"K","936",360410747,"Montáž detektorů koncentrace plynu","ks",2,null,0]
[107,"K","936",360480024,"Napojení parního zvlhčovače","ks",3,null,0]
[108,"K","936","360410076","Montáž snímače tlaku","kus",2,null,0]
[109,"K","936",360420201,"Napojení FM rotačního rekuperátoru","kus",1,null,0]
[110,"K","936",360480211,"Montáž meteostanice","kus",1,null,0]
[]
["Díl:",5,null,null,"Služby k řídícímu systému",null,null,null,{"$f":"SUBTOTAL(9,I162:I168)","v":0}]
[{"$f":"A159+1","v":111},null,null,null,"Zpracování uživatelských programů","bod",265,null,{"$f":"G162*H162","v":0}]
[{"$f":"A162+1","v":112},null,null,null,"Parametrizace periferií, oživení","bod",265,null,{"$f":"G163*H163","v":0}]
[{"$f":"A163+1","v":113},null,null,null,"Vizualizace do prostředí desigo CC","bod",265,null,0]
[114,null,null,null,"Desigo CC compakt, licence 500 DB, 3 klienti, CMD4","kus",1,null,0]
[115,null,null,null,"Realizace integrace 100% systémů (nastavování parametrů, poruchové stavy) do systému používaným centrálním velínem ČRo, umístěným v budově ČRo, Vinohradská 12, který pro centrální správu systému MaR používá systém Siemens Desigo CC","kpl",1,null,0]
[116,null,null,null,"Dokumentace skutečného provedení ","kpl",1,null,0]
[117,null,null,null,"Výchozí revize elektro části MaR","kus",1,null,0]
[]
["Díl:",6,null,null,"Rozvaděč RA0.1  dodávka + montáž",null,null,null,{"$f":"SUBTOTAL(9,I172:I231)","v":0}]
[null,null,null,null,"Montáž"]
[{"$f":"A168+1","v":118},"K",null,"E-2020-1","Vypínač VSN 32 1105 A8 V NVZ3R, 32A červenožlutý","ks",1,null,{"$f":"G172*H172","v":0}]
[{"$f":"A172+1","v":119},"K",null,"E-2000-1","Jednofázový jistič  ","ks",17,null,{"$f":"G173*H173","v":0}]
[{"$f":"A173+1","v":120},"K",null,"E-2010-1","Dvoupolový jistič ","ks",1,null,0]
[121,"K",null,"E-3110-1","Vyrážecí civka k jističi 230V AC","ks",1,null,0]
[122,"K",null,"E-2006-1","Proudový chránič s nadproudovou ochranou B/16/2-030AC","ks",2,null,0]
[123,"K",null,"E-2006-1","Motorový spínač MP","ks",2,null,0]
[124,"K",null,"E-2000-1","Pomocný kontakt k jističi, motorovému spínači","ks",8,null,0]
[125,"K",null,"R-1140-1","Zářivkové svítidlo 1x9W s vypínačem","ks",1,null,0]
[126,"K",null,"D-1623-1","Zásuvka modulární  230V/16A ","ks",2,null,0]
[127,"K",null,"H-2850-1","Pomocné relé 2x8A+patice ","ks",20,null,0]
[128,"K",null,"H-2850-1","Modulární relé 3x8A, cívka 24V AC","ks",3,null,0]
[129,"K",null,"E-0100-1","Pojistka trubičková na DIN lištu ","ks",30,null,0]
[130,"K",null,"J-3010-1","Bezpečnostní transformátor 230/24 V 180VA","ks",1,null,0]
[131,"K",null,"J-3010-1","Zdroj 230V AC/24V DC ","ks",1,null,0]
[132,"K",null,"E-2006-1","Přepěťová ochrana 3.stupeň 10A s vf. filtrem","ks",1,null,0]
[133,"K",null,"G-5130-0","Signálka  24V AC/DC","ks",7,null,0]
[134,"K",null,"G-0020-1","Ovládač pomocných obvodů  I-0-II se signálkou","ks",3,null,0]
[135,"K",null,"G-0020-1","Tlačítkový ovládač","ks",1,null,0]
[136,"K",null,"K-1260-1","Regulátor ","ks",1,null,0]
[137,"K",null,"K-1260-1","Modulová lišta montáž","ks",2,null,0]
[138,"K",null,"K-1260-1","Ethernet switch 5 portů","ks",1,null,0]
[139,"K",null,"L-4900-1","Displej ","ks",1,null,0]
[140,"K",null,"P-0195-1","Ukončení vodičů na regulátoru ","ks",332,null,0]
[141,"K",null,"P-0195-1","Řadová svorkovnice do 2,5 mm2","ks",328,null,0]
[142,"K",null,"P-0196-1","Řadová svorkovnice do 10 mm2","ks",5,null,0]
[143,"K",null,"P-4040-0","Vývodka  PG9, PG11, PG13,5","ks",149,null,0]
[144,"K",null,"P-4040-0","Vývodka  PG21","ks",1,null,0]
[null,null,null,null,"Dodávka"]
[{"$f":"A198+1","v":145},"M","MAT","MATERIÁL","Vypínač VSN 32 1105 A8 V NVZ3R, 32A červenožlutý","ks",1,null,0]
[146,"M","MAT","MATERIÁL","Jednofázový jistič  D/2/1 2A","ks",1,null,0]
[147,"M","MAT","MATERIÁL","Jednofázový jistič  B/6/1 6A","ks",11,null,0]
[148,"M","MAT","MATERIÁL","Jednofázový jistič  B/10/1 10A","ks",2,null,0]
[149,"M","MAT","MATERIÁL","Jednofázový jistič  B/16/1 16A","ks",2,null,0]
[150,"M","MAT","MATERIÁL","Jednofázový jistič  C/10/1 10A","ks",1,null,0]
[151,"M","MAT","MATERIÁL","Dvoupólový jistič    C/6/2 6A","ks",1,null,0]
[152,"M","MAT","MATERIÁL","Proudový chránič s nadproudovou ochranou B/6-003 A, 30 mA","ks",1,null,0]
[153,"M","MAT","MATERIÁL","Motorový spínač MP6,3/3P 4,0-6,3A","ks",2,null,0]
[154,"M","MAT","MATERIÁL","Vyrážecí cívka k jističi 230V AC","ks",1,null,0]
[155,"M","MAT","MATERIÁL","Pomocný kontakt k jističi","ks",9,null,0]
[156,"M","MAT","MATERIÁL","Zářivkové svítidlo 1x9W s vypínačem","ks",1,null,0]
[157,"M","MAT","MATERIÁL","Zásuvka modulární  230V/16A ","ks",2,null,0]
[158,"M","MAT","MATERIÁL","Přepěťová ochrana SPD3 10A s vf. filtrem","ks",1,null,0]
[159,"M","MAT","MATERIÁL","Zdroj 230V AC/24V DC PS-30-24 , 30 W","ks",1,null,0]
[160,"M","MAT","MATERIÁL","Bezpečnostní transformátor 230/24 V 180VA","ks",1,null,0]
[161,"M","MAT","MATERIÁL","Modulární relé 3x8A, cívka 24V AC","ks",3,null,0]
[162,"M","MAT","MATERIÁL","Pomocné relé 2x8A, cívka 24V AC+patice","ks",12,null,0]
[163,"M","MAT","MATERIÁL","Pomocné relé 2x8A, cívka 24V DC+patice","ks",5,null,0]
[164,"M","MAT","MATERIÁL","Pomocné relé 2x8A, cívka 230V AC+patice","ks",3,null,0]
[165,"M","MAT","MATERIÁL","Pojistka trubičková na DIN lištu ","ks",30,null,0]
[166,"M","MAT","MATERIÁL","Ovládač pomocných obvodů  I-0-II se prosvětlený se signálkou 24V AC","ks",4,null,0]
[167,"M","MAT","MATERIÁL","Tlačítkový ovládač 0-I, jeden kontakt","ks",1,null,0]
[168,"M","MAT","MATERIÁL","Signálka LED  24V AC červená","ks",3,null,0]
[169,"M","MAT","MATERIÁL","Řadová svorkovnice do 2,5 mm2","ks",328,null,0]
[170,"M","MAT","MATERIÁL","Řadová svorkovnice do 6 mm2","ks",5,null,0]
[171,"M","MAT","MATERIÁL","Vývodka  PG9","ks",84,null,0]
[172,"M","MAT","MATERIÁL","Vývodka  PG11","ks",40,null,0]
[173,"M","MAT","MATERIÁL","Vývodka  PG13,5","ks",25,null,0]
[174,"M","MAT","MATERIÁL","Vývodka  PG21","ks",1,null,0]
[175,"M","MAT","MATERIÁL","Skříňový rozvaděč 1000//1600/400 mm, včetně montážní desky a soklu, IP54","ks",1,null,0]
[176,"M","MAT","MATERIÁL","Pomocný materiál, korýtka, vodiče","kpl",1,null,0]
[]
["Díl:",7,null,null,"Rozvaděč RA5.1  dodávka + montáž",null,null,null,{"$f":"SUBTOTAL(9,I235:I296)","v":0}]
[null,null,null,null,"Montáž"]
[{"$f":"A231+1","v":177},"K",null,"E-2020-1","Vypínač VSN 32 1105 A8 V NVZ3R, 32A červenožlutý","ks",1,null,{"$f":"G235*H235","v":0}]
[{"$f":"A235+1","v":178},"K",null,"E-2000-1","Jednofázový jistič  ","ks",23,null,{"$f":"G236*H236","v":0}]
[179,"K",null,"E-2010-1","Dvoupolový jistič ","ks",1,null,0]
[180,"K",null,"E-2006-1","Motorový spínač MP","ks",0,null,0]
[181,"K",null,"E-3110-1","Napěťová spoušť 220-240V AC","ks",1,null,0]
[182,"K",null,"E-2000-1","Pomocný kontakt k jističi, motorovému spínači","ks",10,null,0]
[183,"K",null,"R-1140-1","Zářivkové svítidlo 1x9W s vypínačem","ks",1,null,0]
[184,"K",null,"D-1623-1","Zásuvka modulární  230V/16A ","ks",2,null,0]
[185,"K",null,"H-2850-1","Pomocné relé 2x8A, +patice ","ks",13,null,0]
[186,"K",null,"H-2850-1","Modulární relé 3x8A, cívka 24V AC","ks",7,null,0]
[187,"K",null,"E-0100-1","Pojistka trubičková na DIN lištu ","ks",42,null,0]
[188,"K",null,"F-0210-1","Stykač K1-09 D10 9A AC3","ks",2,null,0]
[189,"K",null,"J-3010-1","Bezpečnostní transformátor 230/24 V 130VA","ks",1,null,0]
[190,"K",null,"J-3010-1","Zdroj 230V AC/24V DC ","ks",1,null,0]
[191,"K",null,"E-2006-1","Přepěťová ochrana 3.stupeň 16A s vf. filtrem","ks",1,null,0]
[192,"K",null,"G-5130-0","Signálka  24V AC/DC","ks",9,null,0]
[193,"K",null,"G-0020-1","Ovládač pomocných obvodů  I-0-II se signálkou","ks",7,null,0]
[194,"K",null,"G-0020-1","Tlačítkový ovládač","ks",1,null,0]
[195,"K",null,"K-1260-1","Regulátor ","ks",1,null,0]
[196,"K",null,"K-1260-1","Modulová lišta montáž","ks",2,null,0]
[197,"K",null,"K-1260-1","Ethernet switch 5 portů","ks",1,null,0]
[198,"K",null,"L-4900-1","Displej ","ks",1,null,0]
[199,"K",null,"M-0580-1","Zdroj 230V AC/24 V DC 400W","ks",1,null,0]
[200,"K",null,"P-0195-1","Ukončení vodičů na regulátoru ","ks",282,null,0]
[201,"K",null,"P-0195-1","Řadová svorkovnice do 2,5 mm2","ks",278,null,0]
[202,"K",null,"P-0196-1","Řadová svorkovnice do 6 mm2","ks",5,null,0]
[203,"K",null,"P-4040-0","Vývodka  PG9, PG11, PG13,5","ks",122,null,0]
[204,"K",null,"P-4040-0","Vývodka  PG16","ks",1,null,0]
[null,null,null,null,"Dodávka"]
[{"$f":"A262+1","v":205},"M","MAT","MATERIÁL","Vypínač VSN 32 1105 A8 V NVZ3R, 32A červenožlutý","ks",1,null,{"$f":"G264*H264","v":0}]
[206,"M","MAT","MATERIÁL","Jednofázový jistič  C/2/1 2A","ks",1,null,0]
[207,"M","MAT","MATERIÁL","Jednofázový jistič  B/6/1 6A","ks",18,null,0]
[208,"M","MAT","MATERIÁL","Jednofázový jistič  D/6/1 6A","ks",1,null,0]
[209,"M","MAT","MATERIÁL","Jednofázový jistič  B/10/1 10A","ks",1,null,0]
[210,"M","MAT","MATERIÁL","Jednofázový jistič  B/16/1 16A","ks",1,null,0]
[211,"M","MAT","MATERIÁL","Jednofázový jistič  iC60N 16A","ks",1,null,0]
[212,"M","MAT","MATERIÁL","Dvoupólový jistič    C/6/2 6A","ks",1,null,0]
[213,"M","MAT","MATERIÁL","Napěťová spoušť iMNx 220-240V AC - nereagující na výpadek síťového napětí","ks",1,null,0]
[214,"M","MAT","MATERIÁL","Pomocný kontakt k jističi","ks",10,null,0]
[215,"M","MAT","MATERIÁL","Pomocný kontakt k jističi iC60N","ks",1,null,0]
[216,"M","MAT","MATERIÁL","Zářivkové svítidlo 1x9W s vypínačem","ks",1,null,0]
[217,"M","MAT","MATERIÁL","Zásuvka modulární  230V/16A ","ks",2,null,0]
[218,"M","MAT","MATERIÁL","Stykač 3+1 7A AC3, cívka 24V AC","ks",2,null,0]
[219,"M","MAT","MATERIÁL","Pojistka trubičková na DIN lištu ","ks",42,null,0]
[220,"M","MAT","MATERIÁL","Modulární relé 3x8A, cívka 24V AC","ks",7,null,0]
[221,"M","MAT","MATERIÁL","Pomocné relé 2x8A, cívka 24V AC+patice, 24V AC","ks",9,null,0]
[222,"M","MAT","MATERIÁL","Pomocné relé 2x8A, cívka 24V AC+patice, 230V AC","ks",4,null,0]
[223,"M","MAT","MATERIÁL","Přepěťová ochrana SPD3 16A s vf. filtrem","ks",1,null,0]
[224,"M","MAT","MATERIÁL","Bezpečnostní transformátor 230/24 V 180VA","ks",1,null,0]
[225,"M","MAT","MATERIÁL","Tlačítkový ovládač 0-I, jeden kontakt","ks",1,null,0]
[226,"M","MAT","MATERIÁL","Ovládač pomocných obvodů  I-0-II se prosvětlený se signálkou 24V AC","ks",7,null,0]
[227,"M","MAT","MATERIÁL","Signálka LED  24V DC červená","ks",1,null,0]
[228,"M","MAT","MATERIÁL","Signálka LED  24V DC zelená","ks",1,null,0]
[229,"M","MAT","MATERIÁL","USB switch 4+1","ks",1,null,0]
[230,"M","MAT","MATERIÁL","Řadová svorkovnice do 2,5 mm2","ks",278,null,0]
[231,"M","MAT","MATERIÁL","Řadová svorkovnice do 6 mm2","ks",5,null,0]
[232,"M","MAT","MATERIÁL","Vývodka  PG9","ks",68,null,0]
[233,"M","MAT","MATERIÁL","Vývodka  PG11","ks",34,null,0]
[234,"M","MAT","MATERIÁL","Vývodka  PG13,5","ks",20,null,0]
[235,"M","MAT","MATERIÁL","Vývodka  PG16","ks",1,null,0]
[236,"M","MAT","MATERIÁL","Skříňový rozvaděč 1000//1800/300 mm, včetně montážní desky a soklu","ks",1,null,0]
[237,"M","MAT","MATERIÁL","Pomocný materiál, korýtka, vodiče","kpl",1,null,0]

{"sheet":"07_SO 01 - Silnoproud","index":10,"n_rows":266,"n_cols":9,"rows_kept":266,"cut":false,"hidden":false,"merged":[[217,5,217,6],[217,7,217,8],[258,5,258,6],[258,7,258,8],[32,1,32,2],[32,7,32,8],[33,1,33,2],[33,7,33,8],[38,0,38,8],[41,5,41,6],[41,7,41,8],[43,5,43,6],[43,7,43,8],[189,5,189,6],[189,7,189,8],[207,5,207,6],[26,1,26,2],[26,7,26,8],[4,0,4,8],[24,1,24,2],[24,3,24,4],[24,5,24,6],[24,7,24,8],[27,1,27,2],[27,7,27,8],[28,1,28,2],[28,7,28,8],[29,1,29,2],[29,7,29,8],[30,1,30,2],[30,7,30,8],[31,1,31,2],[31,7,31,8],[35,7,35,8],[207,7,207,8],[75,5,75,6],[75,7,75,8],[116,5,116,6],[116,7,116,8],[155,5,155,6],[155,7,155,8]]}
[{"$f":"CONCATENATE('Rekapitulace stavby'!C58,\"_\",'Rekapitulace stavby'!I58)","v":"07_SO 01 - Silnoproudá elektroinstalace "}]
[]
["SPECIFIKACE DODÁVEK A PRACÍ "]
["Název akce:"]
[{"$f":"'Identifikační údaje'!B1","v":"ČRo Olomouc – rekonstrukce objektu Pavelčákova 2/19"}]
[]
["Zadavatel:",null,{"$f":"'Identifikační údaje'!E7","v":"Český rozhlas, Vinohradská 12, 120 99 Praha 2"}]
[null,"IČ:",{"$f":"'Identifikační údaje'!B9","v":45245053}]
[null,"DIČ:",{"$f":"'Identifikační údaje'!B10","v":"CZ45245053"}]
[]
["Projektant:",null,{"$f":"'Identifikační údaje'!E12","v":"ATELIER 38 s.r.o., Porážková 1424/20, 702 00 Ostrava – Moravská Ostrava"}]
[null,"IČ:",{"$f":"'Identifikační údaje'!B14","v":"258 58 343"}]
[null,"DIČ:",{"$f":"'Identifikační údaje'!B15","v":"CZ25858343"}]
[]
["Uchazeč:",null,{"$f":"'Identifikační údaje'!E19","v":", ,  "}]
[null,"IČ:",{"$f":"'Identifikační údaje'!B23","v":0}]
[null,"DIČ:",{"$f":"'Identifikační údaje'!B24","v":0}]
[]
["Místo stavby:",null,{"$f":"'Identifikační údaje'!B3","v":"Budova Českého rozhlasu Olomouc na adrese Pavelčákova 2/19, 779 00 Olomouc"}]
[]
["Datum:",null,{"$f":"'Identifikační údaje'!B5","v":"00:00:00"}]
[]
[{"$f":"CONCATENATE(\"REKAPITULACE DODÁVEK A PRACÍ OBJEKTU \",'Rekapitulace stavby'!I58)","v":"REKAPITULACE DODÁVEK A PRACÍ OBJEKTU SO 01 - Silnoproudá elektroinstalace "}]
[]
["P.č.","Ozn.",null,"Materiál celkem",null,"Montáž celkem",null,"M+M celkem"]
[]
[{"$f":"B44","v":"A."},{"$f":"C44","v":"Svítidla a příslušenství"},null,null,{"$f":"F44","v":0},null,{"$f":"H44","v":0},{"$f":"E27+G27","v":0}]
[{"$f":"B76","v":"B."},{"$f":"C76","v":"Spínače, zásuvky a ostatní přístroje "},null,null,{"$f":"F76","v":0},null,{"$f":"H76","v":0},{"$f":"E28+G28","v":0}]
[{"$f":"B117","v":"C."},{"$f":"C117","v":"Instalační, úložný a ochranný materiál"},null,null,{"$f":"F117","v":0},null,{"$f":"H117","v":0},{"$f":"E29+G29","v":0}]
[{"$f":"B156","v":"D."},{"$f":"C156","v":"Kabely a vodiče"},null,null,{"$f":"F156","v":0},null,{"$f":"H156","v":0},{"$f":"E30+G30","v":0}]
[{"$f":"B190","v":"E."},{"$f":"C190","v":"Pospojování, uzemnění"},null,null,{"$f":"F190","v":0},null,{"$f":"H190","v":0},{"$f":"E31+G31","v":0}]
[{"$f":"B208","v":"F."},{"$f":"C208","v":"Ostatní"},null,null," ---",null,{"$f":"H208","v":0},{"$f":"G32","v":0}]
[{"$f":"B218","v":"G."},{"$f":"C218","v":"Hromosvod a uzemnění"},{"$f":"D218","v":0},null,{"$f":"F218","v":0},null,{"$f":"H218","v":0},{"$f":"E33+G33","v":0}]
[{"$f":"B259","v":"H."},{"$f":"C259","v":"Strojní část"},{"$f":"D259","v":0},null,{"$f":"F259","v":0},null,{"$f":"H259","v":0},{"$f":"E34+G34","v":0}]
[]
[{"$f":"CONCATENATE(\"CELKEM ZA OBJEKT \",'Rekapitulace stavby'!I58, \" v Kč bez DPH\")","v":"CELKEM ZA OBJEKT SO 01 - Silnoproudá elektroinstalace  v Kč bez DPH"},null,null,null,null,null,null,{"$f":"SUBTOTAL(9,H27:I34)","v":0}]
[]
[]
["Textová, výkresová i tabulková část projektové dokumentace tvoří jeden vzájemně se doplňující a provázaný celek. Jednotliví účastníci výběrového řízení se musí seznámit s projektojektovou dokumentací v návaznosti na soupis prací a na základě těchto informací části díla nacenit. Dále je potřeba při stanovení ceny dle vykázané výměry započítat všechny předpokládané doplňkové prvky a činnosti s touto položkou související tak, aby cena byla kompletní a prvek funkční."]
[]
[1]
[null,null,null,null,null,"Materiál",null,"Montáž"]
["poř.č.","položka","popis položky","MJ","množství","jedn.cena","celkem [Kč]","jedn.cena","celkem [Kč]"]
[null,"A.","Svítidla a příslušenství",null,null,{"$f":"SUBTOTAL(9,G46:G74)","v":0},null,{"$f":"SUBTOTAL(9,I46:I74)","v":0}]
[null,null," (komplet, včetně zdrojů, závěsů, pomocného materiálu, osazení zapojení, vyzkoušení apod.)"]
[1,null,"A - Velmi tenké, čtvercový přisazené LED svítidlo. IP65; IK10; 4000K; 6,3W; 1950lm; Ra=80; 120lm/W, přisazené na stěně, podestách a stropu. 277x277 mm, výška: 58 mm.","ks",23,null,{"$f":"E46*F46","v":0},null,{"$f":"E46*H46","v":0}]
[{"$f":"A46+1","v":2},null,"B - LED svítidlo typu downlight s vysokou účinností, nízká výška. IP44; IK09; 4000K; 19,5W; 1950lm; Ra=80; 100lm/W, vestavné do podhledu, průměr: 215 mm, výška: 88 mm.","ks",40,null,{"$f":"E47*F47","v":0},null,{"$f":"E47*H47","v":0}]
[3,null,"B1 - LED svítidlo typu downlight. IP 54; IK03; 4000K; 16,3W; 2030lm; Ra=80; 125lm/W, vestavné do podhledu, průměr: 127 mm, výška: 94 mm.","ks",26,null,0,null,{"$f":"E48*H48","v":0}]
[4,null,"C1 -Univerzální kruhový led panel se svíticím okrajem. 4000K; 42W; 3374lm; Ra=80; 84lm/W, přisazené na stropě, průměr: 500 mm, výška: 55 mm","ks",24,null,0,null,0]
[5,null,"C2 -Univerzální kruhový led panel se svíticím okrajem. 4000K; 42W; 3374lm; Ra=80; 84lm/W, zavěšené, spodní líc svítidla v: 2,6 m, průměr: 500 mm, výška: 55 mm","ks",255,null,0,null,0]
[6,null,"C3 -Dekorativní difuzní LED kruhové svítidlo s opálovým krytem. 4000K; 90,8W; 14160lm; Ra=80; 156lm/W - s led předřadníkem DALI, zavěšené, spodní líc svítidla v: 2,6 m, průměr: 1150 mm, výška: 84,5 mm.","ks",9,null,0,null,0]
[7,null,"C4 -Dekorativní difuzní LED kruhové svítidlo krytem microprisma. 4000K; 60W; 5090lm; Ra=80; 85lm/W - s led předřadníkem DALI, zavěšené, spodní líc svítidla v: 2,6 m, průměr: 1200 mm, výška: 87 mm","ks",2,null,0,null,0]
[8,null,"C5 -Dekorativní difuzní LED kruhové svítidlo krytem microprisma. 4000K; 60W; 4940lm; Ra=80; 83lm/W - s led předřadníkem DALI, zavěšené, spodní líc svítidla v: 2,6 m, průměr: 850 mm, výška: 87 mm.","ks",1,null,0,null,0]
[9,null,"D - LED svítidlo v krytí IP66, odolné vůči prachu a vlhkosti. IK08, 4000K; 51,4W; 6400lm; Ra=80; 125lm/W, zavěšené/přisazené, spodní líc svítidla v: 2,6 m, 1600x92 mm, výška: 90 mm.","ks",15,null,0,null,0]
[10,null,"D1 - LED svítidlo v krytí IP66, odolné vůči prachu a vlhkosti. IK08, 4000K; 34,3W; 4300lm; Ra=80; 125lm/W, zavěšené/přisazené, spodní líc svítidla v: 2,6 m, 1100x92 mm, výška: 90 mm.","ks",51,null,0,null,0]
[11,null,"D2 - LED svítidlo v krytí IP66, odolné vůči prachu a vlhkosti. IK08, 4000K; 22W; 2900lm; Ra=80; 132lm/W, zavěšené/přisazené, spodní líc svítidla v: 2,6 m, 1100x92 mm, výška: 90 mm.","ks",11,null,0,null,0]
[12,null,"E - Lištové LED svítidlo. 4000K; 23,9W; 3350lm; Ra=80; 140lm/W, zavěšené, spodní líc svítidla v: 2,6 m, 1168x60 mm, výška: 74 mm.","ks",8,null,0,null,0]
[13,null,"T - Trubkové LED svítidlo, 4000K; 23,9W; 3350lm; Ra=80; 140lm/W, přisazené na sloupech, spodní líc svítidla v: 2,1 m, průměr: 90 mm, výška: 1260 mm.","ks",14,null,{"$f":"E58*F58","v":0},null,{"$f":"E58*H58","v":0}]
[14,null,"On Air - červené svítidlo s nápisem On Air, 2x25W, 195x220x135 mm","ks",2,null,0,null,0]
[15,null,"Závěs ke svítidlu typu C1 a C2","ks",255,null,0,null,0]
[16,null,"Závěs ke svítidlu typu C3","ks",9,null,0,null,0]
[17,null,"Závěs 5 párů (řetěz) - zavěšení prachotěsů","ks",9,null,0,null,0]
[18,null,"NB1 - bezpečnostní svítidlo stropní, přisazené, LED 1x2 W, IP41, asymetrika","ks",13,null,{"$f":"E63*F63","v":0},null,{"$f":"E63*H63","v":0}]
[19,null,"NB2 -bezpečnostní svítidlo stropní, přisazené, LED 1x2 W, IP41, symetrika  ","ks",30,null,0,null,0]
[20,null,"NB3 - bezpečnostní svítidlo stropní, přisazené, LED 1x2,2 W, IP41, asymetrika","ks",28,null,0,null,0]
[21,null,"NB4 - bezpečnostní svítidlo nástěnné, přisazené, LED 2x1,5W, IP65, asymetrika - úniky fasáda, Al tělo","ks",3,null,0,null,0]
[22,null,"NB5 - bezpečnostní svítidlo stropní, přisazené, LED 3x1 W, IP54, asymetrika","ks",1,null,0,null,0]
[23,null,"NB6 -bezpečnostní svítidlo stropní, přisazené, LED 4x1 W, IP54, symetrika ","ks",13,null,0,null,0]
[24,null,"NB7 - bezpečnostní svítidlo stropní, vestavné, LED 1x2 W, IP41, asymetrika","ks",6,null,0,null,0]
[25,null,"NB8 - bezpečnostní svítidlo stropní, vestavné, LED 1x2 W, IP41, symetrika ","ks",7,null,0,null,0]
[26,null,"NP1 - piktogram nástěnný, přisazený, LED 1,9   IP40, viditelnost 20 m","ks",15,null,0,null,0]
[27,null,"NP2 - piktogram přisazený, stropní, LED 2,9 W, IP40, viditelnost 20 m, oboustr.","ks",14,null,0,null,0]
[28,null,"NP3 - sdružený piktogram nástěnný, přisazený, LED 4x1 W, IP54, viditelnost 17 m","ks",44,null,0,null,0]
[29,null,"NP4 - piktogram stropní, přisazený, LED 4x1 W, IP54, viditelnost 17 m, oboustr.   ","ks",3,null,0,null,0]
[]
[null,"B.","Spínače, zásuvky a ostatní přístroje ",null,null,{"$f":"SUBTOTAL(9,G78:G115)","v":0},null,{"$f":"SUBTOTAL(9,I78:I115)","v":0}]
[null,null,"(komplet, včetně příslušenství, pomocného materiálu, osazení, zapojení, vyzkoušení apod.)"]
[{"$f":"A74","v":29},null,"Tlačítkový spínač, včetně přístrojové krabice, montáž,zapojení a ukončení vodičů.","ks",3,null,{"$f":"E78*F78","v":0},null,{"$f":"E78*H78","v":0}]
[30,null,"Vypínač č.1, včetně přístrojové krabice, montáž,zapojení a ukončení vodičů.","ks",20,null,{"$f":"E79*F79","v":0},null,{"$f":"E79*H79","v":0}]
[31,null,"Vypínač č.1 IP44, včetně přístrojové krabice, montáž,zapojení a ukončení vodičů.","ks",10,null,0,null,0]
[32,null,"Vypínač č.5, včetně přístrojové krabice, montáž,zapojení a ukončení vodičů.","ks",20,null,0,null,0]
[33,null,"Vypínač č.5 IP44, včetně přístrojové krabice, montáž,zapojení a ukončení vodičů.","ks",2,null,0,null,0]
[34,null,"Vypínač č.6, včetně přístrojové krabice, montáž,zapojení a ukončení vodičů.","ks",4,null,0,null,0]
[35,null,"Vypínač č.6+6, včetně přístrojové krabice, montáž,zapojení a ukončení vodičů.","ks",20,null,0,null,0]
[36,null,"Vypínač č.6+6 IP44, včetně přístrojové krabice, montáž,zapojení a ukončení vodičů.","ks",2,null,{"$f":"E85*F85","v":0},null,{"$f":"E85*H85","v":0}]
[37,null,"Vypínač č.7 IP44, včetně přístrojové krabice, montáž,zapojení a ukončení vodičů.","ks",4,null,0,null,0]
[38,null,"DALI Circle control - nástěnný ovládací/řídicí jednotka ve standartní velikosti velikosti vypínače a napájecí zdroj. Řídicí jednotka určená pro provoz kompletního DALI systému. Umožňuje konfigurovat různe scény a pro dannou činnost (psaní, projektor…), včetně regulace intenzity osvětlení a spínání jednotlivých okruhů. 230V","ks",1,null,0,null,0]
[39,null,"Pohybové čidlo 180° vhodné pro spínání LED, IP20, včetně přístrojové krabice, montáž,zapojení a ukončení vodičů.","ks",46,null,0,null,0]
[40,null,"Pohybové čidlo 180° vhodné pro spínání LED, IP44, včetně přístrojové krabice, montáž,zapojení a ukončení vodičů.","ks",6,null,0,null,0]
[41,null,"Přítomnostní čidlo 180° vhodné pro spínání LED, IP20, včetně přístrojové krabice, montáž,zapojení a ukončení vodičů.","ks",6,null,0,null,0]
[42,null,"Přítomnostní čídlo s vysokou citlivostí 360° vhodné pro spínání LED, IP20, včetně přístrojové krabice, montáž,zapojení a ukončení vodičů.","ks",32,null,0,null,0]
[43,null,"Zásuvka 400V/16A,5p, IP 44, montáž,zapojení a ukončení vodičů.","ks",1,null,0,null,0]
[44,null,"Zásuvka 230V/16A,3p, IP 20, včetně přístrojové krabice, montáž,zapojení a ukončení vodičů. Bílá","ks",183,null,{"$f":"E93*F93","v":0},null,{"$f":"E93*H93","v":0}]
[45,null,"Zásuvka 230V/16A,3p, IP 20, včetně přístrojové krabice, montáž,zapojení a ukončení vodičů. Šedá","ks",33,null,0,null,0]
[46,null,"Zásuvka 230V/16A,3p, IP 20, včetně přístrojové krabice, montáž,zapojení a ukončení vodičů. Červená","ks",54,null,0,null,0]
[47,null,"Zásuvka 230V/16A,3p, IP 44, včetně přístrojové krabice, montáž,zapojení a ukončení vodičů. Bílá","ks",25,null,0,null,0]
[48,null,"Zásuvka 230V/16A,3p, IP 44, včetně přístrojové krabice, montáž,zapojení a ukončení vodičů. Červená","ks",1,null,0,null,0]
[49,null,"Zásuvka 230V/16A,3p, IP 65, montáž,zapojení a ukončení vodičů.","ks",3,null,0,null,0]
[50,null,"19\" Zásuvkový blok 6x 230V/16A,3p, IP 20, včetně montáže,zapojení a ukončení vodičů.","ks",30,null,0,null,0]
[51,null,"Zásuvkový blok zpauštěný do nábytku 6x 230V/16A,3p, IP20 (2x bílá, 2x šedá, 2x červená barva),  včetně montáže,zapojení a ukončení vodičů.","ks",1,null,0,null,0]
[52,null,"Zásuvkový blok zpauštěný do nábytku 6x 230V/16A,3p, IP20 (2x bílá, 2x šedá, 2x červená barva) 2xUSB nabíjecí port,  včetně montáže,zapojení a ukončení vodičů.","ks",2,null,0,null,0]
[53,null,"Zásuvka 230V/16A s přepěťovou ochranou a optickou signalizací poruchy,3p, IP 20, včetně přístrojové krabice, montáž,zapojení a ukončení vodičů. - Bílá","ks",32,null,0,null,0]
[54,null,"Zásuvka 230V/16A s přepěťovou ochranou a optickou signalizací poruchy,3p, IP 20, včetně přístrojové krabice, montáž,zapojení a ukončení vodičů. - Šedá","ks",33,null,0,null,0]
[55,null,"Zásuvka 230V/16A s přepěťovou ochranou a optickou signalizací poruchy,3p, IP 20, včetně přístrojové krabice, montáž,zapojení a ukončení vodičů. - Červená","ks",33,null,0,null,0]
[56,null,"Zásuvka 230V/16A dvojnásobná, 3p, IP 20, včetně přístrojové krabice, montáž,zapojení a ukončení vodičů.","ks",6,null,0,null,0]
[57,null,"Zásuvka 230V/16A dvojnásobná s přepěťovou ochranou a optickou signalizací poruchy, 3p, IP 20, včetně přístrojové krabice, montáž,zapojení a ukončení vodičů.","ks",43,null,0,null,0]
[58,null,"Podlahová krabice A - (24M - 286x286x80) - (12xSIL = 4x nezálohované, 4x záloha DA, 4x záloha UPS)","ks",3,null,0,null,0]
[59,null,"Podlahová krabice B - (12M - 219x264x70) - (6xSIL = 2x nezálohované, 2x záloha DA, 2x záloha UPS)","ks",5,null,0,null,0]
[60,null,"Podlahová krabice C - (16M vetikální 286x286x70) - 1x přístrojový modul pro SLP (+prostup pro SIL)","ks",8,null,0,null,0]
[61,null,"Podlahová krabice D - (16M vetikální 286x286x70) - 2x přístrojový modul pro SLP","ks",2,null,0,null,0]
[{"$f":"A110+1","v":62},null,"TOTAL stop tlačítko v červeném proskleném krytu, včetně podružného příslušenství, montáž,zapojení a ukončení vodičů.","ks",1,null,0,null,0]
[63,null,"CENTRAL stop tlačítko v červeném proskleném krytu, včetně podružného příslušenství, montáž,zapojení a ukončení vodičů.","ks",1,null,0,null,0]
[64,null,"Hlavní ochranná svorka MET,AET, včetně krabice , montáž,zapojení a ukončení vodičů.","ks",18,null,0,null,0]
[65,null,"Regulační set na DIN lištu (8 DIN modulů) - umístění do rozvaděče RH\nTouto položkou je myšlen řídicí systém pro ohřev okapů, včetně snímačů (regulátor/termostat, vlhkostní čidlo, teplotní čidlo.","ks",1,null,0,null,0]
[66,null,"Topný kabel do okapů a svodů\nTouto položkou je myšlen topný kabel s ochranou proti UV záření. 1ks=14m, 230V, 20W/m. Studený konec 5m, dvoužílový.","ks",1,null,0,null,0]
[]
[null,"C.","Instalační, úložný a ochranný materiál",null,null,{"$f":"SUBTOTAL(9,G118:G154)","v":0},null,{"$f":"SUBTOTAL(9,I117:I154)","v":0}]
[null,null," (komplet, včetně příslušenství, pomocného materiálu, výkopu, záhozu výkopu, vytyčení trasy, osazení, zapojení, vyzkoušení apod.)"]
[{"$f":"A115+1","v":67},null,"Instalační krabice odbočná s víčkem (d=73mm,h=42mm), včetně vnitřních svorkovnic, zapuštěná, montáž,zapojení a ukončení vodičů.","ks",204,null,{"$f":"E119*F119","v":0},null,{"$f":"E119*H119","v":0}]
[{"$f":"A119+1","v":68},null,"Instalační krabice odbočná s víčkem (d=103mm,h=50mm), včetně vnitřních svorkovnic, zapuštěná, montáž,zapojení a ukončení vodičů.","ks",49,null,{"$f":"E120*F120","v":0},null,{"$f":"E120*H120","v":0}]
[{"$f":"A120+1","v":69},null,"Instalační krabice s víčkem 107x107x50mm (š x v x h), včetně vnitřních svorkovnic, zapuštěná, montáž,zapojení a ukončení vodičů.","ks",28,null,{"$f":"E121*F121","v":0},null,{"$f":"E121*H121","v":0}]
[{"$f":"A121+1","v":70},null,"Rozbočovací krabice přisazená 80x80x40mm (š x v x h), včetně vnitřních svorkovnic, IP44, montáž,zapojení a ukončení vodičů.","ks",64,null,{"$f":"E122*F122","v":0},null,{"$f":"E122*H122","v":0}]
[71,null,"Rozbočovací krabice přisazená 150x110x70mm (š x v x h), včetně vnitřních svorkovnic, IP55, montáž,zapojení a ukončení vodičů.","ks",26,null,0,null,0]
[72,null,"Instalační krabice s funkčností při požáru 105x105x40mm (š x v x h), včetně vnitřních svorkovnic, IP54, montáž,zapojení a ukončení vodičů.","ks",38,null,0,null,0]
[73,null,"Ohebná dvouplášťová korugovaná chránička, červená, d=40mm,di=32mm, včetně spojovacího materiálu a příslušenství","m",20,null,0,null,0]
[74,null,"Ohebná dvouplášťová korugovaná chránička, červená, d=110mm,di=94mm, včetně spojovacího materiálu a příslušenství","m",10,null,0,null,0]
[75,null,"Instalační trubka ohebná z PVC d=20mm, di=14,1mm, střední mechanická odolnost,upevňovací a spojovací materiál, montáž.","m",10,null,0,null,0]
[76,null,"Instalační trubka ohebná z PVC d=25mm, di=18,3mm, střední mechanická odolnost,upevňovací a spojovací materiál, montáž.","m",2858,null,0,null,0]
[77,null,"Instalační trubka ohebná z PVC d=32mm, di=24,3mm, střední mechanická odolnost,upevňovací a spojovací materiál, montáž.","m",2305,null,0,null,0]
[78,null,"Instalační trubka ohebná z PVC d=40mm, di=31,2mm, střední mechanická odolnost,upevňovací a spojovací materiál, montáž.","m",67,null,0,null,0]
[79,null,"Instalační trubka ohebná z PVC d=50mm, di=39,6mm, střední mechanická odolnost,upevňovací a spojovací materiál, montáž.","m",27,null,0,null,0]
[80,null,"Instalační trubka ohebná bezhalogenová d=25mm, di=18,2mm, střední mechanická odolnost,upevňovací a spojovací materiál, montáž.","m",211,null,0,null,0]
[81,null,"Ohebná UV stabilní trubka vhodná pro venkovní instalace d=32mm, di=24,3mm, nízká mechanická odolnost,upevňovací a spojovací materiál, montáž.","m",121,null,0,null,0]
[82,null,"UV stabilní ohebná dvouplášťová korugovaná chránička, d=40mm, di=32mm,včetně spojovacího materiálu a příslušenství","m",29,null,0,null,0]
[83,null,"Instalační trubka tuhá z PVC d=25mm, di=21,4mm, střední mechanická odolnost,upevňovací a spojovací materiál, montáž.","m",518,null,0,null,0]
[84,null,"Instalační trubka tuhá z PVC d=32mm, di=28,0mm, střední mechanická odolnost,upevňovací a spojovací materiál, montáž.","m",140,null,0,null,0]
[85,null,"Instalační trubka tuhá z PVC d=40mm, di=35,8mm, střední mechanická odolnost,upevňovací a spojovací materiál, montáž.","m",68,null,0,null,0]
[86,null,"Instalační trubka tuhá bezhalogenová d=25mm, di=21,0mm, střední mechanická odolnost,upevňovací a spojovací materiál, montáž.","m",94,null,0,null,0]
[87,null,"Instalační trubka tuhá bezhalogenová d=32mm, di=28,0mm, střední mechanická odolnost,upevňovací a spojovací materiál, montáž.","m",94,null,0,null,0]
[88,null,"Kabelový žlab PERFOROVANÝ (300x60mm). Včetně příslušenství(úhelníky,závěsy, spojky,redukce, koncovky,úchytek pro kabeláž, apod), montáž.","m",24,null,0,null,0]
[89,null,"Kabelová drátěná lávka (100x54mm). Včetně příslušenství (spojovací sety, profily l=400mm, závitové tyče l=1000mm, zemnící svorky, šrouby a matice), montáž.","m",40,null,0,null,0]
[90,null,"Kabelová drátěná lávka (150x54mm). Včetně příslušenství (spojovací sety, profily l=400mm, závitové tyče l=1000mm, zemnící svorky, šrouby a matice), montáž.","m",24,null,0,null,0]
[91,null,"Kabelová drátěná lávka (300x105mm). Včetně příslušenství (spojovací sety, profily l=400mm, závitové tyče l=1000mm, zemnící svorky, šrouby a matice), montáž.","m",235,null,0,null,0]
[92,null,"Kabelová drátěná lávka v podlaze (100x54mm). Včetně příslušenství (spojovací sety, profily, zemnící svorky, šrouby a matice), montáž.","m",23,null,0,null,0]
[93,null,"Kabelová drátěná lávka (100x54mm) P 120-R. Včetně příslušenství (oddělující přepážka, spojovací sety, profily l=400mm, závitové tyče l=1000mm, zemnící svorky, šrouby a matice), S FUNKČNÍM PROVEDENÍM POŽÁRNÍ TRASY, montáž.","m",6,null,0,null,0]
[94,null,"Kabelová drátěná lávka (300x54mm) P 120-R. Včetně příslušenství (oddělující přepážka, spojovací sety, profily l=400mm, závitové tyče l=1000mm, zemnící svorky, šrouby a matice), S FUNKČNÍM PROVEDENÍM POŽÁRNÍ TRASY, montáž.","m",272,null,0,null,0]
[95,null,"Kabelový žebřík (600x60mm), včetně příslušenství (spojky,redukce, koncovky,úchytek pro kabeláž ), montáž.","m",18,null,0,null,0]
[96,null,"Kabelový žebřík (300x60mm), včetně příslušenství (spojky,redukce, koncovky,úchytek pro kabeláž ), montáž.","m",3,null,0,null,0]
[97,null,"Kabelový žebřík (300x60mm), včetně příslušenství (spojky,redukce, koncovky,úchytek pro kabeláž, odlehčení v tahu) S FUNKČNÍM PROVEDENÍM POŽÁRNÍ TRASY, montáž.","m",18,null,0,null,0]
[98,null,"Jednostranná příchytka E30-E90 pro kabel o průměru 14mm, včetně příslušenství , montáž.","ks",4903,null,0,null,0]
[99,null,"Jednostranná příchytka E30-E90 pro kabel o průměru 25mm, včetně příslušenství , montáž.","ks",1843,null,0,null,0]
[100,null,"Svazkový držák z kovu pro vysokou mechanickou odolnost, i v případě požáru, FeZn 60x33x30mm, včetně příslušenství, montáž.","ks",107,null,0,null,0]
[101,null,"Podružný materiál, montáž.","ks",7,null,0,null,0]
[102,null,"Protipožární ucpávky, včetně příslušenství, nátěru a montáže","m2",8.8000000000000007,null,0,null,0]
[]
[null,"D.","Kabely a vodiče",null,null,{"$f":"SUBTOTAL(9,G157:G188)","v":0},null,{"$f":"SUBTOTAL(9,I156:I188)","v":0}]
[null,null,"(komplet, včetně vyhotovení drážky, zapravení drážky, vytyčení trasy, pomocného materiálu, příchytek, spojek, odlehčovacích oblouků, zapojení, vyzkoušení apod.)"]
[{"$f":"A154+1","v":103},null,"Kabel B2CaS1D1 stíněný 4x1 mm2","m",37,null,{"$f":"E158*F158","v":0},null,{"$f":"E158*H158","v":0}]
[{"$f":"A158+1","v":104},null,"Kabel B2CaS1D1 stíněný 4x2x0,8 mm2","m",307,null,{"$f":"E159*F159","v":0},null,{"$f":"E159*H159","v":0}]
[{"$f":"A159+1","v":105},null,"Kabel CYKY 5x6  mm2","m",266,null,{"$f":"E160*F160","v":0},null,{"$f":"E160*H160","v":0}]
[{"$f":"A160+1","v":106},null,"Kabel CYKY 5x10  mm2","m",138,null,{"$f":"E161*F161","v":0},null,{"$f":"E161*H161","v":0}]
[{"$f":"A161+1","v":107},null,"Kabel CYKY 5x16  mm2","m",24,null,{"$f":"E162*F162","v":0},null,{"$f":"E162*H162","v":0}]
[108,null,"Kabel CYKY 5x70  mm2","m",40,null,0,null,0]
[109,null,"Kabel CYKY 4x120  mm2","m",10,null,0,null,0]
[110,null,"Vodič H07V-U žz 4 mm2","m",60,null,0,null,0]
[111,null,"Vodič H07V-U žz 6 mm2","m",1015,null,0,null,0]
[112,null,"Vodič H07V-U žz 10 mm2","m",330,null,0,null,0]
[113,null,"Vodič H07V-R žz  25 mm2","m",1280,null,0,null,0]
[114,null,"Vodič H07V-R žz  120 mm2","m",6,null,0,null,0]
[115,null,"Vodič 1-YY  120 mm2","m",285,null,0,null,0]
[116,null,"Kabel CSKH 2x1,5 mm2 P60-R   ","m",41,null,0,null,0]
[117,null,"Kabel CSKH 3x1,5 mm2 P60-R   ","m",114,null,0,null,0]
[118,null,"Kabel CSKH 2x2,5 mm2 P60-R   ","m",231,null,0,null,0]
[119,null,"Kabel CSKH 3x2,5 mm2 P60-R   ","m",3123,null,0,null,0]
[120,null,"Kabel CSKH 5x2,5 mm2 P60-R   ","m",227,null,0,null,0]
[121,null,"Kabel CSKH 3x4 mm2 P60-R  ","m",17,null,0,null,0]
[122,null,"Kabel CSKH 5x4 mm2 P60-R   ","m",137,null,0,null,0]
[123,null,"Kabel CSKH 5x6 mm2 P60-R  ","m",141,null,0,null,0]
[124,null,"Kabel CSKH 5x16  mm2 P60-R","m",49,null,0,null,0]
[125,null,"Kabel CXKH 2x1,5 mm2 RE   ","m",249,null,0,null,0]
[126,null,"Kabel CXKH 3x1,5 mm2 RE   ","m",6602,null,0,null,0]
[127,null,"Kabel CXKH 5x1,5 mm2 RE   ","m",98,null,0,null,0]
[128,null,"Kabel CXKH 3x2,5 mm2 RE   ","m",8464,null,0,null,0]
[129,null,"Kabel CXKH 5x2,5 mm2 RE   ","m",64,null,0,null,0]
[130,null,"Kabel CXKH 3x4 mm2 RE  ","m",80,null,0,null,0]
[131,null,"Kabel CXKH 5x4 mm2 RE   ","m",46,null,0,null,0]
[132,null,"Kabel CXKH 5x6 mm2 RE  ","m",731,null,0,null,0]
[133,null,"Kabel CXKH 5x10  mm2 RE","m",30,null,0,null,0]
[]
[null,"E.","Pospojování, uzemnění",null,null,{"$f":"SUBTOTAL(9,G191:G206)","v":0},null,{"$f":"SUBTOTAL(9,I190:I206)","v":0}]
[null,null,"(komplet, včetně příslušenství, svorek, pomocného materiálu, osazení, zapojení, vyzkoušení apod.) "]
[{"$f":"A188+1","v":134},null,"Rozvaděč RP\nTouto položkou je myšlena kompletní výzbroj včetně montáže, uvedené na v.č.D.1.4.g.51","ks",1,null,{"$f":"E192*F192","v":0},null,{"$f":"E192*H192","v":0}]
[{"$f":"A192+1","v":135},null,"Rozvaděč RH+kompenzace\nTouto položkou je myšlena kompletní výzbroj včetně montáže, uvedené na v.č.D.1.4.g.52","ks",1,null,{"$f":"E193*F193","v":0},null,{"$f":"E193*H193","v":0}]
[{"$f":"A193+1","v":136},null,"Rozvaděč RPO\nTouto položkou je myšlena kompletní výzbroj včetně montáže, uvedené na v.č.D.1.4.g.53","ks",1,null,0,null,0]
[137,null,"Rozvaděč RX1\nTouto položkou je myšlena kompletní výzbroj včetně montáže, uvedené na v.č.D.1.4.g.54","ks",1,null,0,null,0]
[138,null,"Rozvaděč R0\nTouto položkou je myšlena kompletní výzbroj včetně montáže, uvedené na v.č.D.1.4.g.55","ks",1,null,0,null,0]
[139,null,"Rozvaděč RS0\nTouto položkou je myšlena kompletní výzbroj včetně montáže, uvedené na v.č.D.1.4.g.56","ks",1,null,0,null,0]
[140,null,"Rozvaděč R1\nTouto položkou je myšlena kompletní výzbroj včetně montáže, uvedené na v.č.D.1.4.g.57","ks",1,null,0,null,0]
[141,null,"Rozvaděč RS1\nTouto položkou je myšlena kompletní výzbroj včetně montáže, uvedené na v.č.D.1.4.g.58","ks",1,null,0,null,0]
[142,null,"Rozvaděč R2\nTouto položkou je myšlena kompletní výzbroj včetně montáže, uvedené na v.č.D.1.4.g.59","ks",1,null,0,null,0]
[143,null,"Rozvaděč RS2\nTouto položkou je myšlena kompletní výzbroj včetně montáže, uvedené na v.č.D.1.4.g.60","ks",1,null,0,null,0]
[144,null,"Rozvaděč R3\nTouto položkou je myšlena kompletní výzbroj včetně montáže, uvedené na v.č.D.1.4.g.61","ks",1,null,0,null,0]
[145,null,"Rozvaděč R-SR\nTouto položkou je myšlena kompletní výzbroj včetně montáže, uvedené na v.č.D.1.4.g.62","ks",1,null,0,null,0]
[146,null,"Rozvaděč R4\nTouto položkou je myšlena kompletní výzbroj včetně montáže, uvedené na v.č.D.1.4.g.63","ks",1,null,0,null,0]
[147,null,"Zapuštěná skříň 380x415x160 IP40/20 - s neprůhlednými dveřmi\nTouto položkou je myšlena kompletní výzbroj včetně montáže zapuštěného rozvaděče.            \n4ks přepěťových ochran SPD - typ 1+2 (1+1), 25kA.","ks",1,null,0,null,0]
[148,null,"Elektroměrový rozvaděč RE\nTouto položkou je myšlena kompletní výzbroj včetně montáže rozvaděče. Výzbrojí je myšleno hlavní jistič B/160A/3, 3x MTP 200/5A, můstek PEN, prostor pro elektroměr a řadové svorky.","ks",1,null,0,null,0]
[]
[null,"F.","Ostatní",null,null,null,null,{"$f":"SUBTOTAL(9,I208:I216)","v":0}]
[{"$f":"A206+1","v":149},null,"Kompletační a koordinační činnost - cena obsahuje kompletaci zařízení a jeho odzkoušení s vazbou na ostatní profese, včetně vzájemné koordinace během výstavby, dopravu materiálu, koordinaci na stavbě, účast na KD, apod.","ks",7," ---"," ---",null,{"$f":"E209*H209","v":0}]
[{"$f":"A209+1","v":150},null,"Připojení zařízení, oživení, funkční zkoušky, zaškolení obsluhy","hod",28," ---"," ---",null,{"$f":"E210*H210","v":0}]
[{"$f":"A210+1","v":151},null,"Výchozí revize - cena obsahuje kompletní revizi, včetně zpracování zprávy a doložení veškerých potřebných dokumentů ke koladaci stavby.","ks",7," ---"," ---",null,0]
[{"$f":"A211+1","v":152},null,"Sekání drážek, kapes a průvlaků","hod",188," ---"," ---",null,0]
[{"$f":"A212+1","v":153},null,"Projektová dokumentace výrobní/dílenská","kpl",1," ---"," ---",null,0]
[154,null,"Projektová dokumentace skutečného provedení","kpl",1," ---"," ---",null,0]
[155,null,"TIČR -státní odborný dozor nad bezpečností vyhrazených technických zařízení v rozsahu zák. č. 174/1968 Sb. a vyhl. 73/2010Sb.","kpl",1," ---"," ---",null,0]
[156,null,"Termorevize elektrických rozvaděčů po realizaci projektu - snímkování rozvaděčů, vypracování termorevizního protokolu, doprava, podružný materiál","ks",13," ---"," ---",null,0]
[]
[null,"G.","Hromosvod a uzemnění",null,null,{"$f":"SUBTOTAL(9,G219:G257)","v":0},null,{"$f":"SUBTOTAL(9,I218:I257)","v":0}]
[null,null,"(komplet, včetně příslušenství, svorek, pomocného materiálu, osazení, zapojení, vyzkoušení apod.) "]
[{"$f":"A216+1","v":157},null,"Izolovaný svod Role 100 m o 26mm světle šedá","m",358,null,{"$f":"E220*F220","v":0},null,{"$f":"E220*H220","v":0}]
[{"$f":"A220+1","v":158},null,"Připojovací prvek pro vedení vysokonapěťového vodiče o 23mm ","ks",36,null,{"$f":"E221*F221","v":0},null,{"$f":"E221*H221","v":0}]
[{"$f":"A221+1","v":159},null,"Přípojka potenciálu pro vedení vysokonapěťového vodiče o 17-25mm","ks",36,null,0,null,0]
[160,null,"Kruhový vodič 8mm Alu","m",52,null,0,null,0]
[161,null,"Podstavec 16kg","ks",64,null,0,null,0]
[162,null,"Základní systém pro stožáry 16kg PP","ks",64,null,0,null,0]
[163,null,"Redukční dutinka 16mm PA černá","ks",64,null,0,null,0]
[164,null,"Izolační tyč 3000mm GFK","ks",22,null,0,null,0]
[165,null,"Příchytka starQuick 24-28mm PA světle šedá","ks",188,null,0,null,0]
[166,null,"Střešní držák vedení pro ploché střechy 8-10mm PA/PE černý","ks",52,null,0,null,0]
[167,null,"Rychlospojka Vario 8-10mm/16mm světle šedá","ks",15,null,0,null,0]
[168,null,"Izolovaný stožár 4000mm GFK světle šedá","ks",6,null,0,null,0]
[169,null,"Stojan jímacího stožáru 1,25x1,35 Alu","ks",4,null,0,null,0]
[170,null,"Závitová tyč na dva petonové podstavce 340mm","ks",12,null,0,null,0]
[171,null,"Podstavec 16kg BET","ks",24,null,0,null,0]
[172,null,"Plastový podstavec 16kg PP černá","ks",12,null,0,null,0]
[173,null,"Připojovací deska pro dvě vedení 16x8-10mm","ks",3,null,0,null,0]
[174,null,"Připojovací deska pro vedení 16x8-10mm","ks",6,null,0,null,0]
[175,null,"Rozpojovací díl 8-10mm","ks",12,null,0,null,0]
[176,null,"Podružný materiál","ks",1,null,0,null,0]
[177,null,"Vývod zemniče s s připojovacím praporcem 2000mm","ks",4,null,0,null,0]
[178,null,"Kruhový vodič s pláštěm z PVC 10mm FeZn černá","m",24,null,0,null,0]
[179,null,"Plochý vodič, zemnící pás 30x4mm FeZn s PVC","m",10,null,0,null,0]
[180,null,"Plochý vodič, zemnící pás NEREZ","m",215,null,0,null,0]
[181,null,"Křížová spojka bez mezikusu 30mm - NEREZ","ks",42,null,0,null,0]
[182,null,"Křížová spojka 8-10mm - NEREZ","ks",14,null,0,null,0]
[183,null,"Základní hodinová sazba pro nepředvídatelné práce, stavbou způsobené změny,které nemohou být v jednotkových cenách vyúčtovány. Práce budou uznány jen tehdy budou-li prokázány dokladem","hod",16,null,0,null,0]
[184,null,"Dílčí měření zemních odporů v době realizace","ks",1,null,0,null,0]
[185,null,"Výkopy v zemině tř. 3-4, zásyp kabelových rýh ručně včetně zhutnění a uložení výkopku do vrstev a urovnání povrchu ","m3    ",20,null,0,null,0]
[186,null,"Antikorozní nátěr/bandáž","m",6,null,0,null,0]
[187,null,"Podružný materiál","ks",1,null,0,null,0]
[188,null,"Svařování","m",3,null,0,null,0]
[189,null,"Revizní zpráva","ks",1," ---",null,null,0]
[190,null,"Fotodokumentace provedeného uzemnění","kpl",1," ---",null,null,0]
[191,null,"Projektová dokumentace skutečného provedení","kpl",1," ---",null,null,0]
[192,null,"Průchod hydroizolací objektu, včetně utěsnění proti zatékaní vody do objektu průchodkami, asfaltový nátěr","ks",12,null,0,null,0]
[193,null,"Likvidace nebezp. odpadů vzniklých při výstavbě","ks",1,null,0,null,0]
[194,null,"Demontáž stávajícího hromosvodu","ks",1,null,0,null,0]
[]
[null,"H.","Strojní část",null,null,{"$f":"SUBTOTAL(9,G260:G266)","v":0},null,{"$f":"SUBTOTAL(9,I259:I266)","v":0}]
[null,null,"(komplet, včetně příslušenství, pomocného materiálu, osazení, zapojení, vyzkoušení apod.) "]
[{"$f":"A257+1","v":195},null,"CBS-1hod,bez.pož.odol.,18okr.","ks",1,null,{"$f":"E261*F261","v":0},null,{"$f":"E261*H261","v":0}]
[{"$f":"A261+1","v":196},null,"Monitoring sv. okruhů","ks",8,null,{"$f":"E262*F262","v":0},null,{"$f":"E262*H262","v":0}]
[{"$f":"A262+1","v":197},null,"Opto - zpracování dokumentace","ks",1,null,{"$f":"E263*F263","v":0},null,{"$f":"E263*H263","v":0}]
[198,null,"Demontáž, montáž a přesun stávajícího DA\nPopis položky","ks",1,null,0,null,0]
[199,null,"UPS\n30kVA, záloha 15min, včetně dopravy, montáže,proškolení atd…","ks",1,null,0,null,0]
[200,null,"UPS-PO\n15kVA, záloha 15min, včetně dopravy, montáže,proškolení atd…","ks",1,null,0,null,0]

{"sheet":"08_SO 01 - Slaboproud","index":11,"n_rows":566,"n_cols":7,"rows_kept":566,"cut":false,"hidden":false,"merged":[[24,3,24,6],[25,2,25,6],[35,3,35,6],[43,2,43,6]]}
[{"$f":"CONCATENATE('Rekapitulace stavby'!C59,\"_\",'Rekapitulace stavby'!I59)","v":"08_SO 01 - Slaboproudá elektroinstalace"}]
[]
["SPECIFIKACE DODÁVEK A PRACÍ "]
["Název akce:"]
[{"$f":"'Identifikační údaje'!B1","v":"ČRo Olomouc – rekonstrukce objektu Pavelčákova 2/19"}]
[]
["Zadavatel:",null,{"$f":"'Identifikační údaje'!E7","v":"Český rozhlas, Vinohradská 12, 120 99 Praha 2"}]
[null,"IČ:",{"$f":"'Identifikační údaje'!B9","v":45245053}]
[null,"DIČ:",{"$f":"'Identifikační údaje'!B10","v":"CZ45245053"}]
[]
["Projektant:",null,{"$f":"'Identifikační údaje'!E12","v":"ATELIER 38 s.r.o., Porážková 1424/20, 702 00 Ostrava – Moravská Ostrava"}]
[null,"IČ:",{"$f":"'Identifikační údaje'!B14","v":"258 58 343"}]
[null,"DIČ:",{"$f":"'Identifikační údaje'!B15","v":"CZ25858343"}]
[]
["Uchazeč:",null,{"$f":"'Identifikační údaje'!E19","v":", ,  "}]
[null,"IČ:",{"$f":"'Identifikační údaje'!B23","v":0}]
[null,"DIČ:",{"$f":"'Identifikační údaje'!B24","v":0}]
[]
["Místo stavby:",null,{"$f":"'Identifikační údaje'!B3","v":"Budova Českého rozhlasu Olomouc na adrese Pavelčákova 2/19, 779 00 Olomouc"}]
[]
["Datum vyplnění:",null,{"$f":"'Identifikační údaje'!B5","v":"00:00:00"}]
[]
[{"$f":"CONCATENATE(\"REKAPITULACE DODÁVEK A PRACÍ OBJEKTU \",'Rekapitulace stavby'!I59)","v":"REKAPITULACE DODÁVEK A PRACÍ OBJEKTU SO 01 - Slaboproudá elektroinstalace"}]
[]
["P.č.","Číslo položky","Název položky","Kč bez DPH"]
[]
["Díl:",{"$f":"B45","v":"A"},{"$f":"C45","v":"SK - Strukturovaná kabeláž"},null,null,null,{"$f":"G45","v":0}]
["Díl:",{"$f":"B135","v":"B"},{"$f":"C135","v":"PZTS - Poplachový a tísňový zabezpečovací systém"},null,null,null,{"$f":"G135","v":0}]
["Díl:",{"$f":"B201","v":"C"},{"$f":"C201","v":"EKV - elektronická kontrola přístupu"},null,null,null,{"$f":"G201","v":0}]
["Díl:",{"$f":"B249","v":"D"},{"$f":"C249","v":"IP CCTV - IP Kamerový systém"},null,null,null,{"$f":"G249","v":0}]
["Díl:",{"$f":"B290","v":"E"},{"$f":"C290","v":"STA - Společná televizní anténa"},null,null,null,{"$f":"G290","v":0}]
["Díl:",{"$f":"B353","v":"F"},{"$f":"C353","v":"VDT - Domácí videotelefon"},null,null,null,{"$f":"G353","v":0}]
["Díl:",{"$f":"B395","v":"G"},{"$f":"C395","v":"JČ - Jednotný čas"},null,null,null,{"$f":"G395","v":0}]
["Díl:",{"$f":"B411","v":"H"},{"$f":"C411","v":"KK - Kabelové konstrukce - žlaby"},null,null,null,{"$f":"G411","v":0}]
[]
[{"$f":"CONCATENATE(\"CELKEM ZA OBJEKT \",'Rekapitulace stavby'!I59, \" v Kč bez DPH\")","v":"CELKEM ZA OBJEKT SO 01 - Slaboproudá elektroinstalace v Kč bez DPH"},null,null,{"$f":"SUM(G27:G34)","v":0}]
[]
[]
[]
[]
[]
[]
["P.č.","Číslo položky","Název položky","MJ","množství","cena / MJ","celkem"]
[null,"Ceník, kapitola","Poznámka uchazeče"]
["Díl:","A","SK - Strukturovaná kabeláž",null,null,null,{"$f":"SUBTOTAL(9,G46:G133)","v":0}]
[null,"A.001","Datový rozváděč DR 1.1-1.4"]
[1,"A.002","Datový rozvaděč stojanový s krytím IP 20 v provedení 47U a rozměrech 600x800. Svařovaný rozvaděč s odnímatelnými bočnicemi a zadním krytem s nosností 400kg, s montážní sadou\n• Součástí rozvaděče jsou 4 posuvné vertikální lišty k instalaci zařízení (6 lišt pro rozvaděče hlubší než 800 mm).\n– Ocelový svařovaný skelet s odnímatelnými krycími panely\n– Dveře jednokřídlé nebo dvoukřídlé ve variantách celoplechové, perforované nebo prosklené\ns bezpečnostním tvrzeným sklem 4mm. Mohou být na přední i zadní straně rozvaděče.\n• Dovolené zatížení jednotlivých dveří je max. 20 kg.\n• Minimální tloušťka povrchové úpravy je 65 μm.\n• Rám rozvaděče a všechny oddělitelné části (boční a zadní kryty, dveře…) jsou pospojeny pomocí propojovacích kabelů, které musí být důkladně připevněny a zasunuty do konektorů po celou dobu užívání rozvaděče.\n• Na spodní části rozvaděče je umístěn šroub M8 pro připojení pospojení.\n• Kabelové vstupy kryté vylamovacími záslepkami jsou umístěny v horní a ve spodní části rozvaděče","ks",3,null,{"$f":"E47*F47","v":0}]
[{"$f":"A47+1","v":2},"A.003","Podstavec s filtrem prostojanový datový rozváděč 600/800","ks",3,null,{"$f":"E48*F48","v":0}]
[3,"A.004","Datový rozvaděč stojanový s krytím IP 20 v provedení 47U a rozměrech 600x1000. Svařovaný rozvaděč s odnímatelnými bočnicemi a zadním krytem s nosností min 1200kg, s montážní sadou\n• Součástí rozvaděče jsou 4 posuvné vertikální lišty k instalaci zařízení (6 lišt pro rozvaděče hlubší než 800 mm)\n- Ocelový svařovaný skelet s odnímatelnými krycími panely\n– Dveře jednokřídlé nebo dvoukřídlé ve variantách celoplechové, perforované nebo prosklené s bezpečnostním tvrzeným sklem 4 mm. Mohou být na přední i zadní straně rozvaděče\n– Příprava pro montáž vertikálních vyvazovacích panelů a rozvodných panelů včetně montážních úchytů do skeletu rozvaděče\n– Příprava pro snadné spojování rozvaděčů do sestav.\n• Rám rozvaděče a všechny oddělitelné části (boční a zadní kryty, dveře…) jsou pospojeny pomocí propojovacích kabelů, které musí být důkladně připevněny a zasunuty do konektorů po celou dobu užívání rozvaděče.\n• Na spodní části rozvaděče je umístěn šroub M8 pro připojení zemnícího vodiče.\n• Kabelové vstupy kryté vylamovacími záslepkami jsou umístěny v horní a ve spodní části rozvaděče.","ks",1,null,0]
[4,"A.005","Podstavec s filtrem prostojanový datový rozváděč 600/1000","ks",1,null,0]
[5,"A.006","Montážní sada,4 x základní sada prvků (obsahuje plovoucí matici, šroub a plastovou podložku.) pro uchycení zařízení do rozvaděče nebo rámu ","ks",4,null,0]
[6,"A.007","Ventilační jednotka,4x ventilátor 230VAC/60W,termostat,spodní-horní","ks",3,null,0]
[7,"A.008","Ventilační jednotka,6x ventilátor 230VAC/90W,termostat,spodní-horní","ks",1,null,0]
[8,"A.009","Osvětlovací jednotka 1U","ks",7,null,0]
[9,"A.010","Patch panel univerzální modulární 24x RJ45/cat 6A/10G, neosazený, komplet vč. montážního příslušenství","ks",25,null,0]
[10,"A.011","Plně osazený stíněný 24 portový patch Cat6A (pro 10Gbps kabeláže), osazený 4 stíněnými vyjímatelnými kazetami , každá s 6 porty Cat6A RJ45 Šasi panelu lze zakoupit i neosazené kazetami, pro zakončení kabelu jsou v kazetách svorkovnice LSA IDC, Vyvazovací zadní strana umožnuje fixovat kabel za plášť pro znemožnění vytržení kabelu ze svorkovnice,barva černá","ks",0,null,0]
[11,"A.012","Keystone modul kovový,  RJ45, kat. 6A 10G, STP, samořezný, stříbrný","ks",518,null,0]
[12,"A.013","Telefonní patch panel 50x RJ45, ISDN, 1U, 1U, černý, komplet vybavený","ks",1,null,0]
[13,"A.014","Polička s perforací 1U/650mm, max.nosnost 80kg","ks",12,null,0]
[14,"A.015","Vyvazovací panel 1U/ 19\", horizontální s kovovými oky","ks",23,null,0]
[15,"A.016","Montážní, vyvazovací a popisovací příslušenství pro jeden rack, stojanový","ks",4,null,0]
[null,null,"Patch kabely"]
[{"$f":"A61+1","v":16},"A.018","Patch kabel cat 6A nestíněný U/UTP, 2m","ks",200,null,0]
[null,null,"Datový rozváděč DR T.1-4, DR T machine roomy"]
[{"$f":"A63+1","v":17},"A.020","Datový rozvaděč stojanový s krytím IP 20 v provedení 47U a rozměrech 600x800. Svařovaný rozvaděč s odnímatelnými bočnicemi a zadním krytem s nosností 400kg, s montážní sadou - popis viz výše","ks",8,null,0]
[18,"A.021","Podstavec s filtrem prostojanový datový rozváděč 600/800","ks",8,null,0]
[19,"A.022","Montážní sada,4 x základní sada prvků (obsahuje plovoucí matici, šroub a plastovou podložku.) pro uchycení zařízení do rozvaděče nebo rámu ","ks",8,null,0]
[20,"A.023","Ventilační jednotka,4x ventilátor 230VAC/60W,termostat,spodní-horní","ks",8,null,0]
[21,"A.024","Osvětlovací jednotka 1U","ks",8,null,0]
[22,"A.025","Patch panel univerzální modulární 24x RJ45/cat 6A/10G, neosazený, komplet vč. montážního příslušenství","ks",6,null,0]
[23,"A.026","Plně osazený stíněný 24 portový patch Cat6A (pro 10Gbps kabeláže), osazený 4 stíněnými vyjímatelnými kazetami , každá s 6 porty Cat6A RJ45 Šasi panelu lze zakoupit i neosazené kazetami, pro zakončení kabelu jsou v kazetách svorkovnice LSA IDC, Vyvazovací zadní strana umožnuje fixovat kabel za plášť pro znemožnění vytržení kabelu ze svorkovnice,barva černá","ks",0,null,0]
[24,"A.027","Keystone modul kovový,  RJ45, kat. 6A 10G, STP, samořezný, stříbrný","ks",139,null,0]
[25,"A.028","Polička s perforací 1U/650mm, max.nosnost 80kg","ks",24,null,0]
[26,"A.029","Vyvazovací panel 1U/ 19\", horizontální s kovovými oky","ks",7,null,0]
[27,"A.030","Montážní, vyvazovací a popisovací příslušenství pro jeden rack, stojanový","ks",8,null,0]
[null,"A.031","Patch kabely"]
[{"$f":"A75+1","v":28},"A.032","Patch kabel cat 6A nestíněný, 2m","ks",150,null,0]
[{"$f":"A77+1","v":29},"A.034","Datový kabel nestíněný 4 pár U/UTP cat. 6A Eurotřída B2ca s1d1","m",40480,null,0]
[30,"A.035","Datový kabel stíněný venkovní kabel U/FTP cat 6A s PE pláštěm a třídou reakce na oheň Fca","m",264,null,0]
[31,"A.036","Bezhalogenový nízkofrekvenční sdělovací kabel s Al stíněním s malým množstvím uvolněného \ntepla v případě požáru, SHKFH–R 5x2x0,5, kabel B2ca s1d1, zapojení zámku","m",106,null,0]
[32,"A.037","Kabel sdělovací stíněný vícepárový SYKFY 20x2x0,5","m",84,null,0]
[null,"A.038","Datové zásuvky,design dodržet  dle interiéru a dle silnoproudých instalací"]
[{"$f":"A81+1","v":33},"A.039","Datová dvojzásuvka 2xRJ45 Cat.6A vč. rámečku komplet ,uložení pod omítku, na odpovídající přístrojovou krabici","ks",196,null,0]
[34,"A.040","Datová dvojzásuvka 2xRJ45 Cat.6Avč. rámečku komplet,uložení na povrch, na omítku, na odpovídající přístrojovou krabici","ks",21,null,0]
[35,"A.043","Datová dvojzásuvka 2xRJ45 Cat.6A komplet, formát 45 x 45mm,uložení do montážního boxu zapuštěného do nábytkové desky","ks",6,null,0]
[36,"A.044","Montážní box 3x modul 45x45, zapuštěný box do nábytkové desky, design shodný s ENN","ks",3,null,0]
[37,"A.045","Datová dvojzásuvka 2xRJ45 Cat.6A komplet, formát 45 x 45mm,uložení do podlahové krabice","ks",28,null,0]
[38,"A.046","Patch kabel cat 6A nestíněný, 3m","ks",200,null,0]
[39,"A.047","Datová dvojzásuvka 2xRJ45 Cat.6A, formát 45 x 45mm, uložení na povrch, venkovní prostředí/outdoor, krytí IP54","ks",10,null,0]
[40,"A.048","Standardní 8-pinový UTP konektor RJ45","ks",3,null,0]
[41,"A.049","Přepěťová ochrana 10/100M Ethernet + PoE A/B nebo Hi PoE(max.90W), dvoustupňové provedení, galvanicky izolovaná svorka PE, montáž na rovný podklad, IP55 vč montážní skříně","ks",3,null,0]
[42,"A.050","Elektroinstalační chránička plastová /trubka 16mm, ohebná pod omítkou","m",1618,null,0]
[43,"A.051","Elektroinstalační chránička plastová /trubka 23mm,ohebná pod omítkou","m",450,null,0]
[44,"A.052","Elektroinstalační chránička plastová /trubka 29mm,ohebná pod omítkou","m",360,null,0]
[45,"A.053","Elektroinstalační chránička plastová /trubka 36mm,ohebná pod omítkou","m",390,null,0]
[46,"A.054","Elektroinstalační chránička trubka plastová  pevná hladká 21mm bezhalogenová, montáž po povrchu","m",118,null,0]
[47,"A.055","Trubka ohebná 2340, montáž do betonové podlahy","m",180,null,0]
[48,"A.056","Trubka stabilní dvouplášťová korugovaná UV stabilní","m",6,null,0]
[49,"A.057","Protahovací drát AY2,5","m",3116,null,0]
[50,"A.058","125/50 Kabelový žlab oceloplechový s integrovanou spojkou vč. příslušenství montáž stropní , v provedení plný","m",50,null,0]
[51,"A.059","62/50 Kabelový žlab oceloplechový s integrovanou spojkou vč. příslušenství montáž stropní , v provedení plný","m",8,null,0]
[52,"A.060","Krabice přístrojová KP 68,montáž pod omítku/ do dutých příček SDK","ks",196,null,0]
[53,"A.061","Krabice přístrojová, montáž na povrch","ks",21,null,0]
[54,"A.062","Krabice do venkovní prostředí IP 54, montáž na sloup vč. montážního příslušenství ","ks",1,null,0]
[55,"A.063","Přípojková skříň, nástěnná montáž, na omítku, rozváděč pro metalické telefonní sítě. Rozváděč je určen k distribuci až 100 párů ve vnitřním i venkovním prostředí, vč. svorkovnic a bleskojistek ","ks",1,null,0]
[56,"A.064","Požární ucpávky vč. požárního nátěru a popisu","m2",1.4000000000000004,null,0]
[{"$f":"A106+1","v":57},"A.066","Instalační materiál","ks",261,null,0]
[58,"A.067","Kabelové trasy-instalace kabelů do trubek, žlabů, lišt apod","m",40974,null,0]
[59,"A.068","Kabelové trasy-instalace chrániček, kabelů do zdi, na příchytky, drážkování apod.","m",3122,null,0]
[{"$f":"A109+1","v":60},"A.069","Montáž žlabu, stoupacího žebříku","m",58,null,{"$f":"E110*F110","v":0}]
[61,"A.070","Montáž rozváděče včetně vybavení vč. popisů kabeláží , sestavení rozváděče komplet (vyvazovací panely, patch panely, příslušenství apod.) a uvedení do provozu","ks",4,null,0]
[62,"A.071","Montáž rozváděče radiové technologie včetně vybavení vč. popisů kabeláží, sestavení rozváděče komplet - osazení vyvazovacími panely, patch panely ","ks",8,null,0]
[63,"A.072","Zapojení vývodů zásuvek a v Racku","ks",656,null,0]
[64,"A.073","Montáž zásuvek vč. přístrojových krabic vč. jejich popisu","ks",261,null,0]
[65,"A.074","Montáž keystone v zásuvce vč. jejich popisu","ks",525,null,0]
[66,"A.075","Montáž keystone v PatchPanelu vč. jejich popisu","ks",657,null,0]
[67,"A.076","Zapojení zásuvka-konsolidační bod, vč. popisu a uvedení do provozu","ks",12,null,0]
[68,"A.077","Montáž úložných boxů, montáž stůl/nábytek","ks",3,null,0]
[69,"A.078","Montáž PPanelu 24 keystone RJ 45 cat 6A, komplet do datového rozváděče, vč. Příslušenství, včetně popisů a zapojení a uvedení do provozu","ks",32,null,0]
[70,"A.079","Montáž přípojkové skříně SLP, vč. vnitřního vybavení, kabelových forem a zapojení bleskojistek ","ks",1,null,0]
[71,"A.080","Montáž a ukončení telefonního kabelu ve stávající a nové přípojkové skříni na fasádě objektu, nasvorkování, vč. propojení a uvedení do provozu","ks",1,null,0]
[72,"A.081","Montáž krabice venkovní, pro ukončení venkovních kabelů stožár, střecha","ks",1,null,0]
[73,"A.082","Měření na vývodu + Certifikační měření Permanent link Cat.6A ISO 11802","ks",1182,null,0]
[74,"A.083","Průraz ve zdivu betonovém tl. 20cm, plochy do 0,025m2, vč. začištění","ks",53,null,0]
[75,"A.084","Průraz ve zdivu betonovém tl. 20cm, plochy do 0,05m2, vč. začištění","ks",0,null,0]
[76,"A.085","Průraz přes strop, vč. začištění","ks",4,null,0]
[77,"A.086","Průraz přes obvodové zdivo , vč. začištění","ks",3,null,0]
[78,"A.087","Vypracování výrobní dokumentace stavby","kpl",1,null,0]
[79,"A.088","Vypracování skutečného provedení stavby","kpl",1,null,0]
[80,"A.089","Oživení systému SK jako celku, jeho zkušební testy systému vč.kompletního zprovoznění","hod",124,null,0]
[81,"A.090","Pomocné stavební práce","kpl",120,null,0]
[82,"A.091","Revizní zpráva","kpl",1,null,0]
[83,"A.093","Doprava","kpl",1,null,0]
[]
["Díl:","B","PZTS - Poplachový a tísňový zabezpečovací systém",null,null,null,{"$f":"SUBTOTAL(9,G137:G199)","v":0}]
[null,null,"Podrobnější specifikace hlavních zařízení, detektorů PZTS  viz. Technická zpráva"]
[{"$f":"A133+1","v":84},"B.001","Sestava ústředny EZS, základní sestava ústředny ve vybaveném boxu s přepěťovou ochranou, zdrojem 230VAC/12VDC 5A, bez systémové licence  ","ks",1,null,{"$f":"E137*F137","v":0}]
[{"$f":"A137+1","v":85},"B.002","Bezúdržbový   akumulátor 12V/26 Ah, 177x166x125 mm, 8,2 kg pro ústřednu","ks",1,null,{"$f":"E138*F138","v":0}]
[{"$f":"A138+1","v":86},"B.003","SW licence nutná pro provoz ústředny - STANDARD (500 zón, 50 dveří, 500 uživatelů)","ks",1,null,0]
[87,"B.004","Licence konfiguračního softwaru pro ústřednu","ks",1,null,0]
[88,"B.005","GSM komunikátor (bez SIM karty), 2 NO/NC vstupy,komunikace na až 8 telefonních čísel. Tranzistorový vstup-spínací/přepínací a může být ovládán z až 1.000 čísel v paměti komunikátoru.Programování SMS zprávami, softwarem pro PC nebo aplikací OS Android. dohled nad poklesem / výpadkem napájení, deník událostí pro 16.000 zpráv, graf síly signálu, aktualizovaný každou hodinu, přesměrování SMS zpráv na předdefinované telefonní číslo,detekce rušiček GSM signálu vč. antény","ks",1,null,0]
[89,"B.006","USB Kit, programovacá kabel a český SW pro nastavení a zprovoznění GSM komunikátoru","ks",1,null,0]
[90,"B.007","Obslužná-provozní kniha PZTS","ks",1,null,0]
[91,"B.008","Zálohovaná plastová siréna venkovní 110dB/1m s majákem a akumulátorem ","ks",1,null,0]
[92,"B.009","Koncentrátor, 8x vstup, 1x výstup 30V/1A, 1x analog IN a OUT 0-10V, montáž do skříně vč. uvedení do provozu","ks",6,null,0]
[93,"B.010","Montážní box 220x220x50 mm pro 1x modul a rozšiřující kartu, montáž na povrch","ks",6,null,0]
[94,"B.011","Koncentrátor, 8x vstup, 1x výstup 30V/1A, 1x analog IN a OUT 0-10V, vč.montáž do skříně vč. uvedení do provozu","ks",2,null,0]
[95,"B.012","Systémový zdroj 12V/5A v boxu rozměru 444x444x140mm, vybavený se zdrojem","ks",2,null,0]
[96,"B.013","Bezúdržbový  akumulátor 12V/26 Ah, 177x166x125 mm, 8,2 kg pro systémový záložní zdroj","ks",2,null,0]
[97,"B.014","Klávesnice, dotykový ovládací panel, RGBW, barva černá/bílá (dle interiéru při realizaci), 4x vstup, hliníkové provedení, montáž na povrch","ks",4,null,0]
[98,"B.015","Ochranný kryt kovový pro klávesnici","ks",2,null,0]
[99,"B.016","Detektor drátový technologie QUAD PIR, 15m/85°-90°, -30 až +70 °C, stojánek na stěnu a strop, vyvažovací rezistory, digital","ks",10,null,0]
[100,"B.017","DUAL PIR+MW, Digitální duální (PIR+MW) detektor s dosahem 15m (85°) a funkcí antimasking, která detekuje zakrytí detektoru, stojánky, vyvažovací rezistory","ks",2,null,0]
[101,"B.018","Magnetický kontakt na max. 25 mm, kabel 3m","ks",6,null,0]
[102,"B.019","Sada k MK pro vnitřní montáž do kovu/plast, dle typu oken","ks",6,null,0]
[103,"B.020","Instalační plastová krabice povrchová, 24šroubovacích svorek, tamper","ks",5,null,0]
[104,"B.021","Tísňový plastový hlásič s výklopnou páčkou. Vyklopením páčky dojde k tiché aktivaci poplachu. Paměť poplachu, montáž do nábytku","ks",1,null,0]
[105,"B.022","Žluté tísňové tlačítko,NO/NC výstup, žluté, sklo, s označení \"Nouzové otevření dveří\"  ","ks",1,null,0]
[106,"B.023","Detektor drátový PIR venkovní provedení  max. 12 x 15 m / 120°, PET provedení, IP54, čidlo denního světla + denní/noční režim, nastavitelná citlivost detekce","ks",1,null,0]
[107,"B.024","Nouzové tlačítko a táhlo, určeno pro přivolání pomoci pro WC invalidní, vč. montážního příslušenství","ks",1,null,0]
[108,"B.025","Optická a akustická signalizace, vícebarevná LED dioda, piezoměnič doplňková signalizace  nástěnná montáž,","ks",1,null,0]
[109,"B.026","Požární ucpávky vč. požárního nátěru a popisu","m2",0.8,null,0]
[{"$f":"A162+1","v":110},"B.028","Sběrnicový datový kabel stíněný F/FTP 4pár cat6 B2ca s1d1","m",388,null,0]
[111,"B.029","Sdělovací stíněný kabel bezhalogenový, typ pláště  B2ca s1d1 \nSHKFH–R, B2ca, s1 d1 3x2x0,5, kabel bez zachování funkčnosti kabel. trasy","m",354,null,0]
[112,"B.030","Silový kabel bezhalogenový, typ pláště B2ca s1d0 \nCXKH-R 2x1,5 B2ca s1d1, kabel bez zachování funkšnosti kabelové trasy","m",227,null,0]
[113,"B.031","Sdělovací stíněný kabel bezhalogenový, typ pláště  B2ca s1d1\nSHKFH–R, B2ca, s1 d1 5x2x0,5, kabel bez zachování funkčnosti kabel. trasy, kabel pro EZS siréna ","m",84,null,0]
[114,"B.032","Kabel dle Vyhlášky č.268/2011 Sb.PH120-R, dle  ČSN 73 0895, B2caS1D0 dle PrEN 50399:07,Ohniodolný dle ČSN IEC60331, bezhalogenový dle ČSN 50266\nSSKFH–V180, B2ca, s1 d1 3x2x0,5","m",50,null,0]
[115,"B.033","Kabel dle Vyhlášky č.268/2011 Sb.PH120-R dle  ČSN 73 0895, B2caS1D0 dle PrEN 50399:07, ohniodolné dle ČSN IEC60331, bezhalogenové dle ČSN 50266\n2x1,5 PH120-R B2ca s1d1","m",56,null,0]
[116,"B.034","Elektroinstalační chránička plastová /trubka 16mm, ohebná pod omítkou","m",1044,null,0]
[117,"B.036","Elektroinstalační chránička trubka plastová  pevná hladká 21mm bezhalogenová , montáž po povrchu","m",50,null,0]
[118,"B.037","Protahovací drát AY2,5","m",1094,null,0]
[119,"B.038","125/100 Kabelový žlab oceloplechový s integrovanou spojkou vč. příslušenství montáž nástěnná, v provedení s perforací","m",25,null,0]
[120,"B.039","Jednostranná příchytka E30-E90 pro kabel o d 10mm dle Vyhl.23/268 2011 Sb. (ČSN 73 0895) vč. příslušenství pro uchycení do stropu","ks",20,null,0]
[{"$f":"A173+1","v":121},"B.041","Instalační materiál","ks",47,null,0]
[122,"B.042","Kabelové trasy-instalace kabelů do trubek, žlabů apod","m",826,null,0]
[123,"B.043","Kabelové trasy-instalace chrániček, kabelů do zdi, na příchytky apod.","m",1321,null,0]
[124,"B.044","Montáž žlabu, stoupacího žebříku","m",25,null,0]
[125,"B.045","Montáž ústředny-včetně oživení, uvedení do provozu ","ks",1,null,0]
[126,"B.046","Montáž klávesnice, montáž na stěnu vč. příslušenství, vč. uvedení do provozu","ks",4,null,0]
[127,"B.047","Montáž expandéru vč. jeho uvedení do provozu, nastavení funcí","ks",8,null,0]
[128,"B.048","Montáž detektoru PIR a duálních detektorů, vč. uvedení do provozu","ks",13,null,0]
[129,"B.049","Montáž signalizace zvukové a optické LED, majáku, vč. uvedení do provozu","ks",1,null,0]
[130,"B.050","Montáž sirény  vnitřní/venkovní, vč. uvedení do provozu","ks",1,null,0]
[131,"B.051","Montáž magnetických kontaktů, vč. uvedení do provozu","ks",6,null,0]
[132,"B.052","Montáž tísňového tlačítka, montáž do stolu, nábytku, vč. uvedení do provozu","ks",2,null,0]
[133,"B.053","Montáž tísňového tlačítka tahového, tlačítka nástěnného s táhlem, vč. uvedení do provozu","ks",1,null,0]
[134,"B.054","Montáž instalační plastová krabice povrchová","ks",5,null,0]
[135,"B.055","Montáž podružného napájecího zdroje, vč. montážního příslušenství a vč. uvedení do provozu","ks",2,null,0]
[136,"B.056","Montáž akumulátoru","ks",3,null,0]
[137,"B.057","Průraz ve zdivu betonovém tl. 20cm, plochy do 0,025m2, vč. začištění","ks",34,null,0]
[138,"B.059","Průraz přes obvodové zdivo , vč. začištění","ks",2,null,0]
[139,"B.060","Programování ústředny PZTS","h",36,null,0]
[140,"B.061","Oživení, zkušební provoz systému PZTS jako celku","h",16,null,0]
[141,"B.062","Revizní zpráva","kpl",1,null,0]
[142,"B.063","Školení obsluhy ","h",8,null,0]
[143,"B.064","Vypracování výrobní dokumentace stavby","kpl",1,null,0]
[144,"B.065","Vypracování skutečného provedení stavby","kpl",1,null,0]
[145,"B.066","Pomocné stavební práce","h",26,null,0]
[146,"B.068","Doprava","kpl",1,null,{"$f":"E199*F199","v":0}]
[]
["Díl:","C","EKV - elektronická kontrola přístupu",null,null,null,{"$f":"SUBTOTAL(9,G205:P247)","v":0}]
[null,null,"Bezkontaktní karty nejsou součástí dodávky. Zajistí investor samostatně."]
[null,null,"Použitá technologie musí být kompatibilní se stávajícím systémem EKV, použivaný uživatelem pro všechny objekty ČRo, vč. zajištěné kompatibility obslužného SW a všech typů přístupových karet.\nTyp bezkontaktní ISO karta INDALA\nStandardní formát dat\t Wiegand 26b (Lite)"]
[null,null,"Tyto hardwarové komponenty potřebují řídící SW/Winpak verze 4.7,upgrade zajistí uživatel samostatně před zahájením realizace."]
[{"$f":"A199+1","v":147},"C.001","Řídící jednotka sběrnicová pro připojení až 16 I/O modulů,2 sběrnice RS-485. Volné programování rocedur; vestavěný Ethernetový převodník, připojená do LAN s dálkovou správou, osazená v montážní skříni do racku","ks",1,null,{"$f":"E205*F205","v":0}]
[{"$f":"A205+1","v":148},"C.002","Kryt pro moduly do 19\" rozváděčové skříně, výška 7U","ks",1,null,{"$f":"E206*F206","v":0}]
[{"$f":"A206+1","v":149},"C.003","Spínaný zdroj v nástěnném kovovém krytu 13,8 Vss / 10A s reléovými výstupy a\nodpojovačem","ks",1,null,0]
[150,"C.004","Akumulátor 12V/38Ah se šroubovými svorkami M6 a životností až 10 let,","ks",1,null,0]
[151,"C.005","Modul pro 2 čtečky systému","ks",4,null,0]
[152,"C.006","Elektronika bezkontaktní čtečky karet","ks",6,null,0]
[153,"C.007","Krycí rámeček úzký/široký na bezkontaktní čtečku, standard dle uživatele","ks",6,null,0]
[154,"C.008","Nástěnný kovový kryt se zdrojem pro 2 moduly,montáž na stěnu,vestavěný napájecí zdroj 12Vss/3A zátěž s modulem pro dobíjení akumulátoru (v krytu je prostor pro max. 17 Ah aku). dvířka pants se zámkem, tamper kontakt, připravené průrazy pro vedení kabeláže, signalizace stavu napájení na dvířkách krytu","ks",5,null,0]
[155,"C.009","Akumulátor 12V/17Ah se šroubovými svorkami M5 a životností až 5 let,","ks",5,null,0]
[156,"C.010","Napáječ spínaný zálohovaný v krytu 27,6V/5A,prostor pro AKU max 2x 17Ah, max. proud do zátěže 5A, pro napájení EZ","ks",2,null,0]
[157,"C.011","Bezúdržbový akumulátor min 12V/18 Ah pro systémový záložní zdroj EZ životnost 5let","ks",4,null,0]
[158,"C.012","Odpojovací blok napájení EZ na signál EPS","ks",3,null,0]
[159,"C.013","Protizákmitová ochrana na zámky, sada 2 ks","ks",4,null,0]
[160,"C.014","Implementace,zapojení,nastavení podsystému EKV jako celku do nadřazeného centrálního řídícího SW na centrála v Pze, bez nutnosti dokupování SW licence ","kplt",24,null,0]
[161,"C.016","Sběrnicový datový kabel  technický referenční standard BELDEN 9842 stíněný, RS485, 2x2x24AWG, licna, Cu, PVC","m",240,null,0]
[162,"C.017","Bezhalogenový nízkofrekvenční sdělovací kabel s Al stíněním s malým množstvím uvolněného \ntepla v případě požáru, SHKFH–R 4x2x0,5, kabel B2ca s1d1, zapojení čtečky","m",306,null,0]
[163,"C.018","Bezhalogenový nízkofrekvenční sdělovací kabel s Al stíněním s malým množstvím uvolněného \ntepla v případě požáru, SHKFH–R 5x2x0,5, kabel B2ca s1d1, zapojení zámku","m",306,null,0]
[164,"C.019","Silový kabel bezhalogenový, typ pláště B2ca s1d0 \nCXKH-R 2x1,5 B2ca s1d1, kabel bez zachování funkšnosti kabelové trasy","m",416,null,0]
[165,"C.020","Elektroinstalační chránička plastová /trubka 16mm, ohebná pod omítkou","m",962,null,0]
[166,"C.021","Elektroinstalační chránička plastová /trubka 23mm,ohebná pod omítkou","m",150,null,0]
[167,"C.022","Krabice odbočná vč.víčka, montáž pod omítku KO 68","ks",24,null,0]
[168,"C.023","Krabice odbočná kulatá vč.víčka, montáž pod omítku KO 125","ks",12,null,0]
[169,"C.024","Protahovací drát AY2,5","m",1112,null,0]
[170,"C.025","Požární ucpávky vč. požárního nátěru a popisu","m2",0.30000000000000004,null,0]
[171,"C.027","Instalační materiál","ks",65,null,0]
[172,"C.028","Kabelové trasy-instalace kabelů do trubek, žlabů apod","m",852,null,0]
[173,"C.029","Kabelové trasy-instalace chrániček, kabelů do zdi, na příchytky apod.","m",1528,null,0]
[174,"C.030","Montáž řídící jednotky sběrnice vč. uvedení do provozu","ks",1,null,0]
[175,"C.031","Montáž napájecího zdroje vč. uvedení do provozu","ks",7,null,0]
[176,"C.032","Montáž akumulátoru","ks",10,null,0]
[177,"C.033","Montáž řídící jednotky, pro jednostranné zapojení dveří, montáž do boxu vč. uvedení do provozu","ks",4,null,0]
[178,"C.034","Montáž čtečky vč. uvedení do provozu","ks",6,null,0]
[179,"C.035","Montáž reléového bloku pro spolupráci při odpojování napájení EZ od EPS","ks",3,null,0]
[180,"C.036","Zapojení el. dveřního zámku do systému EKV na řídící jednotku, (zámek součástí stavební dodávky vč. montáže do dveří)","ks",12,null,0]
[181,"C.037","Průraz ve zdivu betonovém tl. 20cm, plochy do 0,025m2, vč. začištění","ks",30,null,0]
[182,"C.038","Průraz ve zdivu obvodové zdivo, plochy do 0,025m2, vč. začištění","ks",0,null,0]
[183,"C.039","Programování řídící ústředny objektového systému EKV vč. odladění a uvedení do provozu","hod",24,null,0]
[184,"C.040","Oživení zařízení jako celku, zkušební testy po rozšíření systému, vč. uvedení do provozu","hod",148,null,0]
[185,"C.041","Vypracování výrobní dokumentace stavby","kpl",1,null,0]
[186,"C.042","Vypracování skutečného provedení stavby","kpl",1,null,0]
[187,"C.043","Pomocné stavební práce","hod",24,null,0]
[188,"C.044","Revizní zpráva","kpl ",1,null,0]
[189,"C.046","Doprava","kpl",1,null,0]
[]
["Díl:","D","IP CCTV - IP Kamerový systém",null,null,null,{"$f":"SUBTOTAL(9,G251:G288)","v":0}]
[null,null,"Technologie  musí odpovídat standardu používanému na objektech studií ČRo, tak aby byla zachována kvalita přenášeného a zaznamenaného obrazu v kodeku H.265. V rámci dodávky je nutno doplnit rozšíření SW platformy Genetec security center, který slouží pro správu a záznam všech kamerových systému ČRo."]
[{"$f":"A247+1","v":190},"D.001","Server Dell R740 Xeon4110/32GB/2x600GBSAS/WinSvr2019Ess/3y Basic NBD        Rozšíření stávajícího technologického systému záznamu a mangementu obrazu","ks",1,null,{"$f":"E251*F251","v":0}]
[{"$f":"A251+1","v":191},"D.002","přídavný HDD 8.0TB, SATA-6G, 7200rpm, 256MB, včetně R/V sensoru, SkyHawk určený pro záznam IP CCTV kamerových systémů,provoz 24/7, kompatibilní s technologií dodávaného serveru","ks",1,null,{"$f":"E252*F252","v":0}]
[{"$f":"A252+1","v":192},"D.003","Managovatelný switch s 16 gigabit metalickými porty + 2 gigabitové SFP porty a celkovou propustností18Gbps. PoE na každém portu je možné nastavit jako aktivní PoE 802.3af/at nebo pasivně 24V s maximálním výkonem 34W/port, vč. montážního příslušenství pro osazení do racku","ks",1,null,0]
[193,"D.004","Venkovní IP kompaktní kamera den/noc 5Mpix, 2.7-12mm AVF (autofocus), IR přísvit,\nRozlišení 5Mpix při 25 snímcích za sekundu\nAnalogový výstup, audio, I/O\nPlně konfigurovatelný streaming H.265\nIR přísvit LED 60m\npřesnější popis viz technická zpráva","ks",2,null,0]
[194,"D.005","Držák pro montáž venkovní kamer, montáž na zeď, vč. montážního příslušenství","ks",2,null,0]
[195,"D.006","Vnitřní IP dome 2MP AVF H.265 IP66, 25 snímcích za sekundu\nRozlišení 5Mpix při 25 snímcích za sekundu\nAnalogový výstup, audio, I/O\nPlně konfigurovatelný streaming H.265\nFunkce - Essential Video Analytika\n přesnější popis viz technická zpráva","ks",6,null,0]
[196,"D.007","Držák pro montáž vnirních kamer, montáž na zeď, vč. montážního příslušenství","ks",6,null,0]
[197,"D.008","PC-U-1m-C6, PatchCord","ks",21,null,0]
[198,"D.009","Pomocné příslušenství pro montáž kamer ","ks",8,null,0]
[199,"D.010","Hi-PoE injektor PoE++, 2x10/100/1000Mbps, až 60 W","ks",8,null,0]
[200,"D.011","Přepěťová ochrana 10/100M Ethernet + PoE A/B nebo Hi PoE(max.90W), dvoustupňové provedení, galvanicky izolovaná svorka PE, montáž na rovný podklad, IP55 v montážní skříňce ","ks",3,null,0]
[201,"D.012","Skříňka pro montáž přepěť. Ochrany","ks",3,null,0]
[202,"D.013","SW licence GSC-BASE-5.X - Genetec Security Center - (5xKlient,1xDir)       \nSW licence Genetec Security Center (GSC-Om-S)                                                                                                                                                          ","ks",2,null,0]
[203,"D.014","SW licence GSC-1SCFED-20 - 1 Federované GSC (od 4.0) - 20 entit - (ent)                                                                                                                                                              ","ks",1,null,0]
[204,"D.015","SW licence GSC-Om-S-1C - Licence 1 kamery pro GSC Omnicast Standard                                                                                                                                                                      ","ks",8,null,0]
[205,"D.016","SW licence GSC-Om-S - Omnicast Standard pro GSC -max.50 kam, 5xklient, 1xArch","ks",1,null,0]
[206,"D.017","SW licence Genetec Advantage - Standard - 1 rok, podpora pro federované systémy","ks",1,null,0]
[207,"D.018","LCD LED monitor s úhlopříčkou 24\" a HD rozlišením 1920x1080. Monitor pro kamerové systémy a obsahuje 1x HDMI, 2x BNC, 1x VGA vstup a audio vstup. Provedení s ochranným sklem","ks",1,null,0]
[208,"D.019","Dohledová PC stanice (kamerový klient) vč. grafické karty, i7-9700/16GB/512GB+2TB/RTX2060/W10H/M+K/2yOSbasic  a příslušenství (myš, kl., operační systém)","ks",1,null,0]
[209,"D.021","Instalační materiál","kplt",9,null,0]
[210,"D.022","Montážní  CCTV serveru, nastavení CCTV serveru vč. záznamového zařízení a uvedení do kompletního provozu ","ks",1,null,0]
[211,"D.023","Montáž kamery vnitřní/venkovní vč. nastavení a  uvedení do provozu","ks",8,null,0]
[212,"D.024","Montáž držáku kamer, nástěnné provedení vč. příslušenství","ks",8,null,0]
[213,"D.025","Montáž napájecího zdroje/PoE injektoru, vč. uvedení do provozu","ks",8,null,0]
[214,"D.026","Montáž přepěťových ochran, vč. montážního příslušenství, zapojení a uvedení do provozu","ks",3,null,0]
[215,"D.027","Kamerová zkouška - před instalací kamer, za účasti klienta","ks",1,null,0]
[216,"D.028","Dohledové pracoviště vč. monitoru a příslušenství k PC stanici, montáž, uvedení do kompletního provozu","ks",1,null,0]
[217,"D.029","Oživení, zkušební testy systému, uvedení systému do provozu","hod",32,null,0]
[218,"D.030","Propojení do stávajícíh prvků CCTV při rozšiřování systému, uvedení zařízení  do kompletního provozu","hod",48,null,0]
[219,"D.031","Instalace OS, aktualizace OS a driverů                                                                                                                                                                  ","ks",10,null,0]
[220,"D.032","Instalace Security Center - klient                                                                                                                                                                      ","ks",2,null,0]
[221,"D.033","Instalace Security Center - server                                                                                                                                                                      ","ks",2,null,0]
[222,"D.034","Pomocné stavební práce","hod",3,null,0]
[223,"D.035","Revizní zpráva","ks",1,null,0]
[224,"D.036","Vypracování výrobní dokumentace stavby","kpl",1,null,0]
[225,"D.037","Vypracování skutečného provedení stavby","kpl",1,null,0]
[226,"D.038","Školení obsluhy ","hod",4,null,0]
[227,"D.040","Doprava","kpl ",1,null,0]
[]
["Díl:","E","STA - Společná televizní anténa",null,null,null,{"$f":"SUBTOTAL(9,G292:G351)","v":0}]
[null,null,"Hlavní stanice pro příjem volně šiřitelných signálů v novém systému DVB-T2. "]
[{"$f":"A288+1","v":228},"E.001","Programovatelný zesilovač, 3 programovatelné vstupy pro UHF a jeden pro BIII/DAB pásmo, celkem 32 filtrů\nVstup pro BI/FM pásmo\nVysoká selektivita, kanálová konverze\nAutomatické nastavení zesílení dle zvolené úrovně výstupního signálu\n Programování pomocí displeje a křížového ovladače","ks",1,null,{"$f":"E292*F292","v":0}]
[{"$f":"A292+1","v":229},"E.002","Anténa pro pásmo UHF, kanál 21-60, G=15 dB, LTE verze M, DVB-T2","ks",2,null,0]
[{"$f":"A293+1","v":230},"E.003","Anténa pro pásmo FM 87,5-108 MHz,  kruhová vertikální i horizontální polarizace","ks",1,null,0]
[231,"E.004","Anténa DAB pro příjem digitálního rozhlasového DAB/DAB+ signálu\nfrekvenční rozsah: 174-240, kanály: 5A-13F, zisk: 0,25 dBd, vyzařovací úhel: 360°","ks",1,null,0]
[232,"E.005","Parabolická hlíníková  anténa, pr. 80 cm, zisk 36,8-38,5 DB/12,75 GHz kotevní objímka pro stožár pr. 32-80mm vč. držáku LNB (příjem družice Astra 23.5°) a montážního příslušenství pro uchycení na stožár","ks",1,null,0]
[233,"E.006","LNB konvertor pro jeden satelit, šumové číslo max 0,2 dB, zisk 60 dB, spotřeba max 120 mA","ks",1,null,0]
[234,"E.007","Anténní profesionální stožár železný s antikorozní ochranou, délka 3m/ pr. do 60mm (kotvení součást stavební profese) ","ks",2,null,0]
[235,"E.008","Výložník na stožár pro antény s příslušenstvím","ks",4,null,0]
[236,"E.009","Stožár žárově zinkovaný pro parabolickou anténu, uchycení do boční zdi,délka stožáru 1,5m. prum.42 mm (kotvení součást stavební profese) ","ks",2,null,0]
[237,"E.010","Stožár pro mikrovlnný spoj, jednodílný délka 2m (pr.60mm tl. 3mm) žárový zinek,uchycení do boční zdi (kotvení součást stavební profese) ","ks",1,null,0]
[238,"E.011","Oceloplechový rozvaděč SLP 800x500x200mm,hlavní stanice STA montáž na povrch","ks",1,null,0]
[239,"E.012","Rozbočovač TV a FM signálu do 2 větví . Průchozí pro napájení, 5-1000MHz,2 výstupy, 3,8 dB","ks",2,null,0]
[240,"E.013","Rozbočovač TV a FM signálu do 3 větví . Průchozí pro napájení, 5-1000MHz,3 výstupy, 6,5 dB","ks",2,null,0]
[241,"E.014","Odbočovač TV a FM signálu do 4 větví . Průchozí pro napájení, 5-1000MHz, ,4 výstupy,8dB","ks",3,null,0]
[242,"E.015","Odbočovač TV a FM signálu do 6 větví . Průchozí pro napájení, 5-1000MHz, ,4 výstupy,9,2dB","ks",4,null,0]
[243,"E.016","Rozvodná skříňka KT 250 s víčkem pro osazeni rozbočovače do SDK ","ks",4,null,0]
[244,"E.017","Zásuvka rozvodu TV+R+SAT,koncová max.2dB, komplet vč. rámečku a masky, montáž na přístrojovou krabic vč. příslušenství, design dle zásuvek ENN","ks",34,null,0]
[245,"E.018","Širokopásmová koaxiální přepěťová ochrana typ 1 (svodič bleskového proudu třídy B), osazená plynovou bleskojistkou, chráni zařízení ve smyslu znění dokumentu IEC 61312-1 ","ks",6,null,0]
[246,"E.019","Skříň vč. krytí pro osazení přepěťových ochran, vč. montážního příslušenství","ks",6,null,0]
[247,"E.020","Jemná přepěťová ochrana koaxiálních vedení/svodů, montáž na lišttu DIN do rozváděče R-STA, koncovky F/BNC","ks",6,null,0]
[248,"E.021","Zakončovací odpor 75 ohm ,odd. napájení","ks",3,null,0]
[249,"E.022","Požární ucpávky vč. požárního nátěru a popisu","m2",1.2000000000000002,null,0]
[250,"E.024","Koaxiální kabel [ např.technický standard RG-6U/64FA-LSZH-FRPO či rovnocenné řešení], bílá, Impedance 75Ohm Bezhalogenový, samozhášivý, pro přenosy na velké vzdálenosti 17db/800MHz\nprůměr 7mm, plášť LSZH barva bílá útlum dB/100 m 5 MHz/1,7 dB | 200 Mz/7,9bB | 470 MHz/13,0 dB | 800 MHz/16,0 dB | 2150 MHz/29,2 dB, LSZH plášť,primární a hlavní satelitní přívody do 70 m • trojité stínění kabelu","m",790,null,0]
[251,"E.025","Venkovní koaxialní kabel PE plášť 75 Ohm, průměr 7mm, CU 1,13mm digitální, černý, určen pro venkovní montáž, pro svody od antén, popis viz výše","m",141,null,0]
[252,"E.026","Elektroinstalační chránička plastová /trubka 23mm,ohebná pod omítku","m",790,null,0]
[253,"E.027","Elektroinstalační chránička plastová /trubka 36mm,ohebná pod omítku","m",20,null,0]
[254,"E.028","Elektroinstalační chránička UV stabilní 32mm, venkovní montáž po povrchu, na střeše","m",5,null,0]
[255,"E.029","Protahovací drát AY2,5","m",810,null,0]
[256,"E.030","Krabice přístrojová KP 68 montáž pod omítku, do dutých stěn/SDK","ks",34,null,0]
[257,"E.031","125/50 Kabelový žlab oceloplechový s integrovanou spojkou vč. příslušenství montáž stropní , v provedení plný s perforací, montáž na stěnu, vč. montážního příslušenství","m",12,null,0]
[258,"E.032","Instalační materiál","ks",53,null,0]
[259,"E.033","Kabelové trasy-instalace kabelů do trubek/ lišt, žlabů apod","m",931,null,0]
[260,"E.034","Kabelové trasy-instalace chrániček, kabelů do zdi, na příchytky apod.","m",815,null,0]
[261,"E.035","Montáž žlabu, stoupacího žebříku","m",12,null,0]
[262,"E.036","Montáž zásuvky rozvodu STA, montáž na přístrojovou krabic vč. příslušenství","ks",34,null,0]
[263,"E.037","Montáž rozbočovače","ks",11,null,0]
[264,"E.038","Montáž krabice KT250 do SDK","ks",4,null,0]
[265,"E.039","Montáž programovatelného zesilovače , montáž na mont. desku/rozváděč,osazení rozvodnice","ks",1,null,0]
[266,"E.040","Měření signálu na zásuvce STA","ks",34,null,0]
[267,"E.041","Montáž rozváděče, na omítku","ks",1,null,0]
[268,"E.042","Montáž anténního předzesilovač","ks",4,null,0]
[269,"E.043","Montáž ochranné bleskojistky (hrubá ochrana svodu) , jemná ochrana na svodu systému STA","ks",12,null,0]
[270,"E.044","Motnáž výložníků pro uchycení antén televizního příjmu na stožár STA, vč. montážnho příslušenství","ks",4,null,0]
[271,"E.045","Montáž antén pozemní příjem","ks",4,null,0]
[272,"E.046","Motnáž anténního stožáru STA s uchycením do střechy, vč. výložníků","ks",2,null,0]
[273,"E.047","Montáž anténního stožáru pro paraboly, mikrovlnné pojítko s uchycením do zdi","ks",3,null,0]
[274,"E.048","Montáž satelitní antény vč. uchycení a nastavení, vč. uvedení do provozu","ks",1,null,0]
[275,"E.049","Montáž konvertoru vč. uchycení, nastavení a uvedené do provozu","ks",1,null,0]
[276,"E.050","Měření  síly signálu před montáží a umístěnním anténního stožáru, venkovní měření v místě instalace stožáru, na střeše","ks",1,null,0]
[277,"E.051","Průraz ve zdivu betonovém tl. 20cm, plochy do 0,025m2, vč. začištění","ks",25,null,0]
[278,"E.052","Průraz ve zdivu betonovém tl. 30cm, plochy do 0,025m2, vč. začištění","ks",0,null,0]
[279,"E.053","Průraz ve zdivu betonovém tl. Obvodové zdivo, plochy do 0,025m2, vč. začištění a izolace proti vodě","ks",8,null,0]
[280,"E.054","Průraz přes strop, vč. začištění","ks",2,null,0]
[281,"E.055","Oživení systému, zkušební testy nastavení televizního sytému STA, uvedení do provozu","hod",24,null,0]
[282,"E.056","Vypracování realizační dokumentace stavby","ks",1,null,0]
[283,"E.057","Vypracování skutečného provedení stavby","ks",1,null,0]
[284,"E.058","Pomocné stavební práce","ks",50,null,0]
[285,"E.059","Hodinová zúčtovací sazba - technik odborný rozvodu TV, součinnost při osazování technologie STA, programování, úpravy s přechodem na technologii  DVB-T2","hod",10,null,0]
[286,"E.060","Revize vč. revizní zprávy","ks",1,null,0]
[287,"E.062","Doprava","ks",1,null,0]
[]
["Díl:","F","VDT - Domácí videotelefon",null,null,null,{"$f":"SUBTOTAL(9,G354:P393)","v":0}]
[{"$f":"A351+1","v":288},"F.001","Napájecí zdroj, 18Vss/3,5A, 6 DIN modulů, montáž na DIN lištu","ks",1,null,{"$f":"E354*F354","v":0}]
[{"$f":"A354+1","v":289},"F.002","Videopřepínač pro dva vstupní video panely","ks",1,null,0]
[{"$f":"A355+1","v":290},"F.003","Videotelefon 4,3\", rozlišení 480x272 TV řádků,s výběrem vyzváněcích tónů pro povrchovou instalaci ","ks",1,null,0]
[291,"F.004","Konektor pro videotelefon","ks",1,null,0]
[292,"F.005","Stolní stojan pro videotelefon","ks",1,null,0]
[293,"F.006","Instalační panel z anodizovaného hlíníku 3 okénka, Série 4, rozměry 130mm x 199mm","ks",2,null,0]
[294,"F.007","Instalační krabice pro panel, v provedení pod omítku  montáž na omítku","ks",2,null,0]
[295,"F.008","Povětrnostní kryt panelu","ks",2,null,0]
[296,"F.009","Audio-video modul, montáž do panelu \nelektronické obvody pro nastavení potřebné úrovně komunikace do telefonu, tak do dveřního panelu,nastavení akustického potvrzení při stisku vyzváněcího tlačítka. Součástí je hlasový syntezátor, který při aktivaci zámku přehraje zprávu \"dveře jsou otevřeny, zavřete je za sebou prosím\". Kamerová jednotka umožňuje manuální nastavení v rozmezí 10° vertikálně tak horizontálně a má vestavěno 6 LED umožňující sledovat příchozí osobu i za špatných světelných podmínek. Rozměr modulu W: 105,2(š) x v 95(v)mm,soukromá komunikaci tzn. mluví pouze stanice, která je vyzvoněna","ks",2,null,0]
[297,"F.010","Tlačítkový modul do panelu, IP 66. Kovová/hliník tlačítka ze slitiny s pozlacenými kontakty. Jmenovka je trvale podsvětlená LED","ks",2,null,0]
[298,"F.011","Požární ucpávky vč. požárního nátěru a popisu","m2",0.1,null,0]
[299,"F.013","Bezhalogenový nízkofrekvenční sdělovací kabel s Al stíněním s malým množstvím uvolněného \ntepla v případě požáru, SHKFH–R 4x2x0,8, kabel B2ca s1d1 bez zachování funkční kabelové trasy","m",120,null,0]
[300,"F.014","Koaxiální kabel RG-59U/17, Impedance 7 5Ohm, bezhalogenový, samozhášivý.","m",98,null,0]
[301,"F.015","Silový kabel bezhalogenový, typ pláště B2ca s1d0 \nCXKH-R 2x1,5 B2ca s1d1, kabel bez zachování funkšnosti kabelové trasy","m",6,null,0]
[302,"F.016","Elektroinstalační chránička plastová /trubka 23mm,ohebná pod omítku","m",120,null,0]
[303,"F.017","Elektroinstalační chránička plastová /trubka 16mm, ohebná pod omítku","m",20,null,0]
[304,"F.018","Protahovací drát AY2,5","m",140,null,0]
[305,"F.019","Krabice odbočná vč.víčka a svorkovnice, montáž pod omítku","ks",8,null,0]
[306,"F.020","Krabice přístrojová KP 68/xx montáž pod omítku","ks",2,null,0]
[307,"F.022","Instalační materiál","ks",12,null,0]
[308,"F.023","Kabelové trasy-instalace kabelů do trubek, lišt, žlabů apod.","m",218,null,0]
[309,"F.024","Kabelové trasy-instalace chrániček, kabelů do zdi, na příchytky, drážkování apod.(pevné uložení)","m",146,null,0]
[310,"F.025","Montáž protahovacího drátu AY","m",140,null,0]
[311,"F.026","Montáž krabice přístrojové pod omítku","ks",2,null,0]
[312,"F.027","Montáž krabice univerzální odbočná vč. víčka, svorkovnice pod omítku","ks",8,null,0]
[313,"F.028","Montáž videodistributoru na DIN lištu, pro systémy DT vč. uvedení do provozu","ks",1,null,0]
[314,"F.029","Montáž videotelefonu, stolní provedení vč. uvedení do provozu","ks",1,null,0]
[315,"F.030","Montáž tlačítkového modulu , 1 zvonkové tlačítko vč. uvedení do provozu","ks",2,null,0]
[316,"F.031","Montáž instalační krabice, pro dveřní jednotku","ks",2,null,0]
[317,"F.032","Propojení elektrom. zámku  a uvedení do provozu vč. zapojení do systému VDT","ks",1,null,0]
[318,"F.033","Montáž upevňovacího a vnějšího povětrnostního krycího rámečku ","ks",2,null,0]
[319,"F.034","Montáž hlasové a video jednotky do modulu vč. osazení a uvedení do provozu","ks",2,null,0]
[320,"F.035","Montáž napájecího zdroje,na DIN lištu vč. montážního materiálu DIN lišty apod.","ks",1,null,0]
[321,"F.036","Průraz ve zdivu betonovém tl. 20cm, plochy do 0,025m2, vč. začištění","ks",8,null,0]
[322,"F.037","Vypracování výrobní dokumentace stavby","kpl",1,null,0]
[323,"F.038","Vypracování skutečného provedení stavby","kpl",1,null,0]
[324,"F.039","Oživení a uvedení do provozu, zkušební testy instalovaného systému jako celku","kpl",1,null,0]
[325,"F.040","Pomocné stavební práce","kpl",1,null,0]
[326,"F.041","Revize","kpl",1,null,0]
[327,"F.043","Doprava","kpl",1,null,0]
[]
["Díl:","G","JČ - Jednotný čas",null,null,null,{"$f":"SUBTOTAL(9,G396:G409)","v":0}]
[{"$f":"A393+1","v":328},"G.001","Síťový časový server NTS pro použití v síťových prostředích.Synchronizace času prostřednictvím protokolu NTP eventuálně přijímače GPS).\n- NTP v4 (plně V3 kompatibilní), RFC 1305 (Port 123)\n- SNTP (UDP), RFC 2030 (Port 123)\n- TIME (TCP/UDP, RFC 868 (port 37)\n- DAYTIME (TCP/UDP), RFC 867 (port 13)\n- max. počet NTP and SNTPpožadavků/sec: typicky 250\n- synchronizační vstup vstup DCF 4500 / GPS 4500\n- přesnost +/-2 ms (GPS), +/- 5ms (DCF)\n- 10BaseT/100 BaseTX (IEEE 802.3)\n- napájení- externí napájecí zdroj součástí dodávky\n100-240 VAC/50-60 Hz / max. 12 W nebo 24- 28 VDC / 200 mA\n","ks",1,null,{"$f":"E396*F396","v":0}]
[{"$f":"A396+1","v":329},"G.002","Montážní sada pro montáž NTS do racku","ks",1,null,0]
[{"$f":"A397+1","v":330},"G.003","Switch L2, 24x10/100 portů, 2xSFP combo port, PoE+ 185W, montáž do racku","ks",1,null,0]
[331,"G.005","Podružné digirální hodiny interiérové, jednostranné šestimístné interiérové digitální hodiny\nse sekundovým kruhem (IP40), Ethernet verze, synchronizace protokolem NTP, napájení PoE\n- rozměry (Š x V x H) 325 x 325 x 39 mm\n- čitelnost na vzdálenost 25 m\n- zobrazení času HH:MM:ss, datumu a dne v týdnu\n- barva číslic červená, výška číslic 57 / 38 mm\n- možnost střídavého zobrazení údajů\n- po připojení teplotního čidla možnost zobrazení teploty\n- rám hodin z hliníkových eloxovaných profilů\n- nástěnná montáž\n","ks",3,null,0]
[332,"G.006","konfigurační software pro NTP podružné hodiny a další koncová zařízení (např. NMI)\n- podpora unicast nebo multicast\n- pro max. 50 podružných hodin (strojků)\n- pro max. 2 hlavních hodin","ks",1,null,0]
[{"$f":"A400+1","v":333},"G.008","Instalační materiál","ks",4,null,0]
[334,"G.009","Montáž řídícího serveru hodinové ústředny, osazení ústředny do racku,zapojení vč. uvedení do provozu","ks",1,null,0]
[335,"G.011","Montáž podružných jednostranných hodin, nástěnná montáž","ks",3,null,0]
[336,"G.012","Vypracování výrobní dokumentace stavby","kpl",1,null,0]
[337,"G.013","Vypracování skutečného provedení stavby","kpl",1,null,0]
[338,"G.014","Oživení a uvedení do provozu, zkušební testy instalovaného systému jako celku","ks",3,null,0]
[339,"G.015","Pomocné stavební práce","ks",4,null,0]
[340,"G.016","Revize","kpl",1,null,0]
[341,"G.018","Doprava","kpl",1,null,0]
[]
["Díl:","H","KK - Kabelové konstrukce - žlaby",null,null,null,{"$f":"SUBTOTAL(9,G412:G530)","v":0}]
[null,null,"Žlabové konstrukce 1.PP - samostatné trasy na samostatných závěsech"]
[{"$f":"A409+1","v":342},"H.001","Kabelová lávka š150/v54 mm","m",27,null,{"$f":"E413*F413","v":0}]
[{"$f":"A413+1","v":343},"H.002","Montážní příslušenství na lávku š150/v54 mm, obsahuje rychlospojku, nosný profil, šroubový závěs, matice a zemnící spojka, příslušenství vztaženo k jednomu montážnímu 1m lávky ","ks",27,null,0]
[{"$f":"A414+1","v":344},"H.003","Kabelová lávka š50/v54 mm","m",4,null,0]
[345,"H.004","Montážní příslušenství na lávku š50/v54 mm, obsahuje rychlospojku, nosný profil, šroubový závěs, matice a zemnící spojka, příslušenství vztaženo k jednomu montážnímu 1m lávky ","ks",4,null,0]
[null,null,"Žlabové konstrukce 1.NP - samostatné trasy na samostatných závěsech"]
[{"$f":"A416+1","v":346},"H.006","Kabelová lávka š100/v54 mm","m",30,null,0]
[347,"H.007","Montážní příslušenství na lávku š100/v54 mm, obsahuje rychlospojku, nosný profil, šroubový závěs, matice a zemnící spojka, příslušenství vztaženo k jednomu montážnímu 1m lávky ","ks",30,null,0]
[348,"H.008","Kabelová lávka š150/v54 mm, trasa s funkční schopností P-120R","m",4,null,0]
[349,"H.009","Montážní příslušenství na lávku š150/v54 mm, obsahuje rychlospojku, nosný profil, šroubový závěs, matice a zemnící spojka, příslušenství vztaženo k jednomu montážnímu 1m lávky, vše protrasy s funkční schopností ","ks",4,null,0]
[350,"H.010","Kabelová lávka š200/v54 mm","m",17,null,0]
[351,"H.011","Montážní příslušenství na lávku š200/v54 mm, obsahuje rychlospojku, nosný profil, šroubový závěs, matice a zemnící spojka, příslušenství vztaženo k jednomu montážnímu 1mu lávky ","ks",17,null,0]
[null,null,"Trasa v podlaze"]
[{"$f":"A423+1","v":352},"H.013","Kabelová lávka š150/v54 mm","m",17,null,0]
[353,"H.014","Montážní příslušenství na lávku š150/v54 mm, obsahuje rychlospojku, nosný profil, šroubový závěs, matice a zemnící spojka, příslušenství vztaženo k jednomu montážnímu 1m lávky ","ks",17,null,0]
[null,null,"Žlabové konstrukce 1.NP - dvoúrovňové trasy na společných závěsech š100/104, 2x š50/54 "]
[{"$f":"A426+1","v":354},"H.016","Kabelová lávka š100/v104 mm, délka kusu 3m ","m",17,null,0]
[355,"H.017","Kabelová lávka š50/v54 mm, délka kusu 3m ","m",34,null,0]
[356,"H.018","Montážní příslušenství obsahuje rychlospojku, nosný profil, šroubový závěs, matice a zemnící spojka, příslušenství vztaženo k jednomu montážnímu 1m lávky, víceúrovňový závěs ","ks",51,null,0]
[null,null,"Žlabové konstrukce 1.NP - dvoúrovňové trasy na společných závěsech š200/104, 1x š100/54 "]
[{"$f":"A430+1","v":357},"H.020","Kabelová lávka š200/v104 mm, délka kusu 3m ","m",53,null,0]
[358,"H.021","Kabelová lávka š100/v54 mm, délka kusu 3m ","m",105,null,0]
[359,"H.022","Montážní příslušenství obsahuje rychlospojku, nosný profil, šroubový závěs, matice a zemnící spojka, příslušenství vztaženo k jednomu montážnímu 1m lávky, víceúrovňový závěs ","ks",158,null,0]
[null,null,"Žlabové konstrukce 1.NP - dvoúrovňové trasy na společných závěsech š200/104, 2x š100/104 "]
[{"$f":"A434+1","v":360},"H.024","Kabelová lávka š200/v104 mm","m",5,null,0]
[361,"H.025","Kabelová lávka š100/v104 mm","m",10,null,0]
[362,"H.026","Montážní příslušenství obsahuje rychlospojku, nosný profil, šroubový závěs, matice a zemnící spojka, příslušenství vztaženo k jednomu montážnímu 1m lávky, víceúrovňový závěs ","ks",15,null,0]
[null,null,"Žlabové konstrukce 2.NP - samostatné trasy na samostatných závěsech"]
[{"$f":"A438+1","v":363},"H.028","Kabelová lávka š100/v54 mm","m",10,null,0]
[364,"H.029","Montážní příslušenství na lávku š100/v54 mm, obsahuje rychlospojku, nosný profil, šroubový závěs, matice a zemnící spojka, příslušenství vztaženo k jednomu montážnímu 1m lávky ","ks",10,null,0]
[365,"H.030","Kabelová lávka š150/v54 mm, trasa s funkční schopností P-120R","m",5,null,0]
[366,"H.031","Montážní příslušenství na lávku š150/v54 mm, obsahuje rychlospojku, nosný profil, šroubový závěs, matice a zemnící spojka, příslušenství vztaženo k jednomu montážnímu 1m lávky, vše protrasy s funkční schopností ","ks",5,null,0]
[367,"H.032","Kabelová lávka š200/v54 mm","m",7,null,0]
[368,"H.033","Montážní příslušenství na lávku š200/v54 mm, obsahuje rychlospojku, nosný profil, šroubový závěs, matice a zemnící spojka, příslušenství vztaženo k jednomu montážnímu 1m lávky ","ks",7,null,0]
[null,null,"Trasa v podlaze"]
[{"$f":"A445+1","v":369},"H.035","Kabelová lávka š150/v54 mm","m",17,null,0]
[370,"H.036","Montážní příslušenství na lávku š150/v54 mm, obsahuje rychlospojku, nosný profil, šroubový závěs, matice a zemnící spojka, příslušenství vztaženo k jednomu montážnímu 1m lávky ","ks",17,null,0]
[null,null,"Žlabové konstrukce 2.NP - dvoúrovňové trasy na společných závěsech 1x š200/104, 1x š100/54 "]
[{"$f":"A448+1","v":371},"H.038","Kabelová lávka š200/v104 mm, délka kusu 3m ","m",34,null,0]
[372,"H.039","Kabelová lávka š100/v54 mm, délka kusu 3m ","m",34,null,0]
[373,"H.040","Montážní příslušenství obsahuje rychlospojku, nosný profil, šroubový závěs, matice a zemnící spojka, příslušenství vztaženo k jednomu montážnímu 1m lávky, víceúrovňový závěs ","ks",68,null,0]
[null,null,"Žlabové konstrukce 2.NP - dvoúrovňové trasy na společných závěsech š200/104, 2x š100/54 "]
[{"$f":"A452+1","v":374},"H.042","Kabelová lávka š200/v104 mm","m",20,null,0]
[375,"H.043","Kabelová lávka š100/v54 mm","m",40,null,0]
[376,"H.044","Montážní příslušenství obsahuje rychlospojku, nosný profil, šroubový závěs, matice a zemnící spojka, příslušenství vztaženo k jednomu montážnímu 1m, víceúrovňový závěs ","ks",60,null,0]
[null,null,"Žlabové konstrukce 2.NP - dvoúrovňové trasy na společných závěsech š200/104, 2x š100/104 "]
[{"$f":"A456+1","v":377},"H.046","Kabelová lávka š200/v104 mm","m",5,null,0]
[378,"H.047","Kabelová lávka š100/v104 mm","m",10,null,0]
[379,"H.048","Montážní příslušenství obsahuje rychlospojku, nosný profil, šroubový závěs, matice a zemnící spojka, příslušenství vztaženo k jednomu montážnímu 1m lávky, víceúrovňový závěs ","ks",15,null,0]
[null,null,"Žlabové konstrukce 3.NP - samostatné trasy na samostatných závěsech"]
[{"$f":"A460+1","v":380},"H.050","Kabelová lávka š100/v54 mm","m",20,null,0]
[381,"H.051","Montážní příslušenství na lávku š100/v54 mm, obsahuje rychlospojku, nosný profil, šroubový závěs, matice a zemnící spojka, příslušenství vztaženo k jednomu montážnímu 1m lávky ","ks",20,null,0]
[382,"H.052","Kabelová lávka š150/v54 mm, trasa s funkční schopností P-120R","m",5,null,0]
[383,"H.053","Montážní příslušenství na lávku š150/v54 mm, obsahuje rychlospojku, nosný profil, šroubový závěs, matice a zemnící spojka, příslušenství vztaženo k jednomu montážnímu 1m lávky, vše protrasy s funkční schopností ","ks",5,null,0]
[384,"H.054","Kabelová lávka š200/v104 mm","m",7,null,0]
[385,"H.055","Montážní příslušenství na lávku š200/v104 mm, obsahuje rychlospojku, nosný profil, šroubový závěs, matice a zemnící spojka, příslušenství vztaženo k jednomu montážnímu 1m lávky ","ks",7,null,0]
[null,null,"Žlabové konstrukce 3.NP - dvoúrovňové trasy na společných závěsech 1x š200/104, 1x š100/54 "]
[{"$f":"A467+1","v":386},"H.057","Kabelová lávka š200/v104 mm, délka kusu 3m ","m",34,null,0]
[387,"H.058","Kabelová lávka š100/v54 mm, délka kusu 3m ","m",34,null,0]
[388,"H.059","Montážní příslušenství obsahuje rychlospojku, nosný profil, šroubový závěs, matice a zemnící spojka, příslušenství vztaženo k jednomu montážnímu 1m lávky, víceúrovňový závěs ","ks",68,null,0]
[null,null,"Žlabové konstrukce 3.NP - dvoúrovňové trasy na společných závěsech 1x š200/104, 2x š100/54 "]
[{"$f":"A471+1","v":389},"H.061","Kabelová lávka š200/v104 mm, délka kusu 3m ","m",20,null,0]
[390,"H.062","Kabelová lávka š100/v54 mm, délka kusu 3m ","m",40,null,0]
[391,"H.063","Montážní příslušenství obsahuje rychlospojku, nosný profil, šroubový závěs, matice a zemnící spojka, příslušenství vztaženo k jednomu montážnímu 1m lávky, víceúrovňový závěs ","ks",60,null,0]
[null,null,"Žlabové konstrukce 3.NP - dvoúrovňové trasy na společných závěsech š200/104, 2x š100/104 "]
[{"$f":"A475+1","v":392},"H.065","Kabelová lávka š200/v104 mm","m",5,null,{"$f":"E477*F477","v":0}]
[393,"H.066","Kabelová lávka š100/v104 mm","m",10,null,0]
[{"$f":"A478+1","v":394},"H.067","Montážní příslušenství obsahuje rychlospojku, nosný profil, šroubový závěs, matice a zemnící spojka, příslušenství vztaženo k jednomu montážnímu 1m lávky, víceúrovňový závěs ","ks",15,null,0]
[null,null,"Žlabové konstrukce 4.NP - samostatné trasy na samostatných závěsech"]
[{"$f":"A479+1","v":395},"H.069","Kabelová lávka š50/v54 mm","m",10,null,0]
[396,"H.070","Montážní příslušenství na lávku š50/v54 mm, obsahuje rychlospojku, nosný profil, šroubový závěs, matice a zemnící spojka, příslušenství vztaženo k jednomu montážnímu 1m lávky ","ks",10,null,0]
[397,"H.071","Kabelová lávka š100/v54 mm","m",4,null,0]
[398,"H.072","Montážní příslušenství na lávku š100/v54 mm, obsahuje rychlospojku, nosný profil, šroubový závěs, matice a zemnící spojka, příslušenství vztaženo k jednomu montážnímu 1m lávky ","ks",4,null,0]
[399,"H.073","Kabelová lávka š150/v54 mm, trasa s funkční schopností P-120R","m",6,null,0]
[400,"H.074","Montážní příslušenství na lávku š150/v54 mm, obsahuje rychlospojku, nosný profil, šroubový závěs, matice a zemnící spojka, příslušenství vztaženo k jednomu montážnímu 1m lávky, vše protrasy s funkční schopností ","ks",6,null,0]
[401,"H.075","Kabelová lávka š100/v104 mm","m",18,null,0]
[402,"H.076","Montážní příslušenství na lávku š100/v104 mm, obsahuje rychlospojku, nosný profil, šroubový závěs, matice a zemnící spojka, příslušenství vztaženo k jednomu montážnímu 1m lávky ","ks",18,null,0]
[403,"H.077","Kabelová lávka š200/v104 mm","m",5,null,0]
[404,"H.078","Montážní příslušenství na lávku š200/v104 mm, obsahuje rychlospojku, nosný profil, šroubový závěs, matice a zemnící spojka, příslušenství vztaženo k jednomu montážnímu 1m lávky ","ks",5,null,0]
[405,"H.079","Kabelová lávka š300/v104 mm","m",8,null,0]
[406,"H.080","Montážní příslušenství na lávku š300/v104 mm, obsahuje rychlospojku, nosný profil, šroubový závěs, matice a zemnící spojka, příslušenství vztaženo k jednomu montážnímu 1m lávky ","ks",8,null,0]
[407,"H.081","Kabelová lávka š400/v104 mm","m",6,null,0]
[408,"H.082","Montážní příslušenství na lávku š400/v104 mm, obsahuje rychlospojku, nosný profil, šroubový závěs, matice a zemnící spojka, příslušenství vztaženo k jednomu montážnímu 1m lávky ","ks",6,null,0]
[null,null,"Žlabové konstrukce 4.NP - dvoúrovňové trasy na společných závěsech š200/104, 1x š100/104 "]
[{"$f":"A494+1","v":409},"H.084","Kabelová lávka š200/v104 mm","m",5,null,0]
[410,"H.085","Kabelová lávka š100/v104 mm","m",5,null,0]
[411,"H.086","Montážní příslušenství obsahuje rychlospojku, nosný profil, šroubový závěs, matice a zemnící spojka, příslušenství vztaženo k jednomu montážnímu 1m lávky, víceúrovňový závěs ","ks",10,null,0]
[null,null,"Žlabové konstrukce 4.NP - jednoúrovňové trasy na společných závěsech 2x š100/104 "]
[{"$f":"A498+1","v":412},"H.088","Kabelová lávka š100/v104 mm","m",20,null,0]
[413,"H.089","Montážní příslušenství obsahuje rychlospojku, nosný profil, šroubový závěs, matice a zemnící spojka, příslušenství vztaženo k jednomu montážnímu 1m lávky, jednoúrovňový závěs ","ks",20,null,0]
[null,null,"Žlabové konstrukce 4.NP - dvoúrovňové trasy na společných závěsech 1x š300/104, 1x š100/104 "]
[{"$f":"A501+1","v":414},"H.091","Kabelová lávka š300/v104 mm","m",12,null,0]
[415,"H.092","Kabelová lávka š100/v104 mm","m",12,null,0]
[416,"H.093","Montážní příslušenství obsahuje rychlospojku, nosný profil, šroubový závěs, matice a zemnící spojka, příslušenství vztaženo k jednomu montážnímu 1m lávky, víceúrovňový závěs ","ks",24,null,0]
[null,null,"Žlabové konstrukce 4.NP - dvoúrovňové trasy na společných závěsech 1x š200/104, 2x š100/104 "]
[{"$f":"A505+1","v":417},"H.095","Kabelová lávka š200/v104 mm","m",39,null,0]
[418,"H.096","Kabelová lávka š100/v104 mm","m",68,null,0]
[419,"H.097","Montážní příslušenství obsahuje rychlospojku, nosný profil, šroubový závěs, matice a zemnící spojka, příslušenství vztaženo k jednomu montážnímu 1m lávky, víceúrovňový závěs ","ks",107,null,0]
[null,null,"Žlabové konstrukce 5.NP - samostatné trasy na samostatných závěsech"]
[{"$f":"A509+1","v":420},"H.099","Kabelová lávka š150/v54 mm, trasa s funkční schopností P-120R","m",5,null,0]
[421,"H.100","Montážní příslušenství na lávku š150/v54 mm, obsahuje rychlospojku, nosný profil, šroubový závěs, matice a zemnící spojka, příslušenství vztaženo k jednomu montážnímu 1m lávky, vše protrasy s funkční schopností ","ks",5,null,0]
[null,null,"Žlabové konstrukce 5.NP - dvoúrovňové trasy na společných závěsech 1x š100/104, 1x š100/54 "]
[{"$f":"A512+1","v":422},"H.102","Kabelová lávka š100/v104 mm, délka kusu 3m ","m",42,null,0]
[423,"H.103","Kabelová lávka š100/v54 mm, délka kusu 3m ","m",42,null,0]
[424,"H.104","Montážní příslušenství obsahuje rychlospojku, nosný profil, šroubový závěs, matice a zemnící spojka, příslušenství vztaženo k jednomu montážnímu 1m lávky, víceúrovňový závěs ","ks",84,null,0]
[null,null,"Žlabové konstrukce 5.NP - dvoúrovňové trasy na společných závěsech š100/104, 2x š100/54 "]
[{"$f":"A516+1","v":425},"H.106","Kabelová lávka š100/v104 mm","m",28,null,0]
[426,"H.107","Kabelová lávka š100/v54 mm","m",56,null,0]
[427,"H.108","Montážní příslušenství obsahuje rychlospojku, nosný profil, šroubový závěs, matice a zemnící spojka, příslušenství vztaženo k jednomu montážnímu 1m, víceúrovňový závěs ","ks",84,null,0]
[null,null,"Stoupací trasy"]
[{"$f":"A520+1","v":428},"H.110","Kabelová lávka š400/v104 mm","m",60,null,0]
[429,"H.111","Montážní příslušenství na lávku š400/v104 mm, obsahuje rychlospojku, nosný profil, šroubový závěs, matice a zemnící spojka, příslušenství vztaženo k jednomu montážnímu 1m lávky ","ks",60,null,0]
[430,"H.112","Kabelová lávka š100/v104 mm","m",60,null,0]
[431,"H.113","Montážní příslušenství na lávku š100/v104 mm, obsahuje rychlospojku, nosný profil, šroubový závěs, matice a zemnící spojka, příslušenství vztaženo k jednomu montážnímu 1m lávky ","ks",60,null,0]
[432,"H.114","Kabelová lávka š300/v104 mm","m",16,null,0]
[433,"H.115","Montážní příslušenství na lávku š300/v104 mm, obsahuje rychlospojku, nosný profil, šroubový závěs, matice a zemnící spojka, příslušenství vztaženo k jednomu montážnímu 1m lávky ","ks",16,null,0]
[434,"H.117","Montáž žlabu, stoupacího žebříku","m",1217,null,0]
[435,"H.118","Pomocné stavební práce","kpl",1217,null,0]
[436,"H.120","Doprava","ks",1,null,0]
[]
[null,null,"SPECIFIKACE NOSNÝCH ÚLOŽNÝCH KONSTUKCÍ PRO SDĚLOVACÍ KABELY"]
[null,null,"1)   ÚČEL"]
[null,null,"Ocelové drátové kabelové lávky musí odpovídat materiálům a parametrům této specifikace."]
[null,null,"2)  OBECNÉ POŽADAVKY "]
[null,null,"A)  Kabelové lávky budou vyrobeny z ocelových drátů, svařeny a ohnuty do konečného tvaru před konečnou povrchovou úpravou."]
[null,null,"B)  Povrchové úpravy:    "]
[null,null,"§            Elektrolyticky pozinkované podle EN 12329 pro vnitřní použití. "]
[null,null,"§            Žárově pozinkované podle EN ISO 1461."]
[null,null,"§            Nerezová ocel podle EN 10088-2 :  AISI 304L, AISI 316L."]
[null,null,"Na konci výrobního procesu musí být povrch nerezové ocele odmaštěn, mořen a pasivován. "]
[null,null,"C)  Drátové kabelové lávky - šířky a výšky"]
[null,null,"§              Všechny rozměry kabelové lávky jsou vnitřní."]
[null,null,"§              Hloubky 30 mm, 54 mm, 105 mm."]
[null,null,"§              Šířky 50 mm, 100 mm, 150 mm, 200 mm, 300 mm, 400 mm, 500 mm a 600 mm "]
[null,null,"pro hloubky 30 mm a 54 mm."]
[null,null,"§         Šířky 100 mm, 150 mm, 200 mm, 300 mm 400 mm, 500 mm a 600 mm"]
[null,null,"         pro hloubky 105 mm. "]
[null,null,"§           Všechny lávky jsou dlouhé 3005 mm.  "]
[null,null,"3)  SPECIFIKACE"]
[null,null,"A)  Drátové kabelové lávky budou vyrobeny z drátů o minimálním průměru:"]
[null,null,"§         4 mm pro lávky se šířkou do 100 mm"]
[null,null,"§         4.5 mm pro lávky se šířkou  300 mm"]
[null,null,"§         6.0 mm pro lávky se šířkou  400 – 600 mm"]
[null,null,"B)  Lávky musí mít bezpečný horní okraj tvořený svarem ve tvaru „T“ vytvořeného spojením    horního podélného drátu s příčnými dráty (kromě CF30/50)"]
[null,null,"C)  Lávky budou konstruovány s oky 50 mm x 100 mm."]
[null,null,"D) Všechny tvary (například změny směru, úrovně a velikosti) budou vyrobeny přímo na stavbě podle instrukcí výrobce pomocí nůžek s bočním ostřím, budou spojovány pomocí spojek 25mm/30mm a šroubů M6 s maticí."]
[null,null,"E)     Lávky budou spojovány za použití rychlospojek nebo spojek 25 mm/30 mm a šroubů M6 s maticí. U lávek širších než 300 mm  bude navíc použita podpůrná postranní lišta. Spojky budou mít stejnou povrchovou úpravu jako lávky."]
[null,null," F)  Lávky budou podepřeny v maximálním rozpětí 2,5 m a zátěže nebudou přesahovat nosnosti  specifikované výrobcem."]
[null,null," G) Všechny svary musí být vyrobeny s průměrnou minimální pevností v tahu 5000 N na svar."]
[null,null,"4. TESTY, CERTIFIKACE A SHODA"]
[null,null,"§         Maximální zátížení a odpovídající průhyby pro lávky musí být testované a výsledky publikované podle evropské normy IEC 61537."]
[null,null,"§         Vhodnost lávek pro užití na datové kabely kategorie 6 musí být ověřena nezávislými zkouškami."]
[null,null,"§         Certifikát požární odolnosti dle standardu PAVUS do  P90-R nebo E30/E90 dle DIN 4102-12."]
[null,null,"§         Elektrická vodivost spojek musí být uvedena včetně zkušební metody a výsledků."]
[null,null,"§         Stupeň EMC ochrany je prokázán pomocí zveřejněných detailních zkušebních postupů a výsledků."]

{"sheet":"09_SO 01 - EPS","index":12,"n_rows":137,"n_cols":7,"rows_kept":137,"cut":false,"hidden":false,"merged":[[24,3,24,6],[25,2,25,6],[28,3,28,6]]}
[{"$f":"CONCATENATE('Rekapitulace stavby'!C60,\"_\",'Rekapitulace stavby'!I60)","v":"09_SO 01 - EPS - Elektrická požární signalizace"}]
[]
["SPECIFIKACE DODÁVEK A PRACÍ "]
["Název akce:"]
[{"$f":"'Identifikační údaje'!B1","v":"ČRo Olomouc – rekonstrukce objektu Pavelčákova 2/19"}]
[]
["Zadavatel:",null,{"$f":"'Identifikační údaje'!E7","v":"Český rozhlas, Vinohradská 12, 120 99 Praha 2"}]
[null,"IČ:",{"$f":"'Identifikační údaje'!B9","v":45245053}]
[null,"DIČ:",{"$f":"'Identifikační údaje'!B10","v":"CZ45245053"}]
[]
["Projektant:",null,{"$f":"'Identifikační údaje'!E12","v":"ATELIER 38 s.r.o., Porážková 1424/20, 702 00 Ostrava – Moravská Ostrava"}]
[null,"IČ:",{"$f":"'Identifikační údaje'!B14","v":"258 58 343"}]
[null,"DIČ:",{"$f":"'Identifikační údaje'!B15","v":"CZ25858343"}]
[]
["Uchazeč:",null,{"$f":"'Identifikační údaje'!E19","v":", ,  "}]
[null,"IČ:",{"$f":"'Identifikační údaje'!B23","v":0}]
[null,"DIČ:",{"$f":"'Identifikační údaje'!B24","v":0}]
[]
["Místo stavby:",null,{"$f":"'Identifikační údaje'!B3","v":"Budova Českého rozhlasu Olomouc na adrese Pavelčákova 2/19, 779 00 Olomouc"}]
[]
["Datum vyplnění:",null,{"$f":"'Identifikační údaje'!B5","v":"00:00:00"}]
[]
[{"$f":"CONCATENATE(\"REKAPITULACE DODÁVEK A PRACÍ OBJEKTU \",'Rekapitulace stavby'!I60)","v":"REKAPITULACE DODÁVEK A PRACÍ OBJEKTU SO 01 - EPS - Elektrická požární signalizace"}]
[]
["P.č.","Číslo položky","Název položky","Kč bez DPH"]
[]
["Díl:",{"$f":"B36","v":"A"},{"$f":"C36","v":"EPS - Elektrická požární signalizace"},null,null,null,{"$f":"G36","v":0}]
[]
[{"$f":"CONCATENATE(\"CELKEM ZA OBJEKT \",'Rekapitulace stavby'!I60, \" v Kč bez DPH\")","v":"CELKEM ZA OBJEKT SO 01 - EPS - Elektrická požární signalizace v Kč bez DPH"},null,null,{"$f":"SUM(G27:G27)","v":0}]
[]
[]
[]
[]
[]
["P.č.","Číslo položky","Název položky","MJ","množství","cena / MJ","celkem"]
["Díl:","A","EPS - Elektrická požární signalizace",null,null,null,{"$f":"SUBTOTAL(9,G37:G137)","v":0}]
[{"$f":"1","v":1},"A.001","Kompaktní 4 smyčková požární ústředna ve skříni Comfort, rozměry 430 x 796 x 188 mm s prostorem pro 2 x 12 V/26Ah Aku, max. 504 adresovatelných C-NET prvků, 12 x programovací OC vst/výs, 1x nehlídaný výstup DP poplach a porucha a 1x hlídaný výstup DP poplach, porucha a 2x hlídaný výstup pro sirény. Napájecí zdroj 150W. Síťování po C-WEB,ústředna vybavena pro zapojení OPPO, KTPO, zapojení do sítě ústředen","ks",1,null,{"$f":"E37*F37","v":0}]
[{"$f":"A37+1","v":2},"A.002","28Ah/12V SCB\nBezúdržbový akumulátor 12V. Rozměry: 166 x 173 x 126; Hmotnost : 7,1 kg","ks",2,null,{"$f":"E38*F38","v":0}]
[{"$f":"A38+1","v":3},"A.003","Provozní kniha EPS","ks",1,null,0]
[{"$f":"A39+1","v":4},"A.004","Paralelní ovládací a zobrazovací externí tablo s připojením na hlásičovou adresovatelnou linku C-NET. Podsvícený 6-ti řádkový display se 40 znaky. Napájení z adresovatelné linky nebo externího zdroje 24VDC (součástí je montážní deska pro zápustnou montáž s přívody kabelů pod omítkou). Rozměry 282 x 207 x 46 mm ,osazen v recepci","ks",1,null,0]
[5,"A.005","Zařízení dálkového přenosu - vypracování realizační projektové dokumentace, uvedení do provozu, dodávka certifikované firmy pro Olomoucký kraj, na klíč (PCO typ GLobal II NAM)","kplt",1,null,0]
[6,"A.006","Zásahové karty ","ks",1,null,0]
[7,"A.007","Modul interface RS485 např. pro sériové OPPO, RADOM apod.","ks",1,null,0]
[8,"A.008","Licenční klíč S2 pro ústřednu a tablo pro dálkový přístup ke konfiguraci pomocí Cerberus Remote -  dohled + základní ovládání – akustika vyp., potvrzení, zpětné nastavení","ks",1,null,0]
[9,"A.009","Obslužné pole požární ochrany","ks",1,null,0]
[10,"A.010","Klíčový trezor požární ochrany s vyhříváním, vč. provedení a klíčové vložky pro region HZS OlK","ks",1,null,0]
[11,"A.011","Širokospektrální optickokouřový hlásič  s nastavitelným algoritmem vyhodnocení","ks",103,null,0]
[12,"A.012","Teplotní hlásič s nastavitelným vyhodnocením buď jako diferenciální, nebo maximální hlásič","ks",2,null,0]
[13,"A.013","Multisenzorový optickokouřový hlásič s nastavitelným algoritmem vyhodnocení technologie ASA hlásič","ks",3,null,0]
[14,"A.014","Patice standardní pro hlásiče ","ks",108,null,0]
[15,"A.015","Přídavná patice vývodková pro pro osazení hlásičů na stropě, přívodní kabeláž provedena v trubkách po povrchu","ks",15,null,0]
[16,"A.016","Tlačítkový hlásič komplet, červený s nepřímou aktivací, IP 44","ks",34,null,0]
[17,"A.017","Kryt tlačítka - červený použitelný pro všechny elektroniky velkých tlačítek ","ks",34,null,0]
[18,"A.018","Adresovatelný modul 4 vstupy","ks",1,null,0]
[19,"A.019","Elektronika lineárního hlásiče kouře vč. potřebného příslušenství, zapojený v hlás. Lince bez dodatkových zařízení","ks",5,null,0]
[20,"A.020","Patice pro osazení lineárního hlásiče kouře","ks",5,null,0]
[21,"A.021","Odrazný reflektor komplet pro vzdálenost do 30m, 200x200mm","ks",5,null,0]
[22,"A.022","EN54-23 nástěnný maják, červený na vysoké patici, napájení 9-60Vss, odběr 10-25mA /24Vss (nebo 19-51mA/12Vss),bílé záblesky 1Hz (přepínatelný na 0,5Hz), IP65, -25 až 70°C, certifikát, umístění nad klíčový trezor  dle zvyklostí místně příslušného HZS","ks",1,null,0]
[23,"A.023","Reléová skříň, nástěnná, určená pro montáž s lištou o velikosti 12DIN","ks",11,null,0]
[24,"A.024","Relé 12V=, 3xPŘEP 10A/250VAC, 35x35x54.4mm, do objímky","ks",33,null,0]
[25,"A.025","Objímka pro relé R15 3C/O, na DIN lištu","ks",99,null,0]
[26,"A.026","Relé 24VDC/24VDC, 3xPŘEP 5A, do objímky","ks",4,null,0]
[27,"A.027","Multifunkční autonomní siréna bílá  9-29VDC, 5mA/max32mA, 103dB vč. příslušenství","ks",57,null,0]
[28,"A.028","Přídavná patice k houkačce bílá","ks",57,null,0]
[29,"A.029","Paralelní optická signalizace","ks",2,null,0]
[30,"A.030","Přídavný rámeček optické signalizace","ks",2,null,0]
[31,"A.031","Lineární teplotní hlásič - vyhodnocovací jednotka pro osm nezávislých smyček,reléové výstupy, signalizace stavu poplach, porucha","ks",2,null,0]
[32,"A.032","Vstupně-výstupní reléový prvek na linku, 4 vst./4 výst. adresovatelný modul, relé výstup 250 VAC‚ 4 A‚ max. 1000 VA nebo 30 VDC‚ 4 A‚ max. 120 W ","ks",8,null,0]
[33,"A.033","Vstupně-výstupní reléový prvek na linku 2 vstupy (nebo 2 výstupy), hlídaný, pro zapojený hlídaných výstupů sirénových smyček","ks",7,null,0]
[34,"A.034","Samolepky s čísly adres - příslušenství označování hlásičů a prvků na linkách","ks",157,null,0]
[35,"A.035","Napájecí a dobíjecí zdroj, spínaný, max proud do zátěže 230VAC/24V DC/5A dle EN 54-4 vč. nástěnné montážní skříně a prostorem pro uložení AKU až 17Ah ","ks",2,null,0]
[36,"A.036","7Ah/12V SCB\nBezúdržbový akumulátor 12V. Rozměry: 152 x 94+6 x 65; Hmotnost : 2 kg","ks",4,null,0]
[37,"A.037","Rozváděč nástěnný ocelový plech 1200x800x300mm, včetně montážní desky, 3bodový zámek s výsuvnou klikou ","ks",2,null,0]
[38,"A.038","Požární ucpávky, včetně nátěru a instalace","m2",1.4000000000000004,null,0]
[39,"A.039",null,null,null,null,0]
[40,"A.040","Kabel dle Vyhlášky č.268/2011 Sb.PH120-R dle  ČSN 73 0895, B2caS1D0 dle PrEN 50399:07, ohniodolné dle ČSN IEC60331, bezhalogenové dle ČSN 50266\n2x1,5 PH120-R B2ca s1d1","m",274,null,0]
[41,"A.041","Kabel dle Vyhlášky č.268/2011 Sb.PH120-R, dle  ČSN 73 0895, B2caS1D0 dle PrEN 50399:07,Ohniodolný dle ČSN IEC60331, bezhalogenový dle ČSN 50266\nSSKFH–V180, B2ca, s1 d1 2x2x0,8","m",1570,null,0]
[42,"A.042","Kabel dle Vyhlášky č.268/2011 Sb.PH120-R, dle  ČSN 73 0895, B2caS1D0 dle PrEN 50399:07,Ohniodolný dle ČSN IEC60331, bezhalogenový dle ČSN 50266\nSSKFH–V180, B2ca, s1d1 1x2x0,8","m",416,null,0]
[43,"A.043","Bezhalogenový nízkofrekvenční sdělovací kabel s Al stíněním s malým množstvím uvolněného \ntepla v případě požáru, SHKFH–R 1x2x0,8, kabel pro hlásičové linky EPS B2ca s1d1","m",1638,null,0]
[44,"A.044","Bezhalogenový nízkofrekvenční sdělovací kabel s Al stíněním s malým množstvím uvolněného \ntepla v případě požáru, SHKFH–R 2x2x0,8, kabel EPS B2ca s1d1","m",214,null,0]
[45,"A.045","Lineární detekční kabel v základním provedení. Plášť ve vinylovém, oheň retardujícím provedení. Vhodný pro běžné aplikace. Nízká absorpce vlhkosti pláště. Odolný vůči běžným chemikáliím a vhodný pro nízké teploty. Teplota detekce - 68°C (155°F), maximální teplota okolí 46°C. (Uvedená cena za 1m.), vč. montážních příchytek a příslušenství pro uchycení kabelu,vč. T-clip držáků","m",262,null,0]
[46,"A.046","Kabel dle Vyhlášky č.268/2011 Sb.PH120-R, dle  ČSN 73 0895, B2caS1D0 dle PrEN 50399:07,Ohniodolný dle ČSN IEC60331, bezhalogenový dle ČSN 50266\nSSKFH–V180, B2ca, s1, d1 4x2x0,8, připojení KTPO a ZDP","m",86,null,0]
[47,"A.047","Kabel dle Vyhlášky č.268/2011 Sb.PH120-R, dle  ČSN 73 0895, B2caS1D0 dle PrEN 50399:07,Ohniodolný dle ČSN IEC60331, bezhalogenový dle ČSN 50266\nSSKFH–V180, B2ca, s1d1 10x2x0,8","m",86,null,0]
[48,"A.048","Bezhalogenový silový kabel 1-CXKH-R B2ca s1d0 3x1,5 kabel pro pož. klapky 230VAC se servopohonem","m",271,null,0]
[49,"A.049","Rozbočovací krabice se zachováním funkčnosti při požáru, určena pro kabely s prokázanou funkčností při požáru vč. svorkovnice je určena pro 5 vodičů s průřezem od 1,5 do 16 mm2","ks",11,null,0]
[50,"A.050","Jednostranná příchytka E30-E90 pro kabel o d 10mm dle Vyhl.23/268 2011 Sb. (ČSN 73 0895) vč. příslušenství pro uchycení do stropu","ks",8890.2000000000007,null,0]
[51,"A.051","Elektroinstalační trubka pevná hladká bezhalogenové provedení 23mm, montáž po povrchu","m",198,null,0]
[52,"A.052","Elektroinstalační trubka, 16mm, ohebná pod omítku","m",1460,null,0]
[53,"A.053","Kabelová lávka do 200mm určená pro trasy s požární odolností/integritou dle ČSN 73 0895, do stoupací svislé trasy rozvodů EPS 1.NP-5.NP","m",20,null,0]
[54,"A.054","Montážní příslušenství pro svislé uchycení kabelové lávky","ks",20,null,0]
[55,"A.055","Příchytka kabelová, typ H, 10-19mm (35)","ks",600,null,0]
[56,"A.056","Označení požárně odolných tras","ks",7,null,0]
[57,"A.057","Odlehčení v tahu do trasy P-30R stoupacích vedení 340x160x140mm","ks",5,null,0]
[58,"A.058","Kryt kabelových příchytek","ks",5,null,0]
[59,"A.059","Montážní set pro odlehčení v tahu","ks",5,null,0]
[60,"A.060",null,null,null,null,0]
[61,"A.061","Instalační materiál","ks",360,null,0]
[62,"A.062","Montáž ústředny, včetně přezkoušení a uvedení do provozu","ks",1,null,0]
[63,"A.063","Montáž OPPO, včetně přezkoušení a uvedení do provozu","ks",1,null,0]
[64,"A.064","Montáž KTPO, včetně přezkoušení a uvedení do provozu","ks",1,null,0]
[65,"A.065","Montáž ovládacího tabla, včetně přezkoušení a uvedení do provozu","ks",1,null,0]
[66,"A.066","Montáž zařízení ZDP, vč.proj.dokumentace v souladu s požadavky HZS MsK a uvedení zařízení do provozu","ks",1,null,{"$f":"E102*F102","v":0}]
[67,"A.067","Montáž signalizačního majáku na povrchu vč. jeho uvedení do provozu","ks",1,null,0]
[{"$f":"A103+1","v":68},"A.068","Montáž pomocného napájecího zdroje vč. jeho uvedení do provozu ","ks",2,null,0]
[69,"A.069","Montáž akumulátoru do skříně zdroje, ústředny vč. jeho uvedení do provozu","ks",6,null,0]
[70,"A.070","Montáž automat. hlásiče EPS, včetně přezkoušení a uvedení do provozu","ks",108,null,0]
[71,"A.071","Montáž tlačítkového hlásiče EPS, včetně přezkoušení a uvedení do provozu","ks",34,null,0]
[72,"A.072","Montáž zásuvky/patice po hlásič EPS","ks",108,null,0]
[73,"A.073","Montáž krabice a příslušenství pro zvýšené krytí na povrch pro uložení zásuvky EPS","ks",15,null,0]
[74,"A.074","Montáž lineárního optického hlásiče, vč. jeho nastavení a uvedení do provozu","ks",5,null,0]
[75,"A.075","Montáž modul 4In/4Out vč. jeho uvedení do provozu","ks",8,null,0]
[76,"A.076","Montáž modul 2In/Out vč. jeho uvedení do provozu","ks",7,null,0]
[77,"A.077","Montáž modul 4In vč. jeho uvedení do provozu","ks",1,null,0]
[78,"A.078","Montáž paralelní signalizace vč. jeho uvedení do provozu","ks",2,null,0]
[79,"A.079","Montáž reléová skříňka, nástěnná, určená pro montáž s lištou o velikosti 12DIN, vč. relé, vč.uvedení do provozu","ks",11,null,0]
[80,"A.080","Montáž samostatné sirény, majáku vč. jeho uvedení do provozu","ks",58,null,0]
[81,"A.081","Montáž vyhodnocovací jednotky teplotního lineárního hlásiče vč. uvedení do provozu","ks",2,null,0]
[82,"A.082","Montáž rozváděče EPS, vč. vnitřního příslušenství","ks",2,null,0]
[83,"A.083","Kabelové trasy-instalace kabelů do trubek, žlabů apod","m",2024,null,0]
[84,"A.084","Kabelové trasy-instalace chrániček, kabelů do zdi, na příchytky apod.","m",4603,null,0]
[85,"A.085","Kabelové trasy-instalace kabelového žlabu, stoupacího žebříku vč. montážního příslušenství apod.","m",20,null,0]
[86,"A.086","Průraz ve zdivu cihlovém/betonovém tl. 30cm, plochy do 0,025m2, vč. začištění","ks",106,null,0]
[87,"A.087","Průraz ve stropě cihlovém/betonovém tl. 30cm, plochy do 0,025m2, vč. začištění","ks",1,null,0]
[88,"A.088","Průraz přes strop, vč. začištění","ks",19,null,0]
[89,"A.089","Montáž odlehčení v tahu do stoupací trasy","ks",5,null,0]
[90,"A.090","Plošina, montážní práce ve výškách","den",3,null,0]
[91,"A.091","Kontrola funkčnosti zapojených ovládaných zařízení, vč. uvedení do provozu","ks",65,null,0]
[92,"A.092","Kontrola funkčnosti zapojených ovládaných PPK a PSUM, vč. uvedení do provozu","ks",22,null,0]
[93,"A.093","Zapojení výstupů systému EKV,  které slouží pro napájení el. zámků do systému EPS - přerušení napájení el. zámků","ks",3,null,0]
[94,"A.094","Programování ústředny EPS jako celku","h",88,null,0]
[95,"A.095","Školení obsluhy ","h",8,null,0]
[96,"A.096","Revize","kplt",1,null,0]
[97,"A.097","Oživení, zkušební testy instalovaného systému","kplt",1,null,0]
[98,"A.098","Vypracování výroní dokumentace stavby","kplt",1,null,0]
[99,"A.099","Vypracování dokumentace skutečného provedení stavby","kplt",1,null,0]
[100,"A.100","Pomocné stavební práce","h",64,null,0]
[101,"A.101","Doprava","kplt",1,null,0]

{"sheet":"10_SO 01 - akustika","index":13,"n_rows":159,"n_cols":11,"rows_kept":159,"cut":false,"hidden":false,"merged":[[15,2,15,3],[138,8,138,9],[158,8,158,9],[28,8,28,9],[29,8,29,9],[115,8,115,9],[95,8,95,9],[26,8,26,9],[27,8,27,9],[30,8,30,9],[32,8,32,9],[72,8,72,9]]}
[{"$f":"CONCATENATE('Rekapitulace stavby'!C61,\"_\",'Rekapitulace stavby'!I61)","v":"10_SO 01 - Prostorová akustika"}]
[]
["SPECIFIKACE DODÁVEK A PRACÍ "]
["Název akce:"]
[{"$f":"'Identifikační údaje'!B1","v":"ČRo Olomouc – rekonstrukce objektu Pavelčákova 2/19"}]
[]
["Zadavatel:",null,{"$f":"'Identifikační údaje'!E7","v":"Český rozhlas, Vinohradská 12, 120 99 Praha 2"}]
[null,"IČ:",{"$f":"'Identifikační údaje'!B9","v":45245053}]
[null,"DIČ:",{"$f":"'Identifikační údaje'!B10","v":"CZ45245053"}]
[]
["Projektant:",null,{"$f":"'Identifikační údaje'!E12","v":"ATELIER 38 s.r.o., Porážková 1424/20, 702 00 Ostrava – Moravská Ostrava"}]
[null,"IČ:",{"$f":"'Identifikační údaje'!B14","v":"258 58 343"}]
[null,"DIČ:",{"$f":"'Identifikační údaje'!B15","v":"CZ25858343"}]
[]
["Uchazeč:",null,{"$f":"'Identifikační údaje'!E19","v":", ,  "}]
[null,"IČ:",{"$f":"'Identifikační údaje'!B23","v":0}]
[null,"DIČ:",{"$f":"'Identifikační údaje'!B24","v":0}]
[]
["Místo stavby:",null,{"$f":"'Identifikační údaje'!B3","v":"Budova Českého rozhlasu Olomouc na adrese Pavelčákova 2/19, 779 00 Olomouc"}]
[]
["Datum vyplnění:",null,{"$f":"'Identifikační údaje'!B5","v":"00:00:00"}]
[]
[{"$f":"CONCATENATE(\"REKAPITULACE DODÁVEK A PRACÍ OBJEKTU \",'Rekapitulace stavby'!I61)","v":"REKAPITULACE DODÁVEK A PRACÍ OBJEKTU SO 01 - Prostorová akustika"}]
[]
["P.č.",null,"Ozn.","Název položky",null,null,null,null,"Kč bez DPH"]
[]
["Díl:",{"$f":"A53","v":1},null,{"$f":"D53","v":"016 - Záložní studio"},null,null,null,null,{"$f":"I73","v":0}]
["Díl:",{"$f":"A76","v":2},null,{"$f":"D76","v":"017 - záložní režie"},null,null,null,null,{"$f":"I96","v":0}]
["Díl:",{"$f":"A99","v":3},null,{"$f":"D99","v":"109 - Samoobslužné pracoviště"},null,null,null,null,{"$f":"I116","v":0}]
["Díl:",{"$f":"A119","v":4},null,{"$f":"D119","v":"120 - Vysílací režie"},null,null,null,null,{"$f":"I139","v":0}]
["Díl:",{"$f":"A142","v":5},null,{"$f":"D142","v":"209 - Samoobslužné pracoviště"},null,null,null,null,{"$f":"I159","v":0}]
[]
[{"$f":"CONCATENATE(\"CELKEM ZA OBJEKT \",'Rekapitulace stavby'!I61, \" v Kč bez DPH\")","v":"CELKEM ZA OBJEKT SO 01 - Prostorová akustika v Kč bez DPH"},null,null,null,null,null,null,null,{"$f":"SUM(I27:J31)","v":0}]
[]
[]
[]
["Poznámky:"]
["V ceně je obsažena komplexní dodávka a montáž včetně dopravy, přesunu hmot, VRN a hrubého úklidu staveniště."]
["V ceně akustických obkladů jsou obsaženy také všechny obložky a zakončení s ním související."]
["Všechny výše uvedené rozměry je nutné před zahájením vlastní výroby ověřit zaměřením přímo na stavbě."]
[]
[]
[]
[]
[]
[]
[]
[]
[]
[]
[]
[]
[1,null,null,"016 - Záložní studio"]
["Čís. pol.","Zkratka","Název položky",null,null,null,"MJ","množství","jednotková cena ","celkem [Kč]","Technické specifikace, technické a uživatelské standardy stavby, podrobný popis položky"]
[1,null,"Akustický podhled rastrový širokopásmový",null,null,null,"m2",4.5,null,{"$f":"I55*H55","v":0},"Akustický podhled rastrový, rozměr desek 600 x 600 mm, střední činitel akustické absorpce aw=1. Barva dle vzorníku a výběru investora, předpoklad bílá. Včetně nosného roštu.\n"]
[{"$f":"A55+1","v":2},null,"Akustický podhled rastrový s redukovanou akustickou absorpcí",null,null,null,"m2",4.5,null,{"$f":"I56*H56","v":0},"Akustický podhled rastrový, rozměr desek 600 x 600 mm. Doplněk k širokopásmovým podhledovým deskám, redukovaná absorpce (méně než 0,4). Barva dle vzorníku a výběru investora, předpoklad bílá. Včetně nosného roštu.\nPoměr obou typů desek je předmětem úprav v rámci ladění na základě etapových měření.\n"]
[{"$f":"A56+1","v":3},null,"SDK podhled plný",null,null,null,"m2",10,null,0,"Obvodová část podhledu (lem) plný SDK 12,5 mm, kotvení do rastru stavební akustiky, včetně nosného roštu, obvodových lišt a příprav pro vyústky VZT a zásuvky LAN a 230V.\n"]
[{"$f":"A57+1","v":4},null,"Širokopásmový stěnový obklad s potiskem",null,null,null,"m2",17,null,0,"Širokopásmový akustický panel pro instalaci na stěny. Celková tl. min 40 mm, vážený koeficient akustické absorpce aw>0,9. Dodávka vč. celoplošného potisku, lemování/bočních obložek a instalačního materiálu. Přídavná minerální vata je uvedena a specifikována v samostatné položce.\nPřed finálním vyhotovením musí proběhnout tisková zkouška a odsouhlasení tisku investorem.\n"]
[{"$f":"A58+1","v":5},null,"Nízkofrekvenční akustické prvky",null,null,null,"m2",16.5,null,0,"Nízkofrekvenční akustický panel pro instalaci na stěnový rošt. Skladba dle projektu interiéru - základní nosná deska s perforací a vertikální latě, průzvučná tkanina. Provedení perforace včetně rozestupů musí korespondovat s pozicemi latí a bude určena v rámci dílenské dokumentace na základě vstupního měření a dopočtů doby dozvuku. Předpoklad maxima akustické absorpce v oktávovém pásmu 125 Hz. \nPovrchová úprava dle projektu interiéru, třída hořlavosti A.\nDodávka vč. instalačního materiálu. Potřebná minerální vata je uvedena a specifikována v samostatné položce.\n"]
[{"$f":"A59+1","v":6},null,"Okenní parapet",null,null,null,"bm",1.4,null,0,"Parapet s ventilační mřížkou nad radiátorem, hloubka cca 800 mm, návaznost na kryt topení.\n"]
[7,null,"Kryt topení",null,null,null,"m2",1,null,0,"Kryt radiátorů dle projektu interiéru, tvořený svislými lamelami v přímé vizuální návaznosti na akustický obklad. Třída hořlavosti A. Nosný rošt tvořící podporu parapetům."]
[8,null,"Obložky dveří a oken",null,null,null,"kpl",1,null,0,"Zakončení akustických obkladů u studiového okna, okna do exteriéru a vstupních dveří. Plný deskový materiál bez perforace, včetně příprav pro instalaci zásuvek a rozvaděče. Třída hořlavosti A.\n"]
[9,null,"Mřížka vzduchotechniky - strop",null,null,null,"bm",3.8,null,0,"Mřížka do SDK sekcí podhledu pro přívod/odvod vzduchu, dle projektu interiéru, šířka 200 mm.\n"]
[10,null,"Mřížka vzduchotechniky - stěny",null,null,null,"m2",1,null,0,"Vertikální vyústka VZT instalovaná v rámci stěnových obkladů, design v přímé návaznosti na nízkofrekvenční akustické prvky. Dle projektu interiéru.\n"]
[11,null,"Koberec",null,null,null,"m2",16,null,0,"Koberec s důrazem na akustické nároky, tl. min. 8 mm, činitel akustické absorpce na oktávovém pásmu 500 Hz min. 0,5. Barva dle vzorníků a výběru investora. Klasifikace pro intenzivní provoz.\n"]
[12,null,"Minerální vata ",null,null,null,"m2",50,null,0,"Akustický absorbér pro akustické panely (nízkofrekvenční i širokopásmové), minerální nebo skelná vata, minimální tloušťka 80 mm, objemová hmotnost minimálně 35 kg/m2. Fixace pro zajištění vertikální pozice u akustických obkladů. U stěny s dveřmi je počítána dvojnásobná tloušťka.\n"]
[13,null,"Nosný rošt",null,null,null,"m2",40,null,0,"Vertikální nosné prvky pro akustické panely, nehořlavý, rektifikace pro eliminaci nerovinnosti stěn, fixace minerálních desek.\n"]
[14,null,"Doprava",null,null,null,"kpl",1,null,0]
[15,null,"Instalační práce",null,null,null,"kpl",1,null,0,"Dodávka a montáž nových akustických prvků, VRN. Včetně ochrany podlahy a interiéru.\n"]
[16,null,"Úklid prostoru",null,null,null,"kpl",1,null,0]
[17,null,"Měření doby dozvuku ",null,null,null,"kpl",3,null,0,"Měření kmitočtové závislosti doby dozvuku v řešeném prostoru - vstupní, etapové a závěrečné měření s vypracováním protokolu.\n"]
[18,null,"Dílenská dokumentace",null,null,null,"kpl",1,null,0,"Dokumentace pro realizaci akustických úprav, kterou musí investor před zahájením prací schválit a úpravy/dopočty navazující na vstupní a etapové měření.\n"]
[{"$f":"CONCATENATE(\"Celkem Kč bez DPH za \",A53,\" - \",D53)","v":"Celkem Kč bez DPH za 1 - 016 - Záložní studio"},null,null,null,null,null,null,null,{"$f":"SUM(J55:J72)","v":0}]
[]
[]
[2,null,null,"017 - záložní režie"]
["Čís. pol.","Zkratka","Název položky",null,null,null,"MJ","množství","jednotková cena ","celkem [Kč]","Technické specifikace, technické a uživatelské standardy stavby, podrobný popis položky"]
[{"$f":"A72+1","v":19},null,"Akustický podhled rastrový širokopásmový",null,null,null,"m2",11.5,null,{"$f":"I78*H78","v":0},"Akustický podhled rastrový, rozměr desek 600 x 600 mm, střední činitel akustické absorpce aw=1. Barva dle vzorníku a výběru investora, předpoklad bílá. Včetně nosného roštu.\n"]
[{"$f":"A78+1","v":20},null,"Akustický podhled rastrový s redukovanou akustickou absorpcí",null,null,null,"m2",3.5,null,{"$f":"I79*H79","v":0},"Akustický podhled rastrový, rozměr desek 600 x 600 mm. Doplněk k širokopásmovým podhledovým deskám, redukovaná absorpce (méně než 0,4). Barva dle vzorníku a výběru investora, předpoklad bílá. Včetně nosného roštu.\nPoměr obou typů desek je předmětem úprav v rámci ladění na základě etapových měření.\n"]
[{"$f":"A79+1","v":21},null,"SDK podhled plný",null,null,null,"m2",15,null,0,"Obvodová část podhledu (lem) plný SDK 12,5 mm, kotvení do rastru stavební akustiky, včetně nosného roštu, obvodových lišt a příprav pro vyústky VZT a zásuvky LAN a 230V.\n"]
[22,null,"Širokopásmový stěnový obklad s potiskem",null,null,null,"m2",18,null,0,"Širokopásmový akustický panel pro instalaci na stěny. Celková tl. min 40 mm, vážený koeficient akustické absorpce aw>0,9. Dodávka vč. celoplošného potisku, lemování/bočních obložek a instalačního materiálu. Přídavná minerální vata je uvedena a specifikována v samostatné položce.\nPřed finálním vyhotovením musí proběhnout tisková zkouška a odsouhlasení tisku investorem.\n"]
[23,null,"Nízkofrekvenční akustické prvky",null,null,null,"m2",17.5,null,0,"Nízkofrekvenční akustický panel pro instalaci na stěnový rošt. Skladba dle projektu interiéru - základní nosná deska s perforací a vertikální latě, průzvučná tkanina. Provedení perforace včetně rozestupů musí korespondovat s pozicemi latí a bude určena v rámci dílenské dokumentace na základě vstupního měření a dopočtů doby dozvuku. Předpoklad maxima akustické absorpce v oktávovém pásmu 125 Hz. \nPovrchová úprava dle projektu interiéru, třída hořlavosti A.\nDodávka vč. instalačního materiálu. Potřebná minerální vata je uvedena a specifikována v samostatné položce.\n"]
[24,null,"Okenní parapet",null,null,null,"bm",2.8,null,0,"Parapet s ventilační mřížkou (2 ks) nad radiátory, hloubka cca 800 mm, návaznost na kryty topení."]
[25,null,"Kryt topení",null,null,null,"m2",2,null,0,"Kryt radiátorů dle projektu interiéru, tvořený svislými lamelami v přímé vizuální návaznosti na akustický obklad. Třída hořlavosti A. Nosný rošt tvořící podporu parapetům."]
[26,null,"Obložky dveří a oken",null,null,null,"kpl",1,null,0,"Zakončení akustických obkladů u studiového okna, okna do exteriéru a vstupních dveří. Plný deskový materiál bez perforace, včetně příprav pro instalaci zásuvek a rozvaděče. Třída hořlavosti A.\n"]
[27,null,"Mřížka vzduchotechniky - strop",null,null,null,"bm",13,null,0,"Mřížka do SDK sekcí podhledu pro přívod/odvod vzduchu, dle projektu interiéru, šířka 200 mm.\n"]
[28,null,"Mřížka vzduchotechniky - stěny",null,null,null,"m2",2,null,0,"Vertikální vyústky VZT instalované v rámci stěnových obkladů, design v přímé návaznosti na nízkofrekvenční akustické prvky. Dle projektu interiéru.\n"]
[29,null,"Koberec",null,null,null,"m2",23,null,0,"Koberec s důrazem na akustické nároky, tl. min. 8 mm, činitel akustické absorpce na oktávovém pásmu 500 Hz min. 0,5. Barva dle vzorníků a výběru investora. Klasifikace pro intenzivní provoz."]
[30,null,"Minerální vata ",null,null,null,"m2",60,null,0,"Akustický absorbér pro akustické panely (nízkofrekvenční i širokopásmové), minerální nebo skelná vata, minimální tloušťka 80 mm, objemová hmotnost minimálně 35 kg/m2. Fixace pro zajištění vertikální pozice u akustických obkladů. U stěny s dveřmi je počítána dvojnásobná tloušťka.\n"]
[31,null,"Nosný rošt",null,null,null,"m2",50,null,0,"Vertikální nosné prvky pro akustické panely, nehořlavý, rektifikace pro eliminaci nerovinnosti stěn, fixace minerálních desek.\n"]
[32,null,"Doprava",null,null,null,"kpl",1,null,0]
[33,null,"Instalační práce",null,null,null,"kpl",1,null,0,"Dodávka a montáž nových akustických prvků, VRN. Včetně ochrany podlahy a interiéru.\n"]
[34,null,"Úklid prostoru",null,null,null,"kpl",1,null,0]
[35,null,"Měření doby dozvuku ",null,null,null,"kpl",3,null,0,"Měření kmitočtové závislosti doby dozvuku v řešeném prostoru - vstupní, etapové a závěrečné měření s vypracováním protokolu.\n"]
[36,null,"Dílenská dokumentace",null,null,null,"kpl",1,null,0,"Dokumentace pro realizaci akustických úprav, kterou musí investor před zahájením prací schválit a úpravy/dopočty navazující na vstupní a etapové měření.\n"]
[{"$f":"CONCATENATE(\"Celkem Kč bez DPH za \",A76,\" - \",D76)","v":"Celkem Kč bez DPH za 2 - 017 - záložní režie"},null,null,null,null,null,null,null,{"$f":"SUM(J78:J95)","v":0}]
[]
[]
[3,null,null,"109 - Samoobslužné pracoviště"]
["Čís. pol.","Zkratka","Název položky",null,null,null,"MJ","množství","jednotková cena ","celkem [Kč]","Technické specifikace, technické a uživatelské standardy stavby, podrobný popis položky"]
[{"$f":"A95+1","v":37},null,"Akustický podhled rastrový širokopásmový",null,null,null,"m2",3.6,null,{"$f":"I101*H101","v":0},"Akustický podhled rastrový, rozměr desek 600 x 600 mm, střední činitel akustické absorpce aw=1. Barva dle vzorníku a výběru investora, předpoklad bílá. Včetně nosného roštu.\n"]
[{"$f":"A101+1","v":38},null,"Akustický podhled rastrový s redukovanou akustickou absorpcí",null,null,null,"m2",3.6,null,{"$f":"I102*H102","v":0},"Akustický podhled rastrový, rozměr desek 600 x 600 mm. Doplněk k širokopásmovým podhledovým deskám, redukovaná absorpce (méně než 0,4). Barva dle vzorníku a výběru investora, předpoklad bílá. Včetně nosného roštu.\nPoměr obou typů desek je předmětem úprav v rámci ladění na základě etapových měření.\n"]
[{"$f":"A102+1","v":39},null,"SDK podhled plný",null,null,null,"m2",3,null,0,"Obvodová část podhledu (lem) plný SDK 12,5 mm, kotvení do rastru stavební akustiky, včetně nosného roštu, obvodových lišt a příprav pro vyústky VZT a zásuvky LAN a 230V.\n"]
[40,null,"Širokopásmový stěnový obklad s potiskem",null,null,null,"m2",14.5,null,0,"Širokopásmový akustický panel pro instalaci na stěny. Celková tl. min 40 mm, vážený koeficient akustické absorpce aw>0,9. Dodávka vč. celoplošného potisku, lemování/bočních obložek a instalačního materiálu. Přídavná minerální vata je uvedena a specifikována v samostatné položce.\nPřed finálním vyhotovením musí proběhnout tisková zkouška a odsouhlasení tisku investorem.\n"]
[41,null,"Nízkofrekvenční akustické prvky",null,null,null,"m2",16,null,0,"Nízkofrekvenční akustický panel pro instalaci na stěnový rošt. Skladba dle projektu interiéru - základní nosná deska s perforací a vertikální latě, průzvučná tkanina. Provedení perforace včetně rozestupů musí korespondovat s pozicemi latí a bude určena v rámci dílenské dokumentace na základě vstupního měření a dopočtů doby dozvuku. Předpoklad maxima akustické absorpce v oktávovém pásmu 125 Hz. \nPovrchová úprava dle projektu interiéru, třída hořlavosti A.\nDodávka vč. instalačního materiálu. Potřebná minerální vata je uvedena a specifikována v samostatné položce.\n"]
[42,null,"Obložky dveří",null,null,null,"kpl",1,null,0,"Zakončení akustických obkladů u vstupních dveří. Plný deskový materiál bez perforace, včetně příprav pro instalaci zásuvek a rozvaděče. Třída hořlavosti A.\n"]
[43,null,"Mřížka vzduchotechniky - stěny",null,null,null,"kpl",1,null,0,"VZT mřížka v rámci stěnových obkladů, dle projektu interiéru.\n"]
[44,null,"Koberec",null,null,null,"m2",10,null,0,"Koberec s důrazem na akustické nároky, tl. min. 8 mm, činitel akustické absorpce na oktávovém pásmu 500 Hz min. 0,5. Barva dle vzorníků a výběru investora. Klasifikace pro intenzivní provoz.\n"]
[45,null,"Minerální vata ",null,null,null,"m2",35,null,0,"Akustický absorbér pro akustické panely (nízkofrekvenční i širokopásmové), minerální nebo skelná vata, minimální tloušťka 80 mm, objemová hmotnost minimálně 35 kg/m2. Fixace pro zajištění vertikální pozice u akustických obkladů.\n"]
[46,null,"Nosný rošt",null,null,null,"m2",35,null,0,"Vertikální nosné prvky pro akustické panely, nehořlavý, rektifikace pro eliminaci nerovinnosti stěn, fixace minerálních desek.\n"]
[47,null,"Doprava",null,null,null,"kpl",1,null,0]
[48,null,"Instalační práce",null,null,null,"kpl",1,null,0,"Dodávka a montáž nových akustických prvků, VRN. Včetně ochrany podlahy a interiéru.\n"]
[49,null,"Úklid prostoru",null,null,null,"kpl",1,null,0]
[50,null,"Měření doby dozvuku ",null,null,null,"kpl",3,null,0,"Měření kmitočtové závislosti doby dozvuku v řešeném prostoru - vstupní, etapové a závěrečné měření s vypracováním protokolu.\n"]
[51,null,"Dílenská dokumentace",null,null,null,"kpl",1,null,0,"Dokumentace pro realizaci akustických úprav, kterou musí investor před zahájením prací schválit."]
[{"$f":"CONCATENATE(\"Celkem Kč bez DPH za \",A99,\" - \",D99)","v":"Celkem Kč bez DPH za 3 - 109 - Samoobslužné pracoviště"},null,null,null,null,null,null,null,{"$f":"SUM(J101:J115)","v":0}]
[]
[]
[4,null,null,"120 - Vysílací režie"]
["Čís. pol.","Zkratka","Název položky",null,null,null,"MJ","množství","jednotková cena ","celkem [Kč]","Technické specifikace, technické a uživatelské standardy stavby, podrobný popis položky"]
[{"$f":"A115+1","v":52},null,"Akustický podhled rastrový širokopásmový",null,null,null,"m2",11.5,null,{"$f":"I121*H121","v":0},"Akustický podhled rastrový, rozměr desek 600 x 600 mm, střední činitel akustické absorpce aw=1. Barva dle vzorníku a výběru investora, předpoklad bílá. Včetně nosného roštu.\n"]
[{"$f":"A121+1","v":53},null,"Akustický podhled rastrový s redukovanou akustickou absorpcí",null,null,null,"m2",3.5,null,{"$f":"I122*H122","v":0},"Akustický podhled rastrový, rozměr desek 600 x 600 mm. Doplněk k širokopásmovým podhledovým deskám, redukovaná absorpce (méně než 0,4). Barva dle vzorníku a výběru investora, předpoklad bílá. Včetně nosného roštu.\nPoměr obou typů desek je předmětem úprav v rámci ladění na základě etapových měření.\n"]
[{"$f":"A122+1","v":54},null,"SDK podhled plný",null,null,null,"m2",15,null,0,"Obvodová část podhledu (lem) plný SDK 12,5 mm, kotvení do rastru stavební akustiky, včetně nosného roštu, obvodových lišt a příprav pro vyústky VZT a zásuvky LAN a 230V.\n"]
[55,null,"Širokopásmový stěnový obklad s potiskem",null,null,null,"m2",18,null,0,"Širokopásmový akustický panel pro instalaci na stěny. Celková tl. min 40 mm, vážený koeficient akustické absorpce aw>0,9. Dodávka vč. celoplošného potisku, lemování/bočních obložek a instalačního materiálu. Přídavná minerální vata je uvedena a specifikována v samostatné položce.\nPřed finálním vyhotovením musí proběhnout tisková zkouška a odsouhlasení tisku investorem.\n"]
[56,null,"Nízkofrekvenční akustické prvky",null,null,null,"m2",17.5,null,0,"Nízkofrekvenční akustický panel pro instalaci na stěnový rošt. Skladba dle projektu interiéru - základní nosná deska s perforací a vertikální latě, průzvučná tkanina. Provedení perforace včetně rozestupů musí korespondovat s pozicemi latí a bude určena v rámci dílenské dokumentace na základě vstupního měření a dopočtů doby dozvuku. Předpoklad maxima akustické absorpce v oktávovém pásmu 125 Hz. \nPovrchová úprava dle projektu interiéru, třída hořlavosti A.\nDodávka vč. instalačního materiálu. Potřebná minerální vata je uvedena a specifikována v samostatné položce.\n"]
[57,null,"Okenní parapet",null,null,null,"bm",2.8,null,0,"Parapet s ventilační mřížkou (2 ks) nad radiátory, hloubka cca 800 mm, návaznost na kryty topení."]
[58,null,"Kryt topení",null,null,null,"m2",2,null,0,"Kryt radiátorů dle projektu interiéru, tvořený svislými lamelami v přímé vizuální návaznosti na akustický obklad. Třída hořlavosti A. Nosný rošt tvořící podporu parapetům."]
[59,null,"Obložky dveří a oken",null,null,null,"kpl",1,null,0,"Zakončení akustických obkladů u studiového okna, okna do exteriéru a vstupních dveří. Plný deskový materiál bez perforace, včetně příprav pro instalaci zásuvek a rozvaděče. Třída hořlavosti A.\n"]
[60,null,"Mřížka vzduchotechniky - strop",null,null,null,"bm",13,null,0,"Mřížka do SDK sekcí podhledu pro přívod/odvod vzduchu, dle projektu interiéru, šířka 200 mm.\n"]
[61,null,"Mřížka vzduchotechniky - stěny",null,null,null,"m2",2,null,0,"Vertikální vyústky VZT instalované v rámci stěnových obkladů, design v přímé návaznosti na nízkofrekvenční akustické prvky. Dle projektu interiéru.\n"]
[62,null,"Koberec",null,null,null,"m2",23,null,0,"Koberec s důrazem na akustické nároky, tl. min. 8 mm, činitel akustické absorpce na oktávovém pásmu 500 Hz min. 0,5. Barva dle vzorníků a výběru investora. Klasifikace pro intenzivní provoz."]
[63,null,"Minerální vata ",null,null,null,"m2",60,null,0,"Akustický absorbér pro akustické panely (nízkofrekvenční i širokopásmové), minerální nebo skelná vata, minimální tloušťka 80 mm, objemová hmotnost minimálně 35 kg/m2. Fixace pro zajištění vertikální pozice u akustických obkladů. U stěny s dveřmi je počítána dvojnásobná tloušťka.\n"]
[64,null,"Nosný rošt",null,null,null,"m2",50,null,0,"Vertikální nosné prvky pro akustické panely, nehořlavý, rektifikace pro eliminaci nerovinnosti stěn, fixace minerálních desek.\n"]
[65,null,"Doprava",null,null,null,"kpl",1,null,0]
[66,null,"Instalační práce",null,null,null,"kpl",1,null,0,"Dodávka a montáž nových akustických prvků, VRN. Včetně ochrany podlahy a interiéru.\n"]
[67,null,"Úklid prostoru",null,null,null,"kpl",1,null,0]
[68,null,"Měření doby dozvuku ",null,null,null,"kpl",3,null,0,"Měření kmitočtové závislosti doby dozvuku v řešeném prostoru - vstupní, etapové a závěrečné měření s vypracováním protokolu.\n"]
[69,null,"Dílenská dokumentace",null,null,null,"kpl",1,null,0,"Dokumentace pro realizaci akustických úprav, kterou musí investor před zahájením prací schválit a úpravy/dopočty navazující na vstupní a etapové měření.\n"]
[{"$f":"CONCATENATE(\"Celkem Kč bez DPH za \",A119,\" - \",D119)","v":"Celkem Kč bez DPH za 4 - 120 - Vysílací režie"},null,null,null,null,null,null,null,{"$f":"SUM(J121:J138)","v":0}]
[]
[]
[5,null,null,"209 - Samoobslužné pracoviště"]
["Čís. pol.","Zkratka","Název položky",null,null,null,"MJ","množství","jednotková cena ","celkem [Kč]","Technické specifikace, technické a uživatelské standardy stavby, podrobný popis položky"]
[{"$f":"A138+1","v":70},null,"Akustický podhled rastrový širokopásmový",null,null,null,"m2",3.6,null,{"$f":"I144*H144","v":0},"Akustický podhled rastrový, rozměr desek 600 x 600 mm, střední činitel akustické absorpce aw=1. Barva dle vzorníku a výběru investora, předpoklad bílá. Včetně nosného roštu.\n"]
[{"$f":"A144+1","v":71},null,"Akustický podhled rastrový s redukovanou akustickou absorpcí",null,null,null,"m2",3.6,null,{"$f":"I145*H145","v":0},"Akustický podhled rastrový, rozměr desek 600 x 600 mm. Doplněk k širokopásmovým podhledovým deskám, redukovaná absorpce (méně než 0,4). Barva dle vzorníku a výběru investora, předpoklad bílá. Včetně nosného roštu.\nPoměr obou typů desek je předmětem úprav v rámci ladění na základě etapových měření.\n"]
[{"$f":"A145+1","v":72},null,"SDK podhled plný",null,null,null,"m2",3,null,0,"Obvodová část podhledu (lem) plný SDK 12,5 mm, kotvení do rastru stavební akustiky, včetně nosného roštu, obvodových lišt a příprav pro vyústky VZT a zásuvky LAN a 230V.\n"]
[73,null,"Širokopásmový stěnový obklad s potiskem",null,null,null,"m2",14.5,null,0,"Širokopásmový akustický panel pro instalaci na stěny. Celková tl. min 40 mm, vážený koeficient akustické absorpce aw>0,9. Dodávka vč. celoplošného potisku, lemování/bočních obložek a instalačního materiálu. Přídavná minerální vata je uvedena a specifikována v samostatné položce.\nPřed finálním vyhotovením musí proběhnout tisková zkouška a odsouhlasení tisku investorem.\n"]
[74,null,"Nízkofrekvenční akustické prvky",null,null,null,"m2",16,null,0,"Nízkofrekvenční akustický panel pro instalaci na stěnový rošt. Skladba dle projektu interiéru - základní nosná deska s perforací a vertikální latě, průzvučná tkanina. Provedení perforace včetně rozestupů musí korespondovat s pozicemi latí a bude určena v rámci dílenské dokumentace na základě vstupního měření a dopočtů doby dozvuku. Předpoklad maxima akustické absorpce v oktávovém pásmu 125 Hz. \nPovrchová úprava dle projektu interiéru, třída hořlavosti A.\nDodávka vč. instalačního materiálu. Potřebná minerální vata je uvedena a specifikována v samostatné položce.\n"]
[75,null,"Obložky dveří",null,null,null,"kpl",1,null,0,"Zakončení akustických obkladů u vstupních dveří. Plný deskový materiál bez perforace, včetně příprav pro instalaci zásuvek a rozvaděče. Třída hořlavosti A.\n"]
[76,null,"Mřížka vzduchotechniky - stěny",null,null,null,"kpl",1,null,0,"VZT mřížka v rámci stěnových obkladů, dle projektu interiéru.\n"]
[77,null,"Koberec",null,null,null,"m2",10,null,0,"Koberec s důrazem na akustické nároky, tl. min. 8 mm, činitel akustické absorpce na oktávovém pásmu 500 Hz min. 0,5. Barva dle vzorníků a výběru investora. Klasifikace pro intenzivní provoz.\n"]
[78,null,"Minerální vata ",null,null,null,"m2",35,null,0,"Akustický absorbér pro akustické panely (nízkofrekvenční i širokopásmové), minerální nebo skelná vata, minimální tloušťka 80 mm, objemová hmotnost minimálně 35 kg/m2. Fixace pro zajištění vertikální pozice u akustických obkladů.\n"]
[79,null,"Nosný rošt",null,null,null,"m2",35,null,0,"Vertikální nosné prvky pro akustické panely, nehořlavý, rektifikace pro eliminaci nerovinnosti stěn, fixace minerálních desek.\n"]
[80,null,"Doprava",null,null,null,"kpl",1,null,0]
[81,null,"Instalační práce",null,null,null,"kpl",1,null,0,"Dodávka a montáž nových akustických prvků, VRN. Včetně ochrany podlahy a interiéru.\n"]
[82,null,"Úklid prostoru",null,null,null,"kpl",1,null,0]
[83,null,"Měření doby dozvuku ",null,null,null,"kpl",3,null,0,"Měření kmitočtové závislosti doby dozvuku v řešeném prostoru - vstupní, etapové a závěrečné měření s vypracováním protokolu.\n"]
[84,null,"Dílenská dokumentace",null,null,null,"kpl",1,null,0,"Dokumentace pro realizaci akustických úprav, kterou musí investor před zahájením prací schválit."]
[{"$f":"CONCATENATE(\"Celkem Kč bez DPH za \",A142,\" - \",D142)","v":"Celkem Kč bez DPH za 5 - 209 - Samoobslužné pracoviště"},null,null,null,null,null,null,null,{"$f":"SUM(J144:J158)","v":0}]

{"sheet":"11_SO 01 - RT","index":14,"n_rows":102,"n_cols":7,"rows_kept":102,"cut":false,"hidden":false,"merged":[[24,3,24,6],[25,2,25,6],[29,3,29,6]]}
[{"$f":"CONCATENATE('Rekapitulace stavby'!C62,\"_\",'Rekapitulace stavby'!I62)","v":"11_SO 01 - Rozhlasové technologie"}]
[]
["SPECIFIKACE DODÁVEK A PRACÍ "]
["Název akce:"]
[{"$f":"'Identifikační údaje'!B1","v":"ČRo Olomouc – rekonstrukce objektu Pavelčákova 2/19"}]
[]
["Zadavatel:",null,{"$f":"'Identifikační údaje'!E7","v":"Český rozhlas, Vinohradská 12, 120 99 Praha 2"}]
[null,"IČ:",{"$f":"'Identifikační údaje'!B9","v":45245053}]
[null,"DIČ:",{"$f":"'Identifikační údaje'!B10","v":"CZ45245053"}]
[]
["Projektant:",null,{"$f":"'Identifikační údaje'!E12","v":"ATELIER 38 s.r.o., Porážková 1424/20, 702 00 Ostrava – Moravská Ostrava"}]
[null,"IČ:",{"$f":"'Identifikační údaje'!B14","v":"258 58 343"}]
[null,"DIČ:",{"$f":"'Identifikační údaje'!B15","v":"CZ25858343"}]
[]
["Uchazeč:",null,{"$f":"'Identifikační údaje'!E19","v":", ,  "}]
[null,"IČ:",{"$f":"'Identifikační údaje'!B23","v":0}]
[null,"DIČ:",{"$f":"'Identifikační údaje'!B24","v":0}]
[]
["Místo stavby:",null,{"$f":"'Identifikační údaje'!B3","v":"Budova Českého rozhlasu Olomouc na adrese Pavelčákova 2/19, 779 00 Olomouc"}]
[]
["Datum vyplnění:",null,{"$f":"'Identifikační údaje'!B5","v":"00:00:00"}]
[]
[{"$f":"CONCATENATE(\"REKAPITULACE DODÁVEK A PRACÍ OBJEKTU \",'Rekapitulace stavby'!I62)","v":"REKAPITULACE DODÁVEK A PRACÍ OBJEKTU SO 01 - Rozhlasové technologie"}]
[]
["P.č.","Číslo položky","Název položky","Kč bez DPH"]
[]
["Díl:",{"$f":"B37","v":"A"},{"$f":"C37","v":"RT - Kabeláž pro rozhlasové technologie"},null,null,null,{"$f":"G37","v":0}]
["Díl:",{"$f":"B86","v":"B"},{"$f":"C86","v":"KK - Kabelové konstrukce - žlaby"},null,null,null,{"$f":"G86","v":0}]
[]
[{"$f":"CONCATENATE(\"CELKEM ZA OBJEKT \",'Rekapitulace stavby'!I62, \" v Kč bez DPH\")","v":"CELKEM ZA OBJEKT SO 01 - Rozhlasové technologie v Kč bez DPH"},null,null,{"$f":"SUM(G27:G28)","v":0}]
[]
[]
[]
[]
[]
["P.č.","Číslo položky","Název položky","MJ","množství","cena / MJ","celkem"]
["Díl:","A","RT - Kabeláž pro rozhlasové technologie",null,null,null,{"$f":"SUBTOTAL(9,G39:G85)","v":0}]
[null,null,"Technologické stojany včetně napájení a ostatní kabelové úložné systémy jsou součástí projektu slaboproudu."]
[{"$f":"1","v":1},null,"Patch panel univerzální modulární 24x RJ45/cat 6A/10G, neosazený, komplet vč. montážního příslušenství","ks",11,null,{"$f":"E39*F39","v":0}]
[{"$f":"A39+1","v":2},null,"Keystone modul kovový,  RJ45, kat. 6A 10G, STP, samořezný, stříbrný","ks",276,null,{"$f":"E40*F40","v":0}]
[{"$f":"A40+1","v":3},null,"Vyvazovací panel 1U/ 19\", horizontální s kovovými oky","ks",16,null,0]
[4,null,"Montážní, vyvazovací a popisovací příslušenství pro jeden rack, stojanový","ks",8,null,0]
[null,null,"Patch kabely"]
[{"$f":"A42+1","v":5},null,"Patch kabel MM OM4 50/125 duplex LC/LC 5m","ks",10,null,{"$f":"E44*F44","v":0}]
[6,null,"Patch kabel cat 6A stíněný S/FTP, 1m","ks",50,null,0]
[7,null,"Patch kabel cat 6A stíněný, S/FTP,2m","ks",50,null,0]
[8,null,"Patch kabel cat 6A stíněný, S/FTP,3m","ks",20,null,0]
[null,null,"Instalační kabeláž"]
[{"$f":"A47+1","v":9},null,"Datový kabel stíněný 4 pár SFTP, min. Cat.6a 500 MHz, B2ca-s1a-d1-a1","m",4770,null,{"$f":"E49*F49","v":0}]
[10,null,"Optický kabel 8x50/125 OM4, B2ca-s1a-d1-a1, souběžně veden vždy 2x, zakončení LC duplex.","m",240,null,0]
[11,null,"Analogový audio kabel 4 x 2 x 0,22 mm², dvojité stínění (každý pár a celkové), požární kategorie FRNC.","m",340,null,0]
[12,null,"Analogový audio kabel 8 x 2 x 0,22 mm², dvojité stínění (každý pár a celkové), požární kategorie FRNC.","m",40,null,0]
[13,null,"Analogový audio kabel 12 x 2 x 0,22 mm², dvojité stínění (každý pár a celkové), požární kategorie FRNC.","m",310,null,0]
[14,null,"Reproduktorový kabel  2 x 2,5 mm2, instalační, požární kategorie FRNC.","m",30,null,0]
[15,null,"Koaxiální kabel pro přenos video signálu v rozlišení 4K na vzdálenost minimálně 90m, FRNC, B2ca.","m",230,null,0]
[16,null,"HDMI kabel délky 10 m. Materiál vodičů OFC (bezkyslíkatá měď), AWG 24, 2 vrstvy stínění (hliníková fólie a měděné opletení). Impedance 100 ohm, maximální šířka pásma 340 MHz, přenosová rychlost 10,2 Gb/s, rozlišení 4K.","ks",4,null,0]
[17,null,"DMX kabel pro scénické osvětlení atria, 100% stínění, bezhalogenové provedení, flexibilní/vhodný pro mobilní aplikace, včetně konektorů.","m",18,null,0]
[null,null,"Datové zásuvky, design dodržet  dle interiéru a dle silnoproudých instalací"]
[{"$f":"A57+1","v":18},null,"Datová dvojzásuvka 2xRJ45 Cat.6A komplet, formát 45 x 45mm,uložení do montážního boxu, montáž na povrch ","ks",42,null,{"$f":"E59*F59","v":0}]
[null,null,"Přepojovací panely RT nedatové"]
[{"$f":"A59+1","v":19},null,"Přepojovací panel audio XLR, 12 portů, 1U","ks",39,null,{"$f":"E61*F61","v":0}]
[20,null,"Přepojovací panel video, 6x BNC, kompletní, osazený","kpl",4,null,0]
[21,null,"Přepojovací panel optický, 19\" FO vana kompletní, min. osazení 16x 50/125µm OM4, pigtaily a kazeta, výška 1U, zakončení optických kabelů LC duplex.","kpl",4,null,0]
[22,null,"XLR konektory, standard Neutrik","ks",424,null,0]
[23,null,"Přípojné místo pro mikrofony v Atriu. Uzavíratelné (dvířka), materiál kov, barva bílá, minimálně 36 pozic (včetně osazení 20x XLR, 14x RJ45 (etherCON), vše standard Neutrik a záslepky rezervních pozic). PM bude navrženo v dílenské dokumentaci (pol. č. 39) a předem schváleno investorem.","kpl",1,null,0]
[24,null,"Přípojné místo pro ruchové mikrofony a reprosoustavy v Atriu. Materiál kov, barva bílá, minimálně 8 pozic (včetně osazení 4x XLR, 2x RJ45 (etherCON), vše standard Neutrik a záslepky rezervních pozic). PM bude navrženo v dílenské dokumentaci (pol. č. 39) a předem schváleno investorem.","kpl",3,null,0]
[25,null,"Přípojné místo pro mixážní pult/livepost v Atriu. Materiál kov, barva bílá, minimálně 16 pozic (včetně osazení  8xRJ45 (etherCON), DMX, vše standard Neutrik a záslepky všech rezervních pozic). PM bude navrženo v dílenské dokumentaci (pol. č. 39) a předem schváleno investorem.","kpl",1,null,0]
[26,null,"Reproduktorové soustavy do exteriéru (instalace na fasádu objektu). Sloupová konfigurace pro širokou horizontální vyzařovací charakteristiku: 150°. Vertikální vyzařování 20°. Sestava osmi širokopásmových reproduktorů o průměru 50 mm. Kmitočtový rozsah pro pokles o 10dB:  80 Hz – 20 kHz, char citlivost. 89 dB. Příkon 100W, impedance 8 ohm.\nKrytí IP-55, černá barva. Včetně instalační konzole s možností náklonu. Rozměry (H x W x D)  530 x 100 x 155 mm (v x š x h).","kpl",2,null,0]
[27,null,"Instalační materiál","ks",42,null,0]
[28,null,"Instalace/pokládka kabelů do kabelových tras, trubek, žlabů, lišt apod.","m",5982,null,0]
[29,null,"Zapojení vývodů zásuvek a v Racku","ks",360,null,0]
[30,null,"Montáž zásuvek vč. přístrojových krabic vč. jejich popisu","ks",42,null,0]
[31,null,"Montáž keystone v zásuvce vč. jejich popisu","ks",42,null,0]
[32,null,"Montáž keystone v PatchPanelu vč. jejich popisu","ks",276,null,0]
[33,null,"Montáž úložných boxů, montáž stůl/nábytek","ks",42,null,0]
[34,null,"Montáž přep. panelu 24 keystone RJ 45 cat 6A, komplet do datového rozváděče, vč. Příslušenství, včetně popisů a zapojení a uvedení do provozu","ks",11,null,0]
[35,null,"Měření kabeláže, protokol o funkčnosti","ks",742,null,0]
[36,null,"Montáž a pájení XLR konektorů vč. jejich popisu","ks",424,null,0]
[37,null,"Montáž a instalace přípojných míst","kpl",5,null,0]
[38,null,"Montáž a instalace reprosoustav v exteriéru","kpl",2,null,0]
[39,null,"Vypracování realizační dokumentace stavby","kpl",1,null,0]
[40,null,"Vypracování skutečného provedení stavby","kpl",1,null,0]
[41,null,"Oživení systému RT jako celku, jeho zkušební testy systému vč. kompletního zprovoznění","kpl",1,null,0]
[{"$f":"A83+1","v":42},null,"Doprava","kpl",1,null,0]
[]
["Díl:","B","KK - Kabelové konstrukce - žlaby",null,null,null,{"$f":"SUBTOTAL(9,G87:G102)","v":0}]
[{"$f":"A84+1","v":43},null,"Kabelová lávka š200/v104 mm","m",12,null,{"$f":"E87*F87","v":0}]
[null,null,"Horizontální trasa ve 4.NP ze strojovny."]
[{"$f":"A87+1","v":44},null,"Montážní příslušenství obsahuje rychlospojku, nosný profil, šroubový závěs, matice a zemnící spojka, příslušenství vztaženo k jednomu montážnímu 1m lávky, víceúrovňový závěs ","ks",12,null,0]
[{"$f":"A89+1","v":45},null,"Kabelová lávka š50/v54 mm","m",7,null,0]
[null,null,"Horizontální trasa ve 2.NP v rámci Machineroom 121."]
[{"$f":"A90+1","v":46},null,"Montážní příslušenství na lávku š50/v54 mm, obsahuje rychlospojku, nosný profil, šroubový závěs, matice a zemnící spojka, příslušenství vztaženo k jednomu montážnímu 1m lávky ","ks",7,null,0]
[47,null,"Kabelová lávka š100/v54 mm","m",7,null,0]
[null,null,"Horizontální trasa v 1.NP v rámci Machineroom 018."]
[{"$f":"A93+1","v":48},null,"Montážní příslušenství na lávku š100/v54 mm, obsahuje rychlospojku, nosný profil, šroubový závěs, matice a zemnící spojka, příslušenství vztaženo k jednomu montážnímu 1m lávky ","ks",7,null,0]
[49,null,"Kabelová lávka š200/v104 mm - svislá","m",16,null,0]
[null,null,"Vertikální trasa 4.NP -> 1.NP."]
[{"$f":"A96+1","v":50},null,"Montážní příslušenství obsahuje rychlospojku, nosný profil, šroubový závěs, matice a zemnící spojka, příslušenství vztaženo k jednomu montážnímu 1m lávky, víceúrovňový závěs ","ks",16,null,0]
[51,null,"Instalační práce",null,null,null,0]
[52,null,"Montáž žlabu, stoupacího žebříku","m",42,null,0]
[53,null,"Pomocné stavební práce","kpl",42,null,0]
[54,null,"Doprava","kpl",1,null,0]

{"sheet":"12_Interiér","index":15,"n_rows":68,"n_cols":18,"rows_kept":68,"cut":false,"hidden":false,"merged":[[24,3,24,6],[25,2,25,6]]}
[{"$f":"CONCATENATE('Rekapitulace stavby'!C63,\"_\",'Rekapitulace stavby'!I63)","v":"12_SO 01 - Interiér hlavního objektu"}]
[]
["SPECIFIKACE DODÁVEK A PRACÍ "]
["Název akce:"]
[{"$f":"'Identifikační údaje'!B1","v":"ČRo Olomouc – rekonstrukce objektu Pavelčákova 2/19"}]
[]
["Zadavatel:",null,{"$f":"'Identifikační údaje'!B7","v":"Český rozhlas"}]
[null,"IČ:",{"$f":"'Identifikační údaje'!B9","v":45245053}]
[null,"DIČ:",{"$f":"'Identifikační údaje'!B10","v":"CZ45245053"}]
[]
["Projektant:",null,{"$f":"'Identifikační údaje'!B12","v":"ATELIER 38 s.r.o."}]
[null,"IČ:",{"$f":"'Identifikační údaje'!B9","v":45245053}]
[null,"DIČ:",{"$f":"'Identifikační údaje'!B15","v":"CZ25858343"}]
[]
["Uchazeč:",null,{"$f":"'Identifikační údaje'!B19","v":0}]
[null,"IČ:",{"$f":"'Identifikační údaje'!B23","v":0}]
[null,"DIČ:",{"$f":"'Identifikační údaje'!B24","v":0}]
[]
["Místo stavby:",null,{"$f":"'Identifikační údaje'!B3","v":"Budova Českého rozhlasu Olomouc na adrese Pavelčákova 2/19, 779 00 Olomouc"}]
[]
["Datum vyplnění:",null,{"$f":"'Identifikační údaje'!B5","v":"00:00:00"}]
[]
[{"$f":"CONCATENATE(\"REKAPITULACE DODÁVEK A PRACÍ OBJEKTU \",'Rekapitulace stavby'!I63)","v":"REKAPITULACE DODÁVEK A PRACÍ OBJEKTU SO 01 - Interiér hlavního objektu"}]
[]
["P.č.","Číslo položky","Název položky","Kč bez DPH"]
[]
["Díl:",{"$f":"B38","v":"766"},{"$f":"C38","v":"Konstrukce truhlářské"},null,null,null,{"$f":"G38","v":0}]
["Díl:",{"$f":"B53","v":"799"},{"$f":"C53","v":"Ostatní"},null,null,null,{"$f":"G53","v":0}]
[]
[{"$f":"CONCATENATE(\"CELKEM ZA OBJEKT \",'Rekapitulace stavby'!I63, \" v Kč bez DPH\")","v":"CELKEM ZA OBJEKT SO 01 - Interiér hlavního objektu v Kč bez DPH"},null,null,null,null,null,{"$f":"SUM(G27:G28)","v":0}]
[]
[]
[]
[]
[]
[]
["P.č.","Číslo položky","Název položky","MJ","množství","cena / MJ","celkem"]
["Díl:","766","Konstrukce truhlářské",null,null,null,{"$f":"SUBTOTAL(9,G39:G52)","v":0}]
[1,"766925x505","A5 - Recepce, dodávka a montáž","soubor",1,null,{"$f":"E39*F39","v":0}]
[null,null,"viz. souhrnná specifikace - oddíl A - viz. výkres B.2.1.5 : 1",null,1]
[{"$f":"A39+1","v":2},"766925x506","A6 - Vestavěná skříň, dodávka a montáž","soubor",1,null,{"$f":"E41*F41","v":0}]
[null,null,"viz. souhrnná specifikace - oddíl A - viz. výkres B.2.1.6 : 1",null,1]
[{"$f":"A41+1","v":3},"766925x510","A10 - Dřevěná dekorační stěna, dodávka a montáž","soubor",1,null,{"$f":"E43*F43","v":0}]
[null,null,"viz. souhrnná specifikace - oddíl A - viz. výkres B.2.1.8 : 1",null,1]
[{"$f":"A43+1","v":4},"766925x511","A11 - Dřevěná dekorační stěna, dodávka a montáž","soubor",1,null,{"$f":"E45*F45","v":0}]
[null,null,"viz. souhrnná specifikace - oddíl A - viz. výkres B.2.1.9 : 1",null,1]
[{"$f":"A45+1","v":5},"766925x601","R1 - Stůl studio, dodávka a montáž","ks    ",1,null,{"$f":"E47*F47","v":0}]
[null,null,"viz. souhrnná specifikace - oddíl R : 1",null,1]
[{"$f":"A47+1","v":6},"766925x602","R2 - Stůl režie, dodávka a montáž","ks    ",2,null,{"$f":"E49*F49","v":0}]
[null,null,"viz. souhrnná specifikace - oddíl R : 1+1",null,2,null,null,null,null,null,null,null,null,null,null,null,null," "]
[{"$f":"A49+1","v":7},"766925x603","R3 - Stůl samoobslužné studio, dodávka a montáž","ks    ",2,null,{"$f":"E51*F51","v":0}]
[null,null,"viz. souhrnná specifikace - oddíl R : 1+1",null,2]
["Díl:","799","Ostatní",null,null,null,{"$f":"SUBTOTAL(9,G54:G67)","v":0}]
[{"$f":"A51+1","v":8},"799925x4041","V4a - Zrcadlo do koupelny, dodávka a montáž","ks    ",1,null,{"$f":"E54*F54","v":0}]
[null,null,"viz. souhrnná specifikace - oddíl V : 1",null,1]
[{"$f":"A54+1","v":9},"799925x4042","V4b - Zrcadlo do koupelny, dodávka a montáž","ks    ",5,null,{"$f":"E56*F56","v":0}]
[null,null,"viz. souhrnná specifikace - oddíl V : 1+1+1+2",null,5]
[{"$f":"A56+1","v":10},"799925x4043","V4c - Zrcadlo do koupelny, dodávka a montáž","ks    ",5,null,{"$f":"E58*F58","v":0}]
[null,null,"viz. souhrnná specifikace - oddíl V : 2+1+1+1",null,5]
[{"$f":"A58+1","v":11},"799925x418","V18 - Nerezový nápis recepce, dodávka a montáž","ks    ",1,null,{"$f":"E60*F60","v":0}]
[null,null,"viz. souhrnná specifikace - oddíl V : 1",null,1]
[{"$f":"A60+1","v":12},"799925x419","V19 - Nerezové logo recepce, dodávka a montáž","ks    ",1,null,{"$f":"E62*F62","v":0}]
[null,null,"viz. souhrnná specifikace - oddíl V : 1",null,1]
[{"$f":"A62+1","v":13},"799925x420","V20 - Nerezový nápis fasáda, dodávka a montáž","ks    ",1,null,{"$f":"E64*F64","v":0}]
[null,null,"viz. souhrnná specifikace - oddíl V : 1",null,1]
[{"$f":"A64+1","v":14},"799925x702","L2 - Led pásek, dodávka a montáž","m'    ",12.08,null,{"$f":"E66*F66","v":0}]
[null,null,"viz. souhrnná specifikace - oddíl L : 3,38+3+3+2,7",null,12.08]
[null,"",""]

{"sheet":"13_IO 01 - Přípojka vody","index":16,"n_rows":88,"n_cols":7,"rows_kept":88,"cut":false,"hidden":false,"merged":[[24,3,24,6],[25,2,25,6]]}
[{"$f":"CONCATENATE('Rekapitulace stavby'!C64,\"_\",'Rekapitulace stavby'!I64)","v":"13_IO 01 - Přípojka vodovodu"}]
[]
["SPECIFIKACE DODÁVEK A PRACÍ "]
["Název akce:"]
[{"$f":"'Identifikační údaje'!B1","v":"ČRo Olomouc – rekonstrukce objektu Pavelčákova 2/19"}]
[]
["Zadavatel:",null,{"$f":"'Identifikační údaje'!B7","v":"Český rozhlas"}]
[null,"IČ:",{"$f":"'Identifikační údaje'!B9","v":45245053}]
[null,"DIČ:",{"$f":"'Identifikační údaje'!B10","v":"CZ45245053"}]
[]
["Projektant:",null,{"$f":"'Identifikační údaje'!B12","v":"ATELIER 38 s.r.o."}]
[null,"IČ:",{"$f":"'Identifikační údaje'!B9","v":45245053}]
[null,"DIČ:",{"$f":"'Identifikační údaje'!B15","v":"CZ25858343"}]
[]
["Uchazeč:",null,{"$f":"'Identifikační údaje'!B19","v":0}]
[null,"IČ:",{"$f":"'Identifikační údaje'!B23","v":0}]
[null,"DIČ:",{"$f":"'Identifikační údaje'!B24","v":0}]
[]
["Místo stavby:",null,{"$f":"'Identifikační údaje'!B3","v":"Budova Českého rozhlasu Olomouc na adrese Pavelčákova 2/19, 779 00 Olomouc"}]
[]
["Datum vyplnění:",null,{"$f":"'Identifikační údaje'!B5","v":"00:00:00"}]
[]
[{"$f":"CONCATENATE(\"REKAPITULACE DODÁVEK A PRACÍ OBJEKTU \",'Rekapitulace stavby'!I64)","v":"REKAPITULACE DODÁVEK A PRACÍ OBJEKTU IO 01 - Přípojka vodovodu"}]
[]
["P.č.","Číslo položky","Název položky","Kč bez DPH"]
[]
["Díl:",{"$f":"B45","v":"1"},{"$f":"C45","v":"Zemní práce"},null,null,null,{"$f":"G45","v":0}]
["Díl:",{"$f":"B60","v":"2"},{"$f":"C60","v":"Základy a zvláštní zakládání"},null,null,null,{"$f":"G60","v":0}]
["Díl:",{"$f":"B63","v":"4"},{"$f":"C63","v":"Vodorovné konstrukce"},null,null,null,{"$f":"G63","v":0}]
["Díl:",{"$f":"B65","v":"5"},{"$f":"C65","v":"Komunikace"},null,null,null,{"$f":"G65","v":0}]
["Díl:",{"$f":"B68","v":"8"},{"$f":"C68","v":"Trubní vedení"},null,null,null,{"$f":"G68","v":0}]
["Díl:",{"$f":"B74","v":"89"},{"$f":"C74","v":"Ostatní konstrukce na trubním vedení"},null,null,null,{"$f":"G74","v":0}]
["Díl:",{"$f":"B76","v":"91"},{"$f":"C76","v":"Doplňující práce na komunikaci"},null,null,null,{"$f":"G76","v":0}]
["Díl:",{"$f":"B78","v":"722"},{"$f":"C78","v":"Vnitřní vodovod"},null,null,null,{"$f":"G78","v":0}]
["Díl:",{"$f":"B87","v":"733"},{"$f":"C87","v":"Rozvod potrubí"},null,null,null,{"$f":"G87","v":0}]
[]
[{"$f":"CONCATENATE(\"CELKEM ZA OBJEKT \",'Rekapitulace stavby'!I64, \" v Kč bez DPH\")","v":"CELKEM ZA OBJEKT IO 01 - Přípojka vodovodu v Kč bez DPH"},null,null,null,null,null,{"$f":"SUM(G27:G35)","v":0}]
[]
[]
[]
[]
[]
[]
["P.č.","Číslo položky","Název položky","MJ","množství","cena / MJ","Celkem"]
["Díl:","1","Zemní práce",null,null,null,{"$f":"SUBTOTAL(9,G46:G59)","v":0}]
[1,"115101201R00","Čerpání vody na výšku do 10 m, přítok do 500 l","h",32,null,{"$f":"E46*F46","v":0}]
[{"$f":"A46+1","v":2},"115101301R00","Pohotovost čerp.soupravy, výška 10 m, přítok 500 l","den",2,null,{"$f":"E47*F47","v":0}]
[{"$f":"A47+1","v":3},"119001421R00","Dočasné zajištění kabelů - do počtu 3 kabelů","m",6,null,0]
[4,"132201211R00","Hloubení rýh šířky do 200 cm v hor.3 do 100 m3","m3",15,null,0]
[5,"132201219R00","Příplatek za lepivost - hloubení rýh 200cm v hor.3","m3",15,null,0]
[6,"151101101R00","Pažení a rozepření stěn rýh - příložné - hl.do 2 m","m2",50,null,0]
[7,"151101111R00","Odstranění pažení stěn rýh - příložné - hl. do 2 m","m2",50,null,0]
[8,"162701105R00","Vodorovné přemístění výkopku z hor.1-4 do 10000 m","m3",15,null,0]
[9,"167101102R00","Nakládání výkopku z hor.1-4 v množství nad 100 m3","m3",15,null,0]
[10,"171201201R00","Uložení sypaniny na skl.-modelace na výšku přes 2m","m3",15,null,0]
[11,"174101101R00","Zásyp jam, rýh, šachet se zhutněním","m3",25,null,0]
[12,"175101109R00","Příplatek za prohození sypaniny pro obsyp potrubí","m3",2.5,null,0]
[13,"199000002R00","Poplatek za skládku horniny 1- 4","m3",15,null,0]
[14,"58344197R","Štěrkodrtě frakce 0-63 A","T",45,null,0]
["Díl:","2","Základy a zvláštní zakládání",null,null,null,{"$f":"SUBTOTAL(9,G61:G62)","v":0}]
[{"$f":"A59+1","v":15},"212753214R00","Montáž tuhé drenáž. trubky do rýhy DN 100,bez lože","m",12,null,{"$f":"E61*F61","v":0}]
[{"$f":"A61+1","v":16},"28611054R","HEGLER EURODRAIN trubka drenážní PVC DN 100 perforovaná","m",12,null,0]
["Díl:","4","Vodorovné konstrukce",null,null,null,{"$f":"SUBTOTAL(9,G64)","v":0}]
[{"$f":"A62+1","v":17},"451572111RK6","Lože pod potrubí z kameniva těženého 0 - 4 mm kraj Moravskoslezský","m3",4.5,null,{"$f":"E64*F64","v":0}]
["Díl:","5","Komunikace",null,null,null,{"$f":"SUBTOTAL(9,G66:G67)","v":0}]
[{"$f":"A64+1","v":18},"113106111R00","Rozebrání dlažeb z mozaiky","m2",20,null,{"$f":"E66*F66","v":0}]
[{"$f":"A66+1","v":19},"596215041R00","Kladení zámkové dlažby tl. 8 cm do drtě tl. 5 cm","m2",20,null,0]
["Díl:","8","Trubní vedení",null,null,null,{"$f":"SUBTOTAL(9,G69:G73)","v":0}]
[{"$f":"A67+1","v":20},"871181121R00","Montáž trubek polyetylenových ve výkopu d 50 mm","m",12,null,{"$f":"E69*F69","v":0}]
[{"$f":"A69+1","v":21},"892241111R00","Tlaková zkouška vodovodního potrubí DN 80","m",12,null,0]
[{"$f":"A70+1","v":22},"892233111R00","Desinfekce vodovodního potrubí DN 70","m",12,null,0]
[23,"286136747R","Trubka Wavin TS voda SDR11  50x4,6 mm L=6 m PE100 RC třívrstvé potrubí, barva modrá","m",12,null,0]
[24,"R6","Napojení na stávající navrtávací sestavu na vodovodu Montáž","ks",1,null,0]
["Díl:","89","Ostatní konstrukce na trubním vedení",null,null,null,{"$f":"SUBTOTAL(9,G75)","v":0}]
[{"$f":"A73+1","v":25},"89-R01","Výstražná folie modrá a signaliz.vodič","m",12,null,{"$f":"E75*F75","v":0}]
["Díl:","91","Doplňující práce na komunikaci",null,null,null,{"$f":"SUBTOTAL(9,G77)","v":0}]
[{"$f":"A75+1","v":26},"R9","plastová chránička DN 100 Dodávka + montáž","m",10,null,{"$f":"E77*F77","v":0}]
["Díl:","722","Vnitřní vodovod",null,null,null,{"$f":"SUBTOTAL(9,G79:G86)","v":0}]
[{"$f":"A77+1","v":27},"722220861R00","Demontáž armatur s dvěma závity G 3/4","kus",2,null,{"$f":"E79*F79","v":0}]
[{"$f":"A79+1","v":28},"722220863R00","Demontáž armatur s dvěma závity G 6/4","kus",6,null,0]
[{"$f":"A80+1","v":29},"722235115R00","Kohout vod.kul.,vnitř.-vnitř.z.IVAR PERFECTA DN 40","kus",2,null,0]
[30,"722235525R00","Filtr,vod.vnitřní-vnitřní z.IVAR FIV.08412 DN 40","kus",1,null,0]
[31,"722235645R00","Klapka vod.zpětná vodorovná CLAPET FIV.08406 DN 40","kus",1,null,0]
[32,"722265165R00","Vodoměr domovní TV Sensus AN 90 DN25x260mm, Qn 6,0","kus",1,null,0]
[33,"722260812R00","Demontáž vodoměrů závitových G 3/4","kus",1,null,0]
[34,"722-20-Š20","Redukce DN40/25 Dodávka + montáž","kus",2,null,0]
["Díl:","733","Rozvod potrubí",null,null,null,{"$f":"SUBTOTAL(9,G88)","v":0}]
[{"$f":"A86+1","v":35},"733170804R00","Demontáž potrubí z plastových trubek D 50 mm","m",12,null,{"$f":"E88*F88","v":0}]

{"sheet":"14_IO 02 - Přípojka kanalizace","index":17,"n_rows":76,"n_cols":36,"rows_kept":76,"cut":false,"hidden":false,"merged":[[24,3,24,6],[25,2,25,6]]}
[{"$f":"CONCATENATE('Rekapitulace stavby'!C65,\"_\",'Rekapitulace stavby'!I65)","v":"14_IO 02 - Přípojka jednotné kanalizace"}]
[]
["SPECIFIKACE DODÁVEK A PRACÍ "]
["Název akce:"]
[{"$f":"'Identifikační údaje'!B1","v":"ČRo Olomouc – rekonstrukce objektu Pavelčákova 2/19"}]
[]
["Zadavatel:",null,{"$f":"'Identifikační údaje'!B7","v":"Český rozhlas"}]
[null,"IČ:",{"$f":"'Identifikační údaje'!B9","v":45245053}]
[null,"DIČ:",{"$f":"'Identifikační údaje'!B10","v":"CZ45245053"}]
[]
["Projektant:",null,{"$f":"'Identifikační údaje'!B12","v":"ATELIER 38 s.r.o."}]
[null,"IČ:",{"$f":"'Identifikační údaje'!B9","v":45245053}]
[null,"DIČ:",{"$f":"'Identifikační údaje'!B15","v":"CZ25858343"}]
[]
["Uchazeč:",null,{"$f":"'Identifikační údaje'!B19","v":0}]
[null,"IČ:",{"$f":"'Identifikační údaje'!B23","v":0}]
[null,"DIČ:",{"$f":"'Identifikační údaje'!B24","v":0}]
[]
["Místo stavby:",null,{"$f":"'Identifikační údaje'!B3","v":"Budova Českého rozhlasu Olomouc na adrese Pavelčákova 2/19, 779 00 Olomouc"}]
[]
["Datum vyplnění:",null,{"$f":"'Identifikační údaje'!B5","v":"00:00:00"}]
[]
[{"$f":"CONCATENATE(\"REKAPITULACE DODÁVEK A PRACÍ OBJEKTU \",'Rekapitulace stavby'!I65)","v":"REKAPITULACE DODÁVEK A PRACÍ OBJEKTU IO 02 - Přípojka jednotné kanalizace"}]
[]
["P.č.","Číslo položky","Název položky","Kč bez DPH"]
[]
["Díl:",{"$f":"B38","v":"1"},{"$f":"C38","v":"Zemní práce"},null,null,null,{"$f":"G38","v":0}]
["Díl:",{"$f":"B54","v":"2"},{"$f":"C54","v":"Základy a zvláštní zakládání"},null,null,null,{"$f":"G54","v":0}]
["Díl:",{"$f":"B57","v":"4"},{"$f":"C57","v":"Vodorovné konstrukce"},null,null,null,{"$f":"G57","v":0}]
["Díl:",{"$f":"B59","v":"5"},{"$f":"C59","v":"Komunikace"},null,null,null,{"$f":"G59","v":0}]
["Díl:",{"$f":"B62","v":"8"},{"$f":"C62","v":"Trubní vedení"},null,null,null,{"$f":"G62","v":0}]
["Díl:",{"$f":"B70","v":"721"},{"$f":"C70","v":"Vnitřní kanalizace"},null,null,null,{"$f":"G70","v":0}]
[]
[{"$f":"CONCATENATE(\"CELKEM ZA OBJEKT \",'Rekapitulace stavby'!I65, \" v Kč bez DPH\")","v":"CELKEM ZA OBJEKT IO 02 - Přípojka jednotné kanalizace v Kč bez DPH"},null,null,null,null,null,{"$f":"SUM(G27:G32)","v":0}]
[]
[]
["P.č.","Číslo položky","Název položky","MJ","množství","cena / MJ","Celkem"]
["Díl:","1","Zemní práce",null,null,null,{"$f":"SUBTOTAL(9,G39:G53)","v":0},null,null,null,null,null,null,null,null,null,null,null,null,null,null,null,null,null,null,null,null,"POL",null,null,null,null,null,null,null,21]
[1,"115101201R00","Čerpání vody na výšku do 10 m, přítok do 500 l","h",32,null,{"$f":"E39*F39","v":0}]
[{"$f":"A39+1","v":2},"115101301R00","Pohotovost čerp.soupravy, výška 10 m, přítok 500 l","den",2,null,{"$f":"E40*F40","v":0}]
[{"$f":"A40+1","v":3},"119001421R00","Dočasné zajištění kabelů - do počtu 3 kabelů","m",6,null,0]
[4,"132201211R00","Hloubení rýh šířky do 200 cm v hor.3 do 100 m3","m3",30,null,0]
[5,"132201219R00","Příplatek za lepivost - hloubení rýh 200cm v hor.3","m3",30,null,0]
[6,"151101102R00","Pažení a rozepření stěn rýh - příložné - hl.do 4 m","m2",70,null,0]
[7,"151101112R00","Odstranění pažení stěn rýh - příložné - hl. do 4 m","m2",70,null,0]
[8,"162701105R00","Vodorovné přemístění výkopku z hor.1-4 do 10000 m","m3",30,null,0]
[9,"167101102R00","Nakládání výkopku z hor.1-4 v množství nad 100 m3","m3",30,null,0]
[10,"171201201R00","Uložení sypaniny na skl.-modelace na výšku přes 2m","m3",30,null,0]
[11,"174101101R00","Zásyp jam, rýh, šachet se zhutněním","m3",30,null,0]
[12,"175101101RT2","Obsyp potrubí bez prohození sypaniny s dodáním štěrkopísku frakce 0 - 22 mm","m3",4.5,null,0]
[13,"175101109R00","Příplatek za prohození sypaniny pro obsyp potrubí","m3",4.5,null,0]
[14,"199000002R00","Poplatek za skládku horniny 1- 4","m3",30,null,0]
[15,"58344197R","Štěrkodrtě frakce 0-63 A","T",50,null,0]
["Díl:","2","Základy a zvláštní zakládání",null,null,null,{"$f":"SUBTOTAL(9,G55:G56)","v":0}]
[{"$f":"A53+1","v":16},"212753214R00","Montáž tuhé drenáž. trubky do rýhy DN 100,bez lože","m",6,null,{"$f":"E55*F55","v":0}]
[{"$f":"A55+1","v":17},"28611054R","HEGLER EURODRAIN trubka drenážní PVC DN 100 perforovaná","m",6,null,0]
["Díl:","4","Vodorovné konstrukce",null,null,null,{"$f":"SUBTOTAL(9,G58)","v":0}]
[{"$f":"A56+1","v":18},"451572111RK6","Lože pod potrubí z kameniva těženého 0 - 4 mm kraj Moravskoslezský","m3",1,null,{"$f":"E58*F58","v":0}]
["Díl:","5","Komunikace",null,null,null,{"$f":"SUBTOTAL(9,G60:G61)","v":0}]
[{"$f":"A58+1","v":19},"113106111R00","Rozebrání dlažeb z mozaiky","m2",15,null,{"$f":"E60*F60","v":0}]
[{"$f":"A60+1","v":20},"596215041R00","Kladení zámkové dlažby tl. 8 cm do drtě tl. 5 cm","m2",15,null,0]
["Díl:","8","Trubní vedení",null,null,null,{"$f":"SUBTOTAL(9,G63:G69)","v":0}]
[{"$f":"A61+1","v":21},"871111102R00","M.plast.potrubí ve výkopu na gum.těsnění DN 200 mm","m",6,null,{"$f":"E63*F63","v":0}]
[{"$f":"A63+1","v":22},"899711122R00","Fólie výstražná z PVC, šířka 30 cm","m",6,null,0]
[{"$f":"A64+1","v":23},"DN200","Trubka kanalizační KG 2000 PP SN 10 200x6,2 zelená","m     ",6,null,0]
[null,null,"Plnostěnný, velmi odolný, potrubní systém KG 2000 splňuje všechny požadavky normy ČSN EN 14758 pro moderní kanalizační systémy. Pro výrobu byl použit optimalizovaný materiál - polypropylen (PP-MD). Díky tomu má potrubí vysokou kruhovou tuhost t 10 kN/m2 i optimální rázovou tuhost a tyto vlastnosti si zachovává i při nízkých teplotách. Patentované tříbřitové těsnění umožňuje jednoduché a bezpečné spojení jednotlivých trub."]
[{"$f":"A65+1","v":24},"R01","Napojení šachty na stávající potrubí Dodávka+montáž","ks",1,null,{"$f":"E67*F67","v":0}]
[{"$f":"A67+1","v":25},"R02","Betonová revizní šachta, včetně poklopu Dodávka+montáž","ks",1,null,0]
[{"$f":"A68+1","v":26},"R03","Rozšíření otvorů pro přípojku kanalizace DN200 Dodávka+montáž","ks",6,null,0]
["Díl:","721","Vnitřní kanalizace",null,null,null,{"$f":"SUBTOTAL(9,G71)","v":0}]
[{"$f":"A69+1","v":27},"721171809R00","Demontáž potrubí z PVC do D 160 mm","m",100,null,{"$f":"E71*F71","v":0}]
[]
[]
[]
[]
[null,null,null,null,null,null,null,null,null,null,null,null,null,null,null,null,null," "]

{"sheet":"15_SO O2 - Garáž","index":18,"n_rows":140,"n_cols":7,"rows_kept":140,"cut":false,"hidden":false,"merged":[[25,0,25,6],[24,3,24,6]]}
[{"$f":"CONCATENATE('Rekapitulace stavby'!C66,\"_\",'Rekapitulace stavby'!I66)","v":"15_SO 02 - Garáže"}]
[]
["SPECIFIKACE DODÁVEK A PRACÍ "]
["Název akce:"]
[{"$f":"'Identifikační údaje'!B1","v":"ČRo Olomouc – rekonstrukce objektu Pavelčákova 2/19"}]
[]
["Zadavatel:",null,{"$f":"'Identifikační údaje'!B7","v":"Český rozhlas"}]
[null,"IČ:",{"$f":"'Identifikační údaje'!B9","v":45245053}]
[null,"DIČ:",{"$f":"'Identifikační údaje'!B10","v":"CZ45245053"}]
[]
["Projektant:",null,{"$f":"'Identifikační údaje'!B12","v":"ATELIER 38 s.r.o."}]
[null,"IČ:",{"$f":"'Identifikační údaje'!B9","v":45245053}]
[null,"DIČ:",{"$f":"'Identifikační údaje'!B15","v":"CZ25858343"}]
[]
["Uchazeč:",null,{"$f":"'Identifikační údaje'!B19","v":0}]
[null,"IČ:",{"$f":"'Identifikační údaje'!B23","v":0}]
[null,"DIČ:",{"$f":"'Identifikační údaje'!B24","v":0}]
[]
["Místo stavby:",null,{"$f":"'Identifikační údaje'!B3","v":"Budova Českého rozhlasu Olomouc na adrese Pavelčákova 2/19, 779 00 Olomouc"}]
[]
["Datum vyplnění:",null,{"$f":"'Identifikační údaje'!B5","v":"00:00:00"}]
[]
[{"$f":"CONCATENATE(\"REKAPITULACE DODÁVEK A PRACÍ OBJEKTU \",'Rekapitulace stavby'!I66)","v":"REKAPITULACE DODÁVEK A PRACÍ OBJEKTU SO 02 - Garáže"}]
[]
["P.č.","Číslo položky","Název položky","Kč bez DPH"]
[]
["Díl:",{"$f":"B45","v":"1"},{"$f":"C45","v":"Zemní práce"},null,null,null,{"$f":"G45","v":0}]
["Díl:",{"$f":"B60","v":"96"},{"$f":"C60","v":"Bourání konstrukcí"},null,null,null,{"$f":"G60","v":0}]
["Díl:",{"$f":"B81","v":"711"},{"$f":"C81","v":"Izolace proti vodě"},null,null,null,{"$f":"G81","v":0}]
["Díl:",{"$f":"B85","v":"712"},{"$f":"C85","v":"Povlakové krytiny"},null,null,null,{"$f":"G85","v":0}]
["Díl:",{"$f":"B91","v":"762"},{"$f":"C91","v":"Konstrukce tesařské"},null,null,null,{"$f":"G91","v":0}]
["Díl:",{"$f":"B105","v":"764"},{"$f":"C105","v":"Konstrukce klempířské"},null,null,null,{"$f":"G105","v":0}]
["Díl:",{"$f":"B118","v":"767"},{"$f":"C118","v":"Konstrukce zámečnické"},null,null,null,{"$f":"G118","v":0}]
["Díl:",{"$f":"B127","v":"M21"},{"$f":"C127","v":"Elektromontáže"},null,null,null,{"$f":"G127","v":0}]
["Díl:",{"$f":"B129","v":"D96"},{"$f":"C129","v":"Přesuny suti a vybouraných hmot"},null,null,null,{"$f":"G129","v":0}]
[]
[{"$f":"CONCATENATE(\"CELKEM ZA OBJEKT \",'Rekapitulace stavby'!I66, \" v Kč bez DPH\")","v":"CELKEM ZA OBJEKT SO 02 - Garáže v Kč bez DPH"},null,null,null,null,null,{"$f":"SUM(G27:G36)","v":0}]
[]
[]
[]
[]
[]
[]
["P.č.","Číslo položky","Název položky","MJ","množství","cena / MJ","Celkem"]
["Díl:","1","Zemní práce",null,null,null,{"$f":"SUBTOTAL(9,G46:G59)","v":0}]
[1,"131201110R00","Hloubení nezapaž. jam hor.3 do 50 m3, STROJNĚ","m3",31.46,null,{"$f":"E46*F46","v":0}]
[null,null,"výplň pod podlahou 001 - část strojně cca. 70% : 1,30*(31,000)*0,70",null,28.21]
[null,null,"- sklep vedlejšího domu : - 1,30*(5,500)",null,-7.15]
[null,null,"pod podlahou 002 : 0,20*(52,000)",null,10.4]
[{"$f":"A46+1","v":2},"139601102R00","Ruční výkop jam, rýh a šachet v hornině tř. 3","m3",4.9400000000000004,null,{"$f":"E50*F50","v":0}]
[null,null,"výplň pod podlahou 001 - část ručně cca. 30% : 1,30*(31,000)*0,30",null,12.09]
[null,null,"- sklep vedlejšího domu : - 1,30*(5,500)",null,-7.15]
[{"$f":"A50+1","v":3},"162701105R00","Vodorovné přemístění výkopku z hor.1-4 do 10000 m","m3",36.4,null,{"$f":"E53*F53","v":0}]
[null,null,"Odkaz na mn. položky pořadí 1 : 31,46000",null,31.46]
[null,null,"Odkaz na mn. položky pořadí 2 : 4,94000",null,4.9400000000000004]
[{"$f":"A53+1","v":4},"162701109R00","Příplatek k vod. přemístění hor.1-4 za další 1 km","m3",182,null,{"$f":"E56*F56","v":0}]
[null,null,"Odkaz na mn. položky pořadí 3 : 36,40000*5",null,182]
[{"$f":"A56+1","v":5},"199000002R00","Poplatek za skládku horniny 1- 4","m3",36.4,null,{"$f":"E58*F58","v":0}]
[null,null,"Odkaz na mn. položky pořadí 3 : 36,40000",null,36.4]
["Díl:","96","Bourání konstrukcí",null,null,null,{"$f":"SUBTOTAL(9,G61:G80)","v":0}]
[{"$f":"A58+1","v":6},"961044111R00","Bourání základů z betonu prostého","m3",16.5,null,{"$f":"E61*F61","v":0}]
[null,null,"základové pasy - odhad : 0,50*1,00*(7,50+7,30+1,50+3,70+7,50+2,50)*1,1",null,16.5]
[{"$f":"A61+1","v":7},"962032231R00","Bourání zdiva z cihel pálených na MVC","m3",44.467500000000001,null,{"$f":"E63*F63","v":0}]
[null,null,"zdivo : 0,35*4,70*(7,50+7,30+1,50+3,70+7,50+2,50)*1,1",null,54.284999999999997]
[null,null,"- vrata : -(0,35*(3,00*(2,40+2,70)+2,50*3,30))",null,-8.2424999999999997]
[null,null,"- okna : -(2*0,35*1,50*1,50)",null,-1.575]
[{"$f":"A63+1","v":8},"965042141R00","Bourání mazanin betonových tl. 10 cm, nad 4 m2","m3",8.4,null,{"$f":"E67*F67","v":0}]
[null,null,"podlaha : 0,10*(32,0+52,0)",null,8.4]
[{"$f":"A67+1","v":9},"965042241R00","Bourání mazanin betonových tl. nad 10 cm, nad 4 m2","m3",13.8,null,{"$f":"E69*F69","v":0}]
[null,null,"podkladní základová deska : 0,15*(92,0)",null,13.8]
[{"$f":"A69+1","v":10},"965049112RT1","Příplatek, bourání mazanin se svař.síťí nad 10 cm jednostranná výztuž svařovanou sítí","m3",13.8,null,{"$f":"E71*F71","v":0}]
[null,null,"Odkaz na mn. položky pořadí 9 : 13,80000",null,13.8]
[{"$f":"A71+1","v":11},"968061125R00","Vyvěšení dřevěných dveřních křídel pl. do 2 m2","kus",1,null,{"$f":"E73*F73","v":0}]
[{"$f":"A73+1","v":12},"968062356R00","Vybourání dřevěných rámů oken dvojitých pl. 4 m2","m2",4.5,null,{"$f":"E74*F74","v":0}]
[null,null,"2*(1,50*1,50)",null,4.5]
[{"$f":"A74+1","v":13},"968072455R00","Vybourání kovových dveřních zárubní pl. do 2 m2","m2",1.8,null,{"$f":"E76*F76","v":0}]
[{"$f":"A76+1","v":14},"978012191R00","Otlučení omítek vnitřních rákosov.stropů do 100 %","m2",51,null,0]
[null,null,"m.č. 002 : 51,0",null,51]
[{"$f":"A77+1","v":15},"900      R01","HZS stavební dělník v tarifní třídě 4","h",20,null,{"$f":"E79*F79","v":0}]
[null,null,"nepředvídatelné práce - odhad : 20",null,20]
["Díl:","711","Izolace proti vodě",null,null,null,{"$f":"SUBTOTAL(9,G82:G84)","v":0}]
[{"$f":"A79+1","v":16},"711140102R00","Odstr.izolace proti vlhk.vodor. pásy přitav.,2vrst","m2",92,null,{"$f":"E82*F82","v":0}]
[null,null,"na podkladní základové desce : (92,0)",null,92]
[{"$f":"A82+1","v":17},"998711201R00","Přesun hmot pro izolace proti vodě, výšky do 6 m","kpl",1,null,{"$f":"E84*F84","v":0}]
["Díl:","712","Povlakové krytiny",null,null,null,{"$f":"SUBTOTAL(9,G86:G90)","v":0}]
[{"$f":"A84+1","v":18},"712400832RT3","Odstranění živičné krytiny střech do 30° 2vrstvé z ploch jednotlivě nad 20 m2","m2",110,null,{"$f":"E86*F86","v":0}]
[null,null,"plocha pultové střechy : 110,0",null,110]
[{"$f":"A86+1","v":19},"712400834RT3","Příplat.za odstr.každé další vrstvy,střechy do 30° z ploch jednotlivě nad 20 m2","m2",110,null,{"$f":"E88*F88","v":0}]
[null,null,"Odkaz na mn. položky pořadí 18 : 110,00000",null,110]
[{"$f":"A88+1","v":20},"998712201R00","Přesun hmot pro povlakové krytiny, výšky do 6 m","kpl",1,null,{"$f":"E90*F90","v":0}]
["Díl:","762","Konstrukce tesařské",null,null,null,{"$f":"SUBTOTAL(9,G92:G104)","v":0}]
[{"$f":"A90+1","v":21},"762331813R00","Demontáž konstrukcí krovů z hranolů do 288 cm2","m",185,null,{"$f":"E92*F92","v":0}]
[null,null,"krokve 12/14 : 5*4,20 + 6*6,00 + 8*8,00",null,121]
[null,null,"nosné trámky podhledu v 002 : 8*7,00",null,56]
[null,null,"vaznice u stěny 002 : 8,00",null,8]
[{"$f":"A92+1","v":22},"762341811R00","Demontáž bednění střech rovných z prken hrubých","m2",110,null,{"$f":"E96*F96","v":0}]
[null,null,"plocha pultové střechy : 110,0",null,110]
[{"$f":"A96+1","v":23},"762811811R00","Demontáž záklopů z hrubých prken tl. do 3,2 cm","m2",5.5,null,{"$f":"E98*F98","v":0}]
[null,null,"část stropu nad sklepem vedlejšího domu : (5,500)",null,5.5]
[{"$f":"A98+1","v":24},"762822820R00","Demontáž stropnic z řeziva o pl.do 288 cm2","m",9,null,{"$f":"E100*F100","v":0}]
[null,null,"část stropu nad sklepem vedlejšího domu : 3*3,00",null,9]
[{"$f":"A100+1","v":25},"762841811R00","Demontáž podbití stropů z prken hrubých bez omítky","m2",51,null,{"$f":"E102*F102","v":0}]
[null,null,"m.č. 002 : 51,0",null,51]
[{"$f":"A102+1","v":26},"998762202R00","Přesun hmot pro tesařské konstrukce, výšky do 12 m","kpl",1,null,{"$f":"E104*F104","v":0}]
["Díl:","764","Konstrukce klempířské",null,null,null,{"$f":"SUBTOTAL(9,G106:G117)","v":0}]
[{"$f":"A104+1","v":27},"764323830R00","Demont. oplech. okapů, živičná krytina, rš 330 mm","m",18.2,null,{"$f":"E106*F106","v":0}]
[null,null,"Odkaz na mn. položky pořadí 29 : 18,20000",null,18.2]
[{"$f":"A106+1","v":28},"764331830R00","Demontáž lemování zdí, rš 250 a 330 mm, do 30°","m",29.3,null,{"$f":"E108*F108","v":0}]
[null,null,"8,30+0,80+6,20+4,30+4,00+5,70",null,29.3]
[{"$f":"A108+1","v":29},"764352810R00","Demontáž žlabů půlkruh. rovných, rš 330 mm, do 30°","m",18.2,null,{"$f":"E110*F110","v":0}]
[null,null,"12,50+5,70",null,18.2]
[{"$f":"A110+1","v":30},"764391820R00","Demontáž závětrné lišty, rš 250 a 330 mm, do 30°","m",10.8,null,{"$f":"E112*F112","v":0}]
[null,null,"9,00+1,80",null,10.8]
[{"$f":"A112+1","v":31},"764410850R00","Demontáž oplechování parapetů,rš od 100 do 330 mm","m",3,null,{"$f":"E114*F114","v":0}]
[null,null,"2*1,50",null,3]
[{"$f":"A114+1","v":32},"764454802R00","Demontáž odpadních trub kruhových,D 120 mm","m",4,null,{"$f":"E116*F116","v":0}]
[{"$f":"A116+1","v":33},"998764201R00","Přesun hmot pro klempířské konstr., výšky do 6 m","kpl",1,null,0]
["Díl:","767","Konstrukce zámečnické",null,null,null,{"$f":"SUBTOTAL(9,G119:G126)","v":0}]
[{"$f":"A117+1","v":34},"767996805R00","Demontáž atypických ocelových konstr. nad 500 kg","kg",950,null,{"$f":"E119*F119","v":0}]
[null,null,"zastřešení části dvorku - nosná kce : 700",null,700]
[null,null,"oplocení části dvorku - čelní strana vč. brány : 250",null,250]
[{"$f":"A119+1","v":35},"787300803R00","Vysklívání střešních konstrukcí netmelených","m2",18,null,{"$f":"E122*F122","v":0}]
[null,null,"zastřešení části dvorku - polykarbonát : 18,000",null,18]
[{"$f":"A122+1","v":36},"767920-1","Demontáž vrat - rolovací HORMANN - 3,30 x 2,50m zánovní - k dalšímu použití","kus",1,null,{"$f":"E124*F124","v":0}]
[{"$f":"A124+1","v":37},"767920-2","Demontáž vrat - rolovací HORMANN - 2,50 x 3,00m zánovní - k dalšímu použití","kus",1,null,0]
[{"$f":"A125+1","v":38},"767920-3","Demontáž vrat - rolovací HORMANN - 2,75 x 3,00m zánovní - k dalšímu použití","kus",1,null,0]
["Díl:","M21","Elektromontáže",null,null,null,{"$f":"SUBTOTAL(9,G128)","v":0}]
[{"$f":"A126+1","v":39},"21880-01","odpojení elektroinstalace","ks",1,null,{"$f":"E128*F128","v":0}]
["Díl:","D96","Přesuny suti a vybouraných hmot",null,null,null,{"$f":"SUBTOTAL(9,G130:G140)","v":0}]
[{"$f":"A128+1","v":40},"979990101R00","Poplatek za sklád.suti-směs bet.a cihel do 30x30cm","t",165,null,{"$f":"E130*F130","v":0}]
[null,null,"176",null,176]
[null,null,"-asfalt : -3",null,-3]
[null,null,"-dřevo - využito během stavby na pomocné kce : -7",null,-7]
[null,null,"-ocel - odvoz do sběrny : -1",null,-1]
[{"$f":"A130+1","v":41},"979990121R00","Poplatek za skládku suti - asfaltové pásy","t",3,null,{"$f":"E135*F135","v":0}]
[{"$f":"A135+1","v":42},"979990161R00","Poplatek za skládku suti - dřevo","t",0,null,0]
[null,null,"-dřevo - využito během stavby na pomocné kce : 0"]
[{"$f":"A136+1","v":43},"979082111R00","Vnitrostaveništní doprava suti do 10 m","t",175.99101999999999,null,{"$f":"E138*F138","v":0}]
[{"$f":"A138+1","v":44},"979083117R00","Vodorovné přemístění suti na skládku do 6000 m","t",175.99101999999999,null,0]
[{"$f":"A139+1","v":45},"979083191R00","Příplatek za dalších započatých 1000 m nad 6000 m","t",1583.91921,null,0]

{"sheet":"16 - VRN","index":19,"n_rows":83,"n_cols":8,"rows_kept":83,"cut":false,"hidden":false,"merged":[[5,0,5,6],[26,2,26,6],[26,7,26,8],[27,4,27,8],[28,7,28,8],[31,0,31,4],[31,5,31,8],[29,7,29,8],[28,5,28,6],[29,5,29,6],[29,2,29,4],[28,2,28,4]]}
[]
[{"$f":"CONCATENATE('Rekapitulace stavby'!C67,\" - \",'Rekapitulace stavby'!I67)","v":"16 - Vedlejší a ostatní náklady stavby"}]
[]
["SOUPIS VEDLEJŠÍCH A OSTATNÍCH NÁKLADŮ STAVBY"]
["Název akce:"]
[{"$f":"'Identifikační údaje'!B1","v":"ČRo Olomouc – rekonstrukce objektu Pavelčákova 2/19"}]
[]
["Zadavatel:",null,{"$f":"'Identifikační údaje'!E7","v":"Český rozhlas, Vinohradská 12, 120 99 Praha 2"}]
[null,"IČ:",{"$f":"'Identifikační údaje'!B9","v":45245053}]
[null,"DIČ:",{"$f":"'Identifikační údaje'!B10","v":"CZ45245053"}]
[]
["Projektant:",null,{"$f":"'Identifikační údaje'!E12","v":"ATELIER 38 s.r.o., Porážková 1424/20, 702 00 Ostrava – Moravská Ostrava"}]
[null,"IČ:",{"$f":"'Identifikační údaje'!B14","v":"258 58 343"}]
[null,"DIČ:",{"$f":"'Identifikační údaje'!B15","v":"CZ25858343"}]
[]
["Uchazeč:",null,{"$f":"'Identifikační údaje'!E19","v":", ,  "}]
[null,"IČ:",{"$f":"'Identifikační údaje'!B23","v":0}]
[null,"DIČ:",{"$f":"'Identifikační údaje'!B24","v":0}]
[]
["Místo stavby:",null,{"$f":"'Identifikační údaje'!B3","v":"Budova Českého rozhlasu Olomouc na adrese Pavelčákova 2/19, 779 00 Olomouc"}]
[]
["Datum:",null,{"$f":"'Identifikační údaje'!B5","v":"00:00:00"}]
[]
[]
[{"$f":"CONCATENATE(\"REKAPITULACE OBJEKTU \",'Rekapitulace stavby'!C67,\" - \",'Rekapitulace stavby'!I67)","v":"REKAPITULACE OBJEKTU 16 - Vedlejší a ostatní náklady stavby"}]
[]
["P.č.","Ozn.","Název položky",null,null,null,null,"Kč bez DPH"]
[]
["Díl:",{"$f":"B39","v":"VN"},{"$f":"C39","v":"Vedlejší náklady"},null,null,{"$f":"G39","v":0},null,{"$f":"H122","v":0}]
["Díl:",{"$f":"B46","v":"ON"},{"$f":"C46","v":"Ostatní náklady"},null,null,{"$f":"G46","v":0},null,{"$f":"H131","v":0}]
[]
[{"$f":"CONCATENATE(\"CELKEM ZA OBJEKT \",A2, \" v Kč bez DPH\")","v":"CELKEM ZA OBJEKT 16 - Vedlejší a ostatní náklady stavby v Kč bez DPH"},null,null,null,null,{"$f":"SUM(F29:G30)","v":0}]
[]
[]
[]
[]
[]
["P.č.","Číslo položky","Název položky","MJ","množství","cena / MJ","celkem"]
["Díl:","VN","Vedlejší náklady",null,null,null,{"$f":"SUBTOTAL(9,G40:G44)","v":0}]
[1,"005121 R","Zařízení staveniště","Soubor",1,null,{"$f":"E40*F40","v":0}]
[null,null,"Veškeré náklady spojené s vybudováním, provozem a odstraněním zařízení staveniště. Poplatky za zábor chodníku a komunikace. Montáž, provozování i demontáž stavebních výtahů, plošin a jeřábů."]
[{"$f":"A40+1","v":2},"005122 R","Provozní vlivy","Soubor",1,null,{"$f":"E42*F42","v":0}]
[null,null,"Náklady na ztížené podmínky provádění tam, kde jsou stavební práce zcela nebo zčásti omezovány provozem jiných osob. Jde zejména o zvýšené náklady související s omezením provozem v areálu objednatele nebo o náklady v důsledku nezbytného respektování stávající dopravy ovlivňující stavební práce - centrum města, pěší zóny, omezení tonáže nákladních aut apod. Vyvázání větví stromů. Zakrývání již hotových částí díla proti jejich poškození (nábytku, dveří, akustických obkladů, koberců, ostatního vybavení a rozhlasové techniky proti poškození a prachu). Odsávání prachu při bourání, průběžný uklid pracoviště. Protiprašné předěly. Kontrola funkčnosti zabezpečení stavby proti zatečení vody. "]
[{"$f":"A42+1","v":3},"0052x1 R","Kompletační činnost ","Soubor",1,null,{"$f":"E44*F44","v":0}]
[null,null,"Náklady zhotovitele, které vzniknou v souvislosti s povinnostmi zhotovitele při předání a převzetí díla."]
["Díl:","ON","Ostatní náklady",null,null,null,{"$f":"SUBTOTAL(9,G47:G83)","v":0}]
[{"$f":"A44+1","v":4},"005211030R","Dočasná dopravní opatření ","Soubor",1,null,{"$f":"E47*F47","v":0}]
[null,null,"Náklady na vyhotovení návrhu dočasného dopravního značení, jeho projednání s dotčenými orgány a organizacemi, dodání dopravních značek a světelné signalizace, jejich rozmístění a přemísťování a jejich údržba v průběhu výstavby včetně následného odstranění po ukončení stavebních prací."]
[{"$f":"A47+1","v":5},"005211020R","Ochrana stávaj. inženýrských sítí na staveništi","Soubor",1,null,{"$f":"E49*F49","v":0}]
[null,null,"Náklady na přezkoumání podkladů objednatele o stavu inženýrských sítí probíhajících staveništěm nebo dotčenými stavbou i mimo území staveniště, kontrola vytýčení jejich skutečné trasy a provedení ochranných opatření pro zabezpečení stávajících inženýrských sítí."]
[{"$f":"A49+1","v":6},"00523  R","Zkoušky a revize","Soubor",1,null,{"$f":"E51*F51","v":0}]
[null,null,"Náklady zhotovitele, související s prováděním zkoušek a revizí předepsaných technickými normami nebo objednatelem a které jsou pro provedení díla nezbytné."]
[{"$f":"A51+1","v":7},"005241010R","Dokumentace skutečného provedení ","Soubor",1,null,{"$f":"E53*F53","v":0}]
[null,null,"Náklady na vyhotovení dokumentace skutečného provedení stavby a její předání objednateli v požadované formě a požadovaném počtu."]
[{"$f":"A53+1","v":8},"005241020R","Geodetické zaměření skutečného provedení  ","Soubor",1,null,{"$f":"E55*F55","v":0}]
[null,null,"Náklady na provedení skutečného zaměření stavby v rozsahu nezbytném pro zápis změny do katastru nemovitostí."]
[{"$f":"A55+1","v":9},"004111x01","Dopracování PD - výrobní dokumentace - podrobné výkresy žb kcí","soubor",1,null,{"$f":"E57*F57","v":0}]
[null,null,"kontrola skutečných rozměrů na stavbě a následná úprava tvarů a výztuže."]
[null,null,"předložit k odsouhlasení generálnímu projektantovi, statikovi a investorovi"]
[{"$f":"A57+1","v":10},"004111x02","Dopracování PD - dílenská dokumentace - podrobné výkresy ocelových kcí","soubor",1,null,{"$f":"E60*F60","v":0}]
[null,null,"*včetně detailů"]
[null,null,"kontrola skutečných rozměrů na stavbě. dílenská dokumentace ocelových konstrukcí. předložit k odsouhlasení generálnímu projektantovi, statikovi a investorovi"]
[null,null,"- OK světlíku - koordinovat s dodavatelem prosklení"]
[null,null,"- OK ve výtahové šachtě"]
[null,null,"- OK venkovní stříšky ve dvoře"]
[null,null,"- OK pro VZT na střeše"]
[null,null,"- OK pro DA"]
[null,null,"- žebřík na střeše"]
[null,null,"- vnitřní zábradlí - repase/nové doplňované"]
[{"$f":"A60+1","v":11},"004111x03","Dopracování PD - dílenská dokumentace - ostatní kce a práce","soubor",1,null,{"$f":"E70*F70","v":0}]
[null,null,"kontrola skutečných rozměrů na stavbě. dílenská dokumentace. předložit k odsouhlasení generálnímu projektantovi, statikovi a investorovi"]
[null,null,"- výtah"]
[null,null,"- prostorová akustika studií - režie vysílání, záložní režie, záložní studio, dvě samoobslužné studia"]
[null,null,"- střešní záchytný systém"]
[null,null,"- okna"]
[null,null,"- prosklenné vnitřní příčky"]
[null,null,"- generální klíč"]
[null,null,"- truhlářské výrobky"]
[null,null,"- další části dle popisu v TZ - D.1.1.a"]
[{"$f":"A70+1","v":12},"005241x12","Fotodokumentace","soubor",1,null,{"$f":"E80*F80","v":0}]
[null,null,"fotodokumentace celkového průběhu stavby, vč. konstrukcí, které budou v průběhu výstavby odkryty nebo zakryty."]
[null,null,"fotodokumentace stávajícího stavu přístupových komunikací."]
[{"$f":"A80+1","v":13},"110 x112","Uvedení všech pozemků, konstrukcí a povrchů dotčených stavbou do původního stavu včetně protokolárního zpětného předání jednotlivým vlastníkům","soubor",1,null,{"$f":"E83*F83","v":0}]